Workbook
Name bdd: Base!$B$2:$K$6

Sheet Base
A1: bar | B1: Blanc | C1: Lilas | D1: Marron | E1: Jaune | F1: Orange | G1: Rouge | H1: Gris | I1: Vert | J1: Noir | K1: Bleu
A2: 5 | B2: 0.27 | C2: 0.36 | D2: 0.48 | E2: 0.73 | F2: 0.99 | G2: 1.38 | H2: 1.5 | I2: 1.78 | J2: 2 | K2: 2.45
A3: 6 | B3: 0.29 | C3: 0.39 | D3: 0.52 | E3: 0.8 | F3: 1.08 | G3: 1.51 | H3: 1.63 | I3: 1.94 | J3: 2.18 | K3: 2.67
A4: 7 | B4: 0.32 | C4: 0.42 | D4: 0.56 | E4: 0.86 | F4: 1.17 | G4: 1.62 | H4: 1.76 | I4: 2.09 | J4: 2.35 | K4: 2.87
A5: 8 | B5: 0.34 | C5: 0.45 | D5: 0.6 | E5: 0.92 | F5: 1.24 | G5: 1.73 | H5: 1.87 | I5: 2.22 | J5: 2.5 | K5: 3.06
A6: 9 | B6: 0.36 | C6: 0.48 | D6: 0.64 | E6: 0.97 | F6: 1.32 | G6: 1.83 | H6: 1.98 | I6: 2.35 | J6: 2.64 | K6: 3.24
B8: Valeurs que je veux faire apparaitre sur l'autre feuille | G8: Ici mon tableau de référence
B9: Zone de recherche

Sheet Donnée
A1: Aide au choix des buses
D2: Plage de débit souhaitée (%) | E2: 0.1 | H2: =MIN(bdd) -> 0.27 | I2: plancher dispo
B3: Valeur à rentrer | D3: Min | E3: Max | H3: =MAX(bdd) -> 3.24 | I3: plafond dispo
A4: Débit à la buse | B4: 1.75 | D4: =B4*(1-E2) -> 1.575 | E4: =B4*(1+E2) -> 1.925
A11: {=LARGE(IF(bdd<=B$4,bdd,""),ROW(A5))} -> 1.5 | B11: {=LARGE(IF(bdd<=B$4,bdd,""),ROW(A4))} -> 1.51 | C11: {=LARGE(IF(bdd<=B$4,bdd,""),ROW(A3))} -> 1.62 | D11: {=LARGE(IF(bdd<=B$4,bdd,""),ROW(A2))} -> 1.63 | E11: {=LARGE(IF(bdd<=$B$4,bdd,""),ROW(A1))} -> 1.73 | F11: {=SMALL(IF(bdd>$B$4,bdd,""),COLUMN(B1))} -> 1.78 | G11: {=SMALL(IF(bdd>$B$4,bdd,""),COLUMN(C1))} -> 1.83 | H11: {=SMALL(IF(bdd>$B$4,bdd,""),COLUMN(D1))} -> 1.87 | I11: {=SMALL(IF(bdd>$B$4,bdd,""),COLUMN(E1))} -> 1.94 | J11: {=SMALL(IF(bdd>$B$4,bdd,""),COLUMN(F1))} -> 1.98
A12: =INDEX(Base!$B$1:$K$1,,SUMPRODUCT((bdd=A$11)*COLUMN(Base!$B$1:$K$1))-1) -> Gris | B12: =INDEX(Base!$B$1:$K$1,,SUMPRODUCT((bdd=B$11)*COLUMN(Base!$B$1:$K$1))-1) -> Rouge | C12: =INDEX(Base!$B$1:$K$1,,SUMPRODUCT((bdd=C$11)*COLUMN(Base!$B$1:$K$1))-1) -> Rouge | D12: =INDEX(Base!$B$1:$K$1,,SUMPRODUCT((bdd=D$11)*COLUMN(Base!$B$1:$K$1))-1) -> Gris | E12: =INDEX(Base!$B$1:$K$1,,SUMPRODUCT((bdd=E$11)*COLUMN(Base!$B$1:$K$1))-1) -> Rouge | F12: =INDEX(Base!$B$1:$K$1,,SUMPRODUCT((bdd=F$11)*COLUMN(Base!$B$1:$K$1))-1) -> Vert | G12: =INDEX(Base!$B$1:$K$1,,SUMPRODUCT((bdd=G$11)*COLUMN(Base!$B$1:$K$1))-1) -> Rouge | H12: =INDEX(Base!$B$1:$K$1,,SUMPRODUCT((bdd=H$11)*COLUMN(Base!$B$1:$K$1))-1) -> Gris | ... J12: =INDEX(Base!$B$1:$K$1,,SUMPRODUCT((bdd=J$11)*COLUMN(Base!$B$1:$K$1))-1) -> Gris
A13: =INDEX(Base!$A2:$A6,SUMPRODUCT((bdd=A11)*(ROW($A2:$A6)-1))) -> 5 | B13: =INDEX(Base!$A2:$A6,SUMPRODUCT((bdd=B11)*(ROW($A2:$A6)-1))) -> 6 | C13: =INDEX(Base!$A2:$A6,SUMPRODUCT((bdd=C11)*(ROW($A2:$A6)-1))) -> 7 | D13: =INDEX(Base!$A2:$A6,SUMPRODUCT((bdd=D11)*(ROW($A2:$A6)-1))) -> 6 | E13: =INDEX(Base!$A2:$A6,SUMPRODUCT((bdd=E11)*(ROW($A2:$A6)-1))) -> 8 | F13: =INDEX(Base!$A2:$A6,SUMPRODUCT((bdd=F11)*(ROW($A2:$A6)-1))) -> 5 | G13: =INDEX(Base!$A2:$A6,SUMPRODUCT((bdd=G11)*(ROW($A2:$A6)-1))) -> 9 | H13: =INDEX(Base!$A2:$A6,SUMPRODUCT((bdd=H11)*(ROW($A2:$A6)-1))) -> 8 | ... J13: =INDEX(Base!$A2:$A6,SUMPRODUCT((bdd=J11)*(ROW($A2:$A6)-1))) -> 9
D14: Buses comptibles
A19: Dans l'encadré jaune : La valeur à rentrer par le client
A21: Dans l'encadré vert : la valeur mini et maxi qu'il s'autorise (ajuster par le % au dessus)
A23: Dans le tableau de choix voici les éléments que je veux avoir :
A25: Couleur | B25: Pression
A26: Toutes celles compatibles | B26: Correspondante au débit

Sheet Feuil3
