Workbook

Sheet Feuil1
A2: DÉPARTEMENT | F2: 10
B5: BAT. PRINCIPAL | C5: BAT. SECONDAIRE
B6: A | C6: B
A7: 12 | B7: =COUNTIFS(Feuil2!$A$2:$A$24,Feuil1!$F$2,Feuil2!$B$2:$B$24,Feuil1!$B$6,Feuil2!$C$2:$C$24,Feuil1!$A$7:$A$19) -> 0 | C7: =COUNTIFS(Feuil2!$A$2:$A$24,Feuil1!$F$2,Feuil2!$B$2:$B$24,Feuil1!$C$6,Feuil2!$C$2:$C$24,Feuil1!$A$7:$A$19) -> 1
A8: 11 | B8: =COUNTIFS(Feuil2!$A$2:$A$24,Feuil1!$F$2,Feuil2!$B$2:$B$24,Feuil1!$B$6,Feuil2!$C$2:$C$24,Feuil1!$A$7:$A$19) -> 0 | C8: =COUNTIFS(Feuil2!$A$2:$A$24,Feuil1!$F$2,Feuil2!$B$2:$B$24,Feuil1!$C$6,Feuil2!$C$2:$C$24,Feuil1!$A$7:$A$19) -> 0
A9: 10 | B9: =COUNTIFS(Feuil2!$A$2:$A$24,Feuil1!$F$2,Feuil2!$B$2:$B$24,Feuil1!$B$6,Feuil2!$C$2:$C$24,Feuil1!$A$7:$A$19) -> 0 | C9: =COUNTIFS(Feuil2!$A$2:$A$24,Feuil1!$F$2,Feuil2!$B$2:$B$24,Feuil1!$C$6,Feuil2!$C$2:$C$24,Feuil1!$A$7:$A$19) -> 0
A10: 9 | B10: =COUNTIFS(Feuil2!$A$2:$A$24,Feuil1!$F$2,Feuil2!$B$2:$B$24,Feuil1!$B$6,Feuil2!$C$2:$C$24,Feuil1!$A$7:$A$19) -> 0 | C10: =COUNTIFS(Feuil2!$A$2:$A$24,Feuil1!$F$2,Feuil2!$B$2:$B$24,Feuil1!$C$6,Feuil2!$C$2:$C$24,Feuil1!$A$7:$A$19) -> 0
A11: 8 | B11: =COUNTIFS(Feuil2!$A$2:$A$24,Feuil1!$F$2,Feuil2!$B$2:$B$24,Feuil1!$B$6,Feuil2!$C$2:$C$24,Feuil1!$A$7:$A$19) -> 0 | C11: =COUNTIFS(Feuil2!$A$2:$A$24,Feuil1!$F$2,Feuil2!$B$2:$B$24,Feuil1!$C$6,Feuil2!$C$2:$C$24,Feuil1!$A$7:$A$19) -> 0
A12: 7 | B12: =COUNTIFS(Feuil2!$A$2:$A$24,Feuil1!$F$2,Feuil2!$B$2:$B$24,Feuil1!$B$6,Feuil2!$C$2:$C$24,Feuil1!$A$7:$A$19) -> 0 | C12: =COUNTIFS(Feuil2!$A$2:$A$24,Feuil1!$F$2,Feuil2!$B$2:$B$24,Feuil1!$C$6,Feuil2!$C$2:$C$24,Feuil1!$A$7:$A$19) -> 1
A13: 6 | B13: =COUNTIFS(Feuil2!$A$2:$A$24,Feuil1!$F$2,Feuil2!$B$2:$B$24,Feuil1!$B$6,Feuil2!$C$2:$C$24,Feuil1!$A$7:$A$19) -> 0 | C13: =COUNTIFS(Feuil2!$A$2:$A$24,Feuil1!$F$2,Feuil2!$B$2:$B$24,Feuil1!$C$6,Feuil2!$C$2:$C$24,Feuil1!$A$7:$A$19) -> 3
A14: 5 | B14: =COUNTIFS(Feuil2!$A$2:$A$24,Feuil1!$F$2,Feuil2!$B$2:$B$24,Feuil1!$B$6,Feuil2!$C$2:$C$24,Feuil1!$A$7:$A$19) -> 1 | C14: =COUNTIFS(Feuil2!$A$2:$A$24,Feuil1!$F$2,Feuil2!$B$2:$B$24,Feuil1!$C$6,Feuil2!$C$2:$C$24,Feuil1!$A$7:$A$19) -> 0
A15: 4 | B15: =COUNTIFS(Feuil2!$A$2:$A$24,Feuil1!$F$2,Feuil2!$B$2:$B$24,Feuil1!$B$6,Feuil2!$C$2:$C$24,Feuil1!$A$7:$A$19) -> 1 | C15: =COUNTIFS(Feuil2!$A$2:$A$24,Feuil1!$F$2,Feuil2!$B$2:$B$24,Feuil1!$C$6,Feuil2!$C$2:$C$24,Feuil1!$A$7:$A$19) -> 0
A16: 3 | B16: =COUNTIFS(Feuil2!$A$2:$A$24,Feuil1!$F$2,Feuil2!$B$2:$B$24,Feuil1!$B$6,Feuil2!$C$2:$C$24,Feuil1!$A$7:$A$19) -> 0 | C16: =COUNTIFS(Feuil2!$A$2:$A$24,Feuil1!$F$2,Feuil2!$B$2:$B$24,Feuil1!$C$6,Feuil2!$C$2:$C$24,Feuil1!$A$7:$A$19) -> 0
A17: 2 | B17: =COUNTIFS(Feuil2!$A$2:$A$24,Feuil1!$F$2,Feuil2!$B$2:$B$24,Feuil1!$B$6,Feuil2!$C$2:$C$24,Feuil1!$A$7:$A$19) -> 1 | C17: =COUNTIFS(Feuil2!$A$2:$A$24,Feuil1!$F$2,Feuil2!$B$2:$B$24,Feuil1!$C$6,Feuil2!$C$2:$C$24,Feuil1!$A$7:$A$19) -> 1
A18: 1 | B18: =COUNTIFS(Feuil2!$A$2:$A$24,Feuil1!$F$2,Feuil2!$B$2:$B$24,Feuil1!$B$6,Feuil2!$C$2:$C$24,Feuil1!$A$7:$A$19) -> 0 | C18: =COUNTIFS(Feuil2!$A$2:$A$24,Feuil1!$F$2,Feuil2!$B$2:$B$24,Feuil1!$C$6,Feuil2!$C$2:$C$24,Feuil1!$A$7:$A$19) -> 1
A19: 0 | B19: =COUNTIFS(Feuil2!$A$2:$A$24,Feuil1!$F$2,Feuil2!$B$2:$B$24,Feuil1!$B$6,Feuil2!$C$2:$C$24,Feuil1!$A$7:$A$19) -> 2 | C19: =COUNTIFS(Feuil2!$A$2:$A$24,Feuil1!$F$2,Feuil2!$B$2:$B$24,Feuil1!$C$6,Feuil2!$C$2:$C$24,Feuil1!$A$7:$A$19) -> 0
A23: Formule actuelle:
A24: =NB.SI.ENS(Feuil2!$A$2:$A$24;Feuil1!$F$2;Feuil2!$B$2:$B$24;Feuil1!$B$6;Feuil2!$C$2:$C$24;Feuil1!$A$7:$A$19)

Sheet Feuil2
A1: Département | B1: Bâtiment | C1: Niveau
A2: 10 | B2: A | C2: 0
A3: 20 | B3: A | C3: 2
A4: 30 | B4: A | C4: 6
A5: 10 | B5: B | C5: 7
A6: 20 | B6: B | C6: 9
A7: 10 | B7: B | C7: 1
A8: 10 | B8: A | C8: 5
A9: 10 | B9: B | C9: 6
A10: 50 | B10: A | C10: 7
A11: 30 | B11: B | C11: 4
A12: 10 | B12: B | C12: 6
A13: 20 | B13: A | C13: 9
... A24: 10 | B24: B | C24: 12

Sheet Feuil3
