Workbook
Name Contracer: 'fiche CV'!$I$9:$I$24

Sheet fiche CV
B2: Société : | C2: MITUTOYO | J2: Madame
B3: Adresse : | C3: 123 rue de la belle étoile | J3: Monsieur
C4: BP 50267 - ZI PARIS NORD II
C5: 95957 ROISSY
B6: Date d'étalonnage : | D6: 40461
B7: Conditions : | C7: Température = | D7: 22 | E7: Hygromètrie = | F7: 44 | K7: Précision Axe X (mm)
B8: N° du Certificat : | D8: LD007/5670001 | I8: Modèle CV | J8: Précision Axe Z | K8: 100 | L8: 200 | M8: Précision de la symétrie
B9: Nom du responsable : | D9: Madame | E9: pierre LAURENT | I9: CV-500 | J9: ± (4.0+|2Z| / 25)µm | K9: ± (1.0 + 2L / 100)µm | L9: ± (1.0 + 2L / 100)µm | M9: a - b ≤ 0,04° (2' 24")
B10: Nom du technicien : | D10: Laurent DROUART | I10: CV-600 | J10: ± 1,8µm | K10: ± (1.0 + 2L / 100)µm | L10: ± (1.0 + 2L / 100)µm | M10: a - b ≤ 0,04° (2' 24")
B11: Lieu de réalisation : | D11: Local de Métrologie | I11: CV 3000 | J11: ± (3.0+|8Z| / 100)µm | K11: ± (1.0 + 2L / 100)µm | L11: ± (1.0 + 2L / 100)µm | M11: a - b ≤ 0,04° (2' 24")
B12: Machine : | C12: Type | D12: Axe X mm | E12: Référence | F12: N° de série | I12: CV 4000 | J12: ± (0.8+|2Z| / 100)µm | K12: ± (0.8 + 2L / 100)µm | L12: ± (0.8 + 2L / 100)µm | M12: a - b ≤ 0,04° (2' 24")
B13: CV3200 | C13: S4 | D13: =IF(C13=I23,J23,IF(C13=I24,J23,IF(C13=I25,J23,IF(C13=I26,J24,IF(C13=I27,J24,IF(C13=I28,J24,0)))))) -> 100 | E13: 211-442D | F13: 001001001 | I13: CV 3100 | J13: ± (2.0+|4Z| / 100)µm | K13: ± (1 + 0.01L)µm | L13: ± (1 + 0.02L)µm | M13: a - b ≤ 0,04° (2' 24")
B14: Numéro d'identification du client : | E14: 0007007 | I14: CV 4100 | J14: ± (0.8+|0.5Z| / 25)µm | K14: ± (0.8 + 0.01L)µm | L14: ± (0.8 + 0.02L)µm | M14: a - b ≤ 0,04° (2' 24")
I15: CV3200 | J15: ± (1.6 +|2Z| / 100)µm | K15: ± (0.8 + 0.01L)µm | L15: ± (0.8 + 0.02L)µm | M15: a - b ≤ 0,04° (2' 24")
B16: ETALONS UTILISES | I16: CV 4500 | J16: ± (0.8 +|2Z| / 100)µm | K16: ± (0.8 + 0.01L)µm | L16: ± (0.8 + 0.02L)µm | M16: a - b ≤ 0,04° (2' 24")
B17: Désignation | D17: N° de série | E17: Raccordement | F17: N° certificat
B18: Cale 10 mm | D18: 960139 | E18: =IF(D18=K22,L22,IF(D18=K23,L23,IF(D18=K24,L24,IF(D18=K25,L25,IF(D18=K26,L26,IF(D18=K27,L27,IF(D18=K28,L28,IF(D18=K29,L29,IF(D18=K30,L30,IF(D18=K31,L31,IF(D18=K32,L32,IF(D18=K33,L33,IF(D18=K34,L34,IF(D18=K35,L35,IF(D18=K36,L36,IF(D18=K37,L37,IF(D18=K38,L38,0))))))))))))))))) -> M(NL) RvA | F18: =IF(D18=K22,M22,IF(D18=K23,M23,IF(D18=K24,M24,IF(D18=K25,M25,IF(D18=K26,M26,IF(D18=K27,M27,IF(D18=K28,M28,IF(D18=K29,M29,IF(D18=K30,M30,IF(D18=K31,M31,IF(D18=K32,M32,IF(D18=K33,M33,IF(D18=K34,M34,IF(D18=K35,M35,IF(D18=K36,M36,IF(D18=K37,M37,IF(D18=K38,M38,0))))))))))))))))) -> 20082592-A
B19: Cale 20 mm | D19: 041689 | E19: =IF(D19=K22,L22,IF(D19=K23,L23,IF(D19=K24,L24,IF(D19=K25,L25,IF(D19=K26,L26,IF(D19=K27,L27,IF(D19=K28,L28,IF(D19=K29,L29,IF(D19=K30,L30,IF(D19=K31,L31,IF(D19=K32,L32,IF(D19=K33,L33,IF(D19=K34,L34,IF(D19=K35,L35,IF(D19=K36,L36,IF(D19=K37,L37,IF(D19=K38,L38,0))))))))))))))))) -> M(NL) RvA | F19: =IF(D19=K22,M22,IF(D19=K23,M23,IF(D19=K24,M24,IF(D19=K25,M25,IF(D19=K26,M26,IF(D19=K27,M27,IF(D19=K28,M28,IF(D19=K29,M29,IF(D19=K30,M30,IF(D19=K31,M31,IF(D19=K32,M32,IF(D19=K33,M33,IF(D19=K34,M34,IF(D19=K35,M35,IF(D19=K36,M36,IF(D19=K37,M37,IF(D19=K38,M38,0))))))))))))))))) -> 20081096
B20: Etalons angulaire | D20: C02 | E20: =IF(D20=K45,L45,IF(D20=K46,L45,IF(D20=K47,L45,0))) -> LNE | F20: =IF(D20=K45,M45,IF(D20=K46,M45,IF(D20=K47,M45,0))) -> F060691/2 | K20: Cales
B21: Etalon pour l'axe X | D21: 500104 | E21: =IF(D21=K50,L50,IF(D21=K51,L51,IF(D21=K52,L52,0))) -> LNE | F21: =IF(D21=K50,M50,IF(D21=K51,M51,IF(D21=K52,M52,0))) -> G020987/3 | K21: N° de série | L21: Raccord. | M21: N° Certif.
B22: Pige | D22: 400245 | E22: =IF(D22=K55,L55,IF(D22=K56,L56,IF(D22=K57,L57,0))) -> LNE | F22: =IF(D22=K55,M55,IF(D22=K56,M56,IF(D22=K57,M57,0))) -> F060691 | I22: Type CV | J22: X mm | K22: 040704 | L22: M(NL) RvA | M22: 20091420
B23: Thermohygromètre ou Thermomètre + sonde | D23: 680961 | E23: =IF(D23=K60,L60,IF(D23=K61,L61,IF(D23=K62,L62,IF(D23=K63,L63,IF(D23=K64,L64,IF(D23=K65,L65,IF(D23=K66,L66,IF(D23=K67,L67,IF(D23=K68,L68,IF(D23=K69,L69,IF(D23=K70,L70,IF(D23=K71,L71,IF(D23=K72,L72,IF(D23=K73,L73,IF(D23=K74,L74,IF(D23=K75,L75,IF(D23=K76,L76,IF(D23=K77,L77,IF(D23=K78,L78,IF(D23=K79,L79,IF(D23=K80,L80,0))))))))))))))))))))) -> France Qualité | F23: =IF(D23=K60,M60,IF(D23=K61,M61,IF(D23=K62,M62,IF(D23=K63,M63,IF(D23=K64,M64,IF(D23=K65,M65,IF(D23=K66,M66,IF(D23=K67,M67,IF(D23=K68,M68,IF(D23=K69,M69,IF(D23=K70,M70,IF(D23=K71,M71,IF(D23=K72,M72,IF(D23=K73,M73,IF(D23=K74,M74,IF(D23=K75,M75,IF(D23=K76,M76,IF(D23=K77,M77,IF(D23=K78,M78,IF(D23=K79,M79,IF(D23=K80,M80,0))))))))))))))))))))) -> 08-10-95957001-123681-RH | I23: S4 | J23: 100 | K23: 041125 | L23: M(NL) RvA | M23: 20081096
I24: H4 | J24: 200 | K24: 961893 | L24: M(NL) RvA | M24: 20082592-A
I25: W4 | K25: 040184 | L25: M(NL) RvA | M25: 20091420
A26: SAISIE DES DONNEES | B26: AXE Z | D26: AXE X | F26: SYMETRIE | I26: S8 | K26: 040192 | L26: M(NL) RvA | M26: 20081096
I27: H8 | K27: 041689 | L27: M(NL) RvA | M27: 20081096
B28: CALE -20mm | C28: 0.6 | D28: 25 | E28: -0.4 | F28: ANGLE 0° DESCENDANT | I28: W8 | K28: 040498 | L28: M(NL) RvA | M28: 20091420
K29: 041110 | L29: M(NL) RvA | M29: 20081096
B30: CALE -10mm | C30: -0.5 | D30: 50 | E30: -0.56 | K30: 960568 | L30: M(NL) RvA | M30: 20082592-A
F31: 137.0099 | K31: 050770 | L31: M(NL) RvA | M31: 20081096
B32: CALE 10mm | C32: 0.4 | D32: 75 | E32: 1 | K32: 961085 | L32: M(NL) RvA | M32: 20091420
K33: 030450 | L33: M(NL) RvA | M33: 20091420
B34: CALE 20mm | C34: -1 | D34: 100 | E34: 0.78 | F34: ANGLE 180° MONTANT | K34: 040163 | L34: M(NL) RvA | M34: 20081096
K35: 960139 | L35: M(NL) RvA | M35: 20082592-A
D36: 125 | E36: -1.4 | K36: 041656 | L36: M(NL) RvA | M36: 20091420
F37: 138.0007 | K37: 041773 | L37: M(NL) RvA | M37: 20081096
D38: 150 | E38: 1.5 | K38: 910910 | L38: M(NL) RvA | M38: 20082592-A
D40: 175 | E40: 0.98
D42: 200 | E42: -2
K44: ETALONS ANGULAIRES
H45: Techniciens | K45: 1 | L45: LNE | M45: F060691/2
H46: Manuel VILAÇA | K46: C01 | L46: LNE | M46: G021370/1
H47: Thierry MOREL | K47: C02 | L47: LNE | M47: G020987/1
H48: Antero DACOSTE
H49: Pierre QUELIN | K49: ETALONS POUR L'AXE X
H50: Benjamin PIETRAS | K50: 400102 | L50: LNE | M50: G021370/3
H51: Manuel GARCIA | K51: 400103 | L51: LNE | M51: F060691/4
H52: Geoffrey LE BOZEC | K52: 500104 | L52: LNE | M52: G020987/3
H53: Oliver TATESSIAN
H54: Floran LAMY | K54: PIGE
H55: Emmanuel DEBARD | K55: 400245 | L55: LNE | M55: F060691
H56: Olivier STEVENS | K56: 400605 | L56: LNE | M56: G021370/2
H57: Patrick SEROT | K57: P02 | L57: LNE | M57: G020987/2
H58: Bruno FOUET
H59: Shinji HASHIMOTO | K59: THERMOHYGROMETRE
H60: Nicolas BUCCI | K60: 1 | L60: AOIP | M60: S-4480028t
H61: Laurent MICHOUX | K61: 2 | L61: AOIP | M61: S-4320012t
H62: Laurent DROUART | K62: 3 | L62: AOIP | M62: S-4480027t
K63: 4 | L63: AOIP | M63: S-4320010t
K64: 5 | L64: AOIP | M64: S-4480026t
K65: 7 | L65: AOIP | M65: S-4320013t
K66: 9040278/1 | L66: AOIP | M66: S-4320011t
K67: 9040393/1 | L67: AOIP | M67: S-4320009t
K68: 9040393/3 | L68: AOIP | M68: S-4320008t
K69: 08113862 | L69: France Qualité | M69: 08-10-95957001-123677-RH
K70: 08117956 | L70: France Qualité | M70: 08-10-95957001-123675-RH
K71: 08118758 | L71: France Qualité | M71: 08-10-95957001-123674-RH
K72: 08118775 | L72: France Qualité | M72: 08-10-95957001-123685-RH
K73: 680961 | L73: France Qualité | M73: 08-10-95957001-123681-RH
K74: 681559 | L74: France Qualité | M74: 08-10-95957001-123683-RH
... K80: 681606 | L80: France Qualité | M80: 08-10-95957001-123684-RH

Sheet Questionnaire
F6: ='fiche CV'!C2 -> MITUTOYO
F7: ='fiche CV'!C3 -> 123 rue de la belle étoile
F8: ='fiche CV'!C4 -> BP 50267 - ZI PARIS NORD II
F9: ='fiche CV'!C5 -> 95957 ROISSY
F14: Roissy, le | H14: =TODAY() -> 41473
B16: Objet : | C16: =CONCATENATE( "Certificat d'étalonnage de votre machine MITUTOYO ",'fiche CV'!$B$13, " S/N (",'fiche CV'!$F$13,")") -> Certificat d'étalonnage de votre machine MITUTOYO CV3200 S/N (001001001)
B19: =CONCATENATE("A l'attention de ",'fiche CV'!$D$9," ",'fiche CV'!$E$9) -> A l'attention de Madame pierre LAURENT
B22: ='fiche CV'!D9 -> Madame
B24: Suite à la prestation d'étalonnage référencée en objet, vous trouverez ci-joint le certificat d'étalonnage que nous avons réalisé.
B27: Si vous souhaitez les certificats des étalons uitilisés dans le cadre de notre prestation d'étalonnage, nous vous remercions de prendre contact avec nos services au 01.49.38.35.25
B31: Dans le cadre de notre certification et dans le but d'une constante amélioration de nos services, vous trouverez aussi notre questionnaire qualité concernant nos prestations SAV que nous vous remercions de nous retourner après l'avoir renseigné.
B36: Bien entendu, nous restons à votre entière disposition pour toute information complémentaire que vous souhaiteriez concernant ces documents.
B39: =CONCATENATE("Nous vous souhaitons bonne réception de ces éléments et nous vous prions d'agréer, ",'fiche CV'!$D$9,", l'expression de nos salutations distinguées") -> Nous vous souhaitons bonne réception de ces éléments et nous vous prions d'agréer, Madame, l'expression de nos salutations distinguées
B43: Manuel VILACA
B44: Responsable S.A.V.I.
B54: =CONCATENATE("P.J. : Certificat d'étalonnage ",[1]Cover!$G$1," et Questionnaire Qualité") -> P.J. : Certificat d'étalonnage et Questionnaire Qualité
B57: QUESTIONNAIRE SATISFACTION CLIENTS | H57: Q08/C
B58: PRESTATIONS SUR SITE
B60: Nature de l'intervention :
D61: 1ere Installation | F61: Déménagement
D63: Etalonnage/révision | F63: Réparation
B65: nom de la société : | F65: ='fiche CV'!C2 -> MITUTOYO
B66: date de fin d'intervention : (1)
B67: Machine concernée : | F67: ='fiche CV'!B13 -> CV3200 | H67: ='fiche CV'!C13 -> S4
B68: nom du responsable qualité : (1)
B69: nom de la personne remplissant le questionnaire : (1)
B70: date de réponse : (1)
H72: TRES SATISFAIT | J72: SATISFAIT | K72: INSATISFAIT | L72: TRES INSATISFAIT
B76: PRESTATION
C78: Planification et délai d'intervention
C79: Ponctualité et l'assiduité des intervenants
C80: Relation avec les intervenants
C81: Compétences techniques et l'efficacité de nos intervenants
C82: Explications fournies sur le materiel et les précautions d'entretien
C83: Moyens matériels des intervenants
B84: Observations : (2)
B88: DOCUMENTS
C89: Rapport de visite de l'intervenant
C90: Certificat d'étalonnage
B91: Observations : (2)
B95: Nous vous remercions de nous retourner ce questionnaire par Fax au 01-49-38-35-38
B97: CADRE RESERVE A MITUTOYO France
B102: (1) Mentions obligatoires à remplir par le client
B103: (2) Merci de préciser en cas de non-satisfaction.
C105: MITUTOYO France Paris Nord 2-123, RUE DE LA Belle Etoile BP 59267 ROISSY en France 95957 ROISSY CDG CEDEX Tél. +33 (0)1 49 38 35 00 Fax +33 (0)1 48 63 27 70 Siren 334 120 110

Sheet Certif.
B4: MITUTOYO France
B5: PARIS NORD 2
B6: 123, rue de la Belle Etoile
B7: BP 59267
B8: 95957 ROISSY CDG Cedex
D13: CERTIFICAT D'ETALONNAGE
F15: ='fiche CV'!D8 -> LD007/5670001
B21: DELIVRE A : | E21: ='fiche CV'!C2 -> MITUTOYO
E22: ='fiche CV'!C3 -> 123 rue de la belle étoile
E23: ='fiche CV'!C4 -> BP 50267 - ZI PARIS NORD II
E24: ='fiche CV'!C5 -> 95957 ROISSY
B27: INSTRUMENT ETALONNE :
B29: Désignation : | E29: CONTRACER
B31: Constructeur : | E31: MITUTOYO
B33: Type : | E33: ='fiche CV'!B13 -> CV3200 | G33: ='fiche CV'!C13 -> S4 | K33: Numéro de série : | O33: ='fiche CV'!F13 -> 001001001
K35: N° indentification : | O35: ='fiche CV'!E14 -> 0007007
B38: Ce certificat comprend : 5 pages | K38: Date d'émission : | O38: =TODAY() -> 41473
K43: LE RESPONSABLE SAV MITUTOYO
K44: M. VILAÇA
A48: LA REPRODUCTION DE CE CERTIFICAT N’EST AUTORISE QUE SOUS LA FORME DE FAC-SIMILE PHOTOGRAPHIQUE INTEGRAL
A50: Certificat d’étalonnage N° | E50: ='fiche CV'!D8 -> LD007/5670001 | Q50: Page 2 sur 5
B53: 1) Description du produit étalonné :
B55: Les mesures ont été effectuées par Monsieur : | K55: ='fiche CV'!D10 -> Laurent DROUART
B57: Désignation : | E57: Contracer
B59: Constructeur : | E59: MITUTOYO
B61: Type : | E61: ='fiche CV'!B13 -> CV3200 | G61: ='fiche CV'!C13 -> S4 | I61: N° de série : | L61: ='fiche CV'!F13 -> 001001001
B63: Capacité X (mm) : | F63: ='fiche CV'!D13 -> 100
B66: 2) Lieu de réalisation :
B68: ='fiche CV'!D11 -> Local de Métrologie
B71: 3) Date de réception et date de réalisation :
B73: Etalonné le : | E73: ='fiche CV'!D6 -> 40461
B76: 4) Référence de l'environnement :
L77: =('fiche CV'!F7)/100 -> 0.44
B78: Température : | E78: ~ | F78: ='fiche CV'!D7 -> 22 | I78: Hygrométrie : ~
B81: 5) Document de référence :
B83: Normes utilisés :
B84: Instruction MITUTOYO France : | I84: IT - 20/0
B87: 6) Etalons et équipements utilisés :
B89: Désignation | H89: N° de Série | K89: Centre raccordement Nature du certificat | P89: N° du certificat
B90: CALE ETALON | H90: ='fiche CV'!D18 -> 960139 | K90: ='fiche CV'!E18 -> M(NL) RvA | P90: ='fiche CV'!F18 -> 20082592-A
B92: CALE ETALON | H92: ='fiche CV'!D19 -> 041689 | K92: ='fiche CV'!E19 -> M(NL) RvA | P92: ='fiche CV'!F19 -> 20081096
B94: ETALON AXE X | H94: ='fiche CV'!D21 -> 500104 | K94: ='fiche CV'!E21 -> LNE | P94: ='fiche CV'!F21 -> G020987/3
B96: ETALON ANGULAIRE | H96: ='fiche CV'!D20 -> C02 | K96: ='fiche CV'!E20 -> LNE | P96: ='fiche CV'!F20 -> F060691/2
B98: THERMOHYGROMETRE OU THERMOMETRE + SONDE | H98: ='fiche CV'!D23 -> 680961 | K98: ='fiche CV'!E23 -> France Qualité | P98: ='fiche CV'!F23 -> 08-10-95957001-123681-RH
A103: LA REPRODUCTION DE CE CERTIFICAT N’EST AUTORISE QUE SOUS LA FORME DE FAC-SIMILE PHOTOGRAPHIQUE INTEGRAL
A105: Certificat d’étalonnage N° | E105: ='fiche CV'!D8 -> LD007/5670001 | Q105: Page 3 sur 5
B108: 7) Méthode(s) d'étalonnage :
B110: Méthode d'étalonnage suivant la procédure MITUTOYO
B112: 8) Incertitude des mesures :
B114: Les incertitudes élargies mentionnées sont celles correspondant à deux incertitudes types. Les incertitudes types ont été calculées en tenant compte des différentes composantes d'incertitudes, étalons de référence, moyen d'étalonnage, condition d'environnement, contribution de l'instrument étalonné, répétabilité...
B120: 9) Observation(s) complémentaire(s) :
B122: Les résultats des mesures sont exprimés en µm sauf contradiction.
A155: LA REPRODUCTION DE CE CERTIFICAT N’EST AUTORISE QUE SOUS LA FORME DE FAC-SIMILE PHOTOGRAPHIQUE INTEGRAL

Sheet Résultat
B1: ='fiche CV'!C2 -> MITUTOYO
B2: Certificat d’étalonnage N° | F2: ='fiche CV'!D8 -> LD007/5670001 | P2: Page 4 sur 5
B6: AXE Z
B8: PRECISION DE MESURE avec Z référence à ZERO ABSOLU | R8: =IF('fiche CV'!B13='fiche CV'!I9,'fiche CV'!J9,IF('fiche CV'!B13='fiche CV'!I10,'fiche CV'!J10,IF('fiche CV'!B13='fiche CV'!I11,'fiche CV'!J11,IF('fiche CV'!B13='fiche CV'!I12,'fiche CV'!J12,IF('fiche CV'!B13='fiche CV'!I13,'fiche CV'!J13,IF('fiche CV'!B13='fiche CV'!I14,'fiche CV'!J14,IF('fiche CV'!B13='fiche CV'!I15,'fiche CV'!J15,IF('fiche CV'!B13='fiche CV'!I16,'fiche CV'!J16,0)))))))) -> ± (1.6 +|2Z| / 100)µm
B11: Conditions de mesure : | I11: vitesse : 0,5 mm/s
I12: pas : 10 µm
I13: déplacement en X : 3 mm
B15: Mesure (mm) | H15: -20 | I15: -10 | K15: +10 | M15: +20
B17: Erreur admissible (± µm) | H17: =IF(R8='fiche CV'!J9,5.6,IF(R8='fiche CV'!J10,1.8,IF(R8='fiche CV'!J11,4.6,IF(R8='fiche CV'!J12,1.2,IF(R8='fiche CV'!J13,2.8,IF(R8='fiche CV'!J14,1.2,IF(R8='fiche CV'!J15,2,IF(R8='fiche CV'!J16,1.2,0)))))))) -> 2 | I17: =IF(R8='fiche CV'!J9,4.8,IF(R8='fiche CV'!J10,1.8,IF(R8='fiche CV'!J11,3.8,IF(R8='fiche CV'!J12,1,IF(R8='fiche CV'!J13,2.4,IF(R8='fiche CV'!J14,1,IF(R8='fiche CV'!J15,1.8,IF(R8='fiche CV'!J16,1,0)))))))) -> 1.8 | K17: =IF(R8='fiche CV'!J9,4.8,IF(R8='fiche CV'!J10,1.8,IF(R8='fiche CV'!J11,3.8,IF(R8='fiche CV'!J12,1,IF(R8='fiche CV'!J13,2.4,IF(R8='fiche CV'!J14,1,IF(R8='fiche CV'!J15,1.8,IF(R8='fiche CV'!J16,1,0)))))))) -> 1.8 | M17: =IF(R8='fiche CV'!J9,5.6,IF(R8='fiche CV'!J10,1.8,IF(R8='fiche CV'!J11,4.6,IF(R8='fiche CV'!J12,1.2,IF(R8='fiche CV'!J13,2.8,IF(R8='fiche CV'!J14,1.2,IF(R8='fiche CV'!J15,2,IF(R8='fiche CV'!J16,1.2,0)))))))) -> 2
B19: Erreur machine (µm) | H19: ='fiche CV'!C28 -> 0.6 | I19: ='fiche CV'!C30 -> -0.5 | K19: ='fiche CV'!C32 -> 0.4 | M19: ='fiche CV'!C34 -> -1
B24: AXE X
B26: PRECISION DE MESURE | R26: =IF(AND('fiche CV'!B13='fiche CV'!I9,'fiche CV'!D13='fiche CV'!K8),'fiche CV'!K9,IF(AND('fiche CV'!B13='fiche CV'!I9,'fiche CV'!D13='fiche CV'!L8),'fiche CV'!L9,IF(AND('fiche CV'!B13='fiche CV'!I10,'fiche CV'!D13='fiche CV'!K8),'fiche CV'!K10,IF(AND('fiche CV'!B13='fiche CV'!I10,'fiche CV'!D13='fiche CV'!L8),'fiche CV'!L10,IF(AND('fiche CV'!B13='fiche CV'!I11,'fiche CV'!D13='fiche CV'!K8),'fiche CV'!K11,IF(AND('fiche CV'!B13='fiche CV'!I11,'fiche CV'!D13='fiche CV'!L8),'fiche CV'!L11,IF(AND('fiche CV'!B13='fiche CV'!I12,'fiche CV'!D13='fiche CV'!K8),'fiche CV'!K12,IF(AND('fiche CV'!B13='fiche CV'!I12,'fiche CV'!D13='fiche CV'!L8),'fiche CV'!L12,IF(AND('fiche CV'!B13='fiche CV'!I13,'fiche CV'!D13='fiche CV'!K8),'fiche CV'!K13,IF(AND('fiche CV'!B13='fiche CV'!I13,'fiche CV'!D13='fiche CV'!L8),'fiche CV'!L13,IF(AND('fiche CV'!B13='fiche CV'!I14,'fiche CV'!D13='fiche CV'!K8),'fiche CV'!K14,IF(AND('fiche CV'!B13='fiche CV'!I14,'fiche CV'!D13='fiche CV'!L8),'fiche CV'!L14,IF(AND('fiche CV'!B13='fiche CV'!I15,'fiche CV'!D13='fiche CV'!K8),'fiche CV'!K15,IF(AND('fiche CV'!B13='fiche CV'!I15,'fiche CV'!D13='fiche CV'!L8),'fiche CV'!L15,IF(AND('fiche CV'!B13='fiche CV'!I16,'fiche CV'!D13='fiche CV'!K8),'fiche CV'!K16,IF(AND('fiche CV'!B13='fiche CV'!I16,'fiche CV'!D13='fiche CV'!L8),'fiche CV'!L16,0)))))))))))))))) -> ± (0.8 + 0.01L)µm
B29: Conditions de mesure : | I29: vitesse : 0,5 mm/s
I30: pas : 25 µm
I31: déplacement en X : 3,5 mm
B43: Position de Mesure (mm) | F43: 0 | H43: 25 | I43: 50 | K43: 75 | M43: 100 | O43: =IF('fiche CV'!D13='fiche CV'!L8,120,"/") -> / | Q43: =IF('fiche CV'!D13='fiche CV'!L8,150,"/") -> / | S43: =IF('fiche CV'!D13='fiche CV'!L8,175,"/") -> / | T43: =IF('fiche CV'!D13='fiche CV'!L8,200,"/") -> /
B45: Erreur admissible (± µm) | F45: 0 | H45: =IF(AND('fiche CV'!B13='fiche CV'!I9,'fiche CV'!D13='fiche CV'!K8),1.5,IF(AND('fiche CV'!B13='fiche CV'!I9,'fiche CV'!D13='fiche CV'!L8),1.5,IF(AND('fiche CV'!B13='fiche CV'!I10,'fiche CV'!D13='fiche CV'!K8),1.5,IF(AND('fiche CV'!B13='fiche CV'!I10,'fiche CV'!D13='fiche CV'!L8),1.5,IF(AND('fiche CV'!B13='fiche CV'!I11,'fiche CV'!D13='fiche CV'!K8),1.5,IF(AND('fiche CV'!B13='fiche CV'!I11,'fiche CV'!D13='fiche CV'!L8),1.5,IF(AND('fiche CV'!B13='fiche CV'!I12,'fiche CV'!D13='fiche CV'!K8),1.3,IF(AND('fiche CV'!B13='fiche CV'!I12,'fiche CV'!D13='fiche CV'!L8),1.3,IF(AND('fiche CV'!B13='fiche CV'!I13,'fiche CV'!D13='fiche CV'!K8),1.25,IF(AND('fiche CV'!B13='fiche CV'!I13,'fiche CV'!D13='fiche CV'!L8),1.25,IF(AND('fiche CV'!B13='fiche CV'!I14,'fiche CV'!D13='fiche CV'!K8),1.05,IF(AND('fiche CV'!B13='fiche CV'!I14,'fiche CV'!D13='fiche CV'!L8),1.05,IF(AND('fiche CV'!B13='fiche CV'!I15,'fiche CV'!D13='fiche CV'!K8),1.05,IF(AND('fiche CV'!B13='fiche CV'!I15,'fiche CV'!D13='fiche CV'!L8),1.05,IF(AND('fiche CV'!B13='fiche CV'!I16,'fiche CV'!D13='fiche CV'!K8),1.05,IF(AND('fiche CV'!B13='fiche CV'!I16,'fiche CV'!D13='fiche CV'!L8),1.05,0)))))))))))))))) -> 1.05 | I45: =IF(AND('fiche CV'!B13='fiche CV'!I9,'fiche CV'!D13='fiche CV'!K8),2,IF(AND('fiche CV'!B13='fiche CV'!I9,'fiche CV'!D13='fiche CV'!L8),2,IF(AND('fiche CV'!B13='fiche CV'!I10,'fiche CV'!D13='fiche CV'!K8),2,IF(AND('fiche CV'!B13='fiche CV'!I10,'fiche CV'!D13='fiche CV'!L8),2,IF(AND('fiche CV'!B13='fiche CV'!I11,'fiche CV'!D13='fiche CV'!K8),2,IF(AND('fiche CV'!B13='fiche CV'!I11,'fiche CV'!D13='fiche CV'!L8),2,IF(AND('fiche CV'!B13='fiche CV'!I12,'fiche CV'!D13='fiche CV'!K8),1.8,IF(AND('fiche CV'!B13='fiche CV'!I12,'fiche CV'!D13='fiche CV'!L8),1.8,IF(AND('fiche CV'!B13='fiche CV'!I13,'fiche CV'!D13='fiche CV'!K8),1.5,IF(AND('fiche CV'!B13='fiche CV'!I13,'fiche CV'!D13='fiche CV'!L8),1.5,IF(AND('fiche CV'!B13='fiche CV'!I14,'fiche CV'!D13='fiche CV'!K8),1.3,IF(AND('fiche CV'!B13='fiche CV'!I14,'fiche CV'!D13='fiche CV'!L8),1.3,IF(AND('fiche CV'!B13='fiche CV'!I15,'fiche CV'!D13='fiche CV'!K8),1.3,IF(AND('fiche CV'!B13='fiche CV'!I15,'fiche CV'!D13='fiche CV'!L8),1.3,IF(AND('fiche CV'!B13='fiche CV'!I16,'fiche CV'!D13='fiche CV'!K8),1.3,IF(AND('fiche CV'!B13='fiche CV'!I16,'fiche CV'!D13='fiche CV'!L8),1.3,0)))))))))))))))) -> 1.3 | K45: =IF(AND('fiche CV'!B13='fiche CV'!I9,'fiche CV'!D13='fiche CV'!K8),2.5,IF(AND('fiche CV'!B13='fiche CV'!I9,'fiche CV'!D13='fiche CV'!L8),2.5,IF(AND('fiche CV'!B13='fiche CV'!I10,'fiche CV'!D13='fiche CV'!K8),2.5,IF(AND('fiche CV'!B13='fiche CV'!I10,'fiche CV'!D13='fiche CV'!L8),2.5,IF(AND('fiche CV'!B13='fiche CV'!I11,'fiche CV'!D13='fiche CV'!K8),2.5,IF(AND('fiche CV'!B13='fiche CV'!I11,'fiche CV'!D13='fiche CV'!L8),2.5,IF(AND('fiche CV'!B13='fiche CV'!I12,'fiche CV'!D13='fiche CV'!K8),2.3,IF(AND('fiche CV'!B13='fiche CV'!I12,'fiche CV'!D13='fiche CV'!L8),2.3,IF(AND('fiche CV'!B13='fiche CV'!I13,'fiche CV'!D13='fiche CV'!K8),1.75,IF(AND('fiche CV'!B13='fiche CV'!I13,'fiche CV'!D13='fiche CV'!L8),1.75,IF(AND('fiche CV'!B13='fiche CV'!I14,'fiche CV'!D13='fiche CV'!K8),1.55,IF(AND('fiche CV'!B13='fiche CV'!I14,'fiche CV'!D13='fiche CV'!L8),1.55,IF(AND('fiche CV'!B13='fiche CV'!I15,'fiche CV'!D13='fiche CV'!K8),1.55,IF(AND('fiche CV'!B13='fiche CV'!I15,'fiche CV'!D13='fiche CV'!L8),1.55,IF(AND('fiche CV'!B13='fiche CV'!I16,'fiche CV'!D13='fiche CV'!K8),1.55,IF(AND('fiche CV'!B13='fiche CV'!I16,'fiche CV'!D13='fiche CV'!L8),1.55,0)))))))))))))))) -> 1.55 | M45: =IF(AND('fiche CV'!B13='fiche CV'!I9,'fiche CV'!D13='fiche CV'!K8),3,IF(AND('fiche CV'!B13='fiche CV'!I9,'fiche CV'!D13='fiche CV'!L8),3,IF(AND('fiche CV'!B13='fiche CV'!I10,'fiche CV'!D13='fiche CV'!K8),3,IF(AND('fiche CV'!B13='fiche CV'!I10,'fiche CV'!D13='fiche CV'!L8),3,IF(AND('fiche CV'!B13='fiche CV'!I11,'fiche CV'!D13='fiche CV'!K8),3,IF(AND('fiche CV'!B13='fiche CV'!I11,'fiche CV'!D13='fiche CV'!L8),3,IF(AND('fiche CV'!B13='fiche CV'!I12,'fiche CV'!D13='fiche CV'!K8),2.8,IF(AND('fiche CV'!B13='fiche CV'!I12,'fiche CV'!D13='fiche CV'!L8),2.8,IF(AND('fiche CV'!B13='fiche CV'!I13,'fiche CV'!D13='fiche CV'!K8),2,IF(AND('fiche CV'!B13='fiche CV'!I13,'fiche CV'!D13='fiche CV'!L8),2,IF(AND('fiche CV'!B13='fiche CV'!I14,'fiche CV'!D13='fiche CV'!K8),1.8,IF(AND('fiche CV'!B13='fiche CV'!I14,'fiche CV'!D13='fiche CV'!L8),1.8,IF(AND('fiche CV'!B13='fiche CV'!I15,'fiche CV'!D13='fiche CV'!K8),1.8,IF(AND('fiche CV'!B13='fiche CV'!I15,'fiche CV'!D13='fiche CV'!L8),1.8,IF(AND('fiche CV'!B13='fiche CV'!I16,'fiche CV'!D13='fiche CV'!K8),1.8,IF(AND('fiche CV'!B13='fiche CV'!I16,'fiche CV'!D13='fiche CV'!L8),1.8,0)))))))))))))))) -> 1.8 | O45: =IF(AND('fiche CV'!B13='fiche CV'!I9,'fiche CV'!D13='fiche CV'!K8),"/",IF(AND('fiche CV'!B13='fiche CV'!I9,'fiche CV'!D13='fiche CV'!L8),3.5,IF(AND('fiche CV'!B13='fiche CV'!I10,'fiche CV'!D13='fiche CV'!K8),"/",IF(AND('fiche CV'!B13='fiche CV'!I10,'fiche CV'!D13='fiche CV'!L8),3.5,IF(AND('fiche CV'!B13='fiche CV'!I11,'fiche CV'!D13='fiche CV'!K8),"/",IF(AND('fiche CV'!B13='fiche CV'!I11,'fiche CV'!D13='fiche CV'!L8),3.5,IF(AND('fiche CV'!B13='fiche CV'!I12,'fiche CV'!D13='fiche CV'!K8),"/",IF(AND('fiche CV'!B13='fiche CV'!I12,'fiche CV'!D13='fiche CV'!L8),3.3,IF(AND('fiche CV'!B13='fiche CV'!I13,'fiche CV'!D13='fiche CV'!K8),"/",IF(AND('fiche CV'!B13='fiche CV'!I13,'fiche CV'!D13='fiche CV'!L8),3.5,IF(AND('fiche CV'!B13='fiche CV'!I14,'fiche CV'!D13='fiche CV'!K8),"/",IF(AND('fiche CV'!B13='fiche CV'!I14,'fiche CV'!D13='fiche CV'!L8),3.3,IF(AND('fiche CV'!B13='fiche CV'!I15,'fiche CV'!D13='fiche CV'!K8),"/",IF(AND('fiche CV'!B13='fiche CV'!I15,'fiche CV'!D13='fiche CV'!L8),3.3,IF(AND('fiche CV'!B13='fiche CV'!I16,'fiche CV'!D13='fiche CV'!K8),"/",IF(AND('fiche CV'!B13='fiche CV'!I16,'fiche CV'!D13='fiche CV'!L8),3.3,0)))))))))))))))) -> / | Q45: =IF(AND('fiche CV'!B13='fiche CV'!I9,'fiche CV'!D13='fiche CV'!K8),"/",IF(AND('fiche CV'!B13='fiche CV'!I9,'fiche CV'!D13='fiche CV'!L8),4,IF(AND('fiche CV'!B13='fiche CV'!I10,'fiche CV'!D13='fiche CV'!K8),"/",IF(AND('fiche CV'!B13='fiche CV'!I10,'fiche CV'!D13='fiche CV'!L8),4,IF(AND('fiche CV'!B13='fiche CV'!I11,'fiche CV'!D13='fiche CV'!K8),"/",IF(AND('fiche CV'!B13='fiche CV'!I11,'fiche CV'!D13='fiche CV'!L8),4,IF(AND('fiche CV'!B13='fiche CV'!I12,'fiche CV'!D13='fiche CV'!K8),"/",IF(AND('fiche CV'!B13='fiche CV'!I12,'fiche CV'!D13='fiche CV'!L8),3.8,IF(AND('fiche CV'!B13='fiche CV'!I13,'fiche CV'!D13='fiche CV'!K8),"/",IF(AND('fiche CV'!B13='fiche CV'!I13,'fiche CV'!D13='fiche CV'!L8),4,IF(AND('fiche CV'!B13='fiche CV'!I14,'fiche CV'!D13='fiche CV'!K8),"/",IF(AND('fiche CV'!B13='fiche CV'!I14,'fiche CV'!D13='fiche CV'!L8),3.8,IF(AND('fiche CV'!B13='fiche CV'!I15,'fiche CV'!D13='fiche CV'!K8),"/",IF(AND('fiche CV'!B13='fiche CV'!I15,'fiche CV'!D13='fiche CV'!L8),3.8,IF(AND('fiche CV'!B13='fiche CV'!I16,'fiche CV'!D13='fiche CV'!K8),"/",IF(AND('fiche CV'!B13='fiche CV'!I16,'fiche CV'!D13='fiche CV'!L8),3.8,0)))))))))))))))) -> / | S45: =IF(AND('fiche CV'!B13='fiche CV'!I9,'fiche CV'!D13='fiche CV'!K8),"/",IF(AND('fiche CV'!B13='fiche CV'!I9,'fiche CV'!D13='fiche CV'!L8),4.5,IF(AND('fiche CV'!B13='fiche CV'!I10,'fiche CV'!D13='fiche CV'!K8),"/",IF(AND('fiche CV'!B13='fiche CV'!I10,'fiche CV'!D13='fiche CV'!L8),4.5,IF(AND('fiche CV'!B13='fiche CV'!I11,'fiche CV'!D13='fiche CV'!K8),"/",IF(AND('fiche CV'!B13='fiche CV'!I11,'fiche CV'!D13='fiche CV'!L8),4.5,IF(AND('fiche CV'!B13='fiche CV'!I12,'fiche CV'!D13='fiche CV'!K8),"/",IF(AND('fiche CV'!B13='fiche CV'!I12,'fiche CV'!D13='fiche CV'!L8),4.3,IF(AND('fiche CV'!B13='fiche CV'!I13,'fiche CV'!D13='fiche CV'!K8),"/",IF(AND('fiche CV'!B13='fiche CV'!I13,'fiche CV'!D13='fiche CV'!L8),4.5,IF(AND('fiche CV'!B13='fiche CV'!I14,'fiche CV'!D13='fiche CV'!K8),"/",IF(AND('fiche CV'!B13='fiche CV'!I14,'fiche CV'!D13='fiche CV'!L8),4.3,IF(AND('fiche CV'!B13='fiche CV'!I15,'fiche CV'!D13='fiche CV'!K8),"/",IF(AND('fiche CV'!B13='fiche CV'!I15,'fiche CV'!D13='fiche CV'!L8),4.3,IF(AND('fiche CV'!B13='fiche CV'!I16,'fiche CV'!D13='fiche CV'!K8),"/",IF(AND('fiche CV'!B13='fiche CV'!I16,'fiche CV'!D13='fiche CV'!L8),4.3,0)))))))))))))))) -> / | T45: =IF(AND('fiche CV'!B13='fiche CV'!I9,'fiche CV'!D13='fiche CV'!K8),"/",IF(AND('fiche CV'!B13='fiche CV'!I9,'fiche CV'!D13='fiche CV'!L8),5,IF(AND('fiche CV'!B13='fiche CV'!I10,'fiche CV'!D13='fiche CV'!K8),"/",IF(AND('fiche CV'!B13='fiche CV'!I10,'fiche CV'!D13='fiche CV'!L8),5,IF(AND('fiche CV'!B13='fiche CV'!I11,'fiche CV'!D13='fiche CV'!K8),"/",IF(AND('fiche CV'!B13='fiche CV'!I11,'fiche CV'!D13='fiche CV'!L8),5,IF(AND('fiche CV'!B13='fiche CV'!I12,'fiche CV'!D13='fiche CV'!K8),"/",IF(AND('fiche CV'!B13='fiche CV'!I12,'fiche CV'!D13='fiche CV'!L8),4.8,IF(AND('fiche CV'!B13='fiche CV'!I13,'fiche CV'!D13='fiche CV'!K8),"/",IF(AND('fiche CV'!B13='fiche CV'!I13,'fiche CV'!D13='fiche CV'!L8),5,IF(AND('fiche CV'!B13='fiche CV'!I14,'fiche CV'!D13='fiche CV'!K8),"/",IF(AND('fiche CV'!B13='fiche CV'!I14,'fiche CV'!D13='fiche CV'!L8),4.8,IF(AND('fiche CV'!B13='fiche CV'!I15,'fiche CV'!D13='fiche CV'!K8),"/",IF(AND('fiche CV'!B13='fiche CV'!I15,'fiche CV'!D13='fiche CV'!L8),4.8,IF(AND('fiche CV'!B13='fiche CV'!I16,'fiche CV'!D13='fiche CV'!K8),"/",IF(AND('fiche CV'!B13='fiche CV'!I16,'fiche CV'!D13='fiche CV'!L8),4.8,0)))))))))))))))) -> /
B47: Erreur machine (µm) | F47: 0 | H47: ='fiche CV'!E28 -> -0.4 | I47: ='fiche CV'!E30 -> -0.56 | K47: ='fiche CV'!E32 -> 1 | M47: ='fiche CV'!E34 -> 0.78 | O47: ='fiche CV'!E36 -> -1.4 | Q47: ='fiche CV'!E38 -> 1.5 | S47: ='fiche CV'!E40 -> 0.98 | T47: ='fiche CV'!E42 -> -2
L50: Etalonné le : | R50: =+'fiche CV'!D6 -> 40461
L51: Machine : | R51: ='fiche CV'!B13 -> CV3200 | T51: ='fiche CV'!C13 -> S4
B52: LA REPRODUCTION DE CE CERTIFICAT N’EST AUTORISE QUE SOUS LA FORME DE FAC-SIMILE PHOTOGRAPHIQUE INTEGRAL | L52: Numéro de série : | R52: ='fiche CV'!F13 -> 001001001
B56: =B1 -> MITUTOYO
B57: Certificat d’étalonnage N° | F57: ='fiche CV'!D8 -> LD007/5670001 | Q57: Page 3 sur 5
B61: PRECISION DE LA SYMETRIE
B64: Conditions de mesure : | I64: vitesse : 0,5 mm/s
I65: pas : 25 µm
I66: déplacement en X : 20 mm
E69: Position angulaire | I69: 0° | O69: 180°
E70: Méthode de mesure
E75: Valeurs relevées (degré décimal) | I75: ='fiche CV'!F31 -> 137.0099 | O75: ='fiche CV'!F37 -> 138.0007
E76: Erreur admissible | I76: a - b ≤ 0,04° (2’ 24’’)
E77: Erreur machine (degré décimal) | I77: =I75-O75 -> -0.9908
B82: Commentaires :
B84: Machine CONFORME aux données constructeurs :…………………………………....
B86: Machine NON CONFORME aux données constructeurs :……………………………..
L100: Etalonné le : | R100: =R50 -> 40461
L101: Machine : | R101: ='fiche CV'!B13 -> CV3200 | T101: ='fiche CV'!C13 -> S4
B102: LA REPRODUCTION DE CE CERTIFICAT N’EST AUTORISE QUE SOUS LA FORME DE FAC-SIMILE PHOTOGRAPHIQUE INTEGRAL | L102: Numéro de série : | R102: =R52 -> 001001001
