Workbook

Sheet Feuil1
A1: liste de classe 1AS1
A2: n | B2: nom | C2: prenom | D2: naissance | E2: age | F2: sexe | G2: course 1000 | H2: lancer P | I2: course v | J2: Saut L | K2: saut H | L2: Note
A3: 1 | L3: =IFERROR(VLOOKUP(G3,Feuil2!C3:O22,MATCH(Feuil2!B3:B22,0,)+Feuil1!F3="F")*7,"")
A4: 2 | L4: =IFERROR(VLOOKUP(G4,Feuil2!C4:O23,MATCH(Feuil2!B4:B23,0,)+Feuil1!F4="F")*7,"")
A5: 3 | L5: =IFERROR(VLOOKUP(G5,Feuil2!C5:O24,MATCH(Feuil2!B5:B24,0,)+Feuil1!F5="F")*7,"")
A6: 4 | L6: =IFERROR(VLOOKUP(G6,Feuil2!C6:O25,MATCH(Feuil2!B6:B25,0,)+Feuil1!F6="F")*7,"")
A7: 5 | L7: =IFERROR(VLOOKUP(G7,Feuil2!C7:O25,MATCH(Feuil2!B7:B25,0,)+Feuil1!F7="F")*7,"")
A8: 6 | L8: =IFERROR(VLOOKUP(G8,Feuil2!C8:O25,MATCH(Feuil2!B8:B25,0,)+Feuil1!F8="F")*7,"")
A9: 7 | L9: =IFERROR(VLOOKUP(G9,Feuil2!C9:O25,MATCH(Feuil2!B9:B25,0,)+Feuil1!F9="F")*7,"")
A10: 8 | L10: =IFERROR(VLOOKUP(G10,Feuil2!C10:O25,MATCH(Feuil2!B10:B25,0,)+Feuil1!F10="F")*7,"")
A11: 9 | L11: =IFERROR(VLOOKUP(G11,Feuil2!C11:O25,MATCH(Feuil2!B11:B25,0,)+Feuil1!F11="F")*7,"")
A12: 10 | L12: =IFERROR(VLOOKUP(G12,Feuil2!C12:O25,MATCH(Feuil2!B12:B25,0,)+Feuil1!F12="F")*7,"")
A13: 11 | L13: =IFERROR(VLOOKUP(G13,Feuil2!C13:O25,MATCH(Feuil2!B13:B25,0,)+Feuil1!F13="F")*7,"")
A14: 12 | L14: =IFERROR(VLOOKUP(G14,Feuil2!C14:O25,MATCH(Feuil2!B14:B25,0,)+Feuil1!F14="F")*7,"")
A15: 13 | L15: =IFERROR(VLOOKUP(G15,Feuil2!C15:O25,MATCH(Feuil2!B15:B25,0,)+Feuil1!F15="F")*7,"")
A16: 14 | L16: =IFERROR(VLOOKUP(G16,Feuil2!C16:O25,MATCH(Feuil2!B16:B25,0,)+Feuil1!F16="F")*7,"")
A17: 15 | L17: =IFERROR(VLOOKUP(G17,Feuil2!C17:O25,MATCH(Feuil2!B17:B25,0,)+Feuil1!F17="F")*7,"")
A18: 16 | L18: =IFERROR(VLOOKUP(G18,Feuil2!C18:O25,MATCH(Feuil2!B18:B25,0,)+Feuil1!F18="F")*7,"")
A19: 17 | L19: =IFERROR(VLOOKUP(G19,Feuil2!C19:O25,MATCH(Feuil2!B19:B25,0,)+Feuil1!F19="F")*7,"")
A20: 18 | L20: =IFERROR(VLOOKUP(G20,Feuil2!C20:O25,MATCH(Feuil2!B20:B25,0,)+Feuil1!F20="F")*7,"")
A21: 19 | L21: =IFERROR(VLOOKUP(G21,Feuil2!C21:O25,MATCH(Feuil2!B21:B25,0,)+Feuil1!F21="F")*7,"")
A22: 20 | L22: =IFERROR(VLOOKUP(G22,Feuil2!C22:O25,MATCH(Feuil2!B22:B25,0,)+Feuil1!F22="F")*7,"")
A23: 21 | L23: =IFERROR(VLOOKUP(G23,Feuil2!C23:O25,MATCH(Feuil2!B23:B25,0,)+Feuil1!F23="F")*7,"")
A24: 22 | L24: =IFERROR(VLOOKUP(G24,Feuil2!C24:O25,MATCH(Feuil2!B24:B25,0,)+Feuil1!F24="F")*7,"")
A25: 23 | L25: =IFERROR(VLOOKUP(G25,Feuil2!C25:O25,MATCH(Feuil2!B25:B25,0,)+Feuil1!F25="F")*7,"")
A26: 24 | L26: =IFERROR(VLOOKUP(G26,Feuil2!#REF!,MATCH(Feuil2!#REF!,0,)+Feuil1!F26="F")*7,"")
A27: 25 | L27: =IFERROR(VLOOKUP(G27,Feuil2!#REF!,MATCH(Feuil2!#REF!,0,)+Feuil1!F27="F")*7,"")
A28: 26 | L28: =IFERROR(VLOOKUP(G28,Feuil2!#REF!,MATCH(Feuil2!#REF!,0,)+Feuil1!F28="F")*7,"")
A29: 27 | L29: =IFERROR(VLOOKUP(G29,Feuil2!C48:O48,MATCH(Feuil2!B48:B48,0,)+Feuil1!F29="F")*7,"")
L30: =IFERROR(VLOOKUP(G30,Feuil2!C48:O49,MATCH(Feuil2!B48:B49,0,)+Feuil1!F30="F")*7,"")
L31: =IFERROR(VLOOKUP(G31,Feuil2!C48:O50,MATCH(Feuil2!B48:B50,0,)+Feuil1!F31="F")*7,"")
L32: =IFERROR(VLOOKUP(G32,Feuil2!C48:O51,MATCH(Feuil2!B48:B51,0,)+Feuil1!F32="F")*7,"")
L33: =IFERROR(VLOOKUP(G33,Feuil2!C48:O52,MATCH(Feuil2!B48:B52,0,)+Feuil1!F33="F")*7,"")

Sheet Feuil2
B1: Bareme1AS Garçons | I1: Bareme 1AS Filles
B2: note/6 | C2: 1000m/mn | D2: lancer de Poids/cm | E2: course de v 80m/sec | F2: saut longueur/m | G2: saut hauteur/cm | I2: n° | J2: note/6 | K2: 600m/mn | L2: Poids 3kg/cm | M2: course de v 80m/sec | N2: saut langueur/m | O2: saut hauteur/cm
B3: 6 | C3: 3.4 | D3: 809 | E3: 10.06 | F3: 3.9 | G3: 125 | I3: 1 | J3: 6 | K3: 2.17 | L3: 724 | M3: 8.9 | N3: 3.44
B4: 5.7 | C4: 3.48 | D4: 764 | E4: 11 | F4: 3.75 | G4: 120 | I4: 2 | J4: 5.7 | K4: 2.25 | L4: 684 | M4: 9.2 | N4: 3.3
B5: 5.4 | C5: 3.56 | D5: 719 | E5: 11.4 | F5: 3.6 | G5: 115 | I5: 3 | J5: 5.4 | K5: 2.33 | L5: 644 | M5: 9.5 | N5: 3.16
B6: 5.1 | C6: 4.4 | D6: 674 | E6: 11.8 | F6: 3.45 | G6: 110 | I6: 4 | J6: 5.1 | K6: 2.41 | L6: 604 | M6: 9.8 | N6: 3.02
B7: 4.8 | C7: 4.12 | D7: 629 | E7: 12.2 | F7: 3.3 | G7: 105 | I7: 5 | J7: 4.8 | K7: 2.49 | L7: 564 | M7: 10.1 | N7: 2.88
B8: 4.5 | C8: 4.2 | D8: 584 | E8: 12.7 | F8: 3.15 | G8: 100 | I8: 6 | J8: 4.5 | K8: 2.57 | L8: 524 | M8: 10.4 | N8: 2.74
B9: 4.2 | C9: 4.28 | D9: 539 | E9: 13.1 | F9: 3 | G9: 95 | I9: 7 | J9: 4.2 | K9: 3.05 | L9: 484 | M9: 10.7 | N9: 2.6
B10: 3.9 | C10: 4.36 | D10: 494 | E10: 13.5 | F10: 2.85 | G10: 90 | I10: 8 | J10: 3.9 | K10: 3.13 | L10: 444 | M10: 11 | N10: 2.46
B11: 3.6 | C11: 4.44 | D11: 454 | E11: 13.9 | F11: 2.7 | G11: 86.5 | I11: 9 | J11: 3.6 | K11: 3.21 | L11: 409 | M11: 11.3 | N11: 2.32
B12: 3.3 | C12: 4.52 | D12: 414 | E12: 14.3 | F12: 255 | G12: 83 | I12: 10 | J12: 3.3 | K12: 3.29 | L12: 374 | M12: 11.6 | N12: 2.18
B13: 3 | C13: 5 | D13: 374 | E13: 14.8 | F13: 2.4 | G13: 79.5 | I13: 11 | J13: 3 | K13: 3.37 | L13: 339 | M13: 11.9 | N13: 2.04
B14: 2.7 | C14: 5.08 | D14: 354 | E14: 15.2 | F14: 2.25 | G14: 76 | I14: 12 | J14: 2.7 | K14: 3.45 | L14: 314 | M14: 12.2 | N14: 1.9
... B22: 0.3 | C22: 6.12 | D22: 194 | E22: 18.5 | F22: 1.05 | G22: 48 | I22: 20 | J22: 0.3 | K22: 4.49 | L22: 114 | M22: 14.6 | N22: 0.78
B25: Bareme 2AS Garçons | I25: Bareme 2AS Filles
B26: note/6 | C26: 1000m/mn | D26: lancer de Poids/cm | E26: course de v 80m/sec | F26: saut langueur/m | G26: saut hauteur/cm | I26: n° | J26: note/6 | K26: 600m/mn | L26: lancer de Poids/cm | M26: course de v 80m/sec | N26: saut langueur/m | O26: saut hauteur/cm
B27: 6 | C27: 3.4 | D27: 809 | E27: 10.6 | F27: 3.9 | G27: 125 | I27: 1 | J27: 6 | K27: 4.74 | L27: 749 | M27: 8.8 | N27: 3.34 | O27: 110
B28: 5.7 | C28: 3.48 | D28: 764 | E28: 11 | F28: 3.75 | G28: 120 | I28: 2 | J28: 5.7 | K28: 4.39 | L28: 709 | M28: 9.1 | N28: 3.2 | O28: 105
B29: 5.4 | C29: 3.56 | D29: 719 | E29: 11.4 | F29: 3.6 | G29: 115 | I29: 3 | J29: 5.4 | K29: 4.31 | L29: 669 | M29: 9.4 | N29: 3.06 | O29: 100
B30: 5.1 | C30: 4.04 | D30: 674 | E30: 11.8 | F30: 3.45 | G30: 110 | I30: 4 | J30: 5.1 | K30: 4.23 | L30: 629 | M30: 9.7 | N30: 2.92 | O30: 95
B31: 4.8 | C31: 4.12 | D31: 629 | E31: 12.2 | F31: 3.3 | G31: 105 | I31: 5 | J31: 4.8 | K31: 4.15 | L31: 589 | M31: 10 | N31: 2.78 | O31: 90
B32: 4.5 | C32: 4.2 | D32: 584 | E32: 12.7 | F32: 3.15 | G32: 100 | I32: 6 | J32: 4.5 | K32: 4.07 | L32: 549 | M32: 10.3 | N32: 2.64 | O32: 85
B33: 4.2 | C33: 4.28 | D33: 539 | E33: 13.1 | F33: 3 | G33: 95 | I33: 7 | J33: 4.2 | K33: 3.59 | L33: 509 | M33: 10.6 | N33: 2.5 | O33: 80
B34: 3.9 | C34: 4.36 | D34: 494 | E34: 13.5 | F34: 2.85 | G34: 90 | I34: 8 | J34: 3.9 | K34: 3.51 | L34: 469 | M34: 10.9 | N34: 2.36 | O34: 75
B35: 3.6 | C35: 4.44 | D35: 454 | E35: 13.9 | F35: 2.7 | G35: 86.5 | I35: 9 | J35: 3.6 | K35: 3.43 | L35: 434 | M35: 11.2 | N35: 2.22 | O35: 72
B36: 3.3 | C36: 4.52 | D36: 414 | E36: 14.3 | F36: 2.55 | G36: 83 | I36: 10 | J36: 3.3 | K36: 3.35 | L36: 399 | M36: 11.5 | N36: 2.08 | O36: 69
B37: 3 | C37: 5 | D37: 374 | E37: 14.8 | F37: 2.4 | G37: 79.5 | I37: 11 | J37: 3 | K37: 3.27 | L37: 364 | M37: 11.8 | N37: 1.96 | O37: 66
B38: 2.7 | C38: 5.08 | D38: 354 | E38: 15.2 | F38: 2.25 | G38: 76 | I38: 12 | J38: 2.7 | K38: 3.19 | L38: 339 | M38: 12.1 | N38: 1.8 | O38: 63
... B46: 0.3 | C46: 6.12 | D46: 194 | E46: 18.5 | F46: 1.05 | G46: 48 | I46: 20 | J46: 0.3 | K46: 2.15 | L46: 139 | M46: 14.5 | N46: 0.68 | O46: 39
B49: Bareme 3AS Garçons | I49: Bareme 3AS Filles
B50: note/6 | C50: 1000m/mn | D50: Poids 4kg/cm | E50: V 80m/sec | F50: S.Longueur/m | G50: saut hauteur | I50: n° | J50: note/6 | K50: 600m/mn | L50: Poids 3kg/cm | M50: Cours 80m/sec | N50: saut longueur/m | O50: saut hauteur/cm
B51: 6 | C51: 5.55 | D51: 958 | E51: 10.1 | F51: 4.34 | G51: 135 | I51: 1 | J51: 6 | K51: 4.46 | L51: 755 | M51: 8.8 | N51: 3.43 | O51: 118
B52: 5.7 | C52: 5.47 | D52: 908 | E52: 10.6 | F52: 4.19 | G52: 130 | I52: 2 | J52: 5.7 | K52: 4.38 | L52: 720 | M52: 9.1 | N52: 3.29 | O52: 110
B53: 5.4 | C53: 5.39 | D53: 858 | E53: 11 | F53: 4.04 | G53: 125 | I53: 3 | J53: 5.4 | K53: 4.3 | L53: 685 | M53: 9.4 | N53: 3.15 | O53: 105
B54: 5.1 | C54: 5.31 | D54: 808 | E54: 11.4 | F54: 3.89 | G54: 120 | I54: 4 | J54: 5.1 | K54: 4.22 | L54: 650 | M54: 9.7 | N54: 3.01 | O54: 100
B55: 4.8 | C55: 5.23 | D55: 758 | E55: 11.8 | F55: 3.74 | G55: 115 | I55: 5 | J55: 4.8 | K55: 4.14 | L55: 615 | M55: 10 | N55: 2.87 | O55: 95
B56: 4.5 | C56: 5.15 | D56: 708 | E56: 12.2 | F56: 3.59 | G56: 110 | I56: 6 | J56: 4.5 | K56: 4.06 | L56: 580 | M56: 10.3 | N56: 2.73 | O56: 90
B57: 4.2 | C57: 5.07 | D57: 658 | E57: 12.6 | F57: 3.44 | G57: 105 | I57: 7 | J57: 4.2 | K57: 3.58 | L57: 545 | M57: 10.6 | N57: 2.59 | O57: 85
B58: 3.9 | C58: 4.59 | D58: 608 | E58: 13 | F58: 3.29 | G58: 100 | I58: 8 | J58: 3.9 | K58: 3.5 | L58: 510 | M58: 10.9 | N58: 2.45 | O58: 80
...

Sheet Feuil3
