Workbook

Sheet JUILLET
A4: NOM CLIENT | B4: NAT | C4: DESTINATAIRE | D4: DATE DE SAISIE | E4: DIFFÉRENCE REÇU/SAISIE | F4: NUMÉRO CLIENT | G4: FACTURES SAISIES | H4: DONT ENVELOPPES | I4: NOMBRE TICKETS | J4: PAR | K4: RETOUR | L4: PROCÉDURE PÉAGE | M4: NOTES
A5: ACRADINA S.R.O | B5: CZ | C5: SAISIE | D5: 41507 | E5: =IF(OR(D5="",#REF!=""),"",NETWORKDAYS(#REF!,D5)) -> #REF! | F5: 667978 | G5: 2 | H5: 0 | I5: 0 | J5: INTERIM2 | K5: NON | L5: NON | M5: retour mandat
A6: SZABO JOZSEF | B6: HU | C6: SAISIE | D6: 41473 | E6: =IF(OR(D6="",#REF!=""),"",NETWORKDAYS(#REF!,D6)) -> #REF! | F6: 669042 | G6: 8 | H6: 0 | I6: 0 | J6: RACHEL | K6: NON | L6: NON | M6: retour de mandat SI
A7: MAREK TRANSPORT | B7: PL | C7: SAISIE | D7: 41472 | E7: =IF(OR(D7="",#REF!=""),"",NETWORKDAYS(#REF!,D7)) -> #REF! | F7: 663096 | G7: 1 | H7: 0 | I7: 0 | J7: RACHEL | K7: NON | L7: NON | M7: retour de mandat DE
A8: SCARPARO EDDI AUTO IT | B8: IT | C8: SAISIE | D8: 41472 | E8: =IF(OR(D8="",#REF!=""),"",NETWORKDAYS(#REF!,D8)) -> #REF! | F8: 672418 | G8: 18 | H8: 0 | I8: 0 | J8: RACHEL | K8: OUI | L8: NON | M8: retour de mandat AU
A9: HANNON | B9: GB | C9: SAISIE | D9: 41465 | E9: =IF(OR(D9="",#REF!=""),"",NETWORKDAYS(#REF!,D9)) -> #REF! | F9: 658590 | G9: 19 | H9: 0 | I9: 0 | J9: XAVIER | K9: NON | L9: NON
A10: DANA TRANS TEAM KFT | B10: HU | C10: SAISIE | D10: 41472 | E10: =IF(OR(D10="",#REF!=""),"",NETWORKDAYS(#REF!,D10)) -> #REF! | F10: 669410 | G10: 2 | H10: 0 | I10: 0 | J10: RACHEL | K10: OUI | L10: NON | M10: retour de mandat fr
A11: GERTRANS | B11: HU | C11: SAISIE | D11: 41465 | E11: =IF(OR(D11="",#REF!=""),"",NETWORKDAYS(#REF!,D11)) -> #REF! | F11: 668507 | G11: 10 | H11: 0 | I11: 0 | J11: XAVIER | K11: NON | L11: NON
A12: BEN EURO TRUCK | B12: HU | C12: SAISIE | D12: 41473 | E12: =IF(OR(D12="",#REF!=""),"",NETWORKDAYS(#REF!,D12)) -> #REF! | F12: 669781 | G12: 8 | H12: 0 | I12: 0 | J12: RACHEL | K12: OUI | L12: NON | M12: retour de mandat FR
A13: SMILE TRANSZ KFT | B13: HU | C13: SAISIE | D13: 41472 | E13: =IF(OR(D13="",#REF!=""),"",NETWORKDAYS(#REF!,D13)) -> #REF! | F13: 668213 | G13: 10 | H13: 0 | I13: 0 | J13: RACHEL | K13: OUI | L13: NON | M13: retour de mandats
A14: KILLYBEGS TRANSPORT LTD | B14: IE | C14: SAISIE | D14: 41472 | E14: =IF(OR(D14="",#REF!=""),"",NETWORKDAYS(#REF!,D14)) -> #REF! | F14: 667037 | G14: 34 | H14: 0 | I14: 0 | J14: RACHEL | K14: NON | L14: NON
A15: TRANSCILLAG TEAM KFT | B15: HU | C15: SAISIE | D15: 41472 | E15: =IF(OR(D15="",#REF!=""),"",NETWORKDAYS(#REF!,D15)) -> #REF! | F15: 669287 | G15: 1 | H15: 0 | I15: 0 | J15: RACHEL | K15: OUI | L15: NON
A16: TFS | B16: IT | C16: SAISIE | D16: 41495 | E16: =IF(OR(D16="",#REF!=""),"",NETWORKDAYS(#REF!,D16)) -> #REF! | F16: 672680 | G16: 184 | H16: 27 | I16: 417 | J16: XAVIER | K16: OUI | L16: OUI
A17: TUNA ULUSLARARASI NAKLIYAT | B17: TR | C17: SAISIE | D17: 41464 | E17: =IF(OR(D17="",#REF!=""),"",NETWORKDAYS(#REF!,D17)) -> #REF! | F17: 672682 | G17: 1 | H17: 1 | I17: 4 | J17: XAVIER | K17: NON | L17: NON | M17: Tickets oubliés
A18: VOLPATO GIANCARLO | B18: IT | C18: SAISIE | D18: 41463 | E18: =IF(OR(D18="",#REF!=""),"",NETWORKDAYS(#REF!,D18)) -> #REF! | F18: 659680 | G18: 3 | H18: 0 | I18: 0 | J18: XAVIER | K18: NON | L18: NON
A19: MONTENDON TRANSPORTS | B19: CH | C19: ANNE | E19: =IF(OR(D19="",#REF!=""),"",NETWORKDAYS(#REF!,D19)) -> #REF!
A20: HEINZ LOGISTIC | B20: CZ | C20: SAISIE | D20: 41487 | E20: =IF(OR(D20="",#REF!=""),"",NETWORKDAYS(#REF!,D20)) -> #REF! | F20: 652912 | G20: 1 | H20: 0 | I20: 0 | J20: XAVIER | K20: OUI | L20: NON
A21: DANSPED KLAUS WESTPHAL | B21: DE | C21: SOLENN | E21: =IF(OR(D21="",#REF!=""),"",NETWORKDAYS(#REF!,D21)) -> #REF!
A22: EUROSTAR GMBH, TJR, SEN YUKSEL | B22: DE | C22: ANNE | E22: =IF(OR(D22="",#REF!=""),"",NETWORKDAYS(#REF!,D22)) -> #REF!
A23: FRANZ MUELLER SOEHNE | B23: DE | C23: SAISIE | D23: 41456 | E23: =IF(OR(D23="",#REF!=""),"",NETWORKDAYS(#REF!,D23)) -> #REF! | F23: 485667 | G23: 3 | H23: 0 | I23: 0 | J23: XAVIER | K23: NON | L23: NON
A24: GERSDORF TRANSPORT GMBH | B24: DE | C24: SOLENN | E24: =IF(OR(D24="",#REF!=""),"",NETWORKDAYS(#REF!,D24)) -> #REF!
A25: IRINA BUCIENE | B25: DE | C25: SOLENN | E25: =IF(OR(D25="",#REF!=""),"",NETWORKDAYS(#REF!,D25)) -> #REF!
A26: THOMAS BUCHLER TRANSPORTE | B26: DE | C26: SAISIE | D26: 41465 | E26: =IF(OR(D26="",#REF!=""),"",NETWORKDAYS(#REF!,D26)) -> #REF! | F26: 662985 | G26: 8 | H26: 0 | I26: 0 | J26: XAVIER | K26: NON | L26: NON
A27: TIMEFLEX | B27: DE | C27: SAISIE | D27: 41494 | E27: =IF(OR(D27="",#REF!=""),"",NETWORKDAYS(#REF!,D27)) -> #REF! | F27: 644853 | G27: 81 | H27: 0 | I27: 0 | J27: XAVIER | K27: OUI | L27: NON

Sheet AOÛT
A4: NOM CLIENT | B4: NAT | C4: DESTINATAIRE | D4: DATE DE SAISIE | E4: DIFFÉRENCE REÇU/SAISIE | F4: NUMÉRO CLIENT | G4: FACTURES SAISIES | H4: DONT ENVELOPPES PÉAGE | I4: NOMBRE TICKETS PÉAGE | J4: PAR | K4: RETOUR | L4: PROCÉDURE PÉAGE | M4: NOTES
A5: VOMO TRANS | B5: BG | C5: SAISIE | D5: 41506 | E5: =IF(OR(D5="",#REF!=""),"",NETWORKDAYS(#REF!,D5)) -> #REF! | F5: 667563 | G5: 3 | H5: 0 | I5: 0 | J5: RACHEL | K5: NON | L5: NON
A6: KODE AUTODOPRAVA | B6: CZ | C6: SAISIE | E6: =IF(OR(D6="",#REF!=""),"",NETWORKDAYS(#REF!,D6)) -> #REF!
A7: AFS | B7: DE | C7: SAISIE | D7: 41495 | E7: =IF(OR(D7="",#REF!=""),"",NETWORKDAYS(#REF!,D7)) -> #REF! | F7: 615618 | G7: 16 | H7: 0 | I7: 0 | J7: INTERIM2 | K7: OUI | L7: NON
A8: BECK TRANSPORTE | B8: DE | C8: SOLENN | E8: =IF(OR(D8="",#REF!=""),"",NETWORKDAYS(#REF!,D8)) -> #REF!
A9: HEINZ ZUM FELDE KG | B9: DE | C9: SOLENN | E9: =IF(OR(D9="",#REF!=""),"",NETWORKDAYS(#REF!,D9)) -> #REF!
A10: OSTERMANN TRANSPORT & LOGISTIK | B10: DE | C10: SAISIE | D10: 41493 | E10: =IF(OR(D10="",#REF!=""),"",NETWORKDAYS(#REF!,D10)) -> #REF! | F10: 617509 | G10: 30 | H10: 0 | I10: 0 | J10: XAVIER | K10: OUI | L10: NON
A11: OST-WEST CARGO | B11: DE | C11: SAISIE | D11: 41493 | E11: =IF(OR(D11="",#REF!=""),"",NETWORKDAYS(#REF!,D11)) -> #REF! | F11: 611947 | G11: 3 | H11: 0 | I11: 0 | J11: XAVIER | K11: NON | L11: NON
A12: SEIDENSAHL EVGHENIE | B12: DE | C12: SOLENN | E12: =IF(OR(D12="",#REF!=""),"",NETWORKDAYS(#REF!,D12)) -> #REF!
A13: A.C. TRANSPORT | B13: GB | C13: SAISIE | D13: 41488 | E13: =IF(OR(D13="",#REF!=""),"",NETWORKDAYS(#REF!,D13)) -> #REF! | F13: 301244 | G13: 63 | H13: 0 | I13: 0 | J13: RACHEL | K13: NON | L13: NON
A14: GALDANAGH TRS | B14: GB | C14: SAISIE | D14: 41506 | E14: =IF(OR(D14="",#REF!=""),"",NETWORKDAYS(#REF!,D14)) -> #REF! | F14: 669096 | G14: 4 | H14: 0 | I14: 0 | J14: INTERIM1 | K14: OUI | L14: NON
A15: EDMONDSON FREIGHTLINERS | B15: IE | C15: GULNORA | E15: =IF(OR(D15="",#REF!=""),"",NETWORKDAYS(#REF!,D15)) -> #REF!
A16: KEYLINE TRANSPORT | B16: IE | C16: JENNIFER | E16: =IF(OR(D16="",#REF!=""),"",NETWORKDAYS(#REF!,D16)) -> #REF!
A17: SPRATT INTERNATIONAL | B17: IE | C17: SAISIE | D17: 41506 | E17: =IF(OR(D17="",#REF!=""),"",NETWORKDAYS(#REF!,D17)) -> #REF! | F17: 657975 | G17: 21 | H17: 0 | I17: 0 | J17: INTERIM1 | K17: OUI | L17: NON | M17: nombreux retours
A18: TERMOEDILIZIA | B18: IT | C18: SAISIE | D18: 41494 | E18: =IF(OR(D18="",#REF!=""),"",NETWORKDAYS(#REF!,D18)) -> #REF! | F18: 663013 | G18: 3 | H18: 0 | I18: 0 | J18: XAVIER | K18: OUI | L18: NON
A19: VAN DER MOST TRANSPORT BV | B19: NL | C19: SAISIE | D19: 41506 | E19: =IF(OR(D19="",#REF!=""),"",NETWORKDAYS(#REF!,D19)) -> #REF! | F19: 628821 | G19: 7 | H19: 0 | I19: 0 | J19: INTERIM1 | K19: NON | L19: NON
A20: ALBIN KLESZLZYNSKI | B20: PL | C20: SAISIE | D20: 41494 | E20: =IF(OR(D20="",#REF!=""),"",NETWORKDAYS(#REF!,D20)) -> #REF! | F20: 494547 | G20: 327 | H20: 0 | I20: 0 | J20: INTERIM2 | K20: OUI | L20: NON
A21: ALBIN KLESZLZYNSKI | B21: PL | C21: IZA/MARGOT | E21: =IF(OR(D21="",#REF!=""),"",NETWORKDAYS(#REF!,D21)) -> #REF!
A22: ANTRANS | B22: PL | C22: IZA/MARGOT | E22: =IF(OR(D22="",#REF!=""),"",NETWORKDAYS(#REF!,D22)) -> #REF!
A23: BOSPED S J BARTLOMIEJ BOBREK | B23: PL | C23: IZA/MARGOT | E23: =IF(OR(D23="",#REF!=""),"",NETWORKDAYS(#REF!,D23)) -> #REF!
A24: DARIUSZ KOLANSKI FIRMA | B24: PL | C24: SAISIE | D24: 41506 | E24: =IF(OR(D24="",#REF!=""),"",NETWORKDAYS(#REF!,D24)) -> #REF! | F24: 659653 | G24: 36 | H24: 0 | I24: 0 | J24: RACHEL | K24: OUI | L24: NON
A25: EUROTRANS JADCZAK GABARA SP.J. | B25: PL | C25: SAISIE | D25: 41518 | E25: =IF(OR(D25="",#REF!=""),"",NETWORKDAYS(#REF!,D25)) -> #REF! | F25: 480415 | G25: 34 | H25: 0 | I25: 0 | J25: INTERIM1 | K25: OUI | L25: NON
A26: LECHOWSKI TRANSPORT | B26: PL | C26: IZA/MARGOT | E26: =IF(OR(D26="",#REF!=""),"",NETWORKDAYS(#REF!,D26)) -> #REF!
A27: NATALIA-MEGATRANS | B27: PL | C27: IZA/MARGOT | E27: =IF(OR(D27="",#REF!=""),"",NETWORKDAYS(#REF!,D27)) -> #REF!
A28: OWOC SANDOMIERSKI | B28: PL | C28: IZA/MARGOT | E28: =IF(OR(D28="",#REF!=""),"",NETWORKDAYS(#REF!,D28)) -> #REF!
E29: =IF(OR(D29="",#REF!=""),"",NETWORKDAYS(#REF!,D29)) -> #REF!
E30: =IF(OR(D30="",#REF!=""),"",NETWORKDAYS(#REF!,D30)) -> #REF!
E31: =IF(OR(D31="",#REF!=""),"",NETWORKDAYS(#REF!,D31)) -> #REF!
E32: =IF(OR(D32="",#REF!=""),"",NETWORKDAYS(#REF!,D32)) -> #REF!
E33: =IF(OR(D33="",#REF!=""),"",NETWORKDAYS(#REF!,D33)) -> #REF!
E34: =IF(OR(D34="",#REF!=""),"",NETWORKDAYS(#REF!,D34)) -> #REF!
E35: =IF(OR(D35="",#REF!=""),"",NETWORKDAYS(#REF!,D35)) -> #REF!
E36: =IF(OR(D36="",#REF!=""),"",NETWORKDAYS(#REF!,D36)) -> #REF!
E37: =IF(OR(D37="",#REF!=""),"",NETWORKDAYS(#REF!,D37)) -> #REF!
E38: =IF(OR(D38="",#REF!=""),"",NETWORKDAYS(#REF!,D38)) -> #REF!
E39: =IF(OR(D39="",#REF!=""),"",NETWORKDAYS(#REF!,D39)) -> #REF!
E40: =IF(OR(D40="",#REF!=""),"",NETWORKDAYS(#REF!,D40)) -> #REF!
... E1220: =IF(OR(D1220="",#REF!=""),"",NETWORKDAYS(#REF!,D1220)) -> #REF!

Sheet SEPTEMBRE
A4: NOM CLIENT | B4: NAT | C4: DESTINATAIRE | D4: DATE DE SAISIE | E4: DIFFÉRENCE REÇU/SAISIE | F4: NUMÉRO CLIENT | G4: FACTURES SAISIES | H4: DONT ENVELOPPES PÉAGE | I4: NOMBRE TICKETS PÉAGE | J4: PAR | K4: RETOUR | L4: PROCÉDURE PÉAGE | M4: NOTES
A5: ZADEL DOO | B5: SI | C5: PELIN | E5: =IF(OR(D5="",#REF!=""),"",NETWORKDAYS(#REF!,D5)) -> #REF!
A6: JOPEK JOP ADAM | B6: PL | C6: IZA/MARGOT | E6: =IF(OR(D6="",#REF!=""),"",NETWORKDAYS(#REF!,D6)) -> #REF!
A7: NJ ROBINSONS FARMS LTD | B7: GB | C7: GULNORA | E7: =IF(OR(D7="",#REF!=""),"",NETWORKDAYS(#REF!,D7)) -> #REF!
A8: TRANSPORTS DO REGO | B8: FR | C8: SAISIE | D8: 41519 | E8: =IF(OR(D8="",#REF!=""),"",NETWORKDAYS(#REF!,D8)) -> #REF! | F8: 614127 | G8: 16 | H8: 0 | I8: 0 | J8: XAVIER | K8: OUI | L8: NON
A9: WOGO TRANS WOJCIECH GOC | B9: PL | C9: SAISIE | D9: 41519 | E9: =IF(OR(D9="",#REF!=""),"",NETWORKDAYS(#REF!,D9)) -> #REF! | F9: 656065 | G9: 2 | H9: 0 | I9: 0 | J9: RACHEL | K9: NON | L9: NON
A10: ROMAR ROMAN DESKIEWICZ | B10: PL | C10: SAISIE | D10: 41519 | E10: =IF(OR(D10="",#REF!=""),"",NETWORKDAYS(#REF!,D10)) -> #REF! | F10: 641699 | G10: 5 | H10: 0 | I10: 0 | J10: RACHEL | K10: OUI | L10: NON
A11: BRUNOTIR TRANSPORTES LDA | B11: PT | C11: SANDRINE | E11: =IF(OR(D11="",#REF!=""),"",NETWORKDAYS(#REF!,D11)) -> #REF!
A12: TJM JOSE GONCALVES DE SOUSA MARTINS | B12: PT | C12: SANDRINE | E12: =IF(OR(D12="",#REF!=""),"",NETWORKDAYS(#REF!,D12)) -> #REF!
A13: EKSPORT-IMPORT WLODZIMIERZ | B13: PL | C13: SAISIE | D13: 41519 | E13: =IF(OR(D13="",#REF!=""),"",NETWORKDAYS(#REF!,D13)) -> #REF! | F13: 650067 | G13: 1 | H13: 0 | I13: 0 | J13: RACHEL | K13: NON | L13: NON
A14: TLH TRANSPORT LOGISTIKA SRO | B14: CZ | C14: BARBORA | E14: =IF(OR(D14="",#REF!=""),"",NETWORKDAYS(#REF!,D14)) -> #REF!
A15: DGMC ARDLE INTERNATIONAL LTD | B15: IE | C15: BARBORA | E15: =IF(OR(D15="",#REF!=""),"",NETWORKDAYS(#REF!,D15)) -> #REF!
A16: JANASEK | B16: PL | C16: IZA/MARGOT | E16: =IF(OR(D16="",#REF!=""),"",NETWORKDAYS(#REF!,D16)) -> #REF!
A17: RUDOLF PASTUSCHKA | B17: DE | C17: SAISIE | D17: 41519 | E17: =IF(OR(D17="",#REF!=""),"",NETWORKDAYS(#REF!,D17)) -> #REF! | F17: 615138 | G17: 17 | H17: 0 | I17: 0 | J17: RACHEL | K17: OUI | L17: NON
A18: DI TRANS DOO | B18: MK | C18: SAISIE | D18: 41519 | E18: =IF(OR(D18="",#REF!=""),"",NETWORKDAYS(#REF!,D18)) -> #REF! | F18: 629671 | G18: 1 | H18: 0 | I18: 0 | J18: RACHEL | K18: NON | L18: NON

Sheet OCTOBRE
A4: NOM CLIENT | B4: NAT | C4: DESTINATAIRE | D4: DATE DE SAISIE | E4: DIFFÉRENCE REÇU/SAISIE | F4: NUMÉRO CLIENT | G4: FACTURES SAISIES | H4: DONT ENVELOPPES PÉAGE | I4: NOMBRE TICKETS PÉAGE | J4: PAR | K4: RETOUR | L4: PROCÉDURE PÉAGE | M4: NOTES
E5: =IF(OR(D5="",#REF!=""),"",NETWORKDAYS(#REF!,D5)) -> #REF!
E6: =IF(OR(D6="",#REF!=""),"",NETWORKDAYS(#REF!,D6)) -> #REF!
E7: =IF(OR(D7="",#REF!=""),"",NETWORKDAYS(#REF!,D7)) -> #REF!
E8: =IF(OR(D8="",#REF!=""),"",NETWORKDAYS(#REF!,D8)) -> #REF!
E9: =IF(OR(D9="",#REF!=""),"",NETWORKDAYS(#REF!,D9)) -> #REF!
E10: =IF(OR(D10="",#REF!=""),"",NETWORKDAYS(#REF!,D10)) -> #REF!
E11: =IF(OR(D11="",#REF!=""),"",NETWORKDAYS(#REF!,D11)) -> #REF!
E12: =IF(OR(D12="",#REF!=""),"",NETWORKDAYS(#REF!,D12)) -> #REF!
E13: =IF(OR(D13="",#REF!=""),"",NETWORKDAYS(#REF!,D13)) -> #REF!
E14: =IF(OR(D14="",#REF!=""),"",NETWORKDAYS(#REF!,D14)) -> #REF!
E15: =IF(OR(D15="",#REF!=""),"",NETWORKDAYS(#REF!,D15)) -> #REF!
E16: =IF(OR(D16="",#REF!=""),"",NETWORKDAYS(#REF!,D16)) -> #REF!
... E2031: =IF(OR(D2031="",#REF!=""),"",NETWORKDAYS(#REF!,D2031)) -> #REF!

Sheet TOTAUX
C2: JANVIER | D2: FÉVRIER | E2: MARS | F2: AVRIL | G2: MAI | H2: JUIN | I2: JUILLET | J2: AOÛT | K2: SEPTEMBRE | L2: OCTOBRE | M2: NOVEMBRE | N2: DÉCEMBRE | O2: TOTAL | P2: MOYENNE/JOUR
B5: NOMBRE FACTURES SAISIES RACHEL | C5: 497 | D5: 2787 | E5: 2579 | F5: 2116 | G5: 2200 | H5: 1329 | I5: =SUMPRODUCT((JUILLET!J5:J27="RACHEL")*(MONTH(JUILLET!D5:D27)=7),JUILLET!G5:G27) -> 82 | J5: =SUMPRODUCT((JUILLET!J5:J27="RACHEL")*(MONTH(JUILLET!D5:D27)=8),JUILLET!G5:G27)+SUMPRODUCT((AOÛT!J5:J1220="RACHEL")*(MONTH(AOÛT!D5:D1220)=8),AOÛT!G5:G1220) -> 102 | K5: =SUMPRODUCT((JUILLET!J5:J27="RACHEL")*(MONTH(JUILLET!D5:D27)=9),JUILLET!G5:G27)+SUMPRODUCT((AOÛT!J5:J1220="RACHEL")*(MONTH(AOÛT!D5:D1220)=9),AOÛT!G5:G1220)+SUMPRODUCT((SEPTEMBRE!J5:J18="RACHEL")*(MONTH(SEPTEMBRE!D5:D18)=9),SEPTEMBRE!G5:G18) -> 26 | L5: =SUMPRODUCT((JUILLET!J5:J27="RACHEL")*(MONTH(JUILLET!D5:D27)=10),JUILLET!G5:G27)+SUMPRODUCT((AOÛT!J5:J1220="RACHEL")*(MONTH(AOÛT!D5:D1220)=10),AOÛT!G5:G1220)+SUMPRODUCT((SEPTEMBRE!J5:J18="RACHEL")*(MONTH(SEPTEMBRE!D5:D18)=10),SEPTEMBRE!G5:G18)+SUMPRODUCT((OCTOBRE!J5:J2015="RACHEL")*(MONTH(OCTOBRE!D5:D2015)=10),OCTOBRE!G5:G2015) -> 0 | O5: =SUM(C5:N5) -> 11718 | P5: =O5/S6 -> 66.96 | R5: 41275
B6: NOMBRE FACTURES SAISIES XAVIER | C6: 3415 | D6: 3041 | E6: 2475 | F6: 2717 | G6: 2892 | H6: 1700 | I6: =SUMPRODUCT((JUILLET!J5:J27="XAVIER")*(MONTH(JUILLET!D5:D27)=7),JUILLET!G5:G27) -> 44 | J6: =SUMPRODUCT((JUILLET!J5:J27="XAVIER")*(MONTH(JUILLET!D5:D27)=8),JUILLET!G5:G27)+SUMPRODUCT((AOÛT!J5:J1220="XAVIER")*(MONTH(AOÛT!D5:D1220)=8),AOÛT!G5:G1220) -> 302 | K6: =SUMPRODUCT((JUILLET!J6:J27="XAVIER")*(MONTH(JUILLET!D6:D27)=9),JUILLET!G6:G27)+SUMPRODUCT((AOÛT!J6:J1221="XAVIER")*(MONTH(AOÛT!D6:D1221)=9),AOÛT!G6:G1221)+SUMPRODUCT((SEPTEMBRE!J6:J18="XAVIER")*(MONTH(SEPTEMBRE!D6:D18)=9),SEPTEMBRE!G6:G18) -> 16 | L6: =SUMPRODUCT((JUILLET!J5:J27="XAVIER")*(MONTH(JUILLET!D5:D27)=10),JUILLET!G5:G27)+SUMPRODUCT((AOÛT!J5:J1220="XAVIER")*(MONTH(AOÛT!D5:D1220)=10),AOÛT!G5:G1220)+SUMPRODUCT((SEPTEMBRE!J5:J18="XAVIER")*(MONTH(SEPTEMBRE!D5:D18)=10),SEPTEMBRE!G5:G18)+SUMPRODUCT((OCTOBRE!J5:J2015="XAVIER")*(MONTH(OCTOBRE!D5:D2015)=10),OCTOBRE!G5:G2015) -> 0 | O6: =SUM(C6:N6) -> 16602 | P6: =O6/S6 -> 94.868571 | R6: =TODAY() -> 41519 | S6: =NETWORKDAYS(R5,R6) -> 175
B7: NOMBRE FACTURES SAISIES AURÉLIE | C7: 3268 | D7: 375 | E7: 0 | F7: 0 | G7: 0 | H7: 0 | I7: =SUMPRODUCT((JUILLET!J5:J27="AURÉLIE")*(MONTH(JUILLET!D5:D27)=7),JUILLET!G5:G27) -> 0 | J7: =SUMPRODUCT((JUILLET!J5:J27="AURÉLIE")*(MONTH(JUILLET!D5:D27)=8),JUILLET!G5:G27)+SUMPRODUCT((AOÛT!J5:J1220="AURÉLIE")*(MONTH(AOÛT!D5:D1220)=8),AOÛT!G5:G1220) -> 0 | K7: =SUMPRODUCT((JUILLET!J7:J27="AURÉLIE")*(MONTH(JUILLET!D7:D27)=9),JUILLET!G7:G27)+SUMPRODUCT((AOÛT!J7:J1222="AURÉLIE")*(MONTH(AOÛT!D7:D1222)=9),AOÛT!G7:G1222)+SUMPRODUCT((SEPTEMBRE!J7:J18="AURÉLIE")*(MONTH(SEPTEMBRE!D7:D18)=9),SEPTEMBRE!G7:G18) -> 0 | L7: =SUMPRODUCT((JUILLET!J5:J27="AURÉLIE")*(MONTH(JUILLET!D5:D27)=10),JUILLET!G5:G27)+SUMPRODUCT((AOÛT!J5:J1220="AURÉLIE")*(MONTH(AOÛT!D5:D1220)=10),AOÛT!G5:G1220)+SUMPRODUCT((SEPTEMBRE!J5:J18="AURÉLIE")*(MONTH(SEPTEMBRE!D5:D18)=10),SEPTEMBRE!G5:G18)+SUMPRODUCT((OCTOBRE!J5:J2015="AURÉLIE")*(MONTH(OCTOBRE!D5:D2015)=10),OCTOBRE!G5:G2015) -> 0 | O7: =SUM(C7:N7) -> 3643 | P7: =O7/S6 -> 20.817143
B8: NOMBRE FACTURES SAISIES CAROLINE | C8: 0 | D8: 0 | E8: 0 | F8: 0 | G8: 0 | H8: 0 | I8: =SUMPRODUCT((JUILLET!J5:J27="CAROLINE")*(MONTH(JUILLET!D5:D27)=7),JUILLET!G5:G27) -> 0 | J8: =SUMPRODUCT((JUILLET!J5:J27="CAROLINE")*(MONTH(JUILLET!D5:D27)=8),JUILLET!G5:G27)+SUMPRODUCT((AOÛT!J5:J1220="CAROLINE")*(MONTH(AOÛT!D5:D1220)=8),AOÛT!G5:G1220) -> 0 | K8: =SUMPRODUCT((JUILLET!J8:J27="CAROLINE")*(MONTH(JUILLET!D8:D27)=9),JUILLET!G8:G27)+SUMPRODUCT((AOÛT!J8:J1223="CAROLINE")*(MONTH(AOÛT!D8:D1223)=9),AOÛT!G8:G1223)+SUMPRODUCT((SEPTEMBRE!J8:J18="CAROLINE")*(MONTH(SEPTEMBRE!D8:D18)=9),SEPTEMBRE!G8:G18) -> 0 | L8: =SUMPRODUCT((JUILLET!J5:J27="CAROLINE")*(MONTH(JUILLET!D5:D27)=10),JUILLET!G5:G27)+SUMPRODUCT((AOÛT!J5:J1220="CAROLINE")*(MONTH(AOÛT!D5:D1220)=10),AOÛT!G5:G1220)+SUMPRODUCT((SEPTEMBRE!J5:J18="CAROLINE")*(MONTH(SEPTEMBRE!D5:D18)=10),SEPTEMBRE!G5:G18)+SUMPRODUCT((OCTOBRE!J5:J2015="CAROLINE")*(MONTH(OCTOBRE!D5:D2015)=10),OCTOBRE!G5:G2015) -> 0 | O8: =SUM(C8:N8) -> 0 | P8: =O8/S6 -> 0
B9: NOMBRE FACTURES SAISIES JENNIFER | C9: 0 | D9: 1494 | E9: 121 | F9: 0 | G9: 0 | H9: 0 | I9: =SUMPRODUCT((JUILLET!J5:J27="JENNIFER")*(MONTH(JUILLET!D5:D27)=7),JUILLET!G5:G27) -> 0 | J9: =SUMPRODUCT((JUILLET!J5:J27="JENNIFER")*(MONTH(JUILLET!D5:D27)=8),JUILLET!G5:G27)+SUMPRODUCT((AOÛT!J5:J1220="JENNIFER")*(MONTH(AOÛT!D5:D1220)=8),AOÛT!G5:G1220) -> 0 | K9: =SUMPRODUCT((JUILLET!J9:J27="JENNIFER")*(MONTH(JUILLET!D9:D27)=9),JUILLET!G9:G27)+SUMPRODUCT((AOÛT!J9:J1224="JENNIFER")*(MONTH(AOÛT!D9:D1224)=9),AOÛT!G9:G1224)+SUMPRODUCT((SEPTEMBRE!J9:J18="JENNIFER")*(MONTH(SEPTEMBRE!D9:D18)=9),SEPTEMBRE!G9:G18) -> 0 | L9: =SUMPRODUCT((JUILLET!J5:J27="JENNIFER")*(MONTH(JUILLET!D5:D27)=10),JUILLET!G5:G27)+SUMPRODUCT((AOÛT!J5:J1220="JENNIFER")*(MONTH(AOÛT!D5:D1220)=10),AOÛT!G5:G1220)+SUMPRODUCT((SEPTEMBRE!J5:J18="JENNIFER")*(MONTH(SEPTEMBRE!D5:D18)=10),SEPTEMBRE!G5:G18)+SUMPRODUCT((OCTOBRE!J5:J2015="JENNIFER")*(MONTH(OCTOBRE!D5:D2015)=10),OCTOBRE!G5:G2015) -> 0 | O9: =SUM(C9:N9) -> 1615 | P9: =O9/S6 -> 9.2285714
B10: NOMBRE FACTURES SAISIES INTERIMAIRE 1 | C10: 0 | D10: 3459 | E10: 3945 | F10: 266 | G10: 1376 | H10: 0 | I10: =SUMPRODUCT((JUILLET!J5:J27="INTERIM1")*(MONTH(JUILLET!D5:D27)=7),JUILLET!G5:G27) -> 0 | J10: =SUMPRODUCT((JUILLET!J5:J27="INTERIM1")*(MONTH(JUILLET!D5:D27)=8),JUILLET!G5:G27)+SUMPRODUCT((AOÛT!J5:J1220="INTERIM1")*(MONTH(AOÛT!D5:D1220)=8),AOÛT!G5:G1220) -> 32 | K10: =SUMPRODUCT((JUILLET!J10:J27="INTERIM1")*(MONTH(JUILLET!D10:D27)=9),JUILLET!G10:G27)+SUMPRODUCT((AOÛT!J10:J1225="INTERIM1")*(MONTH(AOÛT!D10:D1225)=9),AOÛT!G10:G1225)+SUMPRODUCT((SEPTEMBRE!J10:J18="INTERIM1")*(MONTH(SEPTEMBRE!D10:D18)=9),SEPTEMBRE!G10:G18) -> 34 | L10: =SUMPRODUCT((JUILLET!J5:J27="INTERIM1")*(MONTH(JUILLET!D5:D27)=10),JUILLET!G5:G27)+SUMPRODUCT((AOÛT!J5:J1220="INTERIM1")*(MONTH(AOÛT!D5:D1220)=10),AOÛT!G5:G1220)+SUMPRODUCT((SEPTEMBRE!J5:J18="INTERIM1")*(MONTH(SEPTEMBRE!D5:D18)=10),SEPTEMBRE!G5:G18)+SUMPRODUCT((OCTOBRE!J5:J2015="INTERIM1")*(MONTH(OCTOBRE!D5:D2015)=10),OCTOBRE!G5:G2015) -> 0 | O10: =SUM(C10:N10) -> 9112 | P10: =O10/S6 -> 52.068571
B11: NOMBRE FACTURES SAISIES INTERIMAIRE 2 | C11: 0 | D11: 602 | E11: 2124 | F11: 1039 | G11: 1425 | H11: 0 | I11: =SUMPRODUCT((JUILLET!J5:J27="INTERIM2")*(MONTH(JUILLET!D5:D27)=7),JUILLET!G5:G27) -> 0 | J11: =SUMPRODUCT((JUILLET!J5:J27="INTERIM2")*(MONTH(JUILLET!D5:D27)=8),JUILLET!G5:G27)+SUMPRODUCT((AOÛT!J5:J1220="INTERIM2")*(MONTH(AOÛT!D5:D1220)=8),AOÛT!G5:G1220) -> 345 | K11: =SUMPRODUCT((JUILLET!J11:J27="INTERIM2")*(MONTH(JUILLET!D11:D27)=9),JUILLET!G11:G27)+SUMPRODUCT((AOÛT!J11:J1226="INTERIM2")*(MONTH(AOÛT!D11:D1226)=9),AOÛT!G11:G1226)+SUMPRODUCT((SEPTEMBRE!J11:J18="INTERIM2")*(MONTH(SEPTEMBRE!D11:D18)=9),SEPTEMBRE!G11:G18) -> 0 | L11: =SUMPRODUCT((JUILLET!J5:J27="INTERIM2")*(MONTH(JUILLET!D5:D27)=10),JUILLET!G5:G27)+SUMPRODUCT((AOÛT!J5:J1220="INTERIM2")*(MONTH(AOÛT!D5:D1220)=10),AOÛT!G5:G1220)+SUMPRODUCT((SEPTEMBRE!J5:J18="INTERIM2")*(MONTH(SEPTEMBRE!D5:D18)=10),SEPTEMBRE!G5:G18)+SUMPRODUCT((OCTOBRE!J5:J2015="INTERIM2")*(MONTH(OCTOBRE!D5:D2015)=10),OCTOBRE!G5:G2015) -> 0 | O11: =SUM(C11:N11) -> 5535 | P11: =O11/S6 -> 31.628571
B12: TOTAL FACTURES SAISIES | C12: =SUM(C5:C11) -> 7180 | D12: =SUM(D5:D11) -> 11758 | E12: =SUM(E5:E11) -> 11244 | F12: =SUM(F5:F11) -> 6138 | G12: =SUM(G5:G11) -> 7893 | H12: =SUM(H5:H11) -> 3029 | I12: =SUM(I5:I11) -> 126 | J12: =SUM(J5:J11) -> 781 | ... L12: =SUM(L5:L11) -> 0 | O12: =SUM(O5:O11) -> 48225 | P12: =O12/S6 -> 275.57143
B174: XT | C174: 41495 | D174: CONTIPART | E174: RO | F174: X | U174: 17 | V174: 0 | W174: 0 | AB174: Par mail
