Workbook
Name _PL1: '[1]EXEMPLE BULL SAL'!$A$1
Name BASE: '[1]EXEMPLE BULL SAL'!$E$65+'[1]EXEMPLE BULL SAL'!$E$66
Name BASE1: '[1]EXEMPLE BULL SAL'!$E$7+'[1]EXEMPLE BULL SAL'!$E$8
Name BASE2: '[1]EXEMPLE BULL SAL'!$E$159
Name BASE99: '[2]EXEMPLE BULL SAL'!$E$63+'[2]EXEMPLE BULL SAL'!$E$64
Name BLANC0: [4]URSSAF!$C$6:$C$16,[4]URSSAF!$F$6:$F$16,[4]URSSAF!$C$21:$C$31,[4]URSSAF!$F$21:$F$31,[4]URSSAF!$C$39:$C$46,[4]URSSAF!$F$39:$F$46,[4]URSSAF!$D$51:$D$53
Name blanc2: [5]URSSAF!$A$10:$A$15+[5]URSSAF!$K$15+[5]URSSAF!$A$21:$A$32+[5]URSSAF!$A$38:$A$46+[5]URSSAF!$K$4:$K$5+[5]URSSAF!$K$9:$K$10+[5]URSSAF!$K$15+[5]URSSAF!$K$17:$K$19+[5]URSSAF!$K$23:$K$24
Name BLC: [5]URSSAF!$C$21:$C$31,[5]URSSAF!$C$6:$C$16,[5]URSSAF!$C$38:$C$46,[5]URSSAF!$F$21:$F$32,[5]URSSAF!$F$6:$F$16,[5]URSSAF!$F$38:$F$45,[5]URSSAF!$D$54:$D$56
Name Cachée: OFFSET('[6]Feuil3 (2)'!$F$5,,,COUNTA(Nom))
Name Fin: OFFSET(Noms,0,2)
Name Fin: OFFSET(Noms,0,2)
Name IRSCO: #REF!
Name JF: '[7]DEDUCTION CP 2009-2010'!$Q$2:$Q$15
Name listecredit: Compta!$A$2:$A$326
Name Nom: OFFSET('[6]Feuil3 (2)'!$A$5,,,COUNTA('[6]Feuil3 (2)'!$A:$A)-1)
Name PL: #REF!
Name Plafond2012: [8]Feuil1!$AA$2
Name Plafond2012: #REF!
Name Plafond2013: [8]Feuil1!$AC$2
Name Plafond2013: #REF!
Name PlafondMaterIJ.01.2013: '[6]Controle IJSS'!$AE$3
Name PlafondMaterIJ.07.2013: '[6]Controle IJSS'!$AE$4
Name PlafondmensuelSS: '[6]Controle IJSS'!$AE$2
Name PLD: '[4]T. REST'!#REF!
Name PLR: '[4]T. REST'!#REF!
Name po: #REF!
Name PT: #REF!
Name SMIC.01.12: '[6]Controle IJSS'!$AA$2
Name SMIC.01.13: '[6]Controle IJSS'!$AA$4
Name SMIC.07.12: '[6]Controle IJSS'!$AA$3
Name tarif: #REF!
Name taux: '[9]ch soc'!#REF!
Name taux: '[9]ch soc'!#REF!
Name tr: '[10]Suppl. Fam'!#REF!
Name tr: '[10]Suppl. Fam'!#REF!

Sheet Feuil1
A1: Total par pièce | B1: NOM Prénom | C1: Date Paiement | D1: Montant | E1: Pièce
A2: 78.7 | B2: AD | C2: 41276 | D2: 78.7 | E2: 44-2013-01-02-01
A3: 444.08 | B3: AG | C3: 41283 | D3: 444.08 | E3: 44-2013-01-09-01
A4: 928.34 | B4: E | C4: 41284 | D4: 428.49 | E4: 44-2013-01-10-01
A5: 928.34 | B5: AG | C5: 41284 | D5: 63.44 | E5: 44-2013-01-10-01
A6: 928.34 | B6: BB | C6: 41284 | D6: 436.41 | E6: 44-2013-01-10-01
A7: 279.18 | B7: Y | C7: 41289 | D7: 279.18 | E7: 44-2013-01-15-01
A8: 238.05 | B8: E | C8: 41290 | D8: 238.05 | E8: 44-2013-01-16-01
A9: 888.16 | B9: AG | C9: 41297 | D9: 888.16 | E9: 44-2013-01-23-01
A10: 666.54 | B10: E | C10: 41303 | D10: 666.54 | E10: 44-2013-01-29-01
A11: 770.66 | B11: D | C11: 41304 | D11: 236.1 | E11: 44-2013-01-30-01
A12: 770.66 | B12: AN | C12: 41304 | D12: 534.56 | E12: 44-2013-01-30-01
A13: 236.1 | B13: D | C13: 41310 | D13: 236.1 | E13: 44-2013-02-05-01
... A107: 78.96 | B107: AW | C107: 41444 | D107: 78.96 | E107: 44-2013-06-19-01
A108: … | B108: … | C108: … | D108: … | E108: …

Sheet Compta
A1: Crédit | B1: Débit | C1: Date de reception | D1: Libellé | E1: Recherche V | F1: Valeur souhaitée
A2: 1107.36 | C2: 41284 | D2: LA | E2: =VLOOKUP(A2,Feuil1!A1:F108,5,FALSE) -> #N/A | G2: =IF(F2=E2,"ok","FAUX") -> #N/A
A3: 444.08 | C3: 41284 | D3: LA | E3: =VLOOKUP(A3,Feuil1!A2:F109,5,FALSE) -> 44-2013-01-09-01 | F3: 44-2013-01-09-01 | G3: =IF(F3=E3,"ok","FAUX") -> ok
A4: 1493.8 | C4: 41284 | D4: LE M | E4: =VLOOKUP(A4,Feuil1!A3:F110,5,FALSE) -> #N/A
A5: 928.34 | C5: 41285 | D5: LA | E5: =VLOOKUP(A5,Feuil1!A4:F111,5,FALSE) -> 44-2013-01-10-01 | F5: 44-2013-01-10-01 | G5: =IF(F5=E5,"ok","FAUX") -> ok
A6: 1045.38 | C6: 41288 | D6: LE M | E6: =VLOOKUP(A6,Feuil1!A5:F112,5,FALSE) -> 44-2013-05-31-01
A7: 279.18 | C7: 41290 | D7: LA | E7: =VLOOKUP(A7,Feuil1!A6:F113,5,FALSE) -> 44-2013-01-15-01 | F7: 44-2013-01-15-01 | G7: =IF(F7=E7,"ok","FAUX") -> ok
A8: 497.51 | C8: 41290 | D8: LA | E8: =VLOOKUP(A8,Feuil1!A7:F114,5,FALSE) -> #N/A | G8: =IF(F8=E8,"ok","FAUX") -> #N/A
A9: 160.15 | C9: 41290 | D9: LE M | E9: =VLOOKUP(A9,Feuil1!A8:F115,5,FALSE) -> #N/A
A10: 238.05 | C10: 41291 | D10: LA | E10: =VLOOKUP(A10,Feuil1!A9:F116,5,FALSE) -> #N/A | F10: 44-2013-01-16-01 | G10: =IF(F10=E10,"ok","FAUX") -> #N/A
A11: 668.95 | C11: 41292 | D11: LE M | E11: =VLOOKUP(A11,Feuil1!A10:F117,5,FALSE) -> #N/A
A12: 597.36 | C12: 41295 | D12: LE M | E12: =VLOOKUP(A12,Feuil1!A11:F118,5,FALSE) -> #N/A
A13: 233.38 | C13: 41295 | D13: R | E13: =VLOOKUP(A13,Feuil1!A12:F119,5,FALSE) -> #N/A
A14: 78.7 | C14: 41297 | D14: LA | E14: =VLOOKUP(A14,Feuil1!A13:F120,5,FALSE) -> 44-2013-02-08-01 | F14: 44-2013-01-02-01 | G14: =IF(F14=E14,"ok","FAUX") -> FAUX
A15: 333.4 | C15: 41297 | D15: R | E15: =VLOOKUP(A15,Feuil1!A14:F121,5,FALSE) -> #N/A
A16: 888.16 | C16: 41298 | D16: LA | E16: =VLOOKUP(A16,Feuil1!A15:F122,5,FALSE) -> 44-2013-02-20-01 | F16: 44-2013-01-23-01 | G16: =IF(F16=E16,"ok","FAUX") -> FAUX
A17: 678.86 | C17: 41299 | D17: LA | E17: =VLOOKUP(A17,Feuil1!A16:F123,5,FALSE) -> #N/A | G17: =IF(F17=E17,"ok","FAUX") -> #N/A
A18: 540.4 | C18: 41299 | D18: M L | E18: =VLOOKUP(A18,Feuil1!A17:F124,5,FALSE) -> #N/A
A19: 1045.38 | C19: 41302 | D19: LE M | E19: =VLOOKUP(A19,Feuil1!A18:F125,5,FALSE) -> 44-2013-05-31-01
A20: 666.54 | C20: 41304 | D20: LA | E20: =VLOOKUP(A20,Feuil1!A19:F126,5,FALSE) -> 44-2013-02-26-01 | F20: 44-2013-01-29-01 | G20: =IF(F20=E20,"ok","FAUX") -> FAUX
A21: 390.6 | C21: 41304 | D21: LA | E21: =VLOOKUP(A21,Feuil1!A20:F127,5,FALSE) -> #N/A | G21: =IF(F21=E21,"ok","FAUX") -> #N/A
A22: 157.4 | C22: 41304 | D22: M L | E22: =VLOOKUP(A22,Feuil1!A21:F128,5,FALSE) -> 44-2013-03-12-01
A23: 39.35 | C23: 41305 | D23: LA | E23: =VLOOKUP(A23,Feuil1!A22:F129,5,FALSE) -> #N/A | G23: =IF(F23=E23,"ok","FAUX") -> #N/A
A24: 770.66 | C24: 41305 | D24: LA | E24: =VLOOKUP(A24,Feuil1!A23:F130,5,FALSE) -> #N/A | F24: 44-2013-01-30-01 | G24: =IF(F24=E24,"ok","FAUX") -> #N/A
A25: 78.7 | C25: 41305 | D25: LA | E25: =VLOOKUP(A25,Feuil1!A24:F131,5,FALSE) -> #N/A | F25: 44-2013-02-08-01 | G25: =IF(F25=E25,"ok","FAUX") -> #N/A
A26: 381.7 | C26: 41305 | D26: M L | E26: =VLOOKUP(A26,Feuil1!A25:F132,5,FALSE) -> #N/A
A27: 1045.38 | C27: 41306 | D27: LE M | E27: =VLOOKUP(A27,Feuil1!A26:F133,5,FALSE) -> 44-2013-05-31-01
A28: 333.4 | C28: 41309 | D28: R | E28: =VLOOKUP(A28,Feuil1!A27:F134,5,FALSE) -> #N/A
A29: 75.18 | C29: 41310 | D29: LE M | E29: =VLOOKUP(A29,Feuil1!A28:F135,5,FALSE) -> #N/A
A30: 236.1 | C30: 41311 | D30: LA | E30: =VLOOKUP(A30,Feuil1!A29:F136,5,FALSE) -> #N/A | F30: 44-2013-02-05-01 | G30: =IF(F30=E30,"ok","FAUX") -> #N/A
B31: 373.68 | C31: 41311 | D31: REGUL | E31: =VLOOKUP(A31,Feuil1!A30:F137,5,FALSE) -> 44-2013-03-04-02
A32: 888.16 | C32: 41313 | D32: LA | E32: =VLOOKUP(A32,Feuil1!A31:F138,5,FALSE) -> 44-2013-03-06-01 | F32: 44-2013-02-06-01 | G32: =IF(F32=E32,"ok","FAUX") -> FAUX
A33: 48.49 | C33: 41313 | D33: LA | E33: =VLOOKUP(A33,Feuil1!A32:F139,5,FALSE) -> #N/A | G33: =IF(F33=E33,"ok","FAUX") -> #N/A
A34: 540.4 | C34: 41313 | D34: M L | E34: =VLOOKUP(A34,Feuil1!A33:F140,5,FALSE) -> #N/A
A35: 37.75 | C35: 41313 | D35: V | E35: =VLOOKUP(A35,Feuil1!A34:F141,5,FALSE) -> #N/A
A36: 987.97 | C36: 41316 | D36: LA | E36: =VLOOKUP(A36,Feuil1!A35:F142,5,FALSE) -> #N/A | G36: =IF(F36=E36,"ok","FAUX") -> #N/A
A37: 78.7 | C37: 41316 | D37: LA | E37: =VLOOKUP(A37,Feuil1!A36:F143,5,FALSE) -> #N/A | F37: 44-2013-02-12-03 | G37: =IF(F37=E37,"ok","FAUX") -> #N/A
A38: 1045.38 | C38: 41316 | D38: LE M | E38: =VLOOKUP(A38,Feuil1!A37:F144,5,FALSE) -> 44-2013-05-31-01
A39: 78.7 | C39: 41317 | D39: LA | E39: =VLOOKUP(A39,Feuil1!A38:F145,5,FALSE) -> #N/A | G39: =IF(F39=E39,"ok","FAUX") -> #N/A
A40: 39.35 | C40: 41317 | D40: LA | E40: =VLOOKUP(A40,Feuil1!A39:F146,5,FALSE) -> #N/A | G40: =IF(F40=E40,"ok","FAUX") -> #N/A
A41: 1325.28 | C41: 41317 | D41: M L | E41: =VLOOKUP(A41,Feuil1!A40:F147,5,FALSE) -> #N/A
A42: 466.76 | C42: 41317 | D42: R | E42: =VLOOKUP(A42,Feuil1!A41:F148,5,FALSE) -> #N/A
A43: 921.5 | C43: 41318 | D43: LA | E43: =VLOOKUP(A43,Feuil1!A42:F149,5,FALSE) -> #N/A | G43: =IF(F43=E43,"ok","FAUX") -> #N/A
A44: 390.6 | C44: 41318 | D44: LA | E44: =VLOOKUP(A44,Feuil1!A43:F150,5,FALSE) -> #N/A | G44: =IF(F44=E44,"ok","FAUX") -> #N/A
A45: 298.16 | C45: 41318 | D45: LA | E45: =VLOOKUP(A45,Feuil1!A44:F151,5,FALSE) -> #N/A | G45: =IF(F45=E45,"ok","FAUX") -> #N/A
A46: 414.15 | C46: 41318 | D46: M L | E46: =VLOOKUP(A46,Feuil1!A45:F152,5,FALSE) -> #N/A
A47: 37.27 | B47: versé a tord | C47: 41319 | D47: LA | E47: =VLOOKUP(A47,Feuil1!A46:F153,5,FALSE) -> #N/A | G47: =IF(F47=E47,"ok","FAUX") -> #N/A
A48: 1045.38 | C48: 41320 | D48: LE M | E48: =VLOOKUP(A48,Feuil1!A47:F154,5,FALSE) -> 44-2013-05-31-01
A49: 39.4 | C49: 41323 | D49: LA | E49: =VLOOKUP(A49,Feuil1!A48:F155,5,FALSE) -> #N/A | G49: =IF(F49=E49,"ok","FAUX") -> #N/A
A50: 39.4 | C50: 41323 | D50: LA | E50: =VLOOKUP(A50,Feuil1!A49:F156,5,FALSE) -> #N/A | G50: =IF(F50=E50,"ok","FAUX") -> #N/A
A51: 461.19 | C51: 41324 | D51: LA | E51: =VLOOKUP(A51,Feuil1!A50:F157,5,FALSE) -> #N/A | G51: =IF(F51=E51,"ok","FAUX") -> #N/A
A52: 66.24 | C52: 41324 | D52: LA | E52: =VLOOKUP(A52,Feuil1!A51:F158,5,FALSE) -> #N/A | G52: =IF(F52=E52,"ok","FAUX") -> #N/A
A53: 1530.65 | C53: 41324 | D53: V | E53: =VLOOKUP(A53,Feuil1!A52:F159,5,FALSE) -> #N/A
A54: 275.45 | C54: 41325 | D54: LA | E54: =VLOOKUP(A54,Feuil1!A53:F160,5,FALSE) -> 44-2013-03-26-03 | G54: =IF(F54=E54,"ok","FAUX") -> FAUX
A55: 78.8 | C55: 41325 | D55: LA | E55: =VLOOKUP(A55,Feuil1!A54:F161,5,FALSE) -> #N/A | G55: =IF(F55=E55,"ok","FAUX") -> #N/A
A56: 888.16 | C56: 41326 | D56: LA | E56: =VLOOKUP(A56,Feuil1!A55:F162,5,FALSE) -> 44-2013-03-20-01 | G56: =IF(F56=E56,"ok","FAUX") -> FAUX
A57: 149.59 | C57: 41326 | D57: LA | E57: =VLOOKUP(A57,Feuil1!A56:F163,5,FALSE) -> #N/A | G57: =IF(F57=E57,"ok","FAUX") -> #N/A
A58: 354.44 | C58: 41326 | D58: LA | E58: =VLOOKUP(A58,Feuil1!A57:F164,5,FALSE) -> #N/A | G58: =IF(F58=E58,"ok","FAUX") -> #N/A
A59: 139.6 | C59: 41326 | D59: M L | E59: =VLOOKUP(A59,Feuil1!A58:F165,5,FALSE) -> #N/A
A60: 157.4 | C60: 41326 | D60: M L | E60: =VLOOKUP(A60,Feuil1!A59:F166,5,FALSE) -> #N/A
A61: 550.9 | C61: 41327 | D61: LA | E61: =VLOOKUP(A61,Feuil1!A60:F167,5,FALSE) -> #N/A | G61: =IF(F61=E61,"ok","FAUX") -> #N/A
A62: 1045.38 | C62: 41327 | D62: LE M | E62: =VLOOKUP(A62,Feuil1!A61:F168,5,FALSE) -> 44-2013-05-31-01
A63: 540.4 | C63: 41327 | D63: M L | E63: =VLOOKUP(A63,Feuil1!A62:F169,5,FALSE) -> #N/A
A64: 39.35 | C64: 41327 | D64: ML | E64: =VLOOKUP(A64,Feuil1!A63:F170,5,FALSE) -> #N/A
A65: 302 | C65: 41327 | D65: V | E65: =VLOOKUP(A65,Feuil1!A64:F171,5,FALSE) -> #N/A
A66: 308.9 | C66: 41327 | D66: V | E66: =VLOOKUP(A66,Feuil1!A65:F172,5,FALSE) -> #N/A
A67: 197 | C67: 41330 | D67: LA | E67: =VLOOKUP(A67,Feuil1!A66:F173,5,FALSE) -> #N/A | G67: =IF(F67=E67,"ok","FAUX") -> #N/A
A68: 62.78 | C68: 41330 | D68: M L | E68: =VLOOKUP(A68,Feuil1!A67:F174,5,FALSE) -> #N/A
A69: 305.36 | C69: 41330 | D69: M L | E69: =VLOOKUP(A69,Feuil1!A68:F175,5,FALSE) -> #N/A
A70: 446.18 | C70: 41331 | D70: LA | E70: =VLOOKUP(A70,Feuil1!A69:F176,5,FALSE) -> #N/A | G70: =IF(F70=E70,"ok","FAUX") -> #N/A
A71: 170.45 | C71: 41331 | D71: M L | E71: =VLOOKUP(A71,Feuil1!A70:F177,5,FALSE) -> #N/A
A72: 386.54 | C72: 41331 | D72: M L | E72: =VLOOKUP(A72,Feuil1!A71:F178,5,FALSE) -> #N/A
A73: 500.1 | C73: 41331 | D73: R | E73: =VLOOKUP(A73,Feuil1!A72:F179,5,FALSE) -> #N/A
A74: 666.54 | C74: 41332 | D74: LA | E74: =VLOOKUP(A74,Feuil1!A73:F180,5,FALSE) -> #N/A | G74: =IF(F74=E74,"ok","FAUX") -> #N/A
A75: 362.7 | C75: 41332 | D75: LA | E75: =VLOOKUP(A75,Feuil1!A74:F181,5,FALSE) -> #N/A | G75: =IF(F75=E75,"ok","FAUX") -> #N/A
A76: 33.41 | C76: 41332 | D76: LA | E76: =VLOOKUP(A76,Feuil1!A75:F182,5,FALSE) -> #N/A | G76: =IF(F76=E76,"ok","FAUX") -> #N/A
A77: 34.74 | C77: 41332 | D77: LA | E77: =VLOOKUP(A77,Feuil1!A76:F183,5,FALSE) -> #N/A | G77: =IF(F77=E77,"ok","FAUX") -> #N/A
A78: 1747.59 | C78: 41332 | D78: LE M | E78: =VLOOKUP(A78,Feuil1!A77:F184,5,FALSE) -> #N/A
A79: 1134.62 | C79: 41332 | D79: LE M | E79: =VLOOKUP(A79,Feuil1!A78:F185,5,FALSE) -> #N/A
A80: 39.4 | C80: 41333 | D80: LA | E80: =VLOOKUP(A80,Feuil1!A79:F186,5,FALSE) -> #N/A | G80: =IF(F80=E80,"ok","FAUX") -> #N/A
A81: 633.08 | C81: 41333 | D81: LE M | E81: =VLOOKUP(A81,Feuil1!A80:F187,5,FALSE) -> #N/A
A82: 1045.38 | C82: 41333 | D82: LE M | E82: =VLOOKUP(A82,Feuil1!A81:F188,5,FALSE) -> 44-2013-05-31-01
A83: 64.64 | C83: 41333 | D83: M L | E83: =VLOOKUP(A83,Feuil1!A82:F189,5,FALSE) -> #N/A
A84: 256 | C84: 41333 | D84: M L | E84: =VLOOKUP(A84,Feuil1!A83:F190,5,FALSE) -> #N/A
A85: 985.26 | C85: 41333 | D85: M L | E85: =VLOOKUP(A85,Feuil1!A84:F191,5,FALSE) -> #N/A
A86: 320.43 | C86: 41333 | D86: M L | E86: =VLOOKUP(A86,Feuil1!A85:F192,5,FALSE) -> #N/A
A87: 36.94 | C87: 41333 | D87: May | E87: =VLOOKUP(A87,Feuil1!A86:F193,5,FALSE) -> #N/A
A88: 709.2 | C88: 41334 | D88: LA | E88: =VLOOKUP(A88,Feuil1!A87:F194,5,FALSE) -> #N/A | G88: =IF(F88=E88,"ok","FAUX") -> #N/A
A89: 118.05 | C89: 41337 | D89: LA | E89: =VLOOKUP(A89,Feuil1!A88:F195,5,FALSE) -> #N/A | G89: =IF(F89=E89,"ok","FAUX") -> #N/A
A90: 39.35 | C90: 41337 | D90: LE M | E90: =VLOOKUP(A90,Feuil1!A89:F196,5,FALSE) -> #N/A
A91: 37.59 | C91: 41337 | D91: LE M | E91: =VLOOKUP(A91,Feuil1!A90:F197,5,FALSE) -> #N/A
A92: 517.16 | C92: 41338 | D92: LA | E92: =VLOOKUP(A92,Feuil1!A91:F198,5,FALSE) -> #N/A | G92: =IF(F92=E92,"ok","FAUX") -> #N/A
A93: 58.81 | C93: 41338 | D93: M L | E93: =VLOOKUP(A93,Feuil1!A92:F199,5,FALSE) -> #N/A
A94: 73.72 | C94: 41338 | D94: V | E94: =VLOOKUP(A94,Feuil1!A93:F200,5,FALSE) -> #N/A
A95: 139.5 | C95: 41339 | D95: LA | E95: =VLOOKUP(A95,Feuil1!A94:F201,5,FALSE) -> #N/A | G95: =IF(F95=E95,"ok","FAUX") -> #N/A
A96: 39.4 | C96: 41339 | D96: LA | E96: =VLOOKUP(A96,Feuil1!A95:F202,5,FALSE) -> #N/A | G96: =IF(F96=E96,"ok","FAUX") -> #N/A
A97: 35.67 | C97: 41339 | D97: LA | E97: =VLOOKUP(A97,Feuil1!A96:F203,5,FALSE) -> #N/A | G97: =IF(F97=E97,"ok","FAUX") -> #N/A
A98: 451.08 | C98: 41339 | D98: LE M | E98: =VLOOKUP(A98,Feuil1!A97:F204,5,FALSE) -> #N/A
A99: 36.61 | C99: 41339 | D99: M L | E99: =VLOOKUP(A99,Feuil1!A98:F205,5,FALSE) -> #N/A
A100: 346.35 | C100: 41339 | D100: M L | E100: =VLOOKUP(A100,Feuil1!A99:F206,5,FALSE) -> #N/A
...
