Workbook
Name _PL1: '[1]EXEMPLE BULL SAL'!$A$1
Name BASE: '[1]EXEMPLE BULL SAL'!$E$65+'[1]EXEMPLE BULL SAL'!$E$66
Name BASE1: '[1]EXEMPLE BULL SAL'!$E$7+'[1]EXEMPLE BULL SAL'!$E$8
Name BASE2: '[1]EXEMPLE BULL SAL'!$E$159
Name BASE99: '[2]EXEMPLE BULL SAL'!$E$63+'[2]EXEMPLE BULL SAL'!$E$64
Name BLANC0: [4]URSSAF!$C$6:$C$16,[4]URSSAF!$F$6:$F$16,[4]URSSAF!$C$21:$C$31,[4]URSSAF!$F$21:$F$31,[4]URSSAF!$C$39:$C$46,[4]URSSAF!$F$39:$F$46,[4]URSSAF!$D$51:$D$53
Name blanc2: [5]URSSAF!$A$10:$A$15+[5]URSSAF!$K$15+[5]URSSAF!$A$21:$A$32+[5]URSSAF!$A$38:$A$46+[5]URSSAF!$K$4:$K$5+[5]URSSAF!$K$9:$K$10+[5]URSSAF!$K$15+[5]URSSAF!$K$17:$K$19+[5]URSSAF!$K$23:$K$24
Name BLC: [5]URSSAF!$C$21:$C$31,[5]URSSAF!$C$6:$C$16,[5]URSSAF!$C$38:$C$46,[5]URSSAF!$F$21:$F$32,[5]URSSAF!$F$6:$F$16,[5]URSSAF!$F$38:$F$45,[5]URSSAF!$D$54:$D$56
Name Cachée: OFFSET('[6]Feuil3 (2)'!$F$5,,,COUNTA(Nom))
Name Fin: OFFSET(Noms,0,2)
Name Fin: OFFSET(Noms,0,2)
Name IRSCO: #REF!
Name JF: '[7]DEDUCTION CP 2009-2010'!$Q$2:$Q$15
Name listecredit: Compta!$A$2:$A$326
Name Nom: OFFSET('[6]Feuil3 (2)'!$A$5,,,COUNTA('[6]Feuil3 (2)'!$A:$A)-1)
Name PL: #REF!
Name Plafond2012: [8]Feuil1!$AA$2
Name Plafond2012: #REF!
Name Plafond2013: [8]Feuil1!$AC$2
Name Plafond2013: #REF!
Name PlafondMaterIJ.01.2013: '[6]Controle IJSS'!$AE$3
Name PlafondMaterIJ.07.2013: '[6]Controle IJSS'!$AE$4
Name PlafondmensuelSS: '[6]Controle IJSS'!$AE$2
Name PLD: '[4]T. REST'!#REF!
Name PLR: '[4]T. REST'!#REF!
Name po: #REF!
Name PT: #REF!
Name SMIC.01.12: '[6]Controle IJSS'!$AA$2
Name SMIC.01.13: '[6]Controle IJSS'!$AA$4
Name SMIC.07.12: '[6]Controle IJSS'!$AA$3
Name tarif: #REF!
Name taux: '[9]ch soc'!#REF!
Name taux: '[9]ch soc'!#REF!
Name tr: '[10]Suppl. Fam'!#REF!
Name tr: '[10]Suppl. Fam'!#REF!

Sheet Feuil1
A1: Total par pièce | B1: NOM Prénom | C1: Date Paiement | D1: Montant | E1: Pièce
A2: 78.7 | B2: AD | C2: 41276 | D2: 78.7 | E2: 44-2013-01-02-01
A3: 444.08 | B3: AG | C3: 41283 | D3: 444.08 | E3: 44-2013-01-09-01
A4: 928.34 | B4: E | C4: 41284 | D4: 428.49 | E4: 44-2013-01-10-01
A5: 928.34 | B5: AG | C5: 41284 | D5: 63.44 | E5: 44-2013-01-10-01
A6: 928.34 | B6: BB | C6: 41284 | D6: 436.41 | E6: 44-2013-01-10-01
A7: 279.18 | B7: Y | C7: 41289 | D7: 279.18 | E7: 44-2013-01-15-01
A8: 238.05 | B8: E | C8: 41290 | D8: 238.05 | E8: 44-2013-01-16-01
A9: 888.16 | B9: AG | C9: 41297 | D9: 888.16 | E9: 44-2013-01-23-01
A10: 666.54 | B10: E | C10: 41303 | D10: 666.54 | E10: 44-2013-01-29-01
A11: 770.66 | B11: D | C11: 41304 | D11: 236.1 | E11: 44-2013-01-30-01
A12: 770.66 | B12: AN | C12: 41304 | D12: 534.56 | E12: 44-2013-01-30-01
A13: 236.1 | B13: D | C13: 41310 | D13: 236.1 | E13: 44-2013-02-05-01
... A107: 78.96 | B107: AW | C107: 41444 | D107: 78.96 | E107: 44-2013-06-19-01
A108: … | B108: … | C108: … | D108: … | E108: …

Sheet Compta
A1: Crédit | B1: Débit | C1: Date de reception | D1: Libellé | E1: Recherche V | F1: Valeur souhaitée
A2: 1107.36 | C2: 41284 | D2: LA | E2: =VLOOKUP(A2,Feuil1!A1:F108,5,FALSE) -> #N/A | G2: =IF(F2=E2,"ok","FAUX") -> #N/A
A3: 444.08 | C3: 41284 | D3: LA | E3: =VLOOKUP(A3,Feuil1!A2:F109,5,FALSE) -> 44-2013-01-09-01 | F3: 44-2013-01-09-01 | G3: =IF(F3=E3,"ok","FAUX") -> ok
A4: 1493.8 | C4: 41284 | D4: LE M | E4: =VLOOKUP(A4,Feuil1!A3:F110,5,FALSE) -> #N/A
A5: 928.34 | C5: 41285 | D5: LA | E5: =VLOOKUP(A5,Feuil1!A4:F111,5,FALSE) -> 44-2013-01-10-01 | F5: 44-2013-01-10-01 | G5: =IF(F5=E5,"ok","FAUX") -> ok
A6: 1045.38 | C6: 41288 | D6: LE M | E6: =VLOOKUP(A6,Feuil1!A5:F112,5,FALSE) -> 44-2013-05-31-01
A7: 279.18 | C7: 41290 | D7: LA | E7: =VLOOKUP(A7,Feuil1!A6:F113,5,FALSE) -> 44-2013-01-15-01 | F7: 44-2013-01-15-01 | G7: =IF(F7=E7,"ok","FAUX") -> ok
A8: 497.51 | C8: 41290 | D8: LA | E8: =VLOOKUP(A8,Feuil1!A7:F114,5,FALSE) -> #N/A | G8: =IF(F8=E8,"ok","FAUX") -> #N/A
A9: 160.15 | C9: 41290 | D9: LE M | E9: =VLOOKUP(A9,Feuil1!A8:F115,5,FALSE) -> #N/A
A10: 238.05 | C10: 41291 | D10: LA | E10: =VLOOKUP(A10,Feuil1!A9:F116,5,FALSE) -> #N/A | F10: 44-2013-01-16-01 | G10: =IF(F10=E10,"ok","FAUX") -> #N/A
A11: 668.95 | C11: 41292 | D11: LE M | E11: =VLOOKUP(A11,Feuil1!A10:F117,5,FALSE) -> #N/A
A12: 597.36 | C12: 41295 | D12: LE M | E12: =VLOOKUP(A12,Feuil1!A11:F118,5,FALSE) -> #N/A
A13: 233.38 | C13: 41295 | D13: R | E13: =VLOOKUP(A13,Feuil1!A12:F119,5,FALSE) -> #N/A
A14: 78.7 | C14: 41297 | D14: LA | E14: =VLOOKUP(A14,Feuil1!A13:F120,5,FALSE) -> 44-2013-02-08-01 | F14: 44-2013-01-02-01 | G14: =IF(F14=E14,"ok","FAUX") -> FAUX
A15: 333.4 | C15: 41297 | D15: R | E15: =VLOOKUP(A15,Feuil1!A14:F121,5,FALSE) -> #N/A
A16: 888.16 | C16: 41298 | D16: LA | E16: =VLOOKUP(A16,Feuil1!A15:F122,5,FALSE) -> 44-2013-02-20-01 | F16: 44-2013-01-23-01 | G16: =IF(F16=E16,"ok","FAUX") -> FAUX
A17: 678.86 | C17: 41299 | D17: LA | E17: =VLOOKUP(A17,Feuil1!A16:F123,5,FALSE) -> #N/A | G17: =IF(F17=E17,"ok","FAUX") -> #N/A
A18: 540.4 | C18: 41299 | D18: M L | E18: =VLOOKUP(A18,Feuil1!A17:F124,5,FALSE) -> #N/A
A19: 1045.38 | C19: 41302 | D19: LE M | E19: =VLOOKUP(A19,Feuil1!A18:F125,5,FALSE) -> 44-2013-05-31-01
A20: 666.54 | C20: 41304 | D20: LA | E20: =VLOOKUP(A20,Feuil1!A19:F126,5,FALSE) -> 44-2013-02-26-01 | F20: 44-2013-01-29-01 | G20: =IF(F20=E20,"ok","FAUX") -> FAUX
A21: 390.6 | C21: 41304 | D21: LA | E21: =VLOOKUP(A21,Feuil1!A20:F127,5,FALSE) -> #N/A | G21: =IF(F21=E21,"ok","FAUX") -> #N/A
A22: 157.4 | C22: 41304 | D22: M L | E22: =VLOOKUP(A22,Feuil1!A21:F128,5,FALSE) -> 44-2013-03-12-01
A23: 39.35 | C23: 41305 | D23: LA | E23: =VLOOKUP(A23,Feuil1!A22:F129,5,FALSE) -> #N/A | G23: =IF(F23=E23,"ok","FAUX") -> #N/A
A24: 770.66 | C24: 41305 | D24: LA | E24: =VLOOKUP(A24,Feuil1!A23:F130,5,FALSE) -> #N/A | F24: 44-2013-01-30-01 | G24: =IF(F24=E24,"ok","FAUX") -> #N/A
A25: 78.7 | C25: 41305 | D25: LA | E25: =VLOOKUP(A25,Feuil1!A24:F131,5,FALSE) -> #N/A | F25: 44-2013-02-08-01 | G25: =IF(F25=E25,"ok","FAUX") -> #N/A
A26: 381.7 | C26: 41305 | D26: M L | E26: =VLOOKUP(A26,Feuil1!A25:F132,5,FALSE) -> #N/A
A27: 1045.38 | C27: 41306 | D27: LE M | E27: =VLOOKUP(A27,Feuil1!A26:F133,5,FALSE) -> 44-2013-05-31-01
A28: 333.4 | C28: 41309 | D28: R | E28: =VLOOKUP(A28,Feuil1!A27:F134,5,FALSE) -> #N/A
A29: 75.18 | C29: 41310 | D29: LE M | E29: =VLOOKUP(A29,Feuil1!A28:F135,5,FALSE) -> #N/A
A30: 236.1 | C30: 41311 | D30: LA | E30: =VLOOKUP(A30,Feuil1!A29:F136,5,FALSE) -> #N/A | F30: 44-2013-02-05-01 | G30: =IF(F30=E30,"ok","FAUX") -> #N/A
B31: 373.68 | C31: 41311 | D31: REGUL | E31: =VLOOKUP(A31,Feuil1!A30:F137,5,FALSE) -> 44-2013-03-04-02
A32: 888.16 | C32: 41313 | D32: LA | E32: =VLOOKUP(A32,Feuil1!A31:F138,5,FALSE) -> 44-2013-03-06-01 | F32: 44-2013-02-06-01 | G32: =IF(F32=E32,"ok","FAUX") -> FAUX
A33: 48.49 | C33: 41313 | D33: LA | E33: =VLOOKUP(A33,Feuil1!A32:F139,5,FALSE) -> #N/A | G33: =IF(F33=E33,"ok","FAUX") -> #N/A
A34: 540.4 | C34: 41313 | D34: M L | E34: =VLOOKUP(A34,Feuil1!A33:F140,5,FALSE) -> #N/A
A35: 37.75 | C35: 41313 | D35: V | E35: =VLOOKUP(A35,Feuil1!A34:F141,5,FALSE) -> #N/A
A36: 987.97 | C36: 41316 | D36: LA | E36: =VLOOKUP(A36,Feuil1!A35:F142,5,FALSE) -> #N/A | G36: =IF(F36=E36,"ok","FAUX") -> #N/A
A37: 78.7 | C37: 41316 | D37: LA | E37: =VLOOKUP(A37,Feuil1!A36:F143,5,FALSE) -> #N/A | F37: 44-2013-02-12-03 | G37: =IF(F37=E37,"ok","FAUX") -> #N/A
A38: 1045.38 | C38: 41316 | D38: LE M | E38: =VLOOKUP(A38,Feuil1!A37:F144,5,FALSE) -> 44-2013-05-31-01
A39: 78.7 | C39: 41317 | D39: LA | E39: =VLOOKUP(A39,Feuil1!A38:F145,5,FALSE) -> #N/A | G39: =IF(F39=E39,"ok","FAUX") -> #N/A
A40: 39.35 | C40: 41317 | D40: LA | E40: =VLOOKUP(A40,Feuil1!A39:F146,5,FALSE) -> #N/A | G40: =IF(F40=E40,"ok","FAUX") -> #N/A
...
