Workbook

Sheet BDD
A1: Colonne 1 | B1: Colonne 2 | C1: Colonne 3 | D1: Colonne 4 | E1: Colonne 5
A2: Objet1 | B2: 195522 | C2: A | D2: 1 | E2: NOM
A3: Objet1 | B3: 552252 | C3: B | D3: 1 | E3: NOM
A4: Objet2 | B4: 2262611 | C4: B | D4: 1 | E4: NOM
A5: Objet3 | B5: 1165161 | C5: A | D5: 1 | E5: NOM
A6: Objet1 | B6: 1115 | C6: A | D6: 1 | E6: NOM
A7: Objet1 | B7: 16569 | C7: A | D7: 1 | E7: NOM
A8: Objet1 | B8: 161610 | C8: A | D8: 1 | E8: NOM
A9: Objet1 | B9: 16161 | C9: A | D9: 6 | E9: NOM
A10: Objet2 | B10: 1199 | C10: B | D10: 1 | E10: NOM
A11: Objet2 | B11: 552492 | C11: A | D11: 6 | E11: NOM
A12: Objet3 | B12: 2449 | C12: B | D12: 6 | E12: NOM
A13: Objet4 | B13: 2289616 | C13: B | D13: 3 | E13: NOM
... A30: Objet1 | B30: 88455 | C30: A | D30: 1 | E30: NOM

Sheet Tables
A1: TITRE
A2: Colonne 1 | B2: Colonne 2 | C2: Colonne 3 | D2: Colonne 4 | E2: Colonne 5
A3: Objet1 | C3: =IFERROR(VLOOKUP(B3,BDD!$B$2:$E$30,2,FALSE),"") | D3: =IFERROR(VLOOKUP(B3,BDD!$B$2:$E$30,3,FALSE),"") | E3: =IFERROR(VLOOKUP(B3,BDD!$B$2:$E$30,4,FALSE),"")
C4: =IFERROR(VLOOKUP(B4,BDD!$B$2:$E$30,2,FALSE),"") | D4: =IFERROR(VLOOKUP(B4,BDD!$B$2:$E$30,3,FALSE),"") | E4: =IFERROR(VLOOKUP(B4,BDD!$B$2:$E$30,4,FALSE),"")
C5: =IFERROR(VLOOKUP(B5,BDD!$B$2:$E$30,2,FALSE),"") | D5: =IFERROR(VLOOKUP(B5,BDD!$B$2:$E$30,3,FALSE),"") | E5: =IFERROR(VLOOKUP(B5,BDD!$B$2:$E$30,4,FALSE),"")
C6: =IFERROR(VLOOKUP(B6,BDD!$B$2:$E$30,2,FALSE),"") | D6: =IFERROR(VLOOKUP(B6,BDD!$B$2:$E$30,3,FALSE),"") | E6: =IFERROR(VLOOKUP(B6,BDD!$B$2:$E$30,4,FALSE),"")
C7: =IFERROR(VLOOKUP(B7,BDD!$B$2:$E$30,2,FALSE),"") | D7: =IFERROR(VLOOKUP(B7,BDD!$B$2:$E$30,3,FALSE),"") | E7: =IFERROR(VLOOKUP(B7,BDD!$B$2:$E$30,4,FALSE),"")
C8: =IFERROR(VLOOKUP(B8,BDD!$B$2:$E$30,2,FALSE),"") | D8: =IFERROR(VLOOKUP(B8,BDD!$B$2:$E$30,3,FALSE),"") | E8: =IFERROR(VLOOKUP(B8,BDD!$B$2:$E$30,4,FALSE),"")
C9: =IFERROR(VLOOKUP(B9,BDD!$B$2:$E$30,2,FALSE),"") | D9: =IFERROR(VLOOKUP(B9,BDD!$B$2:$E$30,3,FALSE),"") | E9: =IFERROR(VLOOKUP(B9,BDD!$B$2:$E$30,4,FALSE),"")
C10: =IFERROR(VLOOKUP(B10,BDD!$B$2:$E$30,2,FALSE),"") | D10: =IFERROR(VLOOKUP(B10,BDD!$B$2:$E$30,3,FALSE),"") | E10: =IFERROR(VLOOKUP(B10,BDD!$B$2:$E$30,4,FALSE),"")
C11: =IFERROR(VLOOKUP(B11,BDD!$B$2:$E$30,2,FALSE),"") | D11: =IFERROR(VLOOKUP(B11,BDD!$B$2:$E$30,3,FALSE),"") | E11: =IFERROR(VLOOKUP(B11,BDD!$B$2:$E$30,4,FALSE),"")
A13: TITRE
A14: Colonne 1 | B14: Colonne 2 | C14: Colonne 3 | D14: Colonne 4 | E14: Colonne 5
A15: Objet2 | C15: =IFERROR(VLOOKUP(B15,BDD!$B$2:$E$30,2,FALSE),"") | D15: =IFERROR(VLOOKUP(B15,BDD!$B$2:$E$30,3,FALSE),"") | E15: =IFERROR(VLOOKUP(B15,BDD!$B$2:$E$30,4,FALSE),"")
C16: =IFERROR(VLOOKUP(B16,BDD!$B$2:$E$30,2,FALSE),"") | D16: =IFERROR(VLOOKUP(B16,BDD!$B$2:$E$30,3,FALSE),"") | E16: =IFERROR(VLOOKUP(B16,BDD!$B$2:$E$30,4,FALSE),"")
C17: =IFERROR(VLOOKUP(B17,BDD!$B$2:$E$30,2,FALSE),"") | D17: =IFERROR(VLOOKUP(B17,BDD!$B$2:$E$30,3,FALSE),"") | E17: =IFERROR(VLOOKUP(B17,BDD!$B$2:$E$30,4,FALSE),"")
C18: =IFERROR(VLOOKUP(B18,BDD!$B$2:$E$30,2,FALSE),"") | D18: =IFERROR(VLOOKUP(B18,BDD!$B$2:$E$30,3,FALSE),"") | E18: =IFERROR(VLOOKUP(B18,BDD!$B$2:$E$30,4,FALSE),"")
C19: =IFERROR(VLOOKUP(B19,BDD!$B$2:$E$30,2,FALSE),"") | D19: =IFERROR(VLOOKUP(B19,BDD!$B$2:$E$30,3,FALSE),"") | E19: =IFERROR(VLOOKUP(B19,BDD!$B$2:$E$30,4,FALSE),"")
C20: =IFERROR(VLOOKUP(B20,BDD!$B$2:$E$30,2,FALSE),"") | D20: =IFERROR(VLOOKUP(B20,BDD!$B$2:$E$30,3,FALSE),"") | E20: =IFERROR(VLOOKUP(B20,BDD!$B$2:$E$30,4,FALSE),"")
C21: =IFERROR(VLOOKUP(B21,BDD!$B$2:$E$30,2,FALSE),"") | D21: =IFERROR(VLOOKUP(B21,BDD!$B$2:$E$30,3,FALSE),"") | E21: =IFERROR(VLOOKUP(B21,BDD!$B$2:$E$30,4,FALSE),"")
C22: =IFERROR(VLOOKUP(B22,BDD!$B$2:$E$30,2,FALSE),"") | D22: =IFERROR(VLOOKUP(B22,BDD!$B$2:$E$30,3,FALSE),"") | E22: =IFERROR(VLOOKUP(B22,BDD!$B$2:$E$30,4,FALSE),"")
C23: =IFERROR(VLOOKUP(B23,BDD!$B$2:$E$30,2,FALSE),"") | D23: =IFERROR(VLOOKUP(B23,BDD!$B$2:$E$30,3,FALSE),"") | E23: =IFERROR(VLOOKUP(B23,BDD!$B$2:$E$30,4,FALSE),"")
A25: TITRE
A26: Colonne 1 | B26: Colonne 2 | C26: Colonne 3 | D26: Colonne 4 | E26: Colonne 5
A27: Objet3 | C27: =IFERROR(VLOOKUP(B27,BDD!$B$2:$E$30,2,FALSE),"") | D27: =IFERROR(VLOOKUP(B27,BDD!$B$2:$E$30,3,FALSE),"") | E27: =IFERROR(VLOOKUP(B27,BDD!$B$2:$E$30,4,FALSE),"")
C28: =IFERROR(VLOOKUP(B28,BDD!$B$2:$E$30,2,FALSE),"") | D28: =IFERROR(VLOOKUP(B28,BDD!$B$2:$E$30,3,FALSE),"") | E28: =IFERROR(VLOOKUP(B28,BDD!$B$2:$E$30,4,FALSE),"")
C29: =IFERROR(VLOOKUP(B29,BDD!$B$2:$E$30,2,FALSE),"") | D29: =IFERROR(VLOOKUP(B29,BDD!$B$2:$E$30,3,FALSE),"") | E29: =IFERROR(VLOOKUP(B29,BDD!$B$2:$E$30,4,FALSE),"")
C30: =IFERROR(VLOOKUP(B30,BDD!$B$2:$E$30,2,FALSE),"") | D30: =IFERROR(VLOOKUP(B30,BDD!$B$2:$E$30,3,FALSE),"") | E30: =IFERROR(VLOOKUP(B30,BDD!$B$2:$E$30,4,FALSE),"")
C31: =IFERROR(VLOOKUP(B31,BDD!$B$2:$E$30,2,FALSE),"") | D31: =IFERROR(VLOOKUP(B31,BDD!$B$2:$E$30,3,FALSE),"") | E31: =IFERROR(VLOOKUP(B31,BDD!$B$2:$E$30,4,FALSE),"")
C32: =IFERROR(VLOOKUP(B32,BDD!$B$2:$E$30,2,FALSE),"") | D32: =IFERROR(VLOOKUP(B32,BDD!$B$2:$E$30,3,FALSE),"") | E32: =IFERROR(VLOOKUP(B32,BDD!$B$2:$E$30,4,FALSE),"")
C33: =IFERROR(VLOOKUP(B33,BDD!$B$2:$E$30,2,FALSE),"") | D33: =IFERROR(VLOOKUP(B33,BDD!$B$2:$E$30,3,FALSE),"") | E33: =IFERROR(VLOOKUP(B33,BDD!$B$2:$E$30,4,FALSE),"")
C34: =IFERROR(VLOOKUP(B34,BDD!$B$2:$E$30,2,FALSE),"") | D34: =IFERROR(VLOOKUP(B34,BDD!$B$2:$E$30,3,FALSE),"") | E34: =IFERROR(VLOOKUP(B34,BDD!$B$2:$E$30,4,FALSE),"")
C35: =IFERROR(VLOOKUP(B35,BDD!$B$2:$E$30,2,FALSE),"") | D35: =IFERROR(VLOOKUP(B35,BDD!$B$2:$E$30,3,FALSE),"") | E35: =IFERROR(VLOOKUP(B35,BDD!$B$2:$E$30,4,FALSE),"")
A37: TITRE
A38: Colonne 1 | B38: Colonne 2 | C38: Colonne 3 | D38: Colonne 4 | E38: Colonne 5
A39: Objet4 | C39: =IFERROR(VLOOKUP(B39,BDD!$B$2:$E$30,2,FALSE),"") | D39: =IFERROR(VLOOKUP(B39,BDD!$B$2:$E$30,3,FALSE),"") | E39: =IFERROR(VLOOKUP(B39,BDD!$B$2:$E$30,4,FALSE),"")
C40: =IFERROR(VLOOKUP(B40,BDD!$B$2:$E$30,2,FALSE),"") | D40: =IFERROR(VLOOKUP(B40,BDD!$B$2:$E$30,3,FALSE),"") | E40: =IFERROR(VLOOKUP(B40,BDD!$B$2:$E$30,4,FALSE),"")
C41: =IFERROR(VLOOKUP(B41,BDD!$B$2:$E$30,2,FALSE),"") | D41: =IFERROR(VLOOKUP(B41,BDD!$B$2:$E$30,3,FALSE),"") | E41: =IFERROR(VLOOKUP(B41,BDD!$B$2:$E$30,4,FALSE),"")
C42: =IFERROR(VLOOKUP(B42,BDD!$B$2:$E$30,2,FALSE),"") | D42: =IFERROR(VLOOKUP(B42,BDD!$B$2:$E$30,3,FALSE),"") | E42: =IFERROR(VLOOKUP(B42,BDD!$B$2:$E$30,4,FALSE),"")
C43: =IFERROR(VLOOKUP(B43,BDD!$B$2:$E$30,2,FALSE),"") | D43: =IFERROR(VLOOKUP(B43,BDD!$B$2:$E$30,3,FALSE),"") | E43: =IFERROR(VLOOKUP(B43,BDD!$B$2:$E$30,4,FALSE),"")
C44: =IFERROR(VLOOKUP(B44,BDD!$B$2:$E$30,2,FALSE),"") | D44: =IFERROR(VLOOKUP(B44,BDD!$B$2:$E$30,3,FALSE),"") | E44: =IFERROR(VLOOKUP(B44,BDD!$B$2:$E$30,4,FALSE),"")
C45: =IFERROR(VLOOKUP(B45,BDD!$B$2:$E$30,2,FALSE),"") | D45: =IFERROR(VLOOKUP(B45,BDD!$B$2:$E$30,3,FALSE),"") | E45: =IFERROR(VLOOKUP(B45,BDD!$B$2:$E$30,4,FALSE),"")
C46: =IFERROR(VLOOKUP(B46,BDD!$B$2:$E$30,2,FALSE),"") | D46: =IFERROR(VLOOKUP(B46,BDD!$B$2:$E$30,3,FALSE),"") | E46: =IFERROR(VLOOKUP(B46,BDD!$B$2:$E$30,4,FALSE),"")
C47: =IFERROR(VLOOKUP(B47,BDD!$B$2:$E$30,2,FALSE),"") | D47: =IFERROR(VLOOKUP(B47,BDD!$B$2:$E$30,3,FALSE),"") | E47: =IFERROR(VLOOKUP(B47,BDD!$B$2:$E$30,4,FALSE),"")

Sheet Feuil3
