Workbook
Name _3A: Base_Elèves!$A$3:$A$32
Name _3B: Base_Elèves!$B$3:$B$32
Name _3BC_All: Base_Elèves!$W$3:$W$32
Name _3BC_Esp: Base_Elèves!$U$3:$U$32
Name _3C: Base_Elèves!$C$3:$C$32
Name _3D: Base_Elèves!$D$3:$D$32
Name _3E: Base_Elèves!$E$3:$E$32
Name _4A: Base_Elèves!$F$3:$F$32
Name _4B: Base_Elèves!$G$3:$G$32
Name _4B_All: Base_Elèves!$X$3:$X$32
Name _4BC_Esp: Base_Elèves!$V$3:$V$32
Name _4C: Base_Elèves!$H$3:$H$32
Name _4D: Base_Elèves!$I$3:$I$32
Name _4E: Base_Elèves!$J$3:$J$32
Name _5A: Base_Elèves!$K$3:$K$32
Name _5B: Base_Elèves!$L$3:$L$32
Name _5C: Base_Elèves!$M$3:$M$32
Name _5D: Base_Elèves!$N$3:$N$32
Name _5E: Base_Elèves!$O$3:$O$32
Name _6A: Base_Elèves!$P$3:$P$32
Name _6B: Base_Elèves!$Q$3:$Q$32
Name _6C: Base_Elèves!$R$3:$R$32
Name _6D: Base_Elèves!$S$3:$S$32
Name _6E: Base_Elèves!$T$3:$T$32
Name A1_PrimaireEcouter_et_Comprendre: Base_LV!$R$3:$R$7
Name A1_PrimaireEcrire: Base_LV!$H$3:$H$8
Name A1_PrimaireLire: Base_LV!$C$3:$C$5
Name A1_PrimaireParler_en_Continu: Base_LV!$W$3:$W$7
Name A1_PrimaireRéagir_Et_Dialoguer: Base_LV!$M$3:$M$10
Name A1Ecouter_et_Comprendre: Base_LV!$S$3:$S$8
Name A1Ecrire: Base_LV!$I$3:$I$12
Name A1Lire: Base_LV!$D$3:$D$8
Name A1Parler_en_Continu: Base_LV!$X$3:$X$9
Name A1Réagir_et_Dialoguer: Base_LV!$N$3:$N$15
Name A2Ecouter_et_Comprendre: Base_LV!$T$3:$T$9
Name A2Ecrire: Base_LV!$J$3:$J$11
Name A2Lire: Base_LV!$E$3:$E$11
Name A2Parler_en_Continu: Base_LV!$Y$3:$Y$13
Name A2Réagir_et_Dialoguer: Base_LV!$O$3:$O$11
Name Absent_e: Base_Classes_Niveaux!$B$27:$B$28
Name B1Ecouter_et_Comprendre: Base_LV!$U$3:$U$11
Name B1Ecrire: Base_LV!$K$3:$K$7
Name B1Lire: Base_LV!$F$3:$F$9
Name B1Parler_en_Continu: Base_LV!$Z$3:$Z$9
Name B1Réagir_et_Dialoguer: Base_LV!$P$3:$P$13
Name Champ: Base_Elèves!$A$3:$T$32
Name Classes: Bilan_Validation!$A$3:$A$28
Name Classes_Niveau_3: Base_Classes_Niveaux!$B$3:$B$10
Name Classes_Niveau_4: Base_Classes_Niveaux!$C$3:$C$10
Name Classes_Niveau_5: Base_Classes_Niveaux!$D$3:$D$10
Name Classes_Niveau_6: Base_Classes_Niveaux!$E$3:$E$10
Name Compétences: Base_LV!$A$1:$A$8
Name LV: Base_Classes_Niveaux!$A$27:$A$29
Name LV1Niveau_31: Base_Classes_Niveaux!$B$15
Name LV1Niveau_32: Base_Classes_Niveaux!$C$15
Name LV1Niveau_33: Base_Classes_Niveaux!$D$15
Name LV1Niveau_41: Base_Classes_Niveaux!$B$16
Name LV1Niveau_42: Base_Classes_Niveaux!$C$16
Name LV1Niveau_43: Base_Classes_Niveaux!$D$16
Name LV1Niveau_51: Base_Classes_Niveaux!$B$17

Sheet Base_Elèves
A1: 3A | B1: 3B | C1: 3C | D1: 3D | E1: 3E | F1: 4A | G1: 4B | H1: 4C | I1: 4D | J1: 4E | K1: 5A | L1: 5B | M1: 5C | N1: 5D | O1: 5E | P1: 6A | Q1: 6B | R1: 6C | S1: 6D | T1: 6E | U1: 3BC_Esp | V1: 4BC_Esp | W1: 3BC_All | X1: 4B_All | Y1: Groupe Sup 01 | Z1: Groupe Sup 02 | AA1: Groupe Sup 03 | AB1: Groupe Sup 04 | AC1: Groupe Sup 05 | AD1: Groupe Sup 06 | AE1: Groupe Sup 07 | AF1: Groupe Sup 08 | AG1: Groupe Sup 09 | AH1: Groupe Sup 10 | CA1: 0
A2: NOM Prénom | B2: NOM Prénom | C2: NOM Prénom | D2: NOM Prénom | E2: NOM Prénom | F2: NOM Prénom | G2: NOM Prénom | H2: NOM Prénom | I2: NOM Prénom | J2: NOM Prénom | K2: NOM Prénom | L2: NOM Prénom | M2: NOM Prénom | N2: NOM Prénom | O2: NOM Prénom | P2: NOM Prénom | Q2: NOM Prénom | R2: NOM Prénom | S2: NOM Prénom | T2: NOM Prénom | U2: NOM Prénom | V2: NOM Prénom | W2: NOM Prénom | X2: NOM Prénom | CA2: 1
A3: AIHUNE NUY Emile | C3: DEUF John | E3: HAIPARBAL Gilles | G3: DEY Kelly | I3: HITTIQUE Paul | N3: TAFRAISE Théramène | CA3: 2
A4: ANCHIER Yvon | C4: DEUSSAN Anne-Alice | E4: JAVEL Aude | G4: CHATERE Tom | I4: GULA Caleigh | N4: TINOPLE Constant | CA4: 3
A5: ANTOUDROL James | C5: D'ZEUKLOK Haroun | E5: MANFAIMIEU Gérard | G5: ANQUALE Seb | I5: DEY Kelly | N5: TISON Paco | CA5: 4
A6: BIENLEPETI Ambroise | C6: EMPHAILLITE Mélusine | E6: NAL Sheila-Lotfi | G6: MOLATIN Jean-Pierre | I6: CHATERE Tom | N6: TOMBAY Yvon | CA6: 5
A7: CONNERY Aretha | C7: FONFEC Sophie | E7: NESS Guy | G7: AKPOURLUI Yann | I7: ANQUALE Seb | N7: VIGOTT Sarah | CA7: 6
A8: DEUF John | C8: FRAIMIEUX DE LA FERMAY Yves | E8: OPOSTE Fidel | G8: DIOTTE Ophélie | I8: MOLATIN Jean-Pierre | N8: NEYMAR Jean | CA8: 7
A9: DEUSSAN Anne-Alice | E9: TABANIOL Alphonse | I9: AKPOURLUI Yann | CA9: 8
A10: D'ZEUKLOK Haroun | E10: TAFRAISE Théramène | I10: DIOTTE Ophélie | CA10: 9
A11: EMPHAILLITE Mélusine | E11: TINOPLE Constant | CA11: 10
A12: FONFEC Sophie | E12: TISON Paco | CA12: 11
A13: FRAIMIEUX DE LA FERMAY Yves | E13: TOMBAY Yvon | CA13: 12
E14: VIGOTT Sarah | CA14: 13
E15: NEYMAR Jean | CA15: 14
CA16: 15
CA17: 16
CA18: 17
CA19: 18
CA20: 19
CA21: 20
CA22: 21
CA23: 22
CA24: 23
CA25: 24
CA26: 25
CA27: 26
... CA2647: 2646

Sheet Base_Classes_Niveaux
A1: Niveaux | B1: Classes | G1: Matière | BK1: 5Z
B2: Niveau_3 | C2: Niveau_4 | D2: Niveau_5 | E2: Niveau_6
G3: Allemand
B4: 3A | C4: 4A | D4: 5A | E4: 6A | G4: Anglais | BK4: Test
B5: 3B | C5: 4B | D5: 5B | E5: 6B | G5: Arts Plastiques
B6: 3C | C6: 4B_All | D6: 5C | E6: 6C | G6: Education Musicale
B7: 3BC_Esp | C7: 4BC_Esp | D7: 5D | E7: 6D | G7: EPS
B8: 3BC_All | C8: 4C | D8: 5E | E8: 6E | G8: Espagnol
B9: 3D | C9: 4D | G9: Français
B10: 3E | C10: 4E | G10: Histoire-Géographie
G11: Latin
A12: Niveaux Cibles LV1 | G12: Mathématiques
A13: Trimestre | B13: 1 | C13: 2 | D13: 3 | G13: Sciences-Physiques
G14: SVT
A15: 3 | B15: A2+ | C15: B1- | D15: B1- | G15: Technologie
A16: 4 | B16: A2 | C16: A2+ | D16: A2+
A17: 5 | B17: A1+ | C17: A2- | D17: A2
A18: 6 | B18: A1 | C18: A1+ | D18: A1+
A20: Niveaux Cibles LV2
B21: T1 | C21: T2 | D21: T3
A23: 3 | B23: A1+ | C23: A2 | D23: A2+
A24: 4 | B24: A1 | C24: A1+ | D24: A1+
A26: LV | B26: Présence | C26: Niveaux Détaillés
A28: LV1 | B28: Absent e | C28: A1-
A29: LV2 | C29: A1
C30: A1+
C31: A2-
C32: A2
C33: A2+
C34: B1-
C35: B1
B37: 6 | E37: 5 | H37: 4 | K37: 3
B38: _T1 | C38: _T2 | D38: _T3 | E38: _T1 | F38: _T2 | G38: _T3 | H38: _T1 | I38: _T2 | J38: _T3 | K38: _T1 | L38: _T2 | M38: _T3
A39: 0 | B39: N.E. | C39: N.E. | D39: N.E. | E39: N.E. | F39: N.E. | G39: N.E. | H39: N.E. | I39: N.E. | J39: N.E. | K39: N.E. | L39: A1- | M39: A1
A40: 1 | B40: N.E. | C40: N.E. | D40: N.E. | E40: N.E. | F40: N.E. | G40: N.E. | H40: N.E. | I40: N.E. | J40: A1- | K40: A1- | L40: A1- | M40: A1
A41: 2 | B41: N.E. | C41: N.E. | D41: N.E. | E41: N.E. | F41: N.E. | G41: N.E. | H41: N.E. | I41: N.E. | J41: A1- | K41: A1- | L41: A1 | M41: A1+
A42: 3 | B42: N.E. | C42: N.E. | D42: N.E. | E42: N.E. | F42: N.E. | G42: N.E. | H42: N.E. | I42: N.E. | J42: A1- | K42: A1- | L42: A1 | M42: A1+
A43: 4 | B43: N.E. | C43: N.E. | D43: N.E. | E43: N.E. | F43: N.E. | G43: N.E. | H43: N.E. | I43: A1- | J43: A1 | K43: A1 | L43: A1 | M43: A1+
A44: 5 | B44: N.E. | C44: N.E. | D44: A1- | E44: A1- | F44: N.E. | G44: N.E. | H44: N.E. | I44: A1- | J44: A1 | K44: A1 | L44: A1+ | M44: A2-
A45: 6 | B45: N.E. | C45: N.E. | D45: A1- | E45: A1- | F45: A1- | G45: N.E. | H45: N.E. | I45: A1 | J45: A1 | K45: A1 | L45: A1+ | M45: A2-
...

Sheet Base_LV
A1: Total | C1: Lire | H1: Ecrire | M1: Réagir_et_Dialoguer | R1: Ecouter_et_Comprendre | W1: Parler_en_Continu
A2: Compétence | C2: A1_Primaire | D2: A1 | E2: A2 | F2: B1 | H2: A1_Primaire | I2: A1 | J2: A2 | K2: B1 | M2: A1_Primaire | N2: A1 | O2: A2 | P2: B1 | R2: A1_Primaire | S2: A1 | T2: A2 | U2: B1 | W2: A1_Primaire | X2: A1 | Y2: A2 | Z2: B1
A4: Lire | C4: Je peux comprendre des textes courts et simples (Cinq phrases maximum) | D4: Je peux comprendre des messages simples et brefs (carte postale...) en relevant des noms, des mots familiers. | E4: Je peux comprendre des textes courts et simples rédigés avec un lexique simple sur des sujets concrets et courants (lettre, email...) | F4: Je peux trouver et comprendre l'information pertinente dans des écrits quotidiens (prospectus, journaux…) | H4: Je peux copier des mots isolés ou de très courts textes déjà étudiés en cours | I4: Je peux copier des mots, des phrases simples. | J4: Je peux décrire ma famille, mon environnement et mes activités de façon compréhensible même si mon texte comporte des erreurs. | K4: Je peux, dans une lettre, raconter une expérience, une aventure et décrire mes réactions, mes sentiments. | M4: Je sais me présenter (Nom, âge, adresse,téléphone et date de naissance) | N4: Je peux dire qui je suis, où je suis né(e), où j'habite. | O4: Je peux poser des questions simples, répondre et échanger des idées simples sur des sujets familiers (famille, loisirs, travail…) | P4: Je peux avoir une conversation sur un sujet familier, échanger des informations, discuter d'un film, d'un livre etc… | R4: Je peux comprendre l'ensemble des consignes du Classroom English vues en classe. | S4: Je peux comprendre des consignes simples en classe (répéter, aller au tableau, prendre mon cahier/mon livre) | T4: Je peux comprendre des indications simples pour remplir une tâche (Instructions, consignes, indicateurs spatio-temporels, chiffres…) | U4: Je peux comprendre les points principaux de ce que l'on me dit sur des sujets familers tels que le travail, l'école, les loisirs… | W4: Je peux reproduire un modèle oral (comptine, chansons, date et courtes annonces) | X4: Je peux lire à haute voix un texte court en respectant l'intonation. | Y4: Je peux parler d'activités quotidiennes. | Z4: Je peux raconter en détail une expérience et décrire mes réactions et mes sentiments.
A5: Ecrire | C5: Je peux me faire une idée du contenu d'un texte informatif, uniquement s'il est accompagné d'un document visuel (affiche, journal,,,) | D5: Je peux reconnaître les mots les plus courants dans les situations ordinaires de la vie. | E5: Je peux comprendre les signes et les panneaux dans les lieux publics (pour l'orientation, la sécurité, le danger...) | F5: Je peux localiser une information dans les différentes parties d'un texte long (lettres, prospectus, documents officiels, articles de journaux…) | H5: Je peux écrire un très court texte (email, carte postale) en référence à des modèles (5 phrases maximum) | I5: Je peux remplir un formulaire. | J5: Je peux rédiger un courrier dans une formulation simple | K5: Je peux rédiger quelques lignes pour exposer un problème, transmettre des informations et faire ccomprendre des points importants. | M5: Je sais présenter quelqu'un en me basant sur un modèle. | N5: Je peux dire comment je vais et demander à quelqu'un de ses nouvelles. | O5: Je peux faire ou accepter une offre/invitation/des excuses. | P5: Je peux demander à quelqu'un ce qu'il pense de quelque chose. | R5: Je peux comprendre des mots familers et/ou des expressions très courantes. | S5: Je peux reconnaître des mots et des structures du langage familier si l'on prononce lentement et si l'on articule bien. | T5: Je peux saisir les points essentiels d'annonce et de messages simples et brefs | U5: Je peux comprendre les points principaux d'une longue discussion si les gens articulent bien et parlent relativement lentement. | W5: Je peux utiliser des expressions et des phrases proches des modèles vus en classe. | X5: Je peux répéter correctement un court énoncé, par exemple quelques lignes d'un poème ou d'une chanson. | Y5: Je peux décrire et présenter mon environnement, par exemple le collège, la maison ou les vacances… | Z5: Je peux raconter un livre que j'ai lu, un film que j'ai vu, dire si je l'ai aimé et pourquoi.
A6: Réagir_Et_Dialoguer | D6: Je peux me faire une idée du contenu d'un texte informatif, surtout s'il est accompagné d'un document visuel (affiche, journal,,,) | E6: Je peux localiser une information spécifique dans un document (horaires, annonces…) | F6: Je peux réunir des informations du texte pour accomplir une tâche spécifique. | H6: Je sais renseigner un questionnaire très simple, comportant des formulations étudiées. | I6: Je peux reconstruire un phrase à partir d'éléments donnés. | J6: Je peux reproduire à l'écrit des phrases que j'entends | K6: Je peux paraphraser ou résumer de courts passages écrits. | M6: Je peux demander des nouvelles de quelqu'un et y réagir de manière brève | N6: Je peux présenter quelqu'un. | O6: Je peux exprimer de façon simple mon avis sur un sujet. | P6: Je peux exprimer ma joie, ma surprise, ma tristesse. | R6: Je peux suivre de brèves instructions auxquelles je suis habitué | S6: Je peux comprendre des phrases simples dans des situations de la vie quotidienne si la personne accepte de répéter ou de paraphraser. | T6: Je peux comprendre le sujet principal d'un message oral si le débit est lent et la diction claire) | U6: Je peux comprendre globalement quels arguments utilise une personne dans une discussion, sur un sujet que je connais bien. | W6: Je sais lire à haute voix un court texte. | X6: Je peux réciter un texte mémorisé. | Y6: Je peux parler de mes goûts, exprimer une opinion et la justifier en des termes simples. | Z6: Je peux faire un exposé sur un sujet que je connais bien.
A7: Ecouter_Et_Comprendre | D7: Je peux illustrer un texte par un dessin. | E7: Je peux identifier l'information pertinente sur des écrits simples. | F7: Je peux reconnaître les points significatifs d'un article de journal sur un sujet familier. | H7: Je sais produire quelques phrases (5 maximum) de manière autonome. | I7: Je peux faire des phrases en utilisant "And", "But" ou "So" | J7: Je peux raconter ce qui m'est arrivé au passé. | K7: Je peux prendre des notes, réutilisables ensuite, pendants un exposé, une conférence… | M7: Je peux utiliser les formules de politesse élémentaires. | N7: Je peux saluer et prendre congé. | O7: Je peux exprimer mon accord ou mon désaccord | P7: Je peux dire poliment ce que je pense et si je suis d'accord ou non. | R7: Je peux suivre une histoire simple (comptine…) avec une aide appropriée. | S7: Je peux comprendre des mots et des expressions du langage courant sur moi-même, ma famille, mon environnement immédiat et concret. | T7: Je peux comprendre des expressions et un vocabulaire très fréquent relatif à mon entourage proche lors de conversations quotidiennes et simples si le débit est lent et l'articulation distincte. | U7: Je peux suivre un exposé à condition que le sujet soit familier et que la présentation soit simple et bien structurée. | W7: Je peux raconter une histoire courte et déjà travaillée en classe. | X7: Je peux me présenter et me décrire. | Y7: Je peux raconter un histoire en plusieurs étapes en liant les évènements entre eux. | Z7: Je peux préparer un court bulletin d'information sur un sujet d'histoire ou d'actualité, à condition de l'avoir préparé.
A8: Parler_En_Continu | D8: Je peux suivre et comprendre des indications brèves et simples. | E8: Je peux comprendre l'énoncé d'un exercice. | F8: Je peux identifier le sprincipales conclusions d'un texte argumentatif bien structuré, sans forcément comprendre les détails. | H8: Je sais écrire, sous la dictée, des expressions connues. | I8: Je peux réécrire un message à partir d'un modèle. | J8: Je peux relier les phrases en utilisant des connecteurs simples (Because, First, Then, Finally…) | M8: Je sais présenter mes excuses en utilisant les formules étudiées. | N8: Je peux répondre à des questions personnelles simples. | O8: Je peux dire ce que j'aime ou ce que je n'aime pas. | P8: Je peux expliquer comment faire quelque chose en donnant des instructions détaillées. | S8: Je peux comprendre une conversation brève et simple si les gens parlent lentement et distinctement. | T8: Je peux capter les informations essentielles de courts passages audio enregistrés sur un sujet courant et prévisible, si l'on parle de façon lente et en articulant correctement. | U8: Je peux comprendre des informations techniques simples, comme un mode d'emploi pour un appareil d'usage courant (appaeil photo, caméra…) | X8: Je peux présenter et décrire des activités. | Y8: Je peux relater un évènement en donnant des précisions simples. | Z8: Je peux donner mon opinion sur différents sujets et la justifier.
A9: Validation | E9: Je peux suivre le mode d'emploi d'un appareil d'usage courant (téléphone portable…) | F9: Je peux comprendre le mode d'emploi d'un appareil d'usage courant (impimante, console, lecteur MP3…) | I9: Je peux écrire des phrases simples pour dire ce que je fais. | J9: Je peux m'autocorriger en me relisant | M9: Je sais brièvement répondre à des sujets familiers. | N9: Je peux compter, indiquer des quantité et donner l'heure. | O9: Je peux demander des conseils, des consignes et en donner | P9: Je peux comparer des propositions, discuter de ce qu'il faut faire, où il faut aller, ce qu'il faut choisir. | T9: Je peux saisir l'information essentielle d'émissions télévisées (évènements, pubs, météo…) si le commentaire est accompagné d'images suffisamment parlantes. | U9: Au téléphone, je peux suivre sans difficulté une conversation portant sur des domaines quotidiens. | X9: Je peux raconter une histoire courte. | Y9: Je peux parler de mes intentions et de ce qui va se réaliser dans l'avenir. | Z9: Je peux parler de choix et d'objectifs ainsi que donner leurs raisons.
E10: Je peux comprendre un règlement. | I10: Je peux écrire des phrases sur moi-même et sur des personnes de mon entourage ou des personnages imaginaires en donnant des infirmations simples. | J10: Je peux prendre des notes pendant une conversation téléphonique, à condition de pouvoir faire répéter. | M10: Je peux poser des questions simples concernant mon environnement immédiat. | N10: Je peux suivre des indications simples et en donner (aller d'un endroit à un autre…) | O10: Je peux demander un chemin et l'indiquer avec un plan. | P10: Je peux interviewer quelqu'un sur un sujet précis si j'ai préparé le questionnaire auparavant. | U10: A la radio ou à la TV, je peux comprendre le points principaux des bulletins d'information ou des programmes sur des sujets familiers… | Y10: Je peux transmettre différentes informations sur un sujet à des personnes qui n'en ont pas connaissance.
A11: Expert | E11: Je peux comprendre une recette de cuisine | I11: Je peux écrire une carte postale brève en utilisant des formes de politesse. | J11: Je peux rapporter des propos ou des évènements par écrit. | N11: Je peux proposer ou offrir quelque chose à quelqu'un. | O11: Je peux faire des gestes pour clarifier ce que je veux dire. | P11: Je peux poser quelques questions spontanées. | U11: Je peux suivre de nombreux films si l'histoire repose essentiellement sur l'action… | Y11: Je peux expliquer les causes d'un évènement.
A12: Acquis | I12: Je peux demander par écrit des informations simples. | N12: Je peux parler d'une date ou d'un rendez-vous en utilisant des indications de temps. | P12: Au cours d'un voyage, je peux faire face à la plupart des situations de la vie quotidienne, résoudre des problèmes, faire des réclamations, porter plainte… | Y12: Je peux donner les raisons d'un choix.
A13: En Cours | N13: Je peux parler d'une date ou d'un rendez-vous en utilisant des indications de temps. | P13: Je peux parler d'une date ou d'un rendez-vous en utilisant des indications de temps. | Y13: Je peux comparer.
A14: Non Acquis | N14: Je peux dire que je ne comprends pas et demander de répéter plus lentement, ou de reformuler.
A15: Non Evaluable | N15: Quand je ne connais pas un mot, je peux demander comment on le dit.
A16: Niveau CECRL
A18: A1_Primaire | D18: 1
A19: A1 | D19: 2
A20: A2 | D20: 3
A21: B1
A23: Non Evaluable
A24: Non Acquis | B24: 0
A25: Début d'Acquisition | B25: 1
A26: En Cours | B26: 2
A27: Presque Acquis | B27: 3
A28: Acquis | B28: 4
A29: Expert | B29: 5

Sheet Bilan_Validation
C1: Début | D1: =IF($D$5="","",$D$5) -> T1_4B_POC1 | G1: Expert | H1: Acquis | I1: Presque Acquis | J1: En Cours | K1: Début d'Acquisition | L1: Non Acquis | M1: Non Evaluable | N1: Expert | O1: Acquis | P1: Presque Acquis | Q1: En Cours | R1: Début d'Acquisition | S1: Non Acquis | T1: Non Evaluable | U1: Expert | V1: Acquis | W1: Presque Acquis | X1: En Cours | Y1: Début d'Acquisition | Z1: Non Acquis | AA1: Non Evaluable | AB1: Expert | AC1: Acquis | AD1: Presque Acquis | AE1: En Cours | AF1: Début d'Acquisition | AG1: Non Acquis | AH1: Non Evaluable
A2: Classes | C2: Fin | D2: =LOOKUP("zz",D$5:D$25) -> T1_3E_PE1 | E2: Niveau | F2: Matière | G2: A1_Primaire | N2: A1 | U2: A2 | AB2: B1
E3: LV1 | F3: Anglais | G3: =$E3 -> LV1 | N3: =$E3 -> LV1 | U3: =$E3 -> LV1 | AB3: =$E3 -> LV1
A4: Toutes | D4: Nom Feuilles | F4: Ecouter_Et_Comprendre | G4: =$F$4 -> Ecouter_Et_Comprendre | N4: =$F$4 -> Ecouter_Et_Comprendre | U4: =$F$4 -> Ecouter_Et_Comprendre | AB4: =$F$4 -> Ecouter_Et_Comprendre
A5: 3A | D5: T1_4B_POC1 | F5: Sous-Compétence
A6: 3B | D6: T1_4D_POC1 | E6: Classe | G6: Exp | H6: A | I6: PA | J6: EC | K6: DA | L6: NA | M6: NE | N6: Exp | O6: A | P6: PA | Q6: EC | R6: DA | S6: NA | T6: NE | U6: Exp | V6: A | W6: PA | X6: EC | Y6: DA | Z6: NA | AA6: NE | AB6: Exp | AC6: A | AD6: PA | AE6: EC | AF6: DA | AG6: NA | AH6: NE
A7: 3C | D7: T1_5D_POC1 | E7: Toutes | F7: NOM Prénom
A8: 3D | D8: T1_3C_PE1 | F8: {=IF($E$7="","",IF($E$7="Toutes",IF(ROWS($2:2)<=COUNTA(Champ),INDEX(Champ,MOD(SMALL(IF(Champ<>"",COLUMN(Champ)*10^5+ROW(INDIRECT("1:"&ROWS(Champ)))),ROWS($2:2)),10^5),INT(SMALL(IF(Champ<>"",COLUMN(Champ)*10^5+ROW(INDIRECT("1:"&ROWS(Champ)))),ROWS($2:2))/10^5)-COLUMN(Champ)+1),""),IF(OFFSET(INDIRECT(CONCATENATE("_",E$7)),Base_Elèves!CA1,0,1,1)="","",OFFSET(INDIRECT(CONCATENATE("_",E$7)),Base_Elèves!CA1,0,1,1))))} -> AIHUNE NUY Emile
A9: 3E | D9: T1_3E_PE1 | F9: {=IF($E$7="","",IF($E$7="Toutes",IF(ROWS($2:3)<=COUNTA(Champ),INDEX(Champ,MOD(SMALL(IF(Champ<>"",COLUMN(Champ)*10^5+ROW(INDIRECT("1:"&ROWS(Champ)))),ROWS($2:3)),10^5),INT(SMALL(IF(Champ<>"",COLUMN(Champ)*10^5+ROW(INDIRECT("1:"&ROWS(Champ)))),ROWS($2:3))/10^5)-COLUMN(Champ)+1),""),IF(OFFSET(INDIRECT(CONCATENATE("_",E$7)),Base_Elèves!CA2,0,1,1)="","",OFFSET(INDIRECT(CONCATENATE("_",E$7)),Base_Elèves!CA2,0,1,1))))} -> ANCHIER Yvon
A10: 4A | F10: {=IF($E$7="","",IF($E$7="Toutes",IF(ROWS($2:4)<=COUNTA(Champ),INDEX(Champ,MOD(SMALL(IF(Champ<>"",COLUMN(Champ)*10^5+ROW(INDIRECT("1:"&ROWS(Champ)))),ROWS($2:4)),10^5),INT(SMALL(IF(Champ<>"",COLUMN(Champ)*10^5+ROW(INDIRECT("1:"&ROWS(Champ)))),ROWS($2:4))/10^5)-COLUMN(Champ)+1),""),IF(OFFSET(INDIRECT(CONCATENATE("_",E$7)),Base_Elèves!CA3,0,1,1)="","",OFFSET(INDIRECT(CONCATENATE("_",E$7)),Base_Elèves!CA3,0,1,1))))} -> ANTOUDROL James
A11: 4B | F11: {=IF($E$7="","",IF($E$7="Toutes",IF(ROWS($2:5)<=COUNTA(Champ),INDEX(Champ,MOD(SMALL(IF(Champ<>"",COLUMN(Champ)*10^5+ROW(INDIRECT("1:"&ROWS(Champ)))),ROWS($2:5)),10^5),INT(SMALL(IF(Champ<>"",COLUMN(Champ)*10^5+ROW(INDIRECT("1:"&ROWS(Champ)))),ROWS($2:5))/10^5)-COLUMN(Champ)+1),""),IF(OFFSET(INDIRECT(CONCATENATE("_",E$7)),Base_Elèves!CA4,0,1,1)="","",OFFSET(INDIRECT(CONCATENATE("_",E$7)),Base_Elèves!CA4,0,1,1))))} -> BIENLEPETI Ambroise
A12: 4C | F12: {=IF($E$7="","",IF($E$7="Toutes",IF(ROWS($2:6)<=COUNTA(Champ),INDEX(Champ,MOD(SMALL(IF(Champ<>"",COLUMN(Champ)*10^5+ROW(INDIRECT("1:"&ROWS(Champ)))),ROWS($2:6)),10^5),INT(SMALL(IF(Champ<>"",COLUMN(Champ)*10^5+ROW(INDIRECT("1:"&ROWS(Champ)))),ROWS($2:6))/10^5)-COLUMN(Champ)+1),""),IF(OFFSET(INDIRECT(CONCATENATE("_",E$7)),Base_Elèves!CA5,0,1,1)="","",OFFSET(INDIRECT(CONCATENATE("_",E$7)),Base_Elèves!CA5,0,1,1))))} -> CONNERY Aretha
A13: 4D | F13: {=IF($E$7="","",IF($E$7="Toutes",IF(ROWS($2:7)<=COUNTA(Champ),INDEX(Champ,MOD(SMALL(IF(Champ<>"",COLUMN(Champ)*10^5+ROW(INDIRECT("1:"&ROWS(Champ)))),ROWS($2:7)),10^5),INT(SMALL(IF(Champ<>"",COLUMN(Champ)*10^5+ROW(INDIRECT("1:"&ROWS(Champ)))),ROWS($2:7))/10^5)-COLUMN(Champ)+1),""),IF(OFFSET(INDIRECT(CONCATENATE("_",E$7)),Base_Elèves!CA6,0,1,1)="","",OFFSET(INDIRECT(CONCATENATE("_",E$7)),Base_Elèves!CA6,0,1,1))))} -> DEUF John
A14: 4E | F14: {=IF($E$7="","",IF($E$7="Toutes",IF(ROWS($2:8)<=COUNTA(Champ),INDEX(Champ,MOD(SMALL(IF(Champ<>"",COLUMN(Champ)*10^5+ROW(INDIRECT("1:"&ROWS(Champ)))),ROWS($2:8)),10^5),INT(SMALL(IF(Champ<>"",COLUMN(Champ)*10^5+ROW(INDIRECT("1:"&ROWS(Champ)))),ROWS($2:8))/10^5)-COLUMN(Champ)+1),""),IF(OFFSET(INDIRECT(CONCATENATE("_",E$7)),Base_Elèves!CA7,0,1,1)="","",OFFSET(INDIRECT(CONCATENATE("_",E$7)),Base_Elèves!CA7,0,1,1))))} -> DEUSSAN Anne-Alice
A15: 5A | F15: {=IF($E$7="","",IF($E$7="Toutes",IF(ROWS($2:9)<=COUNTA(Champ),INDEX(Champ,MOD(SMALL(IF(Champ<>"",COLUMN(Champ)*10^5+ROW(INDIRECT("1:"&ROWS(Champ)))),ROWS($2:9)),10^5),INT(SMALL(IF(Champ<>"",COLUMN(Champ)*10^5+ROW(INDIRECT("1:"&ROWS(Champ)))),ROWS($2:9))/10^5)-COLUMN(Champ)+1),""),IF(OFFSET(INDIRECT(CONCATENATE("_",E$7)),Base_Elèves!CA8,0,1,1)="","",OFFSET(INDIRECT(CONCATENATE("_",E$7)),Base_Elèves!CA8,0,1,1))))} -> D'ZEUKLOK Haroun
A16: 5B | F16: {=IF($E$7="","",IF($E$7="Toutes",IF(ROWS($2:10)<=COUNTA(Champ),INDEX(Champ,MOD(SMALL(IF(Champ<>"",COLUMN(Champ)*10^5+ROW(INDIRECT("1:"&ROWS(Champ)))),ROWS($2:10)),10^5),INT(SMALL(IF(Champ<>"",COLUMN(Champ)*10^5+ROW(INDIRECT("1:"&ROWS(Champ)))),ROWS($2:10))/10^5)-COLUMN(Champ)+1),""),IF(OFFSET(INDIRECT(CONCATENATE("_",E$7)),Base_Elèves!CA9,0,1,1)="","",OFFSET(INDIRECT(CONCATENATE("_",E$7)),Base_Elèves!CA9,0,1,1))))} -> EMPHAILLITE Mélusine
A17: 5C | F17: {=IF($E$7="","",IF($E$7="Toutes",IF(ROWS($2:11)<=COUNTA(Champ),INDEX(Champ,MOD(SMALL(IF(Champ<>"",COLUMN(Champ)*10^5+ROW(INDIRECT("1:"&ROWS(Champ)))),ROWS($2:11)),10^5),INT(SMALL(IF(Champ<>"",COLUMN(Champ)*10^5+ROW(INDIRECT("1:"&ROWS(Champ)))),ROWS($2:11))/10^5)-COLUMN(Champ)+1),""),IF(OFFSET(INDIRECT(CONCATENATE("_",E$7)),Base_Elèves!CA10,0,1,1)="","",OFFSET(INDIRECT(CONCATENATE("_",E$7)),Base_Elèves!CA10,0,1,1))))} -> FONFEC Sophie
A18: 5D | F18: {=IF($E$7="","",IF($E$7="Toutes",IF(ROWS($2:12)<=COUNTA(Champ),INDEX(Champ,MOD(SMALL(IF(Champ<>"",COLUMN(Champ)*10^5+ROW(INDIRECT("1:"&ROWS(Champ)))),ROWS($2:12)),10^5),INT(SMALL(IF(Champ<>"",COLUMN(Champ)*10^5+ROW(INDIRECT("1:"&ROWS(Champ)))),ROWS($2:12))/10^5)-COLUMN(Champ)+1),""),IF(OFFSET(INDIRECT(CONCATENATE("_",E$7)),Base_Elèves!CA11,0,1,1)="","",OFFSET(INDIRECT(CONCATENATE("_",E$7)),Base_Elèves!CA11,0,1,1))))} -> FRAIMIEUX DE LA FERMAY Yves
A19: 5E | F19: {=IF($E$7="","",IF($E$7="Toutes",IF(ROWS($2:13)<=COUNTA(Champ),INDEX(Champ,MOD(SMALL(IF(Champ<>"",COLUMN(Champ)*10^5+ROW(INDIRECT("1:"&ROWS(Champ)))),ROWS($2:13)),10^5),INT(SMALL(IF(Champ<>"",COLUMN(Champ)*10^5+ROW(INDIRECT("1:"&ROWS(Champ)))),ROWS($2:13))/10^5)-COLUMN(Champ)+1),""),IF(OFFSET(INDIRECT(CONCATENATE("_",E$7)),Base_Elèves!CA12,0,1,1)="","",OFFSET(INDIRECT(CONCATENATE("_",E$7)),Base_Elèves!CA12,0,1,1))))} -> DEUF John
A20: 6A | F20: {=IF($E$7="","",IF($E$7="Toutes",IF(ROWS($2:14)<=COUNTA(Champ),INDEX(Champ,MOD(SMALL(IF(Champ<>"",COLUMN(Champ)*10^5+ROW(INDIRECT("1:"&ROWS(Champ)))),ROWS($2:14)),10^5),INT(SMALL(IF(Champ<>"",COLUMN(Champ)*10^5+ROW(INDIRECT("1:"&ROWS(Champ)))),ROWS($2:14))/10^5)-COLUMN(Champ)+1),""),IF(OFFSET(INDIRECT(CONCATENATE("_",E$7)),Base_Elèves!CA13,0,1,1)="","",OFFSET(INDIRECT(CONCATENATE("_",E$7)),Base_Elèves!CA13,0,1,1))))} -> DEUSSAN Anne-Alice
A21: 6B | F21: {=IF($E$7="","",IF($E$7="Toutes",IF(ROWS($2:15)<=COUNTA(Champ),INDEX(Champ,MOD(SMALL(IF(Champ<>"",COLUMN(Champ)*10^5+ROW(INDIRECT("1:"&ROWS(Champ)))),ROWS($2:15)),10^5),INT(SMALL(IF(Champ<>"",COLUMN(Champ)*10^5+ROW(INDIRECT("1:"&ROWS(Champ)))),ROWS($2:15))/10^5)-COLUMN(Champ)+1),""),IF(OFFSET(INDIRECT(CONCATENATE("_",E$7)),Base_Elèves!CA14,0,1,1)="","",OFFSET(INDIRECT(CONCATENATE("_",E$7)),Base_Elèves!CA14,0,1,1))))} -> D'ZEUKLOK Haroun
A22: 6C | F22: {=IF($E$7="","",IF($E$7="Toutes",IF(ROWS($2:16)<=COUNTA(Champ),INDEX(Champ,MOD(SMALL(IF(Champ<>"",COLUMN(Champ)*10^5+ROW(INDIRECT("1:"&ROWS(Champ)))),ROWS($2:16)),10^5),INT(SMALL(IF(Champ<>"",COLUMN(Champ)*10^5+ROW(INDIRECT("1:"&ROWS(Champ)))),ROWS($2:16))/10^5)-COLUMN(Champ)+1),""),IF(OFFSET(INDIRECT(CONCATENATE("_",E$7)),Base_Elèves!CA15,0,1,1)="","",OFFSET(INDIRECT(CONCATENATE("_",E$7)),Base_Elèves!CA15,0,1,1))))} -> EMPHAILLITE Mélusine
A23: 6D | F23: {=IF($E$7="","",IF($E$7="Toutes",IF(ROWS($2:17)<=COUNTA(Champ),INDEX(Champ,MOD(SMALL(IF(Champ<>"",COLUMN(Champ)*10^5+ROW(INDIRECT("1:"&ROWS(Champ)))),ROWS($2:17)),10^5),INT(SMALL(IF(Champ<>"",COLUMN(Champ)*10^5+ROW(INDIRECT("1:"&ROWS(Champ)))),ROWS($2:17))/10^5)-COLUMN(Champ)+1),""),IF(OFFSET(INDIRECT(CONCATENATE("_",E$7)),Base_Elèves!CA16,0,1,1)="","",OFFSET(INDIRECT(CONCATENATE("_",E$7)),Base_Elèves!CA16,0,1,1))))} -> FONFEC Sophie
A24: 6E | F24: {=IF($E$7="","",IF($E$7="Toutes",IF(ROWS($2:18)<=COUNTA(Champ),INDEX(Champ,MOD(SMALL(IF(Champ<>"",COLUMN(Champ)*10^5+ROW(INDIRECT("1:"&ROWS(Champ)))),ROWS($2:18)),10^5),INT(SMALL(IF(Champ<>"",COLUMN(Champ)*10^5+ROW(INDIRECT("1:"&ROWS(Champ)))),ROWS($2:18))/10^5)-COLUMN(Champ)+1),""),IF(OFFSET(INDIRECT(CONCATENATE("_",E$7)),Base_Elèves!CA17,0,1,1)="","",OFFSET(INDIRECT(CONCATENATE("_",E$7)),Base_Elèves!CA17,0,1,1))))} -> FRAIMIEUX DE LA FERMAY Yves
A25: 3BC_Esp | F25: {=IF($E$7="","",IF($E$7="Toutes",IF(ROWS($2:19)<=COUNTA(Champ),INDEX(Champ,MOD(SMALL(IF(Champ<>"",COLUMN(Champ)*10^5+ROW(INDIRECT("1:"&ROWS(Champ)))),ROWS($2:19)),10^5),INT(SMALL(IF(Champ<>"",COLUMN(Champ)*10^5+ROW(INDIRECT("1:"&ROWS(Champ)))),ROWS($2:19))/10^5)-COLUMN(Champ)+1),""),IF(OFFSET(INDIRECT(CONCATENATE("_",E$7)),Base_Elèves!CA18,0,1,1)="","",OFFSET(INDIRECT(CONCATENATE("_",E$7)),Base_Elèves!CA18,0,1,1))))} -> HAIPARBAL Gilles
A26: 4BC_Esp | F26: {=IF($E$7="","",IF($E$7="Toutes",IF(ROWS($2:20)<=COUNTA(Champ),INDEX(Champ,MOD(SMALL(IF(Champ<>"",COLUMN(Champ)*10^5+ROW(INDIRECT("1:"&ROWS(Champ)))),ROWS($2:20)),10^5),INT(SMALL(IF(Champ<>"",COLUMN(Champ)*10^5+ROW(INDIRECT("1:"&ROWS(Champ)))),ROWS($2:20))/10^5)-COLUMN(Champ)+1),""),IF(OFFSET(INDIRECT(CONCATENATE("_",E$7)),Base_Elèves!CA19,0,1,1)="","",OFFSET(INDIRECT(CONCATENATE("_",E$7)),Base_Elèves!CA19,0,1,1))))} -> JAVEL Aude
A27: 3BC_All | F27: {=IF($E$7="","",IF($E$7="Toutes",IF(ROWS($2:21)<=COUNTA(Champ),INDEX(Champ,MOD(SMALL(IF(Champ<>"",COLUMN(Champ)*10^5+ROW(INDIRECT("1:"&ROWS(Champ)))),ROWS($2:21)),10^5),INT(SMALL(IF(Champ<>"",COLUMN(Champ)*10^5+ROW(INDIRECT("1:"&ROWS(Champ)))),ROWS($2:21))/10^5)-COLUMN(Champ)+1),""),IF(OFFSET(INDIRECT(CONCATENATE("_",E$7)),Base_Elèves!CA20,0,1,1)="","",OFFSET(INDIRECT(CONCATENATE("_",E$7)),Base_Elèves!CA20,0,1,1))))} -> MANFAIMIEU Gérard
A28: 4B_All | F28: {=IF($E$7="","",IF($E$7="Toutes",IF(ROWS($2:22)<=COUNTA(Champ),INDEX(Champ,MOD(SMALL(IF(Champ<>"",COLUMN(Champ)*10^5+ROW(INDIRECT("1:"&ROWS(Champ)))),ROWS($2:22)),10^5),INT(SMALL(IF(Champ<>"",COLUMN(Champ)*10^5+ROW(INDIRECT("1:"&ROWS(Champ)))),ROWS($2:22))/10^5)-COLUMN(Champ)+1),""),IF(OFFSET(INDIRECT(CONCATENATE("_",E$7)),Base_Elèves!CA21,0,1,1)="","",OFFSET(INDIRECT(CONCATENATE("_",E$7)),Base_Elèves!CA21,0,1,1))))} -> NAL Sheila-Lotfi
F29: {=IF($E$7="","",IF($E$7="Toutes",IF(ROWS($2:23)<=COUNTA(Champ),INDEX(Champ,MOD(SMALL(IF(Champ<>"",COLUMN(Champ)*10^5+ROW(INDIRECT("1:"&ROWS(Champ)))),ROWS($2:23)),10^5),INT(SMALL(IF(Champ<>"",COLUMN(Champ)*10^5+ROW(INDIRECT("1:"&ROWS(Champ)))),ROWS($2:23))/10^5)-COLUMN(Champ)+1),""),IF(OFFSET(INDIRECT(CONCATENATE("_",E$7)),Base_Elèves!CA22,0,1,1)="","",OFFSET(INDIRECT(CONCATENATE("_",E$7)),Base_Elèves!CA22,0,1,1))))} -> NESS Guy
F30: {=IF($E$7="","",IF($E$7="Toutes",IF(ROWS($2:24)<=COUNTA(Champ),INDEX(Champ,MOD(SMALL(IF(Champ<>"",COLUMN(Champ)*10^5+ROW(INDIRECT("1:"&ROWS(Champ)))),ROWS($2:24)),10^5),INT(SMALL(IF(Champ<>"",COLUMN(Champ)*10^5+ROW(INDIRECT("1:"&ROWS(Champ)))),ROWS($2:24))/10^5)-COLUMN(Champ)+1),""),IF(OFFSET(INDIRECT(CONCATENATE("_",E$7)),Base_Elèves!CA23,0,1,1)="","",OFFSET(INDIRECT(CONCATENATE("_",E$7)),Base_Elèves!CA23,0,1,1))))} -> OPOSTE Fidel
F31: {=IF($E$7="","",IF($E$7="Toutes",IF(ROWS($2:25)<=COUNTA(Champ),INDEX(Champ,MOD(SMALL(IF(Champ<>"",COLUMN(Champ)*10^5+ROW(INDIRECT("1:"&ROWS(Champ)))),ROWS($2:25)),10^5),INT(SMALL(IF(Champ<>"",COLUMN(Champ)*10^5+ROW(INDIRECT("1:"&ROWS(Champ)))),ROWS($2:25))/10^5)-COLUMN(Champ)+1),""),IF(OFFSET(INDIRECT(CONCATENATE("_",E$7)),Base_Elèves!CA24,0,1,1)="","",OFFSET(INDIRECT(CONCATENATE("_",E$7)),Base_Elèves!CA24,0,1,1))))} -> TABANIOL Alphonse
F32: {=IF($E$7="","",IF($E$7="Toutes",IF(ROWS($2:26)<=COUNTA(Champ),INDEX(Champ,MOD(SMALL(IF(Champ<>"",COLUMN(Champ)*10^5+ROW(INDIRECT("1:"&ROWS(Champ)))),ROWS($2:26)),10^5),INT(SMALL(IF(Champ<>"",COLUMN(Champ)*10^5+ROW(INDIRECT("1:"&ROWS(Champ)))),ROWS($2:26))/10^5)-COLUMN(Champ)+1),""),IF(OFFSET(INDIRECT(CONCATENATE("_",E$7)),Base_Elèves!CA25,0,1,1)="","",OFFSET(INDIRECT(CONCATENATE("_",E$7)),Base_Elèves!CA25,0,1,1))))} -> TAFRAISE Théramène
F33: {=IF($E$7="","",IF($E$7="Toutes",IF(ROWS($2:27)<=COUNTA(Champ),INDEX(Champ,MOD(SMALL(IF(Champ<>"",COLUMN(Champ)*10^5+ROW(INDIRECT("1:"&ROWS(Champ)))),ROWS($2:27)),10^5),INT(SMALL(IF(Champ<>"",COLUMN(Champ)*10^5+ROW(INDIRECT("1:"&ROWS(Champ)))),ROWS($2:27))/10^5)-COLUMN(Champ)+1),""),IF(OFFSET(INDIRECT(CONCATENATE("_",E$7)),Base_Elèves!CA26,0,1,1)="","",OFFSET(INDIRECT(CONCATENATE("_",E$7)),Base_Elèves!CA26,0,1,1))))} -> TINOPLE Constant
F34: {=IF($E$7="","",IF($E$7="Toutes",IF(ROWS($2:28)<=COUNTA(Champ),INDEX(Champ,MOD(SMALL(IF(Champ<>"",COLUMN(Champ)*10^5+ROW(INDIRECT("1:"&ROWS(Champ)))),ROWS($2:28)),10^5),INT(SMALL(IF(Champ<>"",COLUMN(Champ)*10^5+ROW(INDIRECT("1:"&ROWS(Champ)))),ROWS($2:28))/10^5)-COLUMN(Champ)+1),""),IF(OFFSET(INDIRECT(CONCATENATE("_",E$7)),Base_Elèves!CA27,0,1,1)="","",OFFSET(INDIRECT(CONCATENATE("_",E$7)),Base_Elèves!CA27,0,1,1))))} -> TISON Paco
F35: {=IF($E$7="","",IF($E$7="Toutes",IF(ROWS($2:29)<=COUNTA(Champ),INDEX(Champ,MOD(SMALL(IF(Champ<>"",COLUMN(Champ)*10^5+ROW(INDIRECT("1:"&ROWS(Champ)))),ROWS($2:29)),10^5),INT(SMALL(IF(Champ<>"",COLUMN(Champ)*10^5+ROW(INDIRECT("1:"&ROWS(Champ)))),ROWS($2:29))/10^5)-COLUMN(Champ)+1),""),IF(OFFSET(INDIRECT(CONCATENATE("_",E$7)),Base_Elèves!CA28,0,1,1)="","",OFFSET(INDIRECT(CONCATENATE("_",E$7)),Base_Elèves!CA28,0,1,1))))} -> TOMBAY Yvon
F36: {=IF($E$7="","",IF($E$7="Toutes",IF(ROWS($2:30)<=COUNTA(Champ),INDEX(Champ,MOD(SMALL(IF(Champ<>"",COLUMN(Champ)*10^5+ROW(INDIRECT("1:"&ROWS(Champ)))),ROWS($2:30)),10^5),INT(SMALL(IF(Champ<>"",COLUMN(Champ)*10^5+ROW(INDIRECT("1:"&ROWS(Champ)))),ROWS($2:30))/10^5)-COLUMN(Champ)+1),""),IF(OFFSET(INDIRECT(CONCATENATE("_",E$7)),Base_Elèves!CA29,0,1,1)="","",OFFSET(INDIRECT(CONCATENATE("_",E$7)),Base_Elèves!CA29,0,1,1))))} -> VIGOTT Sarah
F37: {=IF($E$7="","",IF($E$7="Toutes",IF(ROWS($2:31)<=COUNTA(Champ),INDEX(Champ,MOD(SMALL(IF(Champ<>"",COLUMN(Champ)*10^5+ROW(INDIRECT("1:"&ROWS(Champ)))),ROWS($2:31)),10^5),INT(SMALL(IF(Champ<>"",COLUMN(Champ)*10^5+ROW(INDIRECT("1:"&ROWS(Champ)))),ROWS($2:31))/10^5)-COLUMN(Champ)+1),""),IF(OFFSET(INDIRECT(CONCATENATE("_",E$7)),Base_Elèves!CA30,0,1,1)="","",OFFSET(INDIRECT(CONCATENATE("_",E$7)),Base_Elèves!CA30,0,1,1))))} -> NEYMAR Jean
F38: {=IF($E$7="","",IF($E$7="Toutes",IF(ROWS($2:32)<=COUNTA(Champ),INDEX(Champ,MOD(SMALL(IF(Champ<>"",COLUMN(Champ)*10^5+ROW(INDIRECT("1:"&ROWS(Champ)))),ROWS($2:32)),10^5),INT(SMALL(IF(Champ<>"",COLUMN(Champ)*10^5+ROW(INDIRECT("1:"&ROWS(Champ)))),ROWS($2:32))/10^5)-COLUMN(Champ)+1),""),IF(OFFSET(INDIRECT(CONCATENATE("_",E$7)),Base_Elèves!CA31,0,1,1)="","",OFFSET(INDIRECT(CONCATENATE("_",E$7)),Base_Elèves!CA31,0,1,1))))} -> DEY Kelly
F39: {=IF($E$7="","",IF($E$7="Toutes",IF(ROWS($2:33)<=COUNTA(Champ),INDEX(Champ,MOD(SMALL(IF(Champ<>"",COLUMN(Champ)*10^5+ROW(INDIRECT("1:"&ROWS(Champ)))),ROWS($2:33)),10^5),INT(SMALL(IF(Champ<>"",COLUMN(Champ)*10^5+ROW(INDIRECT("1:"&ROWS(Champ)))),ROWS($2:33))/10^5)-COLUMN(Champ)+1),""),IF(OFFSET(INDIRECT(CONCATENATE("_",E$7)),Base_Elèves!CA32,0,1,1)="","",OFFSET(INDIRECT(CONCATENATE("_",E$7)),Base_Elèves!CA32,0,1,1))))} -> CHATERE Tom
F40: {=IF($E$7="","",IF($E$7="Toutes",IF(ROWS($2:34)<=COUNTA(Champ),INDEX(Champ,MOD(SMALL(IF(Champ<>"",COLUMN(Champ)*10^5+ROW(INDIRECT("1:"&ROWS(Champ)))),ROWS($2:34)),10^5),INT(SMALL(IF(Champ<>"",COLUMN(Champ)*10^5+ROW(INDIRECT("1:"&ROWS(Champ)))),ROWS($2:34))/10^5)-COLUMN(Champ)+1),""),IF(OFFSET(INDIRECT(CONCATENATE("_",E$7)),Base_Elèves!CA33,0,1,1)="","",OFFSET(INDIRECT(CONCATENATE("_",E$7)),Base_Elèves!CA33,0,1,1))))} -> ANQUALE Seb
...

Sheet Base_Evaluation
A1: Niveau | B1: Trimestre | C1: Niveau CECRL | E1: Pts Max | G1: Coeff | H1: Total | J1: Pts Max | L1: Coeff | M1: Total | O1: Pts Max | Q1: Coeff | R1: Total | T1: Pts Max | V1: Coeff | W1: Total | Y1: Pts Max | AA1: Coeff | AB1: Total | AD1: Pts Max | AF1: Coeff | AG1: Total | AI1: Pts Max | AK1: Coeff | AL1: Total | AN1: Pts Max | AP1: Coeff | AQ1: Total | AS1: Pts Max | AU1: Coeff | AV1: Total | AX1: Pts Max | AZ1: Coeff | BA1: Total | BF1: Coefficient | BH1: =IF(SUM($CG$5:$CK$5)=0,"",IF($BI$3>$BJ$3,1.5,IF($BI$3<$BJ$3,0.5,1))) | CG1: =IF(SUM($CG$5:$CK$5)=0,"",CONCATENATE(CG2,"%")) | CI1: =IF(SUM($CG$5:$CK$5)=0,"",CONCATENATE(CI2,"%")) | CJ1: =IF(SUM($CG$5:$CK$5)=0,"",CONCATENATE(CJ2,"%")) | CK1: =IF(SUM($CG$5:$CK$5)=0,"",CONCATENATE(CK2,"%"))
CG2: =IF(SUM(CG$5:CJ$5)=0,"",ROUND(100/SUM($CG$5:$CK$5)*CG$5,1)) | CI2: =IF(SUM($CG$5:$CK$5)=0,"",ROUND(100/SUM($CG5:$CK5)*CI5,1)) | CJ2: =IF(SUM($CG$5:$CK$5)=0,"",ROUND(100/SUM($CG5:$CK5)*CJ5,1)) | CK2: =IF(SUM($CG$5:$CK$5)=0,"",ROUND(100/SUM($CG5:$CK5)*CK5,1))
E3: 4 | F3: =IF(D1="","",MATCH(D1,Base_Classes_Niveaux!$A$27:$A$35,0)) | G3: =IF(D1="","",IF(D1<$BH$4,0.5,IF(D1>$BH$4,1.5,1))) | H3: =IF(D1="","",E3*G3) | J3: 4 | K3: =IF(I1="","",MATCH(I1,Base_Classes_Niveaux!$A$27:$A$35,0)) | L3: =IF(I1="","",IF(I1<$BH$4,0.5,IF(I1>$BH$4,1.5,1))) | M3: =IF(I1="","",J3*L3) | O3: 4 | P3: =IF(N1="","",MATCH(N1,Base_Classes_Niveaux!$A$27:$A$35,0)) | Q3: =IF(N1="","",IF(N1<$BH$4,0.5,IF(N1>$BH$4,1.5,1))) | R3: =IF(N1="","",O3*Q3) | T3: 4 | U3: =IF(S1="","",MATCH(S1,Base_Classes_Niveaux!$A$27:$A$35,0)) | V3: =IF(S1="","",IF(S1<$BH$4,0.5,IF(S1>$BH$4,1.5,1))) | W3: =IF(S1="","",T3*V3) | Y3: 4 | Z3: =IF(X1="","",MATCH(X1,Base_Classes_Niveaux!$A$27:$A$35,0)) | AA3: =IF(X1="","",IF(X1<$BH$4,0.5,IF(X1>$BH$4,1.5,1))) | AB3: =IF(X1="","",Y3*AA3) | AD3: 4 | AE3: =IF(AC1="","",MATCH(AC1,Base_Classes_Niveaux!$A$27:$A$35,0)) | AF3: =IF(AC1="","",IF(AC1<$BH$4,0.5,IF(AC1>$BH$4,1.5,1))) | AG3: =IF(AC1="","",AD3*AF3) | AI3: 4 | AJ3: =IF(AH1="","",MATCH(AH1,Base_Classes_Niveaux!$A$27:$A$35,0)) | AK3: =IF(AH1="","",IF(AH1<$BH$4,0.5,IF(AH1>$BH$4,1.5,1))) | AL3: =IF(AH1="","",AI3*AK3) | AN3: 4 | AO3: =IF(AM1="","",MATCH(AM1,Base_Classes_Niveaux!$A$27:$A$35,0)) | AP3: =IF(AM1="","",IF(AM1<$BH$4,0.5,IF(AM1>$BH$4,1.5,1))) | AQ3: =IF(AM1="","",AN3*AP3) | AS3: 4 | AT3: =IF(AR1="","",MATCH(AR1,Base_Classes_Niveaux!$A$27:$A$35,0)) | AU3: =IF(AR1="","",IF(AR1<$BH$4,0.5,IF(AR1>$BH$4,1.5,1))) | AV3: =IF(AR1="","",AS3*AU3) | AX3: 4 | AY3: =IF(AW1="","",MATCH(AW1,Base_Classes_Niveaux!$A$27:$A$35,0)) | AZ3: =IF(AW1="","",IF(AW1<$BH$4,0.5,IF(AW1>$BH$4,1.5,1))) | BA3: =IF(AW1="","",AX3*AZ3) | BB3: =IF(OR(AY6="",AZ6=""),"",IF(CONCATENATE($B$5,$AZ$6,$AY$6)="LV2T14",8,IF(CONCATENATE($B$5,$AZ$6,$AY$6)="LV2T24",9,IF(CONCATENATE($B$5,$AZ$6,$AY$6)="LV2T34",10,IF(CONCATENATE($B$5,$AZ$6,$AY$6)="LV2T13",11,IF(CONCATENATE($B$5,$AZ$6,$AY$6)="LV2T23",12,IF(CONCATENATE($B$5,$AZ$6,$AY$6)="LV2T33",13,"Gros Naze"))))))) | BF3: Niveau évaluation | BH3: Niveau Cible | BI3: =IF($BF$4="","",MATCH($BF$4,Niveaux_Détaillés,0)) | BJ3: =IF($BH$4="","",MATCH($BH$4,Niveaux_Détaillés,0)) | CG3: B1 | CI3: A2 | CJ3: A1 | CK3: A1___Primaire
A4: Matière | B4: LV1/LV2 | BF4: =IF(SUM($CG5:$CK5)=0,"",IF($CG2>75,"B1",IF(AND($CG2<=75,$CG2>25),"B1-",IF(AND($CG2<>0,$CG2<=25,$CI2>75),"A2+",IF($CI2>75,"A2",IF(AND($CI2<=75,$CI2>25),"A2-",IF(AND($CI2<>0,$CI2<=25,$CJ2>75),"A1+",IF($CJ2>75,"A1",IF(AND($CJ2<=75,$CJ2>25),"A1-",IF(AND($CJ2<>0,$CJ2<=25,$CK2>75),"A1-",IF($CK2>75,"A1-","N.E."))))))))))) | BH4: =IF($B$6="","",IF(OR($B$6="3A",$B$6="4A",$B$6="5A",$B$6="6A"),INDIRECT(CONCATENATE($AY$5,$B$6,$B$3)),INDIRECT(CONCATENATE($B$5,$A$3,$B$3))))
C5: Compétences | D5: Compétence | E5: A1 | G5: A2 | H5: B1 | I5: Compétence | J5: A1 | L5: A2 | M5: B1 | N5: Compétence | O5: A1 | Q5: A2 | R5: B1 | S5: Compétence | T5: A1 | V5: A2 | W5: B1 | X5: Compétence | Y5: A1 | AA5: A2 | AB5: B1 | AC5: Compétence | AD5: A1 | AF5: A2 | AG5: B1 | AH5: Compétence | AI5: A1 | AK5: A2 | AL5: B1 | AM5: Compétence | AN5: A1 | AP5: A2 | AQ5: B1 | AR5: Compétence | AS5: A1 | AU5: A2 | AV5: B1 | AW5: Compétence | AX5: A1 | AY5: =MID($A$3,1,7) | AZ5: A2 | BA5: B1 | BI5: Expert | BM5: Acquis | BQ5: Presque Acquis | BU5: En Cours | BY5: Début d'Acquisition | CC5: Non Acquis | CG5: =IF(OR($A$3="Niveau_6",$A$3="Niveau_5"),0,COUNTIF($D1:$AW1,$CG$3)) -> 0 | CI5: =COUNTIF($D1:$AW1,$CI$3) -> 0 | CJ5: =COUNTIF($D1:$AW1,$CJ$3) -> 0 | CK5: =COUNTIF($D1:$AW1,$CK$3) -> 0
A6: Classe | C6: Sous-Compétences | AX6: =IF(OR(AY6="",AZ6=""),"",IF(CONCATENATE($AZ$6,$AY$6)="T16",2,IF(CONCATENATE($AZ$6,$AY$6)="T26",3,IF(CONCATENATE($AZ$6,$AY$6)="T36",4,IF(CONCATENATE($AZ$6,$AY$6)="T15",5,IF(CONCATENATE($AZ$6,$AY$6)="T25",6,IF(CONCATENATE($AZ$6,$AY$6)="T35",7,IF(CONCATENATE($AZ$6,$AY$6)="T14",8,IF(CONCATENATE($AZ$6,$AY$6)="T24",9,IF(CONCATENATE($AZ$6,$AY$6)="T34",10,IF(CONCATENATE($AZ$6,$AY$6)="T13",11,IF(CONCATENATE($AZ$6,$AY$6)="T23",12,IF(CONCATENATE($AZ$6,$AY$6)="T33",13,"Gros Naze"))))))))))))) | AY6: =MID($B$6,1,1) | AZ6: =IF($B$3="","",CONCATENATE("T",$B$3)) | BA6: =IF(OR(AY6="",AZ6=""),"",IF(CONCATENATE($AZ$6,$AY$6)="T16",2,IF(CONCATENATE($AZ$6,$AY$6)="T26",3,IF(CONCATENATE($AZ$6,$AY$6)="T36",4,IF(CONCATENATE($AZ$6,$AY$6)="T15",5,IF(CONCATENATE($AZ$6,$AY$6)="T25",6,IF(CONCATENATE($AZ$6,$AY$6)="T35",7,IF(CONCATENATE($AZ$6,$AY$6)="T14",8,IF(CONCATENATE($AZ$6,$AY$6)="T24",9,IF(CONCATENATE($AZ$6,$AY$6)="T34",10,IF(CONCATENATE($AZ$6,$AY$6)="T13",11,IF(CONCATENATE($AZ$6,$AY$6)="T23",12,IF(CONCATENATE($AZ$6,$AY$6)="T33",13,"Gros Naze"))))))))))))) | BC6: Nombre Evaluation Compétences | BD6: Total Points | BF6: Total sur | BH6: CECRL | BI6: A1 | BJ6: A2 | BK6: B1 | BM6: A1 | BN6: A2 | BO6: B1 | BQ6: A1 | BR6: A2 | BS6: B1 | BU6: A1 | BV6: A2 | BW6: B1 | BY6: A1 | BZ6: A2 | CA6: B1 | CC6: A1 | CD6: A2 | CE6: B1 | CF6: Non Evaluable | CG6: Moyenne/20 | CI6: Niveau CECRL Moyen
A7: Présence | C7: NOM Prénom | BC7: =COUNTA(AW1,AR1,AM1,AH1,AC1,X1,S1,N1,I1,D1) -> 0 | BD7: =SUM(BA3,AV3,AQ3,AL3,AG3,AB3,W3,R3,M3,H3) -> 0 | BE7: =IF(BD7=0,"",20/BD7) | BF7: =IF(BE7="","",BD7*$BE$7) | BG7: =IF(OR(BF7="",BF7="Absent"),"",IF(ROUND(BD7*$BE$7,1)>20,ROUND(BD7*$BE$7,1),BF7)) | BH7: =IF(OR(A7="Absent",BF7=""),"",IF($B$5="LV2",INDEX(Base_Classes_Niveaux!$A$102:$M$153,MATCH(BG7,Base_Classes_Niveaux!$A$102:$A$1533),$BB$3),IF(OR($B$6="3A",$B$6="4A",$B$6="5A",$B$6="6A"),INDEX(Base_Classes_Niveaux!$A$162:$M$213,MATCH(BG7,Base_Classes_Niveaux!$A$102:$A$153),$AX$6),IF(OR($B$6<>"3A",$B$6<>"4A",$B$6<>"5A",$B$6<>"6A"),INDEX(Base_Classes_Niveaux!$A$39:$M$90,MATCH(BG7,Base_Classes_Niveaux!$A$39:$A$90),$AX$6))))) | BI7: =SUM(BI8:BI35) -> 0 | BJ7: =SUM(BJ8:BJ35) -> 0 | BK7: =SUM(BK8:BK35) -> 0 | BM7: =SUM(BM8:BM35) -> 0 | BN7: =SUM(BN8:BN35) -> 0 | BO7: =SUM(BO8:BO35) -> 0 | BQ7: =SUM(BQ8:BQ35) -> 0 | BR7: =SUM(BR8:BR35) -> 0 | BS7: =SUM(BS8:BS35) -> 0 | BU7: =SUM(BU8:BU35) -> 0 | BV7: =SUM(BV8:BV35) -> 0 | BW7: =SUM(BW8:BW35) -> 0 | BY7: =SUM(BY8:BY35) -> 0 | BZ7: =SUM(BZ8:BZ35) -> 0 | CA7: =SUM(CA8:CA35) -> 0 | CC7: =SUM(CC8:CC35) -> 0 | CD7: =SUM(CD8:CD35) -> 0 | CE7: =SUM(CE8:CE35) -> 0 | CF7: =SUM(CF8:CF35) -> 0 | CG7: =IF(COUNTBLANK($BG8:$BG37)>=30,"",IF(AVERAGE($BG8:$BG37)>20,20,AVERAGE($BG8:$BG37))) | CH7: =IF(COUNTBLANK($BG8:$BG37)>=30,"",AVERAGE($BG8:$BG37)) | CI7: =IF(OR(AA7="Absent e",CH7=""),"",IF($B$5="LV2",INDEX(Base_Classes_Niveaux!$A$102:$M$153,MATCH(CH7,Base_Classes_Niveaux!$A$102:$A$153),$BB$3),IF(OR($B$6="3A",$B$6="4A",$B$6="5A",$B$6="6A"),INDEX(Base_Classes_Niveaux!$A$102:$M$153,MATCH(CH7,Base_Classes_Niveaux!$A$102:$A$153),$AX$6),IF(OR($B$6<>"3A",$B$6<>"4A",$B$6<>"5A",$B$6<>"6A"),INDEX(Base_Classes_Niveaux!$A$39:$M$90,MATCH(CH7,Base_Classes_Niveaux!$A$39:$A$90),$AX$6)))))
B8: =IF(C8="","",1) | C8: =IF($B$6="","",IF(OFFSET(INDEX(Base_Elèves!$A$1:$BY$1,1,MATCH($B$6,Base_Elèves!$A$1:$BY$1,0)),Base_Elèves!$CA3,0,1,1)="","",OFFSET(INDEX(Base_Elèves!$A$1:$BY$1,1,MATCH($B$6,Base_Elèves!$A$1:$BY$1,0)),Base_Elèves!$CA3,0,1,1))) | E8: =IF(D8="","",IF(OR(D8="Non Acquis",D8="Non Evaluable"),0,MATCH(D8,Points_Validation,0))) | G8: =IF(D8="","",G$3) | H8: =IF(D8="","",E8*G8) | J8: =IF(I8="","",IF(OR(I8="Non Acquis",I8="Non Evaluable"),0,MATCH(I8,Points_Validation,0))) | L8: =IF(I8="","",L$3) | M8: =IF(I8="","",J8*L8) | O8: =IF(N8="","",IF(OR(N8="Non Acquis",N8="Non Evaluable"),0,MATCH(N8,Points_Validation,0))) | Q8: =IF(N8="","",Q$3) | R8: =IF(N8="","",O8*Q8) | T8: =IF(S8="","",IF(OR(S8="Non Acquis",S8="Non Evaluable"),0,MATCH(S8,Points_Validation,0))) | V8: =IF(S8="","",V$3) | W8: =IF(S8="","",T8*V8) | Y8: =IF(X8="","",IF(OR(X8="Non Acquis",X8="Non Evaluable"),0,MATCH(X8,Points_Validation,0))) | AA8: =IF(X8="","",AA$3) | AB8: =IF(X8="","",Y8*AA8) | AD8: =IF(AC8="","",IF(OR(AC8="Non Acquis",AC8="Non Evaluable"),0,MATCH(AC8,Points_Validation,0))) | AF8: =IF(AC8="","",AF$3) | AG8: =IF(AC8="","",AD8*AF8) | AI8: =IF(AH8="","",IF(OR(AH8="Non Acquis",AH8="Non Evaluable"),0,MATCH(AH8,Points_Validation,0))) | AK8: =IF(AH8="","",AK$3) | AL8: =IF(AH8="","",AI8*AK8) | AN8: =IF(AM8="","",IF(OR(AM8="Non Acquis",AM8="Non Evaluable"),0,MATCH(AM8,Points_Validation,0))) | AP8: =IF(AM8="","",AP$3) | AQ8: =IF(AM8="","",AN8*AP8) | AS8: =IF(AR8="","",IF(OR(AR8="Non Acquis",AR8="Non Evaluable"),0,MATCH(AR8,Points_Validation,0))) | AU8: =IF(AR8="","",AU$3) | AV8: =IF(AR8="","",AS8*AU8) | AX8: =IF(AW8="","",IF(OR(AW8="Non Acquis",AW8="Non Evaluable"),0,MATCH(AW8,Points_Validation,0))) | AZ8: =IF(AW8="","",AZ$3) | BA8: =IF(AW8="","",AX8*AZ8) | BC8: =IF(AND(A8="",C8=""),"",COUNTA(AW8,AR8,AM8,AH8,AC8,X8,S8,N8,I8,D8)) | BD8: =IF(AND(A8="",C8=""),"",SUM(BA8,AV8,AQ8,AL8,AG8,AB8,W8,R8,M8,H8)) | BF8: =IF(AND(A8="",C8=""),"",IF(A8="Absent","Absent",IF($BE$7="","",IF(BC8=0,"",IF(ROUND(BD8*$BE$7,1)>20,20,ROUND(BD8*$BE$7,1)))))) | BG8: =IF(OR(BF8="",BF8="Absent"),"",IF(ROUND(BD8*$BE$7,1)>20,ROUND(BD8*$BE$7,1),BF8)) | BH8: =IF(OR(A8="Absent",BF8=""),"",IF($B$5="LV2",INDEX(Base_Classes_Niveaux!$A$102:$M$153,MATCH(BG8,Base_Classes_Niveaux!$A$102:$A$1533),$BB$3),IF(OR($B$6="3A",$B$6="4A",$B$6="5A",$B$6="6A"),INDEX(Base_Classes_Niveaux!$A$162:$M$213,MATCH(BG8,Base_Classes_Niveaux!$A$102:$A$153),$AX$6),IF(OR($B$6<>"3A",$B$6<>"4A",$B$6<>"5A",$B$6<>"6A"),INDEX(Base_Classes_Niveaux!$A$39:$M$90,MATCH(BG8,Base_Classes_Niveaux!$A$39:$A$90),$AX$6))))) | BI8: =IF(AND($A8="",$C8=""),"",SUM(AND($D$1=$BI$6,$D8=$BI$5),AND($I$1=$BI$6,$I8=$BI$5),AND($N$1=$BI$6,$N8=$BI$5),AND($S$1=$BI$6,$S8=$BI$5),AND($X$1=$BI$6,$X8=$BI$5),AND($AC$1=$BI$6,$AC8=$BI$5),AND($AH$1=$BI$6,$AH8=$BI$5),AND($AM$1=$BI$6,$AM8=$BI$5),AND($AR$1=$BI$6,$AR8=$BI$5),AND($AW$1=$BI$6,$AW8=$BI$5))) | BJ8: =IF(AND($A8="",$C8=""),"",SUM(AND($D$1=$BJ$6,$D8=$BI$5),AND($I$1=$BJ$6,$I8=$BI$5),AND($N$1=$BJ$6,$N8=$BI$5),AND($S$1=$BJ$6,$S8=$BI$5),AND($X$1=$BJ$6,$X8=$BI$5),AND($AC$1=$BJ$6,$AC8=$BI$5),AND($AH$1=$BJ$6,$AH8=$BI$5),AND($AM$1=$BJ$6,$AM8=$BI$5),AND($AR$1=$BJ$6,$AR8=$BI$5),AND($AW$1=$BJ$6,$AW8=$BI$5))) | BK8: =IF(AND($A8="",$C8=""),"",SUM(AND($D$1=$BK$6,$D8=$BI$5),AND($I$1=$BK$6,$I8=$BI$5),AND($N$1=$BK$6,$N8=$BI$5),AND($S$1=$BK$6,$S8=$BI$5),AND($X$1=$BK$6,$X8=$BI$5),AND($AC$1=$BK$6,$AC8=$BI$5),AND($AH$1=$BK$6,$AH8=$BI$5),AND($AM$1=$BK$6,$AM8=$BI$5),AND($AR$1=$BK$6,$AR8=$BI$5),AND($AW$1=$BK$6,$AW8=$BI$5))) | BM8: =IF(AND($A8="",$C8=""),"",SUM(AND($D$1=$BI$6,$D8=$BM$5),AND($I$1=$BI$6,$I8=$BM$5),AND($N$1=$BI$6,$N8=$BM$5),AND($S$1=$BI$6,$S8=$BM$5),AND($X$1=$BI$6,$X8=$BM$5),AND($AC$1=$BI$6,$AC8=$BM$5),AND($AH$1=$BI$6,$AH8=$BM$5),AND($AM$1=$BI$6,$AM8=$BM$5),AND($AR$1=$BI$6,$AR8=$BM$5),AND($AW$1=$BI$6,$AW8=$BM$5))) | BN8: =IF(AND($A8="",$C8=""),"",SUM(AND($D$1=$BJ$6,$D8=$BM$5),AND($I$1=$BJ$6,$I8=$BM$5),AND($N$1=$BJ$6,$N8=$BM$5),AND($S$1=$BJ$6,$S8=$BM$5),AND($X$1=$BJ$6,$X8=$BM$5),AND($AC$1=$BJ$6,$AC8=$BM$5),AND($AH$1=$BJ$6,$AH8=$BM$5),AND($AM$1=$BJ$6,$AM8=$BM$5),AND($AR$1=$BJ$6,$AR8=$BM$5),AND($AW$1=$BJ$6,$AW8=$BM$5))) | BO8: =IF(AND($A8="",$C8=""),"",SUM(AND($D$1=$BK$6,$D8=$BM$5),AND($I$1=$BK$6,$I8=$BM$5),AND($N$1=$BK$6,$N8=$BM$5),AND($S$1=$BK$6,$S8=$BM$5),AND($X$1=$BK$6,$X8=$BM$5),AND($AC$1=$BK$6,$AC8=$BM$5),AND($AH$1=$BK$6,$AH8=$BM$5),AND($AM$1=$BK$6,$AM8=$BM$5),AND($AR$1=$BK$6,$AR8=$BM$5),AND($AW$1=$BK$6,$AW8=$BM$5))) | BQ8: =IF(AND($A8="",$C8=""),"",SUM(AND($D$1=$BI$6,$D8=$BQ$5),AND($I$1=$BI$6,$I8=$BQ$5),AND($N$1=$BI$6,$N8=$BQ$5),AND($S$1=$BI$6,$S8=$BQ$5),AND($X$1=$BI$6,$X8=$BQ$5),AND($AC$1=$BI$6,$AC8=$BQ$5),AND($AH$1=$BI$6,$AH8=$BQ$5),AND($AM$1=$BI$6,$AM8=$BQ$5),AND($AR$1=$BI$6,$AR8=$BQ$5),AND($AW$1=$BI$6,$AW8=$BQ$5))) | BR8: =IF(AND($A8="",$C8=""),"",SUM(AND($D$1=$BJ$6,$D8=$BQ$5),AND($I$1=$BJ$6,$I8=$BQ$5),AND($N$1=$BJ$6,$N8=$BQ$5),AND($S$1=$BJ$6,$S8=$BQ$5),AND($X$1=$BJ$6,$X8=$BQ$5),AND($AC$1=$BJ$6,$AC8=$BQ$5),AND($AH$1=$BJ$6,$AH8=$BQ$5),AND($AM$1=$BJ$6,$AM8=$BQ$5),AND($AR$1=$BJ$6,$AR8=$BQ$5),AND($AW$1=$BJ$6,$AW8=$BQ$5))) | BS8: =IF(AND($A8="",$C8=""),"",SUM(AND($D$1=$BK$6,$D8=$BQ$5),AND($I$1=$BK$6,$I8=$BQ$5),AND($N$1=$BK$6,$N8=$BQ$5),AND($S$1=$BK$6,$S8=$BQ$5),AND($X$1=$BK$6,$X8=$BQ$5),AND($AC$1=$BK$6,$AC8=$BQ$5),AND($AH$1=$BK$6,$AH8=$BQ$5),AND($AM$1=$BK$6,$AM8=$BQ$5),AND($AR$1=$BK$6,$AR8=$BQ$5),AND($AW$1=$BK$6,$AW8=$BQ$5))) | BU8: =IF(AND($A8="",$C8=""),"",SUM(AND($D$1=$BI$6,$D8=$BU$5),AND($I$1=$BI$6,$I8=$BU$5),AND($N$1=$BI$6,$N8=$BU$5),AND($S$1=$BI$6,$S8=$BU$5),AND($X$1=$BI$6,$X8=$BU$5),AND($AC$1=$BI$6,$AC8=$BU$5),AND($AH$1=$BI$6,$AH8=$BU$5),AND($AM$1=$BI$6,$AM8=$BU$5),AND($AR$1=$BI$6,$AR8=$BU$5),AND($AW$1=$BI$6,$AW8=$BU$5))) | BV8: =IF(AND($A8="",$C8=""),"",SUM(AND($D$1=$BJ$6,$D8=$BU$5),AND($I$1=$BJ$6,$I8=$BU$5),AND($N$1=$BJ$6,$N8=$BU$5),AND($S$1=$BJ$6,$S8=$BU$5),AND($X$1=$BJ$6,$X8=$BU$5),AND($AC$1=$BJ$6,$AC8=$BU$5),AND($AH$1=$BJ$6,$AH8=$BU$5),AND($AM$1=$BJ$6,$AM8=$BU$5),AND($AR$1=$BJ$6,$AR8=$BU$5),AND($AW$1=$BJ$6,$AW8=$BU$5))) | BW8: =IF(AND($A8="",$C8=""),"",SUM(AND($D$1=$BK$6,$D8=$BU$5),AND($I$1=$BK$6,$I8=$BU$5),AND($N$1=$BK$6,$N8=$BU$5),AND($S$1=$BK$6,$S8=$BU$5),AND($X$1=$BK$6,$X8=$BU$5),AND($AC$1=$BK$6,$AC8=$BU$5),AND($AH$1=$BK$6,$AH8=$BU$5),AND($AM$1=$BK$6,$AM8=$BU$5),AND($AR$1=$BK$6,$AR8=$BU$5),AND($AW$1=$BK$6,$AW8=$BU$5))) | BY8: =IF(AND($A8="",$C8=""),"",SUM(AND($D$1=$BI$6,$D8=$BY$5),AND($I$1=$BI$6,$I8=$BY$5),AND($N$1=$BI$6,$N8=$BY$5),AND($S$1=$BI$6,$S8=$BY$5),AND($X$1=$BI$6,$X8=$BY$5),AND($AC$1=$BI$6,$AC8=$BY$5),AND($AH$1=$BI$6,$AH8=$BY$5),AND($AM$1=$BI$6,$AM8=$BY$5),AND($AR$1=$BI$6,$AR8=$BY$5),AND($AW$1=$BI$6,$AW8=$BY$5))) | BZ8: =IF(AND($A8="",$C8=""),"",SUM(AND($D$1=$BJ$6,$D8=$BY$5),AND($I$1=$BJ$6,$I8=$BY$5),AND($N$1=$BJ$6,$N8=$BY$5),AND($S$1=$BJ$6,$S8=$BY$5),AND($X$1=$BJ$6,$X8=$BY$5),AND($AC$1=$BJ$6,$AC8=$BY$5),AND($AH$1=$BJ$6,$AH8=$BY$5),AND($AM$1=$BJ$6,$AM8=$BY$5),AND($AR$1=$BJ$6,$AR8=$BY$5),AND($AW$1=$BJ$6,$AW8=$BY$5))) | CA8: =IF(AND($A8="",$C8=""),"",SUM(AND($D$1=$BK$6,$D8=$BY$5),AND($I$1=$BK$6,$I8=$BY$5),AND($N$1=$BK$6,$N8=$BY$5),AND($S$1=$BK$6,$S8=$BY$5),AND($X$1=$BK$6,$X8=$BY$5),AND($AC$1=$BK$6,$AC8=$BY$5),AND($AH$1=$BK$6,$AH8=$BY$5),AND($AM$1=$BK$6,$AM8=$BY$5),AND($AR$1=$BK$6,$AR8=$BY$5),AND($AW$1=$BK$6,$AW8=$BY$5))) | CC8: =IF(AND($A8="",$C8=""),"",SUM(AND($D$1=$BI$6,$D8=$CC$5),AND($I$1=$BI$6,$I8=$CC$5),AND($N$1=$BI$6,$N8=$CC$5),AND($S$1=$BI$6,$S8=$CC$5),AND($X$1=$BI$6,$X8=$CC$5),AND($AC$1=$BI$6,$AC8=$CC$5),AND($AH$1=$BI$6,$AH8=$CC$5),AND($AM$1=$BI$6,$AM8=$CC$5),AND($AR$1=$BI$6,$AR8=$CC$5),AND($AW$1=$BI$6,$AW8=$CC$5))) | CD8: =IF(AND($A8="",$C8=""),"",SUM(AND($D$1=$BJ$6,$D8=$CC$5),AND($I$1=$BJ$6,$I8=$CC$5),AND($N$1=$BJ$6,$N8=$CC$5),AND($S$1=$BJ$6,$S8=$CC$5),AND($X$1=$BJ$6,$X8=$CC$5),AND($AC$1=$BJ$6,$AC8=$CC$5),AND($AH$1=$BJ$6,$AH8=$CC$5),AND($AM$1=$BJ$6,$AM8=$CC$5),AND($AR$1=$BJ$6,$AR8=$CC$5),AND($AW$1=$BJ$6,$AW8=$CC$5))) | CE8: =IF(AND($A8="",$C8=""),"",SUM(AND($D$1=$BK$6,$D8=$CC$5),AND($I$1=$BK$6,$I8=$CC$5),AND($N$1=$BK$6,$N8=$CC$5),AND($S$1=$BK$6,$S8=$CC$5),AND($X$1=$BK$6,$X8=$CC$5),AND($AC$1=$BK$6,$AC8=$CC$5),AND($AH$1=$BK$6,$AH8=$CC$5),AND($AM$1=$BK$6,$AM8=$CC$5),AND($AR$1=$BK$6,$AR8=$CC$5),AND($AW$1=$BK$6,$AW8=$CC$5))) | CF8: =IF(AND($A8="",$C8=""),"",COUNTIF(D8:AW8,"Non Evaluable"))
B9: =IF(C9="","",SUM(B8,1)) | C9: =IF($B$6="","",IF(OFFSET(INDEX(Base_Elèves!$A$1:$BY$1,1,MATCH($B$6,Base_Elèves!$A$1:$BY$1,0)),Base_Elèves!$CA4,0,1,1)="","",OFFSET(INDEX(Base_Elèves!$A$1:$BY$1,1,MATCH($B$6,Base_Elèves!$A$1:$BY$1,0)),Base_Elèves!$CA4,0,1,1))) | E9: =IF(D9="","",IF(OR(D9="Non Acquis",D9="Non Evaluable"),0,MATCH(D9,Points_Validation,0))) | G9: =IF(D9="","",G$3) | H9: =IF(D9="","",E9*G9) | J9: =IF(I9="","",IF(OR(I9="Non Acquis",I9="Non Evaluable"),0,MATCH(I9,Points_Validation,0))) | L9: =IF(I9="","",L$3) | M9: =IF(I9="","",J9*L9) | O9: =IF(N9="","",IF(OR(N9="Non Acquis",N9="Non Evaluable"),0,MATCH(N9,Points_Validation,0))) | Q9: =IF(N9="","",Q$3) | R9: =IF(N9="","",O9*Q9) | T9: =IF(S9="","",IF(OR(S9="Non Acquis",S9="Non Evaluable"),0,MATCH(S9,Points_Validation,0))) | V9: =IF(S9="","",V$3) | W9: =IF(S9="","",T9*V9) | Y9: =IF(X9="","",IF(OR(X9="Non Acquis",X9="Non Evaluable"),0,MATCH(X9,Points_Validation,0))) | AA9: =IF(X9="","",AA$3) | AB9: =IF(X9="","",Y9*AA9) | AD9: =IF(AC9="","",IF(OR(AC9="Non Acquis",AC9="Non Evaluable"),0,MATCH(AC9,Points_Validation,0))) | AF9: =IF(AC9="","",AF$3) | AG9: =IF(AC9="","",AD9*AF9) | AI9: =IF(AH9="","",IF(OR(AH9="Non Acquis",AH9="Non Evaluable"),0,MATCH(AH9,Points_Validation,0))) | AK9: =IF(AH9="","",AK$3) | AL9: =IF(AH9="","",AI9*AK9) | AN9: =IF(AM9="","",IF(OR(AM9="Non Acquis",AM9="Non Evaluable"),0,MATCH(AM9,Points_Validation,0))) | AP9: =IF(AM9="","",AP$3) | AQ9: =IF(AM9="","",AN9*AP9) | AS9: =IF(AR9="","",IF(OR(AR9="Non Acquis",AR9="Non Evaluable"),0,MATCH(AR9,Points_Validation,0))) | AU9: =IF(AR9="","",AU$3) | AV9: =IF(AR9="","",AS9*AU9) | AX9: =IF(AW9="","",IF(OR(AW9="Non Acquis",AW9="Non Evaluable"),0,MATCH(AW9,Points_Validation,0))) | AZ9: =IF(AW9="","",AZ$3) | BA9: =IF(AW9="","",AX9*AZ9) | BC9: =IF(AND(A9="",C9=""),"",COUNTA(AW9,AR9,AM9,AH9,AC9,X9,S9,N9,I9,D9)) | BD9: =IF(AND(A9="",C9=""),"",SUM(BA9,AV9,AQ9,AL9,AG9,AB9,W9,R9,M9,H9)) | BF9: =IF(AND(A9="",C9=""),"",IF(A9="Absent","Absent",IF($BE$7="","",IF(BC9=0,"",IF(ROUND(BD9*$BE$7,1)>20,20,ROUND(BD9*$BE$7,1)))))) | BG9: =IF(OR(BF9="",BF9="Absent"),"",IF(ROUND(BD9*$BE$7,1)>20,ROUND(BD9*$BE$7,1),BF9)) | BH9: =IF(OR(A9="Absent",BF9=""),"",IF($B$5="LV2",INDEX(Base_Classes_Niveaux!$A$102:$M$153,MATCH(BG9,Base_Classes_Niveaux!$A$102:$A$1533),$BB$3),IF(OR($B$6="3A",$B$6="4A",$B$6="5A",$B$6="6A"),INDEX(Base_Classes_Niveaux!$A$162:$M$213,MATCH(BG9,Base_Classes_Niveaux!$A$102:$A$153),$AX$6),IF(OR($B$6<>"3A",$B$6<>"4A",$B$6<>"5A",$B$6<>"6A"),INDEX(Base_Classes_Niveaux!$A$39:$M$90,MATCH(BG9,Base_Classes_Niveaux!$A$39:$A$90),$AX$6))))) | BI9: =IF(AND($A9="",$C9=""),"",SUM(AND($D$1=$BI$6,$D9=$BI$5),AND($I$1=$BI$6,$I9=$BI$5),AND($N$1=$BI$6,$N9=$BI$5),AND($S$1=$BI$6,$S9=$BI$5),AND($X$1=$BI$6,$X9=$BI$5),AND($AC$1=$BI$6,$AC9=$BI$5),AND($AH$1=$BI$6,$AH9=$BI$5),AND($AM$1=$BI$6,$AM9=$BI$5),AND($AR$1=$BI$6,$AR9=$BI$5),AND($AW$1=$BI$6,$AW9=$BI$5))) | BJ9: =IF(AND($A9="",$C9=""),"",SUM(AND($D$1=$BJ$6,$D9=$BI$5),AND($I$1=$BJ$6,$I9=$BI$5),AND($N$1=$BJ$6,$N9=$BI$5),AND($S$1=$BJ$6,$S9=$BI$5),AND($X$1=$BJ$6,$X9=$BI$5),AND($AC$1=$BJ$6,$AC9=$BI$5),AND($AH$1=$BJ$6,$AH9=$BI$5),AND($AM$1=$BJ$6,$AM9=$BI$5),AND($AR$1=$BJ$6,$AR9=$BI$5),AND($AW$1=$BJ$6,$AW9=$BI$5))) | BK9: =IF(AND($A9="",$C9=""),"",SUM(AND($D$1=$BK$6,$D9=$BI$5),AND($I$1=$BK$6,$I9=$BI$5),AND($N$1=$BK$6,$N9=$BI$5),AND($S$1=$BK$6,$S9=$BI$5),AND($X$1=$BK$6,$X9=$BI$5),AND($AC$1=$BK$6,$AC9=$BI$5),AND($AH$1=$BK$6,$AH9=$BI$5),AND($AM$1=$BK$6,$AM9=$BI$5),AND($AR$1=$BK$6,$AR9=$BI$5),AND($AW$1=$BK$6,$AW9=$BI$5))) | BM9: =IF(AND($A9="",$C9=""),"",SUM(AND($D$1=$BI$6,$D9=$BM$5),AND($I$1=$BI$6,$I9=$BM$5),AND($N$1=$BI$6,$N9=$BM$5),AND($S$1=$BI$6,$S9=$BM$5),AND($X$1=$BI$6,$X9=$BM$5),AND($AC$1=$BI$6,$AC9=$BM$5),AND($AH$1=$BI$6,$AH9=$BM$5),AND($AM$1=$BI$6,$AM9=$BM$5),AND($AR$1=$BI$6,$AR9=$BM$5),AND($AW$1=$BI$6,$AW9=$BM$5))) | BN9: =IF(AND($A9="",$C9=""),"",SUM(AND($D$1=$BJ$6,$D9=$BM$5),AND($I$1=$BJ$6,$I9=$BM$5),AND($N$1=$BJ$6,$N9=$BM$5),AND($S$1=$BJ$6,$S9=$BM$5),AND($X$1=$BJ$6,$X9=$BM$5),AND($AC$1=$BJ$6,$AC9=$BM$5),AND($AH$1=$BJ$6,$AH9=$BM$5),AND($AM$1=$BJ$6,$AM9=$BM$5),AND($AR$1=$BJ$6,$AR9=$BM$5),AND($AW$1=$BJ$6,$AW9=$BM$5))) | BO9: =IF(AND($A9="",$C9=""),"",SUM(AND($D$1=$BK$6,$D9=$BM$5),AND($I$1=$BK$6,$I9=$BM$5),AND($N$1=$BK$6,$N9=$BM$5),AND($S$1=$BK$6,$S9=$BM$5),AND($X$1=$BK$6,$X9=$BM$5),AND($AC$1=$BK$6,$AC9=$BM$5),AND($AH$1=$BK$6,$AH9=$BM$5),AND($AM$1=$BK$6,$AM9=$BM$5),AND($AR$1=$BK$6,$AR9=$BM$5),AND($AW$1=$BK$6,$AW9=$BM$5))) | BQ9: =IF(AND($A9="",$C9=""),"",SUM(AND($D$1=$BI$6,$D9=$BQ$5),AND($I$1=$BI$6,$I9=$BQ$5),AND($N$1=$BI$6,$N9=$BQ$5),AND($S$1=$BI$6,$S9=$BQ$5),AND($X$1=$BI$6,$X9=$BQ$5),AND($AC$1=$BI$6,$AC9=$BQ$5),AND($AH$1=$BI$6,$AH9=$BQ$5),AND($AM$1=$BI$6,$AM9=$BQ$5),AND($AR$1=$BI$6,$AR9=$BQ$5),AND($AW$1=$BI$6,$AW9=$BQ$5))) | BR9: =IF(AND($A9="",$C9=""),"",SUM(AND($D$1=$BJ$6,$D9=$BQ$5),AND($I$1=$BJ$6,$I9=$BQ$5),AND($N$1=$BJ$6,$N9=$BQ$5),AND($S$1=$BJ$6,$S9=$BQ$5),AND($X$1=$BJ$6,$X9=$BQ$5),AND($AC$1=$BJ$6,$AC9=$BQ$5),AND($AH$1=$BJ$6,$AH9=$BQ$5),AND($AM$1=$BJ$6,$AM9=$BQ$5),AND($AR$1=$BJ$6,$AR9=$BQ$5),AND($AW$1=$BJ$6,$AW9=$BQ$5))) | BS9: =IF(AND($A9="",$C9=""),"",SUM(AND($D$1=$BK$6,$D9=$BQ$5),AND($I$1=$BK$6,$I9=$BQ$5),AND($N$1=$BK$6,$N9=$BQ$5),AND($S$1=$BK$6,$S9=$BQ$5),AND($X$1=$BK$6,$X9=$BQ$5),AND($AC$1=$BK$6,$AC9=$BQ$5),AND($AH$1=$BK$6,$AH9=$BQ$5),AND($AM$1=$BK$6,$AM9=$BQ$5),AND($AR$1=$BK$6,$AR9=$BQ$5),AND($AW$1=$BK$6,$AW9=$BQ$5))) | BU9: =IF(AND($A9="",$C9=""),"",SUM(AND($D$1=$BI$6,$D9=$BU$5),AND($I$1=$BI$6,$I9=$BU$5),AND($N$1=$BI$6,$N9=$BU$5),AND($S$1=$BI$6,$S9=$BU$5),AND($X$1=$BI$6,$X9=$BU$5),AND($AC$1=$BI$6,$AC9=$BU$5),AND($AH$1=$BI$6,$AH9=$BU$5),AND($AM$1=$BI$6,$AM9=$BU$5),AND($AR$1=$BI$6,$AR9=$BU$5),AND($AW$1=$BI$6,$AW9=$BU$5))) | BV9: =IF(AND($A9="",$C9=""),"",SUM(AND($D$1=$BJ$6,$D9=$BU$5),AND($I$1=$BJ$6,$I9=$BU$5),AND($N$1=$BJ$6,$N9=$BU$5),AND($S$1=$BJ$6,$S9=$BU$5),AND($X$1=$BJ$6,$X9=$BU$5),AND($AC$1=$BJ$6,$AC9=$BU$5),AND($AH$1=$BJ$6,$AH9=$BU$5),AND($AM$1=$BJ$6,$AM9=$BU$5),AND($AR$1=$BJ$6,$AR9=$BU$5),AND($AW$1=$BJ$6,$AW9=$BU$5))) | BW9: =IF(AND($A9="",$C9=""),"",SUM(AND($D$1=$BK$6,$D9=$BU$5),AND($I$1=$BK$6,$I9=$BU$5),AND($N$1=$BK$6,$N9=$BU$5),AND($S$1=$BK$6,$S9=$BU$5),AND($X$1=$BK$6,$X9=$BU$5),AND($AC$1=$BK$6,$AC9=$BU$5),AND($AH$1=$BK$6,$AH9=$BU$5),AND($AM$1=$BK$6,$AM9=$BU$5),AND($AR$1=$BK$6,$AR9=$BU$5),AND($AW$1=$BK$6,$AW9=$BU$5))) | BY9: =IF(AND($A9="",$C9=""),"",SUM(AND($D$1=$BI$6,$D9=$BY$5),AND($I$1=$BI$6,$I9=$BY$5),AND($N$1=$BI$6,$N9=$BY$5),AND($S$1=$BI$6,$S9=$BY$5),AND($X$1=$BI$6,$X9=$BY$5),AND($AC$1=$BI$6,$AC9=$BY$5),AND($AH$1=$BI$6,$AH9=$BY$5),AND($AM$1=$BI$6,$AM9=$BY$5),AND($AR$1=$BI$6,$AR9=$BY$5),AND($AW$1=$BI$6,$AW9=$BY$5))) | BZ9: =IF(AND($A9="",$C9=""),"",SUM(AND($D$1=$BJ$6,$D9=$BY$5),AND($I$1=$BJ$6,$I9=$BY$5),AND($N$1=$BJ$6,$N9=$BY$5),AND($S$1=$BJ$6,$S9=$BY$5),AND($X$1=$BJ$6,$X9=$BY$5),AND($AC$1=$BJ$6,$AC9=$BY$5),AND($AH$1=$BJ$6,$AH9=$BY$5),AND($AM$1=$BJ$6,$AM9=$BY$5),AND($AR$1=$BJ$6,$AR9=$BY$5),AND($AW$1=$BJ$6,$AW9=$BY$5))) | CA9: =IF(AND($A9="",$C9=""),"",SUM(AND($D$1=$BK$6,$D9=$BY$5),AND($I$1=$BK$6,$I9=$BY$5),AND($N$1=$BK$6,$N9=$BY$5),AND($S$1=$BK$6,$S9=$BY$5),AND($X$1=$BK$6,$X9=$BY$5),AND($AC$1=$BK$6,$AC9=$BY$5),AND($AH$1=$BK$6,$AH9=$BY$5),AND($AM$1=$BK$6,$AM9=$BY$5),AND($AR$1=$BK$6,$AR9=$BY$5),AND($AW$1=$BK$6,$AW9=$BY$5))) | CC9: =IF(AND($A9="",$C9=""),"",SUM(AND($D$1=$BI$6,$D9=$CC$5),AND($I$1=$BI$6,$I9=$CC$5),AND($N$1=$BI$6,$N9=$CC$5),AND($S$1=$BI$6,$S9=$CC$5),AND($X$1=$BI$6,$X9=$CC$5),AND($AC$1=$BI$6,$AC9=$CC$5),AND($AH$1=$BI$6,$AH9=$CC$5),AND($AM$1=$BI$6,$AM9=$CC$5),AND($AR$1=$BI$6,$AR9=$CC$5),AND($AW$1=$BI$6,$AW9=$CC$5))) | CD9: =IF(AND($A9="",$C9=""),"",SUM(AND($D$1=$BJ$6,$D9=$CC$5),AND($I$1=$BJ$6,$I9=$CC$5),AND($N$1=$BJ$6,$N9=$CC$5),AND($S$1=$BJ$6,$S9=$CC$5),AND($X$1=$BJ$6,$X9=$CC$5),AND($AC$1=$BJ$6,$AC9=$CC$5),AND($AH$1=$BJ$6,$AH9=$CC$5),AND($AM$1=$BJ$6,$AM9=$CC$5),AND($AR$1=$BJ$6,$AR9=$CC$5),AND($AW$1=$BJ$6,$AW9=$CC$5))) | CE9: =IF(AND($A9="",$C9=""),"",SUM(AND($D$1=$BK$6,$D9=$CC$5),AND($I$1=$BK$6,$I9=$CC$5),AND($N$1=$BK$6,$N9=$CC$5),AND($S$1=$BK$6,$S9=$CC$5),AND($X$1=$BK$6,$X9=$CC$5),AND($AC$1=$BK$6,$AC9=$CC$5),AND($AH$1=$BK$6,$AH9=$CC$5),AND($AM$1=$BK$6,$AM9=$CC$5),AND($AR$1=$BK$6,$AR9=$CC$5),AND($AW$1=$BK$6,$AW9=$CC$5))) | CF9: =IF(AND($A9="",$C9=""),"",COUNTIF(D9:AW9,"Non Evaluable"))
