Workbook

Sheet Suivi RDS DRRIE
A1: Date d'aujourd'hui :
A2: =TODAY() -> 41449 | C2: Etape1 | E2: Etape2 | G2: Etape3
A3: Date | B3: Date limite de finalisation du programme par DS | C3: Prévisionnel 8 semaines avant | D3: Réel 6 semaines avant | E3: Prévisionnel 3 semaines avant | F3: Réel 10 jrs avant | G3: Prévisionnel 5 jours avant | H3: Réel 48h avant
A4: Octobre | B4: =IF(OR(ISERR($A4-60),ISBLANK($A4)),"",$A4-Paramètres!A$3) | C4: =IF(OR(ISERR($A4-60),ISBLANK($A4)),"",$A4-Paramètres!B$3) | D4: =IF(OR(ISERR($A4-60),ISBLANK($A4)),"",$A4-Paramètres!C$3) | E4: =IF(OR(ISERR($A4-60),ISBLANK($A4)),"",$A4-Paramètres!D$3) | F4: =IF(OR(ISERR($A4-60),ISBLANK($A4)),"",$A4-Paramètres!E$3) | G4: =IF(OR(ISERR($A4-60),ISBLANK($A4)),"",$A4-Paramètres!F$3) | H4: =IF(OR(ISERR($A4-60),ISBLANK($A4)),"",$A4-Paramètres!G$3)
A5: 41545 | B5: =IF(OR(ISERR($A5-60),ISBLANK($A5)),"",$A5-Paramètres!A$3) -> 41485 | C5: =IF(OR(ISERR($A5-60),ISBLANK($A5)),"",$A5-Paramètres!B$3) -> 41489 | D5: =IF(OR(ISERR($A5-60),ISBLANK($A5)),"",$A5-Paramètres!C$3) -> 41503 | E5: =IF(OR(ISERR($A5-60),ISBLANK($A5)),"",$A5-Paramètres!D$3) -> 41524 | F5: =IF(OR(ISERR($A5-60),ISBLANK($A5)),"",$A5-Paramètres!E$3) -> 41535 | G5: =IF(OR(ISERR($A5-60),ISBLANK($A5)),"",$A5-Paramètres!F$3) -> 41540 | H5: =IF(OR(ISERR($A5-60),ISBLANK($A5)),"",$A5-Paramètres!G$3) -> 41543
A6: 41555 | B6: =IF(OR(ISERR($A6-60),ISBLANK($A6)),"",$A6-Paramètres!A$3) -> 41495 | C6: =IF(OR(ISERR($A6-60),ISBLANK($A6)),"",$A6-Paramètres!B$3) -> 41499 | D6: =IF(OR(ISERR($A6-60),ISBLANK($A6)),"",$A6-Paramètres!C$3) -> 41513 | E6: =IF(OR(ISERR($A6-60),ISBLANK($A6)),"",$A6-Paramètres!D$3) -> 41534 | F6: =IF(OR(ISERR($A6-60),ISBLANK($A6)),"",$A6-Paramètres!E$3) -> 41545 | G6: =IF(OR(ISERR($A6-60),ISBLANK($A6)),"",$A6-Paramètres!F$3) -> 41550 | H6: =IF(OR(ISERR($A6-60),ISBLANK($A6)),"",$A6-Paramètres!G$3) -> 41553
A7: 41450 | B7: =IF(OR(ISERR($A7-60),ISBLANK($A7)),"",$A7-Paramètres!A$3) -> 41390 | C7: =IF(OR(ISERR($A7-60),ISBLANK($A7)),"",$A7-Paramètres!B$3) -> 41394 | D7: =IF(OR(ISERR($A7-60),ISBLANK($A7)),"",$A7-Paramètres!C$3) -> 41408 | E7: =IF(OR(ISERR($A7-60),ISBLANK($A7)),"",$A7-Paramètres!D$3) -> 41429 | F7: =IF(OR(ISERR($A7-60),ISBLANK($A7)),"",$A7-Paramètres!E$3) -> 41440 | G7: =IF(OR(ISERR($A7-60),ISBLANK($A7)),"",$A7-Paramètres!F$3) -> 41445 | H7: =IF(OR(ISERR($A7-60),ISBLANK($A7)),"",$A7-Paramètres!G$3) -> 41448
A8: 41543 | B8: =IF(OR(ISERR($A8-60),ISBLANK($A8)),"",$A8-Paramètres!A$3) -> 41483 | C8: =IF(OR(ISERR($A8-60),ISBLANK($A8)),"",$A8-Paramètres!B$3) -> 41487 | D8: =IF(OR(ISERR($A8-60),ISBLANK($A8)),"",$A8-Paramètres!C$3) -> 41501 | E8: =IF(OR(ISERR($A8-60),ISBLANK($A8)),"",$A8-Paramètres!D$3) -> 41522 | F8: =IF(OR(ISERR($A8-60),ISBLANK($A8)),"",$A8-Paramètres!E$3) -> 41533 | G8: =IF(OR(ISERR($A8-60),ISBLANK($A8)),"",$A8-Paramètres!F$3) -> 41538 | H8: =IF(OR(ISERR($A8-60),ISBLANK($A8)),"",$A8-Paramètres!G$3) -> 41541
A9: 19 septembre ou 1er octobre | B9: =IF(OR(ISERR($A9-60),ISBLANK($A9)),"",$A9-Paramètres!A$3) | C9: =IF(OR(ISERR($A9-60),ISBLANK($A9)),"",$A9-Paramètres!B$3) | D9: =IF(OR(ISERR($A9-60),ISBLANK($A9)),"",$A9-Paramètres!C$3) | E9: =IF(OR(ISERR($A9-60),ISBLANK($A9)),"",$A9-Paramètres!D$3) | F9: =IF(OR(ISERR($A9-60),ISBLANK($A9)),"",$A9-Paramètres!E$3) | G9: =IF(OR(ISERR($A9-60),ISBLANK($A9)),"",$A9-Paramètres!F$3) | H9: =IF(OR(ISERR($A9-60),ISBLANK($A9)),"",$A9-Paramètres!G$3)

Sheet Paramètres
A1: Délai
A2: Programme | B2: 8 semaines | C2: 6 semaines | D2: 3 semaines | E2: 10 jours | F2: 5 jours | G2: 48h
A3: 60 | B3: 56 | C3: 42 | D3: 21 | E3: 10 | F3: 5 | G3: 2
