Workbook

Sheet Feuil1
A1: N° | B1: acheteur | C1: origine | D1: montant | F1: total
D2: payé | E2: impayé
A3: 1 | B3: Mr Loizo | C3: vente neuf | D3: 1000 | E3: 4000 | F3: =SUM(D3:E3) -> 5000
A4: 2 | B4: Mr Bernard | C4: vente neuf | D4: 500 | F4: =SUM(D4:E4) -> 500
A5: 3 | B5: Mr Loic | C5: vente occaz | D5: 200 | F5: =SUM(D5:E5) -> 200
A6: 4 | B6: Mr germain | C6: vente neuf | E6: 1000 | F6: =SUM(D6:E6) -> 1000
A7: 5 | B7: Mr trucmuche | C7: vente occaz | D7: 2000 | F7: =SUM(D7:E7) -> 2000
A8: 6 | B8: mr Bibandome | C8: vente neuf | D8: 1000 | F8: =SUM(D8:E8) -> 1000
A9: 7 | B9: Mr Grouard | C9: vente occaz | E9: 3000 | F9: =SUM(D9:E9) -> 3000
A10: total | D10: =SUM(D3:D9) -> 4700 | E10: =SUM(E3:E9) -> 8000 | F10: =SUM(D10:E10) -> 12700

Sheet Feuil2
B1: CE QUE J'AI: | J1: CE QUE j'aimerais
A3: N° | B3: acheteur | C3: origine | D3: montant | F3: total | I3: =A3 -> N° | J3: =B3 -> acheteur | K3: =C3 -> origine | L3: =D3 -> montant | N3: =F3 -> total
D4: payé | I4: 1 | J4: 2 | K4: =C4 -> 0 | L4: =D4 -> payé | N4: =F4 -> 0
A5: =IF(Feuil1!$D3<>0,HLOOKUP(Feuil1!A3,Feuil1!A3:E9,1),"") -> 1 | B5: =IF(Feuil1!$D3<>0,HLOOKUP(Feuil1!B3,Feuil1!B3:F9,1),"") -> Mr Loizo | C5: =IF(Feuil1!$D3<>0,HLOOKUP(Feuil1!C3,Feuil1!C3:G9,1),"") -> vente neuf | D5: =IF(Feuil1!$D3<>0,HLOOKUP(Feuil1!D3,Feuil1!D3:H9,1),"") -> 1000 | F5: =SUM(D5:E5) -> 1000 | I5: 2 | J5: Mr Bernard | K5: =C5 -> vente neuf | L5: =D5 -> 1000 | M5: =E5 -> 0 | N5: =F5 -> 1000
A6: =IF(Feuil1!$D4<>0,HLOOKUP(Feuil1!A4,Feuil1!A4:E10,1),"") -> 2 | B6: =IF(Feuil1!$D4<>0,HLOOKUP(Feuil1!B4,Feuil1!B4:F10,1),"") -> Mr Bernard | C6: =IF(Feuil1!$D4<>0,HLOOKUP(Feuil1!C4,Feuil1!C4:G10,1),"") -> vente neuf | D6: =IF(Feuil1!$D4<>0,HLOOKUP(Feuil1!D4,Feuil1!D4:H10,1),"") -> 500 | F6: =SUM(D6:E6) -> 500 | I6: =A7 -> 3 | J6: =B7 -> Mr Loic | K6: =C7 -> vente occaz | L6: =D7 -> 200 | M6: =E7 -> 0 | N6: =F7 -> 200
A7: =IF(Feuil1!$D5<>0,HLOOKUP(Feuil1!A5,Feuil1!A5:E11,1),"") -> 3 | B7: =IF(Feuil1!$D5<>0,HLOOKUP(Feuil1!B5,Feuil1!B5:F11,1),"") -> Mr Loic | C7: =IF(Feuil1!$D5<>0,HLOOKUP(Feuil1!C5,Feuil1!C5:G11,1),"") -> vente occaz | D7: =IF(Feuil1!$D5<>0,HLOOKUP(Feuil1!D5,Feuil1!D5:H11,1),"") -> 200 | F7: =SUM(D7:E7) -> 200 | I7: =A9 -> 5 | J7: =B9 -> Mr trucmuche | K7: =C9 -> vente occaz | L7: =D9 -> 2000 | M7: =E9 -> 0 | N7: =F9 -> 2000
A8: =IF(Feuil1!$D6<>0,HLOOKUP(Feuil1!A6,Feuil1!A6:E12,1),"") | B8: =IF(Feuil1!$D6<>0,HLOOKUP(Feuil1!B6,Feuil1!B6:F12,1),"") | C8: =IF(Feuil1!$D6<>0,HLOOKUP(Feuil1!C6,Feuil1!C6:G12,1),"") | D8: =IF(Feuil1!$D6<>0,HLOOKUP(Feuil1!D6,Feuil1!D6:H12,1),"") | F8: =SUM(D8:E8) -> 0 | I8: =A10 -> 6 | J8: =B10 -> mr Bibandome | K8: =C10 -> vente neuf | L8: =D10 -> 1000 | M8: =E10 -> 0 | N8: =F10 -> 1000
A9: =IF(Feuil1!$D7<>0,HLOOKUP(Feuil1!A7,Feuil1!A7:E13,1),"") -> 5 | B9: =IF(Feuil1!$D7<>0,HLOOKUP(Feuil1!B7,Feuil1!B7:F13,1),"") -> Mr trucmuche | C9: =IF(Feuil1!$D7<>0,HLOOKUP(Feuil1!C7,Feuil1!C7:G13,1),"") -> vente occaz | D9: =IF(Feuil1!$D7<>0,HLOOKUP(Feuil1!D7,Feuil1!D7:H13,1),"") -> 2000 | F9: =SUM(D9:E9) -> 2000 | I9: =A11 | J9: =B11 | K9: =C11 | L9: =D11 | M9: =E11 -> 0 | N9: =F11 -> 0
A10: =IF(Feuil1!$D8<>0,HLOOKUP(Feuil1!A8,Feuil1!A8:E14,1),"") -> 6 | B10: =IF(Feuil1!$D8<>0,HLOOKUP(Feuil1!B8,Feuil1!B8:F14,1),"") -> mr Bibandome | C10: =IF(Feuil1!$D8<>0,HLOOKUP(Feuil1!C8,Feuil1!C8:G14,1),"") -> vente neuf | D10: =IF(Feuil1!$D8<>0,HLOOKUP(Feuil1!D8,Feuil1!D8:H14,1),"") -> 1000 | F10: =SUM(D10:E10) -> 1000 | I10: =A12 -> total | J10: =B12 -> 0 | K10: =C12 -> 0 | L10: =D12 -> 4700 | M10: =E12 -> 0 | N10: =F12 -> 4700
A11: =IF(Feuil1!$D9<>0,HLOOKUP(Feuil1!A9,Feuil1!A9:E15,1),"") | B11: =IF(Feuil1!$D9<>0,HLOOKUP(Feuil1!B9,Feuil1!B9:F15,1),"") | C11: =IF(Feuil1!$D9<>0,HLOOKUP(Feuil1!C9,Feuil1!C9:G15,1),"") | D11: =IF(Feuil1!$D9<>0,HLOOKUP(Feuil1!D9,Feuil1!D9:H15,1),"") | F11: =SUM(D11:E11) -> 0
A12: total | D12: =SUM(D5:D11) -> 4700 | F12: =SUM(D12:E12) -> 4700
A14: N° | B14: acheteur | C14: origine | D14: montant | F14: Total | I14: =A14 -> N° | J14: =B14 -> acheteur | K14: =C14 -> origine | L14: =D14 -> montant | N14: =F14 -> Total
D15: impayé | I15: =A15 -> 0 | J15: =B15 -> 0 | K15: =C15 -> 0 | M15: =D15 -> impayé | N15: =F15 -> 0
A16: =IF(Feuil1!$E3<>0,HLOOKUP(Feuil1!A3,Feuil1!A3:E9,1),"") -> 1 | B16: =IF(Feuil1!$E3<>0,HLOOKUP(Feuil1!B3,Feuil1!B3:F9,1),"") -> Mr Loizo | C16: =IF(Feuil1!$E3<>0,HLOOKUP(Feuil1!C3,Feuil1!C3:G9,1),"") -> vente neuf | E16: =IF(Feuil1!$E3<>0,HLOOKUP(Feuil1!E3,Feuil1!E3:I9,1),"") -> 4000 | F16: =SUM(D16:E16) -> 4000 | I16: =A16 -> 1 | J16: =B16 -> Mr Loizo | K16: =C16 -> vente neuf | M16: =E16 -> 4000 | N16: =F16 -> 4000
A17: =IF(Feuil1!$E4<>0,HLOOKUP(Feuil1!A4,Feuil1!A4:E10,1),"") | B17: =IF(Feuil1!$E4<>0,HLOOKUP(Feuil1!B4,Feuil1!B4:F10,1),"") | C17: =IF(Feuil1!$E4<>0,HLOOKUP(Feuil1!C4,Feuil1!C4:G10,1),"") | E17: =IF(Feuil1!$E4<>0,HLOOKUP(Feuil1!E4,Feuil1!E4:I10,1),"") | F17: =SUM(D17:E17) -> 0 | I17: =A19 -> 4 | J17: Mr germain | K17: =C19 -> vente neuf | L17: =D19 -> 0 | M17: =E19 -> 1000 | N17: =F19 -> 1000
A18: =IF(Feuil1!$E5<>0,HLOOKUP(Feuil1!A5,Feuil1!A5:E11,1),"") | B18: =IF(Feuil1!$E5<>0,HLOOKUP(Feuil1!B5,Feuil1!B5:F11,1),"") | C18: =IF(Feuil1!$E5<>0,HLOOKUP(Feuil1!C5,Feuil1!C5:G11,1),"") | E18: =IF(Feuil1!$E5<>0,HLOOKUP(Feuil1!E5,Feuil1!E5:I11,1),"") | F18: =SUM(D18:E18) -> 0 | I18: =A22 -> 7 | J18: =B22 -> Mr Grouard | K18: =C22 -> vente occaz | L18: =D22 -> 0 | M18: =E22 -> 3000 | N18: =F22 -> 3000
A19: =IF(Feuil1!$E6<>0,HLOOKUP(Feuil1!A6,Feuil1!A6:E12,1),"") -> 4 | B19: =IF(Feuil1!$E6<>0,HLOOKUP(Feuil1!B6,Feuil1!B6:F12,1),"") -> Mr germain | C19: =IF(Feuil1!$E6<>0,HLOOKUP(Feuil1!C6,Feuil1!C6:G12,1),"") -> vente neuf | E19: =IF(Feuil1!$E6<>0,HLOOKUP(Feuil1!E6,Feuil1!E6:I12,1),"") -> 1000 | F19: =SUM(D19:E19) -> 1000
A20: =IF(Feuil1!$E7<>0,HLOOKUP(Feuil1!A7,Feuil1!A7:E13,1),"") | B20: =IF(Feuil1!$E7<>0,HLOOKUP(Feuil1!B7,Feuil1!B7:F13,1),"") | C20: =IF(Feuil1!$E7<>0,HLOOKUP(Feuil1!C7,Feuil1!C7:G13,1),"") | E20: =IF(Feuil1!$E7<>0,HLOOKUP(Feuil1!E7,Feuil1!E7:I13,1),"") | F20: =SUM(D20:E20) -> 0
A21: =IF(Feuil1!$E8<>0,HLOOKUP(Feuil1!A8,Feuil1!A8:E14,1),"") | B21: =IF(Feuil1!$E8<>0,HLOOKUP(Feuil1!B8,Feuil1!B8:F14,1),"") | C21: =IF(Feuil1!$E8<>0,HLOOKUP(Feuil1!C8,Feuil1!C8:G14,1),"") | E21: =IF(Feuil1!$E8<>0,HLOOKUP(Feuil1!E8,Feuil1!E8:I14,1),"") | F21: =SUM(D21:E21) -> 0
A22: =IF(Feuil1!$E9<>0,HLOOKUP(Feuil1!A9,Feuil1!A9:E15,1),"") -> 7 | B22: =IF(Feuil1!$E9<>0,HLOOKUP(Feuil1!B9,Feuil1!B9:F15,1),"") -> Mr Grouard | C22: =IF(Feuil1!$E9<>0,HLOOKUP(Feuil1!C9,Feuil1!C9:G15,1),"") -> vente occaz | E22: =IF(Feuil1!$E9<>0,HLOOKUP(Feuil1!E9,Feuil1!E9:I15,1),"") -> 3000 | F22: =SUM(D22:E22) -> 3000
A23: Total | D23: =SUM(D16:D22) -> 0 | F23: =SUM(D23:E23) -> 0 | I23: =A23 -> Total | J23: =B23 -> 0 | K23: =C23 -> 0 | L23: =D23 -> 0 | M23: =E23 -> 0 | N23: =SUM(N15:N22) -> 8000
