Workbook

Sheet COMMANDE
A1: CLIENT | B1: CODE PRODUIT | C1: REFERENCE | D1: POIDS en KG/Litre | E1: QUANTITE | F1: Cello | G1: POIDS TOTAL en KG/Litre
A2: JACK | B2: ALG100 | C2: =VLOOKUP(B2,BDD!A:B,2) -> ALGUES 100G | D2: =VLOOKUP(B2,BDD!A:C,3) -> 0.1 | E2: 65 | F2: C | G2: =E2*D2 -> 6.5
B3: AMBCO100 | C3: =VLOOKUP(B3,BDD!A:B,2) -> AMBRE COLORE 100G | D3: =VLOOKUP(B3,BDD!A:C,3) -> 0.1 | E3: 88 | F3: C | G3: =E3*D3 -> 8.8
B4: AMAM100 | C4: =VLOOKUP(B4,BDD!A:B,2) -> AMANDE AMERE 100G | D4: =VLOOKUP(B4,BDD!A:C,3) -> 0.1 | E4: 35 | F4: C | G4: =E4*D4 -> 3.5
C5: =VLOOKUP(B5,BDD!A:B,2) -> #N/A | D5: =VLOOKUP(B5,BDD!A:C,3) -> #N/A | G5: =E5*D5 -> #N/A
A6: DRAGON | B6: ALOECU150 | C6: =VLOOKUP(B6,BDD!A:B,2) -> ALOE VERA CUBE 150G | D6: =VLOOKUP(B6,BDD!A:C,3) -> 0.15 | E6: 700 | F6: C | G6: =E6*D6 -> 105
B7: ALOE100 | C7: =VLOOKUP(B7,BDD!A:B,2) -> ALOE VERA 100G | D7: =VLOOKUP(B7,BDD!A:C,3) -> 0.1 | E7: 500 | F7: C | G7: =E7*D7 -> 50
B8: ALGCU150 | C8: =VLOOKUP(B8,BDD!A:B,2) -> ALGUES CUBE 150G | D8: =VLOOKUP(B8,BDD!A:C,3) -> 0.15 | E8: 250 | F8: X | G8: =E8*D8 -> 37.5
C9: =VLOOKUP(B9,BDD!A:B,2) -> #N/A | D9: =VLOOKUP(B9,BDD!A:C,3) -> #N/A | G9: =E9*D9 -> #N/A
C10: =VLOOKUP(B10,BDD!A:B,2) -> #N/A | D10: =VLOOKUP(B10,BDD!A:C,3) -> #N/A | G10: =E10*D10 -> #N/A
C11: =VLOOKUP(B11,BDD!A:B,2) -> #N/A | D11: =VLOOKUP(B11,BDD!A:C,3) -> #N/A | G11: =E11*D11 -> #N/A
C12: =VLOOKUP(B12,BDD!A:B,2) -> #N/A | D12: =VLOOKUP(B12,BDD!A:C,3) -> #N/A | G12: =E12*D12 -> #N/A

Sheet Feuil2
A1: CLIENT | B1: Code Produit | C1: Reference | D1: Quantité
A2: =IF(COMMANDE!F2="C",IF(COMMANDE!A2="",A1,COMMANDE!A2),"") -> JACK | B2: =IF(COMMANDE!F2="C",COMMANDE!B2,"") -> ALG100 | C2: =IFERROR(VLOOKUP(B2,COMMANDE!B:G,2,FALSE),"") -> ALGUES 100G | D2: =IFERROR(VLOOKUP(B2,COMMANDE!B:G,4,FALSE),"") -> 65
A3: =IF(COMMANDE!F3="C",IF(COMMANDE!A3="",A2,COMMANDE!A3),"") -> JACK | B3: =IF(COMMANDE!F3="C",COMMANDE!B3,"") -> AMBCO100 | C3: =IFERROR(VLOOKUP(B3,COMMANDE!B:G,2,FALSE),"") -> AMBRE COLORE 100G | D3: =IFERROR(VLOOKUP(B3,COMMANDE!B:G,4,FALSE),"") -> 88
A4: =IF(COMMANDE!F4="C",IF(COMMANDE!A4="",A3,COMMANDE!A4),"") -> JACK | B4: =IF(COMMANDE!F4="C",COMMANDE!B4,"") -> AMAM100 | C4: =IFERROR(VLOOKUP(B4,COMMANDE!B:G,2,FALSE),"") -> AMANDE AMERE 100G | D4: =IFERROR(VLOOKUP(B4,COMMANDE!B:G,4,FALSE),"") -> 35
A5: =IF(COMMANDE!F5="C",IF(COMMANDE!A5="",A4,COMMANDE!A5),"") | B5: =IF(COMMANDE!F5="C",COMMANDE!B5,"") | C5: =IFERROR(VLOOKUP(B5,COMMANDE!B:G,2,FALSE),"") | D5: =IFERROR(VLOOKUP(B5,COMMANDE!B:G,4,FALSE),"")
A6: =IF(COMMANDE!F6="C",IF(COMMANDE!A6="",A5,COMMANDE!A6),"") -> DRAGON | B6: =IF(COMMANDE!F6="C",COMMANDE!B6,"") -> ALOECU150 | C6: =IFERROR(VLOOKUP(B6,COMMANDE!B:G,2,FALSE),"") -> ALOE VERA CUBE 150G | D6: =IFERROR(VLOOKUP(B6,COMMANDE!B:G,4,FALSE),"") -> 700
A7: =IF(COMMANDE!F7="C",IF(COMMANDE!A7="",A6,COMMANDE!A7),"") -> DRAGON | B7: =IF(COMMANDE!F7="C",COMMANDE!B7,"") -> ALOE100 | C7: =IFERROR(VLOOKUP(B7,COMMANDE!B:G,2,FALSE),"") -> ALOE VERA 100G | D7: =IFERROR(VLOOKUP(B7,COMMANDE!B:G,4,FALSE),"") -> 500
A8: =IF(COMMANDE!F8="C",IF(COMMANDE!A8="",A7,COMMANDE!A8),"") | B8: =IF(COMMANDE!F8="C",COMMANDE!B8,"") | C8: =IFERROR(VLOOKUP(B8,COMMANDE!B:G,2,FALSE),"") | D8: =IFERROR(VLOOKUP(B8,COMMANDE!B:G,4,FALSE),"")
A9: =IF(COMMANDE!F9="C",IF(COMMANDE!A9="",A8,COMMANDE!A9),"") | B9: =IF(COMMANDE!F9="C",COMMANDE!B9,"") | C9: =IFERROR(VLOOKUP(B9,COMMANDE!B:G,2,FALSE),"") | D9: =IFERROR(VLOOKUP(B9,COMMANDE!B:G,4,FALSE),"")
A10: =IF(COMMANDE!F10="C",IF(COMMANDE!A10="",A9,COMMANDE!A10),"") | B10: =IF(COMMANDE!F10="C",COMMANDE!B10,"") | C10: =IFERROR(VLOOKUP(B10,COMMANDE!B:G,2,FALSE),"") | D10: =IFERROR(VLOOKUP(B10,COMMANDE!B:G,4,FALSE),"")
A11: =IF(COMMANDE!F11="C",IF(COMMANDE!A11="",A10,COMMANDE!A11),"") | B11: =IF(COMMANDE!F11="C",COMMANDE!B11,"") | C11: =IFERROR(VLOOKUP(B11,COMMANDE!B:G,2,FALSE),"") | D11: =IFERROR(VLOOKUP(B11,COMMANDE!B:G,4,FALSE),"")
A12: =IF(COMMANDE!F12="C",IF(COMMANDE!A12="",A11,COMMANDE!A12),"") | B12: =IF(COMMANDE!F12="C",COMMANDE!B12,"") | C12: =IFERROR(VLOOKUP(B12,COMMANDE!B:G,2,FALSE),"") | D12: =IFERROR(VLOOKUP(B12,COMMANDE!B:G,4,FALSE),"")
A13: =IF(COMMANDE!F13="C",IF(COMMANDE!A13="",A12,COMMANDE!A13),"") | B13: =IF(COMMANDE!F13="C",COMMANDE!B13,"") | C13: =IFERROR(VLOOKUP(B13,COMMANDE!B:G,2,FALSE),"") | D13: =IFERROR(VLOOKUP(B13,COMMANDE!B:G,4,FALSE),"")
A14: =IF(COMMANDE!F14="C",IF(COMMANDE!A14="",A13,COMMANDE!A14),"") | B14: =IF(COMMANDE!F14="C",COMMANDE!B14,"") | C14: =IFERROR(VLOOKUP(B14,COMMANDE!B:G,2,FALSE),"") | D14: =IFERROR(VLOOKUP(B14,COMMANDE!B:G,4,FALSE),"")

Sheet BDD
A1: Code Produit | B1: Parfums | C1: POIDS AU KILOS
A2: ALG100 | B2: ALGUES 100G | C2: 0.1
A3: ALG125 | B3: ALGUES 125G | C3: 0.125
A4: ALG250 | B4: ALGUES 250G | C4: 0.25
A5: ALG300 | B5: ALGUES 300G | C5: 0.3
A6: ALGCU150 | B6: ALGUES CUBE 150G | C6: 0.15
A7: ALGOV200 | B7: ALGUES OVALE 200G | C7: 0.2
A8: ALOE100 | B8: ALOE VERA 100G | C8: 0.1
A9: ALOE125 | B9: ALOE VERA 125G | C9: 0.125
A10: ALOECU150 | B10: ALOE VERA CUBE 150G | C10: 0.15
A11: AMAM100 | B11: AMANDE AMERE 100G | C11: 0.1
A12: AMAM250 | B12: AMANDE AMERE 250G | C12: 0.25
A13: AMAMCU150 | B13: AMANDE AMERE CUBE 150G | C13: 0.15
... A15: AMBCO100 | B15: AMBRE COLORE 100G | C15: 0.1
