Workbook
Name ingrédient: 'base de donnée conso réelle'!$A$2:$A$83
Name liste_ingredients: #REF!
Name liste_produit: #REF!
Name liste_produits: #REF!
Name listedesrecettes: #REF!
Name produits: [1]Recette!$B$1:$Z$1
Name recette: 'base de donnée conso réelle'!$B$1:$AG$1
Name tableau: #REF!

Sheet conso réelle planning
A2: produit | C2: nombre de pate
A3: pdt 1 | C3: 12
A4: pdt2 | C4: 2
A5: pdt 8 | C5: 8
A6: pdt 17 | C6: 14
A7: pdt 28 | C7: 3
A8: pdt 12 | C8: 2
A9: pdt 9 | C9: 42
A10: pdt 14 | C10: 10
A11: pdt 20 | C11: 5
B13: =MATCH(B14,'base de donnée conso réelle'!$A$1:$AG$1,0) -> 2 | C13: =MATCH(C14,'base de donnée conso réelle'!$A$1:$AG$1,0) -> 3 | D13: =MATCH(D14,'base de donnée conso réelle'!$A$1:$AG$1,0) -> 9 | E13: =MATCH(E14,'base de donnée conso réelle'!$A$1:$AG$1,0) -> 19 | F13: =MATCH(F14,'base de donnée conso réelle'!$A$1:$AG$1,0) -> 33 | G13: =MATCH(G14,'base de donnée conso réelle'!$A$1:$AG$1,0) -> 13 | H13: =MATCH(H14,'base de donnée conso réelle'!$A$1:$AG$1,0) -> 10 | I13: =MATCH(I14,'base de donnée conso réelle'!$A$1:$AG$1,0) -> 15 | J13: =MATCH(J14,'base de donnée conso réelle'!$A$1:$AG$1,0) -> 22
B14: =A3 -> pdt 1 | C14: =A4 -> pdt2 | D14: =A5 -> pdt 8 | E14: =A6 -> pdt 17 | F14: =A7 -> pdt 28 | G14: =A8 -> pdt 12 | H14: =A9 -> pdt 9 | I14: =A10 -> pdt 14 | J14: =A11 -> pdt 20 | K14: Quantité totale | L14: unité
A15: ='base de donnée conso réelle'!A2 -> a | B15: =OFFSET('base de donnée conso réelle'!$A$1,$M15,B$13-1)*VLOOKUP(B$14,$A$3:$D$11,3,FALSE) -> 6972 | C15: =OFFSET('base de donnée conso réelle'!$A$1,$M15,C$13-1)*VLOOKUP(C$14,$A$3:$D$11,3,FALSE) -> 1234 | D15: =OFFSET('base de donnée conso réelle'!$A$1,$M15,D$13-1)*VLOOKUP(D$14,$A$3:$D$11,3,FALSE) -> 4880 | E15: =OFFSET('base de donnée conso réelle'!$A$1,$M15,E$13-1)*VLOOKUP(E$14,$A$3:$D$11,3,FALSE) -> 8918 | F15: =OFFSET('base de donnée conso réelle'!$A$1,$M15,F$13-1)*VLOOKUP(F$14,$A$3:$D$11,3,FALSE) -> 1572 | G15: =OFFSET('base de donnée conso réelle'!$A$1,$M15,G$13-1)*VLOOKUP(G$14,$A$3:$D$11,3,FALSE) -> 0 | H15: =OFFSET('base de donnée conso réelle'!$A$1,$M15,H$13-1)*VLOOKUP(H$14,$A$3:$D$11,3,FALSE) -> 25620 | I15: =OFFSET('base de donnée conso réelle'!$A$1,$M15,I$13-1)*VLOOKUP(I$14,$A$3:$D$11,3,FALSE) -> 0 | J15: =OFFSET('base de donnée conso réelle'!$A$1,$M15,J$13-1)*VLOOKUP(J$14,$A$3:$D$11,3,FALSE) -> 2400 | K15: =SUM(B15:J15) -> 51596 | L15: kg | M15: =MATCH(A15,ingrédient,0) -> 1
A16: ='base de donnée conso réelle'!A3 -> b | B16: =OFFSET('base de donnée conso réelle'!$A$1,$M16,B$13-1)*VLOOKUP(B$14,$A$3:$D$11,3,FALSE) -> 908.4 | C16: =OFFSET('base de donnée conso réelle'!$A$1,$M16,C$13-1)*VLOOKUP(C$14,$A$3:$D$11,3,FALSE) -> 160.2 | D16: =OFFSET('base de donnée conso réelle'!$A$1,$M16,D$13-1)*VLOOKUP(D$14,$A$3:$D$11,3,FALSE) -> 639.2 | E16: =OFFSET('base de donnée conso réelle'!$A$1,$M16,E$13-1)*VLOOKUP(E$14,$A$3:$D$11,3,FALSE) -> 1071 | F16: =OFFSET('base de donnée conso réelle'!$A$1,$M16,F$13-1)*VLOOKUP(F$14,$A$3:$D$11,3,FALSE) -> 79.5 | G16: =OFFSET('base de donnée conso réelle'!$A$1,$M16,G$13-1)*VLOOKUP(G$14,$A$3:$D$11,3,FALSE) -> 0 | H16: =OFFSET('base de donnée conso réelle'!$A$1,$M16,H$13-1)*VLOOKUP(H$14,$A$3:$D$11,3,FALSE) -> 3355.8 | I16: =OFFSET('base de donnée conso réelle'!$A$1,$M16,I$13-1)*VLOOKUP(I$14,$A$3:$D$11,3,FALSE) -> 0 | J16: =OFFSET('base de donnée conso réelle'!$A$1,$M16,J$13-1)*VLOOKUP(J$14,$A$3:$D$11,3,FALSE) -> 215.5 | K16: =SUM(B16:J16) -> 6429.6 | L16: kg | M16: =MATCH(A16,ingrédient,0) -> 2
A17: ='base de donnée conso réelle'!A4 -> c | B17: =OFFSET('base de donnée conso réelle'!$A$1,$M17,B$13-1)*VLOOKUP(B$14,$A$3:$D$11,3,FALSE) -> 126 | C17: =OFFSET('base de donnée conso réelle'!$A$1,$M17,C$13-1)*VLOOKUP(C$14,$A$3:$D$11,3,FALSE) -> 21.8 | D17: =OFFSET('base de donnée conso réelle'!$A$1,$M17,D$13-1)*VLOOKUP(D$14,$A$3:$D$11,3,FALSE) -> 88 | E17: =OFFSET('base de donnée conso réelle'!$A$1,$M17,E$13-1)*VLOOKUP(E$14,$A$3:$D$11,3,FALSE) -> 179.2 | F17: =OFFSET('base de donnée conso réelle'!$A$1,$M17,F$13-1)*VLOOKUP(F$14,$A$3:$D$11,3,FALSE) -> 28.2 | G17: =OFFSET('base de donnée conso réelle'!$A$1,$M17,G$13-1)*VLOOKUP(G$14,$A$3:$D$11,3,FALSE) -> 0 | H17: =OFFSET('base de donnée conso réelle'!$A$1,$M17,H$13-1)*VLOOKUP(H$14,$A$3:$D$11,3,FALSE) -> 420 | I17: =OFFSET('base de donnée conso réelle'!$A$1,$M17,I$13-1)*VLOOKUP(I$14,$A$3:$D$11,3,FALSE) -> 0 | J17: =OFFSET('base de donnée conso réelle'!$A$1,$M17,J$13-1)*VLOOKUP(J$14,$A$3:$D$11,3,FALSE) -> 47.5 | K17: =SUM(B17:J17) -> 910.7 | L17: kg | M17: =MATCH(A17,ingrédient,0) -> 3
A18: ='base de donnée conso réelle'!A5 -> d | B18: =OFFSET('base de donnée conso réelle'!$A$1,$M18,B$13-1)*VLOOKUP(B$14,$A$3:$D$11,3,FALSE) -> 23.64 | C18: =OFFSET('base de donnée conso réelle'!$A$1,$M18,C$13-1)*VLOOKUP(C$14,$A$3:$D$11,3,FALSE) -> 4.56 | D18: =OFFSET('base de donnée conso réelle'!$A$1,$M18,D$13-1)*VLOOKUP(D$14,$A$3:$D$11,3,FALSE) -> 12.64 | E18: =OFFSET('base de donnée conso réelle'!$A$1,$M18,E$13-1)*VLOOKUP(E$14,$A$3:$D$11,3,FALSE) -> 49 | F18: =OFFSET('base de donnée conso réelle'!$A$1,$M18,F$13-1)*VLOOKUP(F$14,$A$3:$D$11,3,FALSE) -> 4.86 | G18: =OFFSET('base de donnée conso réelle'!$A$1,$M18,G$13-1)*VLOOKUP(G$14,$A$3:$D$11,3,FALSE) -> 0 | H18: =OFFSET('base de donnée conso réelle'!$A$1,$M18,H$13-1)*VLOOKUP(H$14,$A$3:$D$11,3,FALSE) -> 54.6 | I18: =OFFSET('base de donnée conso réelle'!$A$1,$M18,I$13-1)*VLOOKUP(I$14,$A$3:$D$11,3,FALSE) -> 0 | J18: =OFFSET('base de donnée conso réelle'!$A$1,$M18,J$13-1)*VLOOKUP(J$14,$A$3:$D$11,3,FALSE) -> 8.5 | K18: =SUM(B18:J18) -> 157.8 | L18: kg | M18: =MATCH(A18,ingrédient,0) -> 4
A19: ='base de donnée conso réelle'!A6 -> e | B19: =OFFSET('base de donnée conso réelle'!$A$1,$M19,B$13-1)*VLOOKUP(B$14,$A$3:$D$11,3,FALSE) -> 208.8 | C19: =OFFSET('base de donnée conso réelle'!$A$1,$M19,C$13-1)*VLOOKUP(C$14,$A$3:$D$11,3,FALSE) -> 37 | D19: =OFFSET('base de donnée conso réelle'!$A$1,$M19,D$13-1)*VLOOKUP(D$14,$A$3:$D$11,3,FALSE) -> 146.4 | E19: =OFFSET('base de donnée conso réelle'!$A$1,$M19,E$13-1)*VLOOKUP(E$14,$A$3:$D$11,3,FALSE) -> 383.6 | F19: =OFFSET('base de donnée conso réelle'!$A$1,$M19,F$13-1)*VLOOKUP(F$14,$A$3:$D$11,3,FALSE) -> 51.6 | G19: =OFFSET('base de donnée conso réelle'!$A$1,$M19,G$13-1)*VLOOKUP(G$14,$A$3:$D$11,3,FALSE) -> 0 | H19: =OFFSET('base de donnée conso réelle'!$A$1,$M19,H$13-1)*VLOOKUP(H$14,$A$3:$D$11,3,FALSE) -> 768.6 | I19: =OFFSET('base de donnée conso réelle'!$A$1,$M19,I$13-1)*VLOOKUP(I$14,$A$3:$D$11,3,FALSE) -> 0 | J19: =OFFSET('base de donnée conso réelle'!$A$1,$M19,J$13-1)*VLOOKUP(J$14,$A$3:$D$11,3,FALSE) -> 84 | K19: =SUM(B19:J19) -> 1680 | L19: Litre | M19: =MATCH(A19,ingrédient,0) -> 5
A20: ='base de donnée conso réelle'!A7 -> f | B20: =OFFSET('base de donnée conso réelle'!$A$1,$M20,B$13-1)*VLOOKUP(B$14,$A$3:$D$11,3,FALSE) -> 0.84 | C20: =OFFSET('base de donnée conso réelle'!$A$1,$M20,C$13-1)*VLOOKUP(C$14,$A$3:$D$11,3,FALSE) -> 0.9 | D20: =OFFSET('base de donnée conso réelle'!$A$1,$M20,D$13-1)*VLOOKUP(D$14,$A$3:$D$11,3,FALSE) -> 4.8 | E20: =OFFSET('base de donnée conso réelle'!$A$1,$M20,E$13-1)*VLOOKUP(E$14,$A$3:$D$11,3,FALSE) -> 8.96 | F20: =OFFSET('base de donnée conso réelle'!$A$1,$M20,F$13-1)*VLOOKUP(F$14,$A$3:$D$11,3,FALSE) -> 1.23 | G20: =OFFSET('base de donnée conso réelle'!$A$1,$M20,G$13-1)*VLOOKUP(G$14,$A$3:$D$11,3,FALSE) -> 0 | H20: =OFFSET('base de donnée conso réelle'!$A$1,$M20,H$13-1)*VLOOKUP(H$14,$A$3:$D$11,3,FALSE) -> 25.2 | I20: =OFFSET('base de donnée conso réelle'!$A$1,$M20,I$13-1)*VLOOKUP(I$14,$A$3:$D$11,3,FALSE) -> 0 | J20: =OFFSET('base de donnée conso réelle'!$A$1,$M20,J$13-1)*VLOOKUP(J$14,$A$3:$D$11,3,FALSE) -> 3.05 | K20: =SUM(B20:J20) -> 44.98 | L20: kg | M20: =MATCH(A20,ingrédient,0) -> 6
A21: ='base de donnée conso réelle'!A8 -> g | B21: =OFFSET('base de donnée conso réelle'!$A$1,$M21,B$13-1)*VLOOKUP(B$14,$A$3:$D$11,3,FALSE) -> 6.48 | C21: =OFFSET('base de donnée conso réelle'!$A$1,$M21,C$13-1)*VLOOKUP(C$14,$A$3:$D$11,3,FALSE) -> 1 | D21: =OFFSET('base de donnée conso réelle'!$A$1,$M21,D$13-1)*VLOOKUP(D$14,$A$3:$D$11,3,FALSE) -> 0 | E21: =OFFSET('base de donnée conso réelle'!$A$1,$M21,E$13-1)*VLOOKUP(E$14,$A$3:$D$11,3,FALSE) -> 0 | F21: =OFFSET('base de donnée conso réelle'!$A$1,$M21,F$13-1)*VLOOKUP(F$14,$A$3:$D$11,3,FALSE) -> 0 | G21: =OFFSET('base de donnée conso réelle'!$A$1,$M21,G$13-1)*VLOOKUP(G$14,$A$3:$D$11,3,FALSE) -> 0 | H21: =OFFSET('base de donnée conso réelle'!$A$1,$M21,H$13-1)*VLOOKUP(H$14,$A$3:$D$11,3,FALSE) -> 12.6 | I21: =OFFSET('base de donnée conso réelle'!$A$1,$M21,I$13-1)*VLOOKUP(I$14,$A$3:$D$11,3,FALSE) -> 0 | J21: =OFFSET('base de donnée conso réelle'!$A$1,$M21,J$13-1)*VLOOKUP(J$14,$A$3:$D$11,3,FALSE) -> 0 | K21: =SUM(B21:J21) -> 20.08 | L21: kg | M21: =MATCH(A21,ingrédient,0) -> 7
A22: ='base de donnée conso réelle'!A9 -> h | B22: =OFFSET('base de donnée conso réelle'!$A$1,$M22,B$13-1)*VLOOKUP(B$14,$A$3:$D$11,3,FALSE) -> 0 | C22: =OFFSET('base de donnée conso réelle'!$A$1,$M22,C$13-1)*VLOOKUP(C$14,$A$3:$D$11,3,FALSE) -> 0 | D22: =OFFSET('base de donnée conso réelle'!$A$1,$M22,D$13-1)*VLOOKUP(D$14,$A$3:$D$11,3,FALSE) -> 0 | E22: =OFFSET('base de donnée conso réelle'!$A$1,$M22,E$13-1)*VLOOKUP(E$14,$A$3:$D$11,3,FALSE) -> 0 | F22: =OFFSET('base de donnée conso réelle'!$A$1,$M22,F$13-1)*VLOOKUP(F$14,$A$3:$D$11,3,FALSE) -> 32.34 | G22: =OFFSET('base de donnée conso réelle'!$A$1,$M22,G$13-1)*VLOOKUP(G$14,$A$3:$D$11,3,FALSE) -> 0 | H22: =OFFSET('base de donnée conso réelle'!$A$1,$M22,H$13-1)*VLOOKUP(H$14,$A$3:$D$11,3,FALSE) -> 0 | I22: =OFFSET('base de donnée conso réelle'!$A$1,$M22,I$13-1)*VLOOKUP(I$14,$A$3:$D$11,3,FALSE) -> 0 | J22: =OFFSET('base de donnée conso réelle'!$A$1,$M22,J$13-1)*VLOOKUP(J$14,$A$3:$D$11,3,FALSE) -> 0 | K22: =SUM(B22:J22) -> 32.34 | L22: kg | M22: =MATCH(A22,ingrédient,0) -> 8
A23: ='base de donnée conso réelle'!A10 -> i | B23: =OFFSET('base de donnée conso réelle'!$A$1,$M23,B$13-1)*VLOOKUP(B$14,$A$3:$D$11,3,FALSE) -> 0 | C23: =OFFSET('base de donnée conso réelle'!$A$1,$M23,C$13-1)*VLOOKUP(C$14,$A$3:$D$11,3,FALSE) -> 0 | D23: =OFFSET('base de donnée conso réelle'!$A$1,$M23,D$13-1)*VLOOKUP(D$14,$A$3:$D$11,3,FALSE) -> 25.6 | E23: =OFFSET('base de donnée conso réelle'!$A$1,$M23,E$13-1)*VLOOKUP(E$14,$A$3:$D$11,3,FALSE) -> 53.2 | F23: =OFFSET('base de donnée conso réelle'!$A$1,$M23,F$13-1)*VLOOKUP(F$14,$A$3:$D$11,3,FALSE) -> 3 | G23: =OFFSET('base de donnée conso réelle'!$A$1,$M23,G$13-1)*VLOOKUP(G$14,$A$3:$D$11,3,FALSE) -> 0 | H23: =OFFSET('base de donnée conso réelle'!$A$1,$M23,H$13-1)*VLOOKUP(H$14,$A$3:$D$11,3,FALSE) -> 134.4 | I23: =OFFSET('base de donnée conso réelle'!$A$1,$M23,I$13-1)*VLOOKUP(I$14,$A$3:$D$11,3,FALSE) -> 0 | J23: =OFFSET('base de donnée conso réelle'!$A$1,$M23,J$13-1)*VLOOKUP(J$14,$A$3:$D$11,3,FALSE) -> 60.5 | K23: =SUM(B23:J23) -> 276.7 | L23: kg | M23: =MATCH(A23,ingrédient,0) -> 9
A24: ='base de donnée conso réelle'!A11 -> j | B24: =OFFSET('base de donnée conso réelle'!$A$1,$M24,B$13-1)*VLOOKUP(B$14,$A$3:$D$11,3,FALSE) -> 0 | C24: =OFFSET('base de donnée conso réelle'!$A$1,$M24,C$13-1)*VLOOKUP(C$14,$A$3:$D$11,3,FALSE) -> 0 | D24: =OFFSET('base de donnée conso réelle'!$A$1,$M24,D$13-1)*VLOOKUP(D$14,$A$3:$D$11,3,FALSE) -> 0 | E24: =OFFSET('base de donnée conso réelle'!$A$1,$M24,E$13-1)*VLOOKUP(E$14,$A$3:$D$11,3,FALSE) -> 0 | F24: =OFFSET('base de donnée conso réelle'!$A$1,$M24,F$13-1)*VLOOKUP(F$14,$A$3:$D$11,3,FALSE) -> 0 | G24: =OFFSET('base de donnée conso réelle'!$A$1,$M24,G$13-1)*VLOOKUP(G$14,$A$3:$D$11,3,FALSE) -> 0 | H24: =OFFSET('base de donnée conso réelle'!$A$1,$M24,H$13-1)*VLOOKUP(H$14,$A$3:$D$11,3,FALSE) -> 0 | I24: =OFFSET('base de donnée conso réelle'!$A$1,$M24,I$13-1)*VLOOKUP(I$14,$A$3:$D$11,3,FALSE) -> 0 | J24: =OFFSET('base de donnée conso réelle'!$A$1,$M24,J$13-1)*VLOOKUP(J$14,$A$3:$D$11,3,FALSE) -> 0 | K24: =SUM(B24:J24) -> 0 | L24: kg | M24: =MATCH(A24,ingrédient,0) -> 10
A25: ='base de donnée conso réelle'!A12 -> k | B25: =OFFSET('base de donnée conso réelle'!$A$1,$M25,B$13-1)*VLOOKUP(B$14,$A$3:$D$11,3,FALSE) -> 0 | C25: =OFFSET('base de donnée conso réelle'!$A$1,$M25,C$13-1)*VLOOKUP(C$14,$A$3:$D$11,3,FALSE) -> 0 | D25: =OFFSET('base de donnée conso réelle'!$A$1,$M25,D$13-1)*VLOOKUP(D$14,$A$3:$D$11,3,FALSE) -> 0 | E25: =OFFSET('base de donnée conso réelle'!$A$1,$M25,E$13-1)*VLOOKUP(E$14,$A$3:$D$11,3,FALSE) -> 0 | F25: =OFFSET('base de donnée conso réelle'!$A$1,$M25,F$13-1)*VLOOKUP(F$14,$A$3:$D$11,3,FALSE) -> 0 | G25: =OFFSET('base de donnée conso réelle'!$A$1,$M25,G$13-1)*VLOOKUP(G$14,$A$3:$D$11,3,FALSE) -> 0 | H25: =OFFSET('base de donnée conso réelle'!$A$1,$M25,H$13-1)*VLOOKUP(H$14,$A$3:$D$11,3,FALSE) -> 0 | I25: =OFFSET('base de donnée conso réelle'!$A$1,$M25,I$13-1)*VLOOKUP(I$14,$A$3:$D$11,3,FALSE) -> 0 | J25: =OFFSET('base de donnée conso réelle'!$A$1,$M25,J$13-1)*VLOOKUP(J$14,$A$3:$D$11,3,FALSE) -> 25 | K25: =SUM(B25:J25) -> 25 | L25: kg | M25: =MATCH(A25,ingrédient,0) -> 11
A26: ='base de donnée conso réelle'!A13 -> l | B26: =OFFSET('base de donnée conso réelle'!$A$1,$M26,B$13-1)*VLOOKUP(B$14,$A$3:$D$11,3,FALSE) -> 380.4 | C26: =OFFSET('base de donnée conso réelle'!$A$1,$M26,C$13-1)*VLOOKUP(C$14,$A$3:$D$11,3,FALSE) -> 56.8 | D26: =OFFSET('base de donnée conso réelle'!$A$1,$M26,D$13-1)*VLOOKUP(D$14,$A$3:$D$11,3,FALSE) -> 206.4 | E26: =OFFSET('base de donnée conso réelle'!$A$1,$M26,E$13-1)*VLOOKUP(E$14,$A$3:$D$11,3,FALSE) -> 506.8 | F26: =OFFSET('base de donnée conso réelle'!$A$1,$M26,F$13-1)*VLOOKUP(F$14,$A$3:$D$11,3,FALSE) -> 82.5 | G26: =OFFSET('base de donnée conso réelle'!$A$1,$M26,G$13-1)*VLOOKUP(G$14,$A$3:$D$11,3,FALSE) -> 0 | H26: =OFFSET('base de donnée conso réelle'!$A$1,$M26,H$13-1)*VLOOKUP(H$14,$A$3:$D$11,3,FALSE) -> 1071 | I26: =OFFSET('base de donnée conso réelle'!$A$1,$M26,I$13-1)*VLOOKUP(I$14,$A$3:$D$11,3,FALSE) -> 0 | J26: =OFFSET('base de donnée conso réelle'!$A$1,$M26,J$13-1)*VLOOKUP(J$14,$A$3:$D$11,3,FALSE) -> 129.5 | K26: =SUM(B26:J26) -> 2433.4 | L26: Litre | M26: =MATCH(A26,ingrédient,0) -> 12
... A37: ='base de donnée conso réelle'!A24 -> w | B37: =OFFSET('base de donnée conso réelle'!$A$1,$M37,B$13-1)*VLOOKUP(B$14,$A$3:$D$11,3,FALSE) -> 0 | C37: =OFFSET('base de donnée conso réelle'!$A$1,$M37,C$13-1)*VLOOKUP(C$14,$A$3:$D$11,3,FALSE) -> 0 | D37: =OFFSET('base de donnée conso réelle'!$A$1,$M37,D$13-1)*VLOOKUP(D$14,$A$3:$D$11,3,FALSE) -> 25.6 | E37: =OFFSET('base de donnée conso réelle'!$A$1,$M37,E$13-1)*VLOOKUP(E$14,$A$3:$D$11,3,FALSE) -> 0 | F37: =OFFSET('base de donnée conso réelle'!$A$1,$M37,F$13-1)*VLOOKUP(F$14,$A$3:$D$11,3,FALSE) -> 0 | G37: =OFFSET('base de donnée conso réelle'!$A$1,$M37,G$13-1)*VLOOKUP(G$14,$A$3:$D$11,3,FALSE) -> 0 | H37: =OFFSET('base de donnée conso réelle'!$A$1,$M37,H$13-1)*VLOOKUP(H$14,$A$3:$D$11,3,FALSE) -> 0 | I37: =OFFSET('base de donnée conso réelle'!$A$1,$M37,I$13-1)*VLOOKUP(I$14,$A$3:$D$11,3,FALSE) -> 0 | J37: =OFFSET('base de donnée conso réelle'!$A$1,$M37,J$13-1)*VLOOKUP(J$14,$A$3:$D$11,3,FALSE) -> 0 | K37: =SUM(B37:J37) -> 25.6 | L37: kg | M37: =MATCH(A37,ingrédient,0) -> 23
A38: ='base de donnée conso réelle'!A25 -> x | B38: =OFFSET('base de donnée conso réelle'!$A$1,$M38,B$13-1)*VLOOKUP(B$14,$A$3:$D$11,3,FALSE) -> 0 | C38: =OFFSET('base de donnée conso réelle'!$A$1,$M38,C$13-1)*VLOOKUP(C$14,$A$3:$D$11,3,FALSE) -> 0 | D38: =OFFSET('base de donnée conso réelle'!$A$1,$M38,D$13-1)*VLOOKUP(D$14,$A$3:$D$11,3,FALSE) -> 0 | E38: =OFFSET('base de donnée conso réelle'!$A$1,$M38,E$13-1)*VLOOKUP(E$14,$A$3:$D$11,3,FALSE) -> 0 | F38: =OFFSET('base de donnée conso réelle'!$A$1,$M38,F$13-1)*VLOOKUP(F$14,$A$3:$D$11,3,FALSE) -> 0 | G38: =OFFSET('base de donnée conso réelle'!$A$1,$M38,G$13-1)*VLOOKUP(G$14,$A$3:$D$11,3,FALSE) -> 0 | H38: =OFFSET('base de donnée conso réelle'!$A$1,$M38,H$13-1)*VLOOKUP(H$14,$A$3:$D$11,3,FALSE) -> 0 | I38: =OFFSET('base de donnée conso réelle'!$A$1,$M38,I$13-1)*VLOOKUP(I$14,$A$3:$D$11,3,FALSE) -> 0 | J38: =OFFSET('base de donnée conso réelle'!$A$1,$M38,J$13-1)*VLOOKUP(J$14,$A$3:$D$11,3,FALSE) -> 0 | K38: =SUM(B38:J38) -> 0 | M38: =MATCH(A38,ingrédient,0) -> 24
A39: ='base de donnée conso réelle'!A26 -> t | B39: =OFFSET('base de donnée conso réelle'!$A$1,$M39,B$13-1)*VLOOKUP(B$14,$A$3:$D$11,3,FALSE) -> 3.84 | C39: =OFFSET('base de donnée conso réelle'!$A$1,$M39,C$13-1)*VLOOKUP(C$14,$A$3:$D$11,3,FALSE) -> 0 | D39: =OFFSET('base de donnée conso réelle'!$A$1,$M39,D$13-1)*VLOOKUP(D$14,$A$3:$D$11,3,FALSE) -> 15.2 | E39: =OFFSET('base de donnée conso réelle'!$A$1,$M39,E$13-1)*VLOOKUP(E$14,$A$3:$D$11,3,FALSE) -> 8.96 | F39: =OFFSET('base de donnée conso réelle'!$A$1,$M39,F$13-1)*VLOOKUP(F$14,$A$3:$D$11,3,FALSE) -> 0 | G39: =OFFSET('base de donnée conso réelle'!$A$1,$M39,G$13-1)*VLOOKUP(G$14,$A$3:$D$11,3,FALSE) -> 0 | H39: =OFFSET('base de donnée conso réelle'!$A$1,$M39,H$13-1)*VLOOKUP(H$14,$A$3:$D$11,3,FALSE) -> 0 | I39: =OFFSET('base de donnée conso réelle'!$A$1,$M39,I$13-1)*VLOOKUP(I$14,$A$3:$D$11,3,FALSE) -> 0 | J39: =OFFSET('base de donnée conso réelle'!$A$1,$M39,J$13-1)*VLOOKUP(J$14,$A$3:$D$11,3,FALSE) -> 4.85 | K39: =SUM(B39:J39) -> 32.85 | M39: =MATCH(A39,ingrédient,0) -> 20
A40: ='base de donnée conso réelle'!A27 -> y | B40: =OFFSET('base de donnée conso réelle'!$A$1,$M40,B$13-1)*VLOOKUP(B$14,$A$3:$D$11,3,FALSE) -> 0 | C40: =OFFSET('base de donnée conso réelle'!$A$1,$M40,C$13-1)*VLOOKUP(C$14,$A$3:$D$11,3,FALSE) -> 0 | D40: =OFFSET('base de donnée conso réelle'!$A$1,$M40,D$13-1)*VLOOKUP(D$14,$A$3:$D$11,3,FALSE) -> 0 | E40: =OFFSET('base de donnée conso réelle'!$A$1,$M40,E$13-1)*VLOOKUP(E$14,$A$3:$D$11,3,FALSE) -> 0 | F40: =OFFSET('base de donnée conso réelle'!$A$1,$M40,F$13-1)*VLOOKUP(F$14,$A$3:$D$11,3,FALSE) -> 0 | G40: =OFFSET('base de donnée conso réelle'!$A$1,$M40,G$13-1)*VLOOKUP(G$14,$A$3:$D$11,3,FALSE) -> 0 | H40: =OFFSET('base de donnée conso réelle'!$A$1,$M40,H$13-1)*VLOOKUP(H$14,$A$3:$D$11,3,FALSE) -> 0 | I40: =OFFSET('base de donnée conso réelle'!$A$1,$M40,I$13-1)*VLOOKUP(I$14,$A$3:$D$11,3,FALSE) -> 0 | J40: =OFFSET('base de donnée conso réelle'!$A$1,$M40,J$13-1)*VLOOKUP(J$14,$A$3:$D$11,3,FALSE) -> 0 | K40: =SUM(B40:J40) -> 0 | M40: =MATCH(A40,ingrédient,0) -> 26
A41: ='base de donnée conso réelle'!A28 -> aa | B41: =OFFSET('base de donnée conso réelle'!$A$1,$M41,B$13-1)*VLOOKUP(B$14,$A$3:$D$11,3,FALSE) -> 0 | C41: =OFFSET('base de donnée conso réelle'!$A$1,$M41,C$13-1)*VLOOKUP(C$14,$A$3:$D$11,3,FALSE) -> 0 | D41: =OFFSET('base de donnée conso réelle'!$A$1,$M41,D$13-1)*VLOOKUP(D$14,$A$3:$D$11,3,FALSE) -> 0 | E41: =OFFSET('base de donnée conso réelle'!$A$1,$M41,E$13-1)*VLOOKUP(E$14,$A$3:$D$11,3,FALSE) -> 0 | F41: =OFFSET('base de donnée conso réelle'!$A$1,$M41,F$13-1)*VLOOKUP(F$14,$A$3:$D$11,3,FALSE) -> 0 | G41: =OFFSET('base de donnée conso réelle'!$A$1,$M41,G$13-1)*VLOOKUP(G$14,$A$3:$D$11,3,FALSE) -> 0 | H41: =OFFSET('base de donnée conso réelle'!$A$1,$M41,H$13-1)*VLOOKUP(H$14,$A$3:$D$11,3,FALSE) -> 0 | I41: =OFFSET('base de donnée conso réelle'!$A$1,$M41,I$13-1)*VLOOKUP(I$14,$A$3:$D$11,3,FALSE) -> 0 | J41: =OFFSET('base de donnée conso réelle'!$A$1,$M41,J$13-1)*VLOOKUP(J$14,$A$3:$D$11,3,FALSE) -> 0 | K41: =SUM(B41:J41) -> 0 | M41: =MATCH(A41,ingrédient,0) -> 27
A42: ='base de donnée conso réelle'!A29 -> ab | B42: =OFFSET('base de donnée conso réelle'!$A$1,$M42,B$13-1)*VLOOKUP(B$14,$A$3:$D$11,3,FALSE) -> 0 | C42: =OFFSET('base de donnée conso réelle'!$A$1,$M42,C$13-1)*VLOOKUP(C$14,$A$3:$D$11,3,FALSE) -> 0 | D42: =OFFSET('base de donnée conso réelle'!$A$1,$M42,D$13-1)*VLOOKUP(D$14,$A$3:$D$11,3,FALSE) -> 0 | E42: =OFFSET('base de donnée conso réelle'!$A$1,$M42,E$13-1)*VLOOKUP(E$14,$A$3:$D$11,3,FALSE) -> 0 | F42: =OFFSET('base de donnée conso réelle'!$A$1,$M42,F$13-1)*VLOOKUP(F$14,$A$3:$D$11,3,FALSE) -> 0 | G42: =OFFSET('base de donnée conso réelle'!$A$1,$M42,G$13-1)*VLOOKUP(G$14,$A$3:$D$11,3,FALSE) -> 0 | H42: =OFFSET('base de donnée conso réelle'!$A$1,$M42,H$13-1)*VLOOKUP(H$14,$A$3:$D$11,3,FALSE) -> 0 | I42: =OFFSET('base de donnée conso réelle'!$A$1,$M42,I$13-1)*VLOOKUP(I$14,$A$3:$D$11,3,FALSE) -> 0 | J42: =OFFSET('base de donnée conso réelle'!$A$1,$M42,J$13-1)*VLOOKUP(J$14,$A$3:$D$11,3,FALSE) -> 0 | K42: =SUM(B42:J42) -> 0 | L42: kg | M42: =MATCH(A42,ingrédient,0) -> 28
A43: ='base de donnée conso réelle'!A30 -> ac | B43: =OFFSET('base de donnée conso réelle'!$A$1,$M43,B$13-1)*VLOOKUP(B$14,$A$3:$D$11,3,FALSE) -> 0 | C43: =OFFSET('base de donnée conso réelle'!$A$1,$M43,C$13-1)*VLOOKUP(C$14,$A$3:$D$11,3,FALSE) -> 0 | D43: =OFFSET('base de donnée conso réelle'!$A$1,$M43,D$13-1)*VLOOKUP(D$14,$A$3:$D$11,3,FALSE) -> 0 | E43: =OFFSET('base de donnée conso réelle'!$A$1,$M43,E$13-1)*VLOOKUP(E$14,$A$3:$D$11,3,FALSE) -> 0 | F43: =OFFSET('base de donnée conso réelle'!$A$1,$M43,F$13-1)*VLOOKUP(F$14,$A$3:$D$11,3,FALSE) -> 0 | G43: =OFFSET('base de donnée conso réelle'!$A$1,$M43,G$13-1)*VLOOKUP(G$14,$A$3:$D$11,3,FALSE) -> 0 | H43: =OFFSET('base de donnée conso réelle'!$A$1,$M43,H$13-1)*VLOOKUP(H$14,$A$3:$D$11,3,FALSE) -> 0 | I43: =OFFSET('base de donnée conso réelle'!$A$1,$M43,I$13-1)*VLOOKUP(I$14,$A$3:$D$11,3,FALSE) -> 0 | J43: =OFFSET('base de donnée conso réelle'!$A$1,$M43,J$13-1)*VLOOKUP(J$14,$A$3:$D$11,3,FALSE) -> 0 | K43: =SUM(B43:J43) -> 0 | L43: kg | M43: =MATCH(A43,ingrédient,0) -> 29
A44: ='base de donnée conso réelle'!A31 -> ad | B44: =OFFSET('base de donnée conso réelle'!$A$1,$M44,B$13-1)*VLOOKUP(B$14,$A$3:$D$11,3,FALSE) -> 0 | C44: =OFFSET('base de donnée conso réelle'!$A$1,$M44,C$13-1)*VLOOKUP(C$14,$A$3:$D$11,3,FALSE) -> 0 | D44: =OFFSET('base de donnée conso réelle'!$A$1,$M44,D$13-1)*VLOOKUP(D$14,$A$3:$D$11,3,FALSE) -> 0 | E44: =OFFSET('base de donnée conso réelle'!$A$1,$M44,E$13-1)*VLOOKUP(E$14,$A$3:$D$11,3,FALSE) -> 0 | F44: =OFFSET('base de donnée conso réelle'!$A$1,$M44,F$13-1)*VLOOKUP(F$14,$A$3:$D$11,3,FALSE) -> 0 | G44: =OFFSET('base de donnée conso réelle'!$A$1,$M44,G$13-1)*VLOOKUP(G$14,$A$3:$D$11,3,FALSE) -> 0 | H44: =OFFSET('base de donnée conso réelle'!$A$1,$M44,H$13-1)*VLOOKUP(H$14,$A$3:$D$11,3,FALSE) -> 0 | I44: =OFFSET('base de donnée conso réelle'!$A$1,$M44,I$13-1)*VLOOKUP(I$14,$A$3:$D$11,3,FALSE) -> 0 | J44: =OFFSET('base de donnée conso réelle'!$A$1,$M44,J$13-1)*VLOOKUP(J$14,$A$3:$D$11,3,FALSE) -> 0 | K44: =SUM(B44:J44) -> 0 | L44: kg | M44: =MATCH(A44,ingrédient,0) -> 30
A45: ='base de donnée conso réelle'!A32 -> ae | B45: =OFFSET('base de donnée conso réelle'!$A$1,$M45,B$13-1)*VLOOKUP(B$14,$A$3:$D$11,3,FALSE) -> 0 | C45: =OFFSET('base de donnée conso réelle'!$A$1,$M45,C$13-1)*VLOOKUP(C$14,$A$3:$D$11,3,FALSE) -> 0 | D45: =OFFSET('base de donnée conso réelle'!$A$1,$M45,D$13-1)*VLOOKUP(D$14,$A$3:$D$11,3,FALSE) -> 0 | E45: =OFFSET('base de donnée conso réelle'!$A$1,$M45,E$13-1)*VLOOKUP(E$14,$A$3:$D$11,3,FALSE) -> 0 | F45: =OFFSET('base de donnée conso réelle'!$A$1,$M45,F$13-1)*VLOOKUP(F$14,$A$3:$D$11,3,FALSE) -> 0 | G45: =OFFSET('base de donnée conso réelle'!$A$1,$M45,G$13-1)*VLOOKUP(G$14,$A$3:$D$11,3,FALSE) -> 0 | H45: =OFFSET('base de donnée conso réelle'!$A$1,$M45,H$13-1)*VLOOKUP(H$14,$A$3:$D$11,3,FALSE) -> 0 | I45: =OFFSET('base de donnée conso réelle'!$A$1,$M45,I$13-1)*VLOOKUP(I$14,$A$3:$D$11,3,FALSE) -> 0 | J45: =OFFSET('base de donnée conso réelle'!$A$1,$M45,J$13-1)*VLOOKUP(J$14,$A$3:$D$11,3,FALSE) -> 0 | K45: =SUM(B45:J45) -> 0 | L45: kg | M45: =MATCH(A45,ingrédient,0) -> 31
A46: ='base de donnée conso réelle'!A33 -> af | B46: =OFFSET('base de donnée conso réelle'!$A$1,$M46,B$13-1)*VLOOKUP(B$14,$A$3:$D$11,3,FALSE) -> 0 | C46: =OFFSET('base de donnée conso réelle'!$A$1,$M46,C$13-1)*VLOOKUP(C$14,$A$3:$D$11,3,FALSE) -> 0 | D46: =OFFSET('base de donnée conso réelle'!$A$1,$M46,D$13-1)*VLOOKUP(D$14,$A$3:$D$11,3,FALSE) -> 0 | E46: =OFFSET('base de donnée conso réelle'!$A$1,$M46,E$13-1)*VLOOKUP(E$14,$A$3:$D$11,3,FALSE) -> 0 | F46: =OFFSET('base de donnée conso réelle'!$A$1,$M46,F$13-1)*VLOOKUP(F$14,$A$3:$D$11,3,FALSE) -> 0 | G46: =OFFSET('base de donnée conso réelle'!$A$1,$M46,G$13-1)*VLOOKUP(G$14,$A$3:$D$11,3,FALSE) -> 0 | H46: =OFFSET('base de donnée conso réelle'!$A$1,$M46,H$13-1)*VLOOKUP(H$14,$A$3:$D$11,3,FALSE) -> 0 | I46: =OFFSET('base de donnée conso réelle'!$A$1,$M46,I$13-1)*VLOOKUP(I$14,$A$3:$D$11,3,FALSE) -> 0 | J46: =OFFSET('base de donnée conso réelle'!$A$1,$M46,J$13-1)*VLOOKUP(J$14,$A$3:$D$11,3,FALSE) -> 0 | K46: =SUM(B46:J46) -> 0 | L46: kg | M46: =MATCH(A46,ingrédient,0) -> 32
A47: ='base de donnée conso réelle'!A34 -> ag | B47: =OFFSET('base de donnée conso réelle'!$A$1,$M47,B$13-1)*VLOOKUP(B$14,$A$3:$D$11,3,FALSE) -> 0 | C47: =OFFSET('base de donnée conso réelle'!$A$1,$M47,C$13-1)*VLOOKUP(C$14,$A$3:$D$11,3,FALSE) -> 0 | D47: =OFFSET('base de donnée conso réelle'!$A$1,$M47,D$13-1)*VLOOKUP(D$14,$A$3:$D$11,3,FALSE) -> 0 | E47: =OFFSET('base de donnée conso réelle'!$A$1,$M47,E$13-1)*VLOOKUP(E$14,$A$3:$D$11,3,FALSE) -> 0 | F47: =OFFSET('base de donnée conso réelle'!$A$1,$M47,F$13-1)*VLOOKUP(F$14,$A$3:$D$11,3,FALSE) -> 0 | G47: =OFFSET('base de donnée conso réelle'!$A$1,$M47,G$13-1)*VLOOKUP(G$14,$A$3:$D$11,3,FALSE) -> 0 | H47: =OFFSET('base de donnée conso réelle'!$A$1,$M47,H$13-1)*VLOOKUP(H$14,$A$3:$D$11,3,FALSE) -> 0 | I47: =OFFSET('base de donnée conso réelle'!$A$1,$M47,I$13-1)*VLOOKUP(I$14,$A$3:$D$11,3,FALSE) -> 0 | J47: =OFFSET('base de donnée conso réelle'!$A$1,$M47,J$13-1)*VLOOKUP(J$14,$A$3:$D$11,3,FALSE) -> 0 | K47: =SUM(B47:J47) -> 0 | L47: kg | M47: =MATCH(A47,ingrédient,0) -> 33
A48: ='base de donnée conso réelle'!A35 -> ah | B48: =OFFSET('base de donnée conso réelle'!$A$1,$M48,B$13-1)*VLOOKUP(B$14,$A$3:$D$11,3,FALSE) -> 0 | C48: =OFFSET('base de donnée conso réelle'!$A$1,$M48,C$13-1)*VLOOKUP(C$14,$A$3:$D$11,3,FALSE) -> 51.48 | D48: =OFFSET('base de donnée conso réelle'!$A$1,$M48,D$13-1)*VLOOKUP(D$14,$A$3:$D$11,3,FALSE) -> 162.16 | E48: =OFFSET('base de donnée conso réelle'!$A$1,$M48,E$13-1)*VLOOKUP(E$14,$A$3:$D$11,3,FALSE) -> 280 | F48: =OFFSET('base de donnée conso réelle'!$A$1,$M48,F$13-1)*VLOOKUP(F$14,$A$3:$D$11,3,FALSE) -> 66 | G48: =OFFSET('base de donnée conso réelle'!$A$1,$M48,G$13-1)*VLOOKUP(G$14,$A$3:$D$11,3,FALSE) -> 0 | H48: =OFFSET('base de donnée conso réelle'!$A$1,$M48,H$13-1)*VLOOKUP(H$14,$A$3:$D$11,3,FALSE) -> 840 | I48: =OFFSET('base de donnée conso réelle'!$A$1,$M48,I$13-1)*VLOOKUP(I$14,$A$3:$D$11,3,FALSE) -> 0 | J48: =OFFSET('base de donnée conso réelle'!$A$1,$M48,J$13-1)*VLOOKUP(J$14,$A$3:$D$11,3,FALSE) -> 0 | K48: =SUM(B48:J48) -> 1399.64 | L48: kg | M48: =MATCH(A48,ingrédient,0) -> 34
A49: ='base de donnée conso réelle'!A36 -> ai | B49: =OFFSET('base de donnée conso réelle'!$A$1,$M49,B$13-1)*VLOOKUP(B$14,$A$3:$D$11,3,FALSE) -> 0 | C49: =OFFSET('base de donnée conso réelle'!$A$1,$M49,C$13-1)*VLOOKUP(C$14,$A$3:$D$11,3,FALSE) -> 0 | D49: =OFFSET('base de donnée conso réelle'!$A$1,$M49,D$13-1)*VLOOKUP(D$14,$A$3:$D$11,3,FALSE) -> 0 | E49: =OFFSET('base de donnée conso réelle'!$A$1,$M49,E$13-1)*VLOOKUP(E$14,$A$3:$D$11,3,FALSE) -> 0 | F49: =OFFSET('base de donnée conso réelle'!$A$1,$M49,F$13-1)*VLOOKUP(F$14,$A$3:$D$11,3,FALSE) -> 0 | G49: =OFFSET('base de donnée conso réelle'!$A$1,$M49,G$13-1)*VLOOKUP(G$14,$A$3:$D$11,3,FALSE) -> 0 | H49: =OFFSET('base de donnée conso réelle'!$A$1,$M49,H$13-1)*VLOOKUP(H$14,$A$3:$D$11,3,FALSE) -> 0 | I49: =OFFSET('base de donnée conso réelle'!$A$1,$M49,I$13-1)*VLOOKUP(I$14,$A$3:$D$11,3,FALSE) -> 0 | J49: =OFFSET('base de donnée conso réelle'!$A$1,$M49,J$13-1)*VLOOKUP(J$14,$A$3:$D$11,3,FALSE) -> 0 | K49: =SUM(B49:J49) -> 0 | L49: kg | M49: =MATCH(A49,ingrédient,0) -> 35
A50: ='base de donnée conso réelle'!A37 -> aj | B50: =OFFSET('base de donnée conso réelle'!$A$1,$M50,B$13-1)*VLOOKUP(B$14,$A$3:$D$11,3,FALSE) -> 0 | C50: =OFFSET('base de donnée conso réelle'!$A$1,$M50,C$13-1)*VLOOKUP(C$14,$A$3:$D$11,3,FALSE) -> 0 | D50: =OFFSET('base de donnée conso réelle'!$A$1,$M50,D$13-1)*VLOOKUP(D$14,$A$3:$D$11,3,FALSE) -> 0 | E50: =OFFSET('base de donnée conso réelle'!$A$1,$M50,E$13-1)*VLOOKUP(E$14,$A$3:$D$11,3,FALSE) -> 0 | F50: =OFFSET('base de donnée conso réelle'!$A$1,$M50,F$13-1)*VLOOKUP(F$14,$A$3:$D$11,3,FALSE) -> 0 | G50: =OFFSET('base de donnée conso réelle'!$A$1,$M50,G$13-1)*VLOOKUP(G$14,$A$3:$D$11,3,FALSE) -> 0 | H50: =OFFSET('base de donnée conso réelle'!$A$1,$M50,H$13-1)*VLOOKUP(H$14,$A$3:$D$11,3,FALSE) -> 0 | I50: =OFFSET('base de donnée conso réelle'!$A$1,$M50,I$13-1)*VLOOKUP(I$14,$A$3:$D$11,3,FALSE) -> 0 | J50: =OFFSET('base de donnée conso réelle'!$A$1,$M50,J$13-1)*VLOOKUP(J$14,$A$3:$D$11,3,FALSE) -> 0 | K50: =SUM(B50:J50) -> 0 | L50: kg | M50: =MATCH(A50,ingrédient,0) -> 36
A51: ='base de donnée conso réelle'!A38 -> ak | B51: =OFFSET('base de donnée conso réelle'!$A$1,$M51,B$13-1)*VLOOKUP(B$14,$A$3:$D$11,3,FALSE) -> 0 | C51: =OFFSET('base de donnée conso réelle'!$A$1,$M51,C$13-1)*VLOOKUP(C$14,$A$3:$D$11,3,FALSE) -> 0 | D51: =OFFSET('base de donnée conso réelle'!$A$1,$M51,D$13-1)*VLOOKUP(D$14,$A$3:$D$11,3,FALSE) -> 120 | E51: =OFFSET('base de donnée conso réelle'!$A$1,$M51,E$13-1)*VLOOKUP(E$14,$A$3:$D$11,3,FALSE) -> 0 | F51: =OFFSET('base de donnée conso réelle'!$A$1,$M51,F$13-1)*VLOOKUP(F$14,$A$3:$D$11,3,FALSE) -> 0 | G51: =OFFSET('base de donnée conso réelle'!$A$1,$M51,G$13-1)*VLOOKUP(G$14,$A$3:$D$11,3,FALSE) -> 0 | H51: =OFFSET('base de donnée conso réelle'!$A$1,$M51,H$13-1)*VLOOKUP(H$14,$A$3:$D$11,3,FALSE) -> 0 | I51: =OFFSET('base de donnée conso réelle'!$A$1,$M51,I$13-1)*VLOOKUP(I$14,$A$3:$D$11,3,FALSE) -> 0 | J51: =OFFSET('base de donnée conso réelle'!$A$1,$M51,J$13-1)*VLOOKUP(J$14,$A$3:$D$11,3,FALSE) -> 85 | K51: =SUM(B51:J51) -> 205 | L51: kg | M51: =MATCH(A51,ingrédient,0) -> 37
A52: ='base de donnée conso réelle'!A39 -> al | B52: =OFFSET('base de donnée conso réelle'!$A$1,$M52,B$13-1)*VLOOKUP(B$14,$A$3:$D$11,3,FALSE) -> 0 | C52: =OFFSET('base de donnée conso réelle'!$A$1,$M52,C$13-1)*VLOOKUP(C$14,$A$3:$D$11,3,FALSE) -> 0 | D52: =OFFSET('base de donnée conso réelle'!$A$1,$M52,D$13-1)*VLOOKUP(D$14,$A$3:$D$11,3,FALSE) -> 0 | E52: =OFFSET('base de donnée conso réelle'!$A$1,$M52,E$13-1)*VLOOKUP(E$14,$A$3:$D$11,3,FALSE) -> 0 | F52: =OFFSET('base de donnée conso réelle'!$A$1,$M52,F$13-1)*VLOOKUP(F$14,$A$3:$D$11,3,FALSE) -> 0 | G52: =OFFSET('base de donnée conso réelle'!$A$1,$M52,G$13-1)*VLOOKUP(G$14,$A$3:$D$11,3,FALSE) -> 0 | H52: =OFFSET('base de donnée conso réelle'!$A$1,$M52,H$13-1)*VLOOKUP(H$14,$A$3:$D$11,3,FALSE) -> 0 | I52: =OFFSET('base de donnée conso réelle'!$A$1,$M52,I$13-1)*VLOOKUP(I$14,$A$3:$D$11,3,FALSE) -> 0 | J52: =OFFSET('base de donnée conso réelle'!$A$1,$M52,J$13-1)*VLOOKUP(J$14,$A$3:$D$11,3,FALSE) -> 0 | K52: =SUM(B52:J52) -> 0 | L52: mètre | M52: =MATCH(A52,ingrédient,0) -> 38
A53: ='base de donnée conso réelle'!A40 -> am | B53: =OFFSET('base de donnée conso réelle'!$A$1,$M53,B$13-1)*VLOOKUP(B$14,$A$3:$D$11,3,FALSE) -> 0 | C53: =OFFSET('base de donnée conso réelle'!$A$1,$M53,C$13-1)*VLOOKUP(C$14,$A$3:$D$11,3,FALSE) -> 0 | D53: =OFFSET('base de donnée conso réelle'!$A$1,$M53,D$13-1)*VLOOKUP(D$14,$A$3:$D$11,3,FALSE) -> 0 | E53: =OFFSET('base de donnée conso réelle'!$A$1,$M53,E$13-1)*VLOOKUP(E$14,$A$3:$D$11,3,FALSE) -> 0 | F53: =OFFSET('base de donnée conso réelle'!$A$1,$M53,F$13-1)*VLOOKUP(F$14,$A$3:$D$11,3,FALSE) -> 0 | G53: =OFFSET('base de donnée conso réelle'!$A$1,$M53,G$13-1)*VLOOKUP(G$14,$A$3:$D$11,3,FALSE) -> 0 | H53: =OFFSET('base de donnée conso réelle'!$A$1,$M53,H$13-1)*VLOOKUP(H$14,$A$3:$D$11,3,FALSE) -> 0 | I53: =OFFSET('base de donnée conso réelle'!$A$1,$M53,I$13-1)*VLOOKUP(I$14,$A$3:$D$11,3,FALSE) -> 0 | J53: =OFFSET('base de donnée conso réelle'!$A$1,$M53,J$13-1)*VLOOKUP(J$14,$A$3:$D$11,3,FALSE) -> 0 | K53: =SUM(B53:J53) -> 0 | L53: mètre | M53: =MATCH(A53,ingrédient,0) -> 39
... A61: ='base de donnée conso réelle'!A48 -> au | B61: =OFFSET('base de donnée conso réelle'!$A$1,$M61,B$13-1)*VLOOKUP(B$14,$A$3:$D$11,3,FALSE) -> 0 | C61: =OFFSET('base de donnée conso réelle'!$A$1,$M61,C$13-1)*VLOOKUP(C$14,$A$3:$D$11,3,FALSE) -> 0 | D61: =OFFSET('base de donnée conso réelle'!$A$1,$M61,D$13-1)*VLOOKUP(D$14,$A$3:$D$11,3,FALSE) -> 0 | E61: =OFFSET('base de donnée conso réelle'!$A$1,$M61,E$13-1)*VLOOKUP(E$14,$A$3:$D$11,3,FALSE) -> 0 | F61: =OFFSET('base de donnée conso réelle'!$A$1,$M61,F$13-1)*VLOOKUP(F$14,$A$3:$D$11,3,FALSE) -> 0 | G61: =OFFSET('base de donnée conso réelle'!$A$1,$M61,G$13-1)*VLOOKUP(G$14,$A$3:$D$11,3,FALSE) -> 0 | H61: =OFFSET('base de donnée conso réelle'!$A$1,$M61,H$13-1)*VLOOKUP(H$14,$A$3:$D$11,3,FALSE) -> 0 | I61: =OFFSET('base de donnée conso réelle'!$A$1,$M61,I$13-1)*VLOOKUP(I$14,$A$3:$D$11,3,FALSE) -> 0 | J61: =OFFSET('base de donnée conso réelle'!$A$1,$M61,J$13-1)*VLOOKUP(J$14,$A$3:$D$11,3,FALSE) -> 0 | K61: =SUM(B61:J61) -> 0 | L61: mètre | M61: =MATCH(A61,ingrédient,0) -> 47
A62: ='base de donnée conso réelle'!A49 -> av | B62: =OFFSET('base de donnée conso réelle'!$A$1,$M62,B$13-1)*VLOOKUP(B$14,$A$3:$D$11,3,FALSE) -> 0 | C62: =OFFSET('base de donnée conso réelle'!$A$1,$M62,C$13-1)*VLOOKUP(C$14,$A$3:$D$11,3,FALSE) -> 0 | D62: =OFFSET('base de donnée conso réelle'!$A$1,$M62,D$13-1)*VLOOKUP(D$14,$A$3:$D$11,3,FALSE) -> 0 | E62: =OFFSET('base de donnée conso réelle'!$A$1,$M62,E$13-1)*VLOOKUP(E$14,$A$3:$D$11,3,FALSE) -> 0 | F62: =OFFSET('base de donnée conso réelle'!$A$1,$M62,F$13-1)*VLOOKUP(F$14,$A$3:$D$11,3,FALSE) -> 0 | G62: =OFFSET('base de donnée conso réelle'!$A$1,$M62,G$13-1)*VLOOKUP(G$14,$A$3:$D$11,3,FALSE) -> 0 | H62: =OFFSET('base de donnée conso réelle'!$A$1,$M62,H$13-1)*VLOOKUP(H$14,$A$3:$D$11,3,FALSE) -> 0 | I62: =OFFSET('base de donnée conso réelle'!$A$1,$M62,I$13-1)*VLOOKUP(I$14,$A$3:$D$11,3,FALSE) -> 0 | J62: =OFFSET('base de donnée conso réelle'!$A$1,$M62,J$13-1)*VLOOKUP(J$14,$A$3:$D$11,3,FALSE) -> 0 | K62: =SUM(B62:J62) -> 0 | M62: =MATCH(A62,ingrédient,0) -> 48
A63: ='base de donnée conso réelle'!A50 -> aw | B63: =OFFSET('base de donnée conso réelle'!$A$1,$M63,B$13-1)*VLOOKUP(B$14,$A$3:$D$11,3,FALSE) -> 0 | C63: =OFFSET('base de donnée conso réelle'!$A$1,$M63,C$13-1)*VLOOKUP(C$14,$A$3:$D$11,3,FALSE) -> 0 | D63: =OFFSET('base de donnée conso réelle'!$A$1,$M63,D$13-1)*VLOOKUP(D$14,$A$3:$D$11,3,FALSE) -> 0 | E63: =OFFSET('base de donnée conso réelle'!$A$1,$M63,E$13-1)*VLOOKUP(E$14,$A$3:$D$11,3,FALSE) -> 0 | F63: =OFFSET('base de donnée conso réelle'!$A$1,$M63,F$13-1)*VLOOKUP(F$14,$A$3:$D$11,3,FALSE) -> 0 | G63: =OFFSET('base de donnée conso réelle'!$A$1,$M63,G$13-1)*VLOOKUP(G$14,$A$3:$D$11,3,FALSE) -> 0 | H63: =OFFSET('base de donnée conso réelle'!$A$1,$M63,H$13-1)*VLOOKUP(H$14,$A$3:$D$11,3,FALSE) -> 0 | I63: =OFFSET('base de donnée conso réelle'!$A$1,$M63,I$13-1)*VLOOKUP(I$14,$A$3:$D$11,3,FALSE) -> 0 | J63: =OFFSET('base de donnée conso réelle'!$A$1,$M63,J$13-1)*VLOOKUP(J$14,$A$3:$D$11,3,FALSE) -> 0 | K63: =SUM(B63:J63) -> 0 | M63: =MATCH(A63,ingrédient,0) -> 49
A64: ='base de donnée conso réelle'!A51 -> ax | B64: =OFFSET('base de donnée conso réelle'!$A$1,$M64,B$13-1)*VLOOKUP(B$14,$A$3:$D$11,3,FALSE) -> 0 | C64: =OFFSET('base de donnée conso réelle'!$A$1,$M64,C$13-1)*VLOOKUP(C$14,$A$3:$D$11,3,FALSE) -> 0 | D64: =OFFSET('base de donnée conso réelle'!$A$1,$M64,D$13-1)*VLOOKUP(D$14,$A$3:$D$11,3,FALSE) -> 0 | E64: =OFFSET('base de donnée conso réelle'!$A$1,$M64,E$13-1)*VLOOKUP(E$14,$A$3:$D$11,3,FALSE) -> 0 | F64: =OFFSET('base de donnée conso réelle'!$A$1,$M64,F$13-1)*VLOOKUP(F$14,$A$3:$D$11,3,FALSE) -> 0 | G64: =OFFSET('base de donnée conso réelle'!$A$1,$M64,G$13-1)*VLOOKUP(G$14,$A$3:$D$11,3,FALSE) -> 0 | H64: =OFFSET('base de donnée conso réelle'!$A$1,$M64,H$13-1)*VLOOKUP(H$14,$A$3:$D$11,3,FALSE) -> 0 | I64: =OFFSET('base de donnée conso réelle'!$A$1,$M64,I$13-1)*VLOOKUP(I$14,$A$3:$D$11,3,FALSE) -> 0 | J64: =OFFSET('base de donnée conso réelle'!$A$1,$M64,J$13-1)*VLOOKUP(J$14,$A$3:$D$11,3,FALSE) -> 0 | K64: =SUM(B64:J64) -> 0 | M64: =MATCH(A64,ingrédient,0) -> 50
A65: ='base de donnée conso réelle'!A52 -> ay | B65: =OFFSET('base de donnée conso réelle'!$A$1,$M65,B$13-1)*VLOOKUP(B$14,$A$3:$D$11,3,FALSE) -> 0 | C65: =OFFSET('base de donnée conso réelle'!$A$1,$M65,C$13-1)*VLOOKUP(C$14,$A$3:$D$11,3,FALSE) -> 0 | D65: =OFFSET('base de donnée conso réelle'!$A$1,$M65,D$13-1)*VLOOKUP(D$14,$A$3:$D$11,3,FALSE) -> 0 | E65: =OFFSET('base de donnée conso réelle'!$A$1,$M65,E$13-1)*VLOOKUP(E$14,$A$3:$D$11,3,FALSE) -> 0 | F65: =OFFSET('base de donnée conso réelle'!$A$1,$M65,F$13-1)*VLOOKUP(F$14,$A$3:$D$11,3,FALSE) -> 0 | G65: =OFFSET('base de donnée conso réelle'!$A$1,$M65,G$13-1)*VLOOKUP(G$14,$A$3:$D$11,3,FALSE) -> 0 | H65: =OFFSET('base de donnée conso réelle'!$A$1,$M65,H$13-1)*VLOOKUP(H$14,$A$3:$D$11,3,FALSE) -> 0 | I65: =OFFSET('base de donnée conso réelle'!$A$1,$M65,I$13-1)*VLOOKUP(I$14,$A$3:$D$11,3,FALSE) -> 0 | J65: =OFFSET('base de donnée conso réelle'!$A$1,$M65,J$13-1)*VLOOKUP(J$14,$A$3:$D$11,3,FALSE) -> 0 | K65: =SUM(B65:J65) -> 0 | M65: =MATCH(A65,ingrédient,0) -> 51
A66: ='base de donnée conso réelle'!A53 -> az | B66: =OFFSET('base de donnée conso réelle'!$A$1,$M66,B$13-1)*VLOOKUP(B$14,$A$3:$D$11,3,FALSE) -> 0 | C66: =OFFSET('base de donnée conso réelle'!$A$1,$M66,C$13-1)*VLOOKUP(C$14,$A$3:$D$11,3,FALSE) -> 0 | D66: =OFFSET('base de donnée conso réelle'!$A$1,$M66,D$13-1)*VLOOKUP(D$14,$A$3:$D$11,3,FALSE) -> 0 | E66: =OFFSET('base de donnée conso réelle'!$A$1,$M66,E$13-1)*VLOOKUP(E$14,$A$3:$D$11,3,FALSE) -> 0 | F66: =OFFSET('base de donnée conso réelle'!$A$1,$M66,F$13-1)*VLOOKUP(F$14,$A$3:$D$11,3,FALSE) -> 0 | G66: =OFFSET('base de donnée conso réelle'!$A$1,$M66,G$13-1)*VLOOKUP(G$14,$A$3:$D$11,3,FALSE) -> 0 | H66: =OFFSET('base de donnée conso réelle'!$A$1,$M66,H$13-1)*VLOOKUP(H$14,$A$3:$D$11,3,FALSE) -> 0 | I66: =OFFSET('base de donnée conso réelle'!$A$1,$M66,I$13-1)*VLOOKUP(I$14,$A$3:$D$11,3,FALSE) -> 0 | J66: =OFFSET('base de donnée conso réelle'!$A$1,$M66,J$13-1)*VLOOKUP(J$14,$A$3:$D$11,3,FALSE) -> 0 | K66: =SUM(B66:J66) -> 0 | M66: =MATCH(A66,ingrédient,0) -> 52
A67: ='base de donnée conso réelle'!A54 -> ba | B67: =OFFSET('base de donnée conso réelle'!$A$1,$M67,B$13-1)*VLOOKUP(B$14,$A$3:$D$11,3,FALSE) -> 0 | C67: =OFFSET('base de donnée conso réelle'!$A$1,$M67,C$13-1)*VLOOKUP(C$14,$A$3:$D$11,3,FALSE) -> 0 | D67: =OFFSET('base de donnée conso réelle'!$A$1,$M67,D$13-1)*VLOOKUP(D$14,$A$3:$D$11,3,FALSE) -> 0 | E67: =OFFSET('base de donnée conso réelle'!$A$1,$M67,E$13-1)*VLOOKUP(E$14,$A$3:$D$11,3,FALSE) -> 0 | F67: =OFFSET('base de donnée conso réelle'!$A$1,$M67,F$13-1)*VLOOKUP(F$14,$A$3:$D$11,3,FALSE) -> 0 | G67: =OFFSET('base de donnée conso réelle'!$A$1,$M67,G$13-1)*VLOOKUP(G$14,$A$3:$D$11,3,FALSE) -> 0 | H67: =OFFSET('base de donnée conso réelle'!$A$1,$M67,H$13-1)*VLOOKUP(H$14,$A$3:$D$11,3,FALSE) -> 0 | I67: =OFFSET('base de donnée conso réelle'!$A$1,$M67,I$13-1)*VLOOKUP(I$14,$A$3:$D$11,3,FALSE) -> 0 | J67: =OFFSET('base de donnée conso réelle'!$A$1,$M67,J$13-1)*VLOOKUP(J$14,$A$3:$D$11,3,FALSE) -> 0 | K67: =SUM(B67:J67) -> 0 | M67: =MATCH(A67,ingrédient,0) -> 53
A68: ='base de donnée conso réelle'!A55 -> bb | B68: =OFFSET('base de donnée conso réelle'!$A$1,$M68,B$13-1)*VLOOKUP(B$14,$A$3:$D$11,3,FALSE) -> 0 | C68: =OFFSET('base de donnée conso réelle'!$A$1,$M68,C$13-1)*VLOOKUP(C$14,$A$3:$D$11,3,FALSE) -> 0 | D68: =OFFSET('base de donnée conso réelle'!$A$1,$M68,D$13-1)*VLOOKUP(D$14,$A$3:$D$11,3,FALSE) -> 0 | E68: =OFFSET('base de donnée conso réelle'!$A$1,$M68,E$13-1)*VLOOKUP(E$14,$A$3:$D$11,3,FALSE) -> 0 | F68: =OFFSET('base de donnée conso réelle'!$A$1,$M68,F$13-1)*VLOOKUP(F$14,$A$3:$D$11,3,FALSE) -> 0 | G68: =OFFSET('base de donnée conso réelle'!$A$1,$M68,G$13-1)*VLOOKUP(G$14,$A$3:$D$11,3,FALSE) -> 0 | H68: =OFFSET('base de donnée conso réelle'!$A$1,$M68,H$13-1)*VLOOKUP(H$14,$A$3:$D$11,3,FALSE) -> 0 | I68: =OFFSET('base de donnée conso réelle'!$A$1,$M68,I$13-1)*VLOOKUP(I$14,$A$3:$D$11,3,FALSE) -> 0 | J68: =OFFSET('base de donnée conso réelle'!$A$1,$M68,J$13-1)*VLOOKUP(J$14,$A$3:$D$11,3,FALSE) -> 0 | K68: =SUM(B68:J68) -> 0 | L68: unité | M68: =MATCH(A68,ingrédient,0) -> 54
A69: ='base de donnée conso réelle'!A56 -> bc | B69: =OFFSET('base de donnée conso réelle'!$A$1,$M69,B$13-1)*VLOOKUP(B$14,$A$3:$D$11,3,FALSE) -> 0 | C69: =OFFSET('base de donnée conso réelle'!$A$1,$M69,C$13-1)*VLOOKUP(C$14,$A$3:$D$11,3,FALSE) -> 0 | D69: =OFFSET('base de donnée conso réelle'!$A$1,$M69,D$13-1)*VLOOKUP(D$14,$A$3:$D$11,3,FALSE) -> 0 | E69: =OFFSET('base de donnée conso réelle'!$A$1,$M69,E$13-1)*VLOOKUP(E$14,$A$3:$D$11,3,FALSE) -> 0 | F69: =OFFSET('base de donnée conso réelle'!$A$1,$M69,F$13-1)*VLOOKUP(F$14,$A$3:$D$11,3,FALSE) -> 0 | G69: =OFFSET('base de donnée conso réelle'!$A$1,$M69,G$13-1)*VLOOKUP(G$14,$A$3:$D$11,3,FALSE) -> 0 | H69: =OFFSET('base de donnée conso réelle'!$A$1,$M69,H$13-1)*VLOOKUP(H$14,$A$3:$D$11,3,FALSE) -> 0 | I69: =OFFSET('base de donnée conso réelle'!$A$1,$M69,I$13-1)*VLOOKUP(I$14,$A$3:$D$11,3,FALSE) -> 0 | J69: =OFFSET('base de donnée conso réelle'!$A$1,$M69,J$13-1)*VLOOKUP(J$14,$A$3:$D$11,3,FALSE) -> 0 | K69: =SUM(B69:J69) -> 0 | L69: mètre | M69: =MATCH(A69,ingrédient,0) -> 55
A70: ='base de donnée conso réelle'!A57 -> bd | B70: =OFFSET('base de donnée conso réelle'!$A$1,$M70,B$13-1)*VLOOKUP(B$14,$A$3:$D$11,3,FALSE) -> 0 | C70: =OFFSET('base de donnée conso réelle'!$A$1,$M70,C$13-1)*VLOOKUP(C$14,$A$3:$D$11,3,FALSE) -> 0 | D70: =OFFSET('base de donnée conso réelle'!$A$1,$M70,D$13-1)*VLOOKUP(D$14,$A$3:$D$11,3,FALSE) -> 0 | E70: =OFFSET('base de donnée conso réelle'!$A$1,$M70,E$13-1)*VLOOKUP(E$14,$A$3:$D$11,3,FALSE) -> 0 | F70: =OFFSET('base de donnée conso réelle'!$A$1,$M70,F$13-1)*VLOOKUP(F$14,$A$3:$D$11,3,FALSE) -> 0 | G70: =OFFSET('base de donnée conso réelle'!$A$1,$M70,G$13-1)*VLOOKUP(G$14,$A$3:$D$11,3,FALSE) -> 0 | H70: =OFFSET('base de donnée conso réelle'!$A$1,$M70,H$13-1)*VLOOKUP(H$14,$A$3:$D$11,3,FALSE) -> 0 | I70: =OFFSET('base de donnée conso réelle'!$A$1,$M70,I$13-1)*VLOOKUP(I$14,$A$3:$D$11,3,FALSE) -> 0 | J70: =OFFSET('base de donnée conso réelle'!$A$1,$M70,J$13-1)*VLOOKUP(J$14,$A$3:$D$11,3,FALSE) -> 0 | K70: =SUM(B70:J70) -> 0 | L70: mètre | M70: =MATCH(A70,ingrédient,0) -> 56
A71: ='base de donnée conso réelle'!A58 -> be | B71: =OFFSET('base de donnée conso réelle'!$A$1,$M71,B$13-1)*VLOOKUP(B$14,$A$3:$D$11,3,FALSE) -> 0 | C71: =OFFSET('base de donnée conso réelle'!$A$1,$M71,C$13-1)*VLOOKUP(C$14,$A$3:$D$11,3,FALSE) -> 0 | D71: =OFFSET('base de donnée conso réelle'!$A$1,$M71,D$13-1)*VLOOKUP(D$14,$A$3:$D$11,3,FALSE) -> 0 | E71: =OFFSET('base de donnée conso réelle'!$A$1,$M71,E$13-1)*VLOOKUP(E$14,$A$3:$D$11,3,FALSE) -> 0 | F71: =OFFSET('base de donnée conso réelle'!$A$1,$M71,F$13-1)*VLOOKUP(F$14,$A$3:$D$11,3,FALSE) -> 0 | G71: =OFFSET('base de donnée conso réelle'!$A$1,$M71,G$13-1)*VLOOKUP(G$14,$A$3:$D$11,3,FALSE) -> 0 | H71: =OFFSET('base de donnée conso réelle'!$A$1,$M71,H$13-1)*VLOOKUP(H$14,$A$3:$D$11,3,FALSE) -> 0 | I71: =OFFSET('base de donnée conso réelle'!$A$1,$M71,I$13-1)*VLOOKUP(I$14,$A$3:$D$11,3,FALSE) -> 0 | J71: =OFFSET('base de donnée conso réelle'!$A$1,$M71,J$13-1)*VLOOKUP(J$14,$A$3:$D$11,3,FALSE) -> 0 | K71: =SUM(B71:J71) -> 0 | L71: mètre | M71: =MATCH(A71,ingrédient,0) -> 57
A72: ='base de donnée conso réelle'!A59 -> bf | B72: =OFFSET('base de donnée conso réelle'!$A$1,$M72,B$13-1)*VLOOKUP(B$14,$A$3:$D$11,3,FALSE) -> 0 | C72: =OFFSET('base de donnée conso réelle'!$A$1,$M72,C$13-1)*VLOOKUP(C$14,$A$3:$D$11,3,FALSE) -> 0 | D72: =OFFSET('base de donnée conso réelle'!$A$1,$M72,D$13-1)*VLOOKUP(D$14,$A$3:$D$11,3,FALSE) -> 0 | E72: =OFFSET('base de donnée conso réelle'!$A$1,$M72,E$13-1)*VLOOKUP(E$14,$A$3:$D$11,3,FALSE) -> 0 | F72: =OFFSET('base de donnée conso réelle'!$A$1,$M72,F$13-1)*VLOOKUP(F$14,$A$3:$D$11,3,FALSE) -> 0 | G72: =OFFSET('base de donnée conso réelle'!$A$1,$M72,G$13-1)*VLOOKUP(G$14,$A$3:$D$11,3,FALSE) -> 0 | H72: =OFFSET('base de donnée conso réelle'!$A$1,$M72,H$13-1)*VLOOKUP(H$14,$A$3:$D$11,3,FALSE) -> 0 | I72: =OFFSET('base de donnée conso réelle'!$A$1,$M72,I$13-1)*VLOOKUP(I$14,$A$3:$D$11,3,FALSE) -> 0 | J72: =OFFSET('base de donnée conso réelle'!$A$1,$M72,J$13-1)*VLOOKUP(J$14,$A$3:$D$11,3,FALSE) -> 0 | K72: =SUM(B72:J72) -> 0 | L72: mètre | M72: =MATCH(A72,ingrédient,0) -> 58
A73: ='base de donnée conso réelle'!A60 -> bg | B73: =OFFSET('base de donnée conso réelle'!$A$1,$M73,B$13-1)*VLOOKUP(B$14,$A$3:$D$11,3,FALSE) -> 0 | C73: =OFFSET('base de donnée conso réelle'!$A$1,$M73,C$13-1)*VLOOKUP(C$14,$A$3:$D$11,3,FALSE) -> 0 | D73: =OFFSET('base de donnée conso réelle'!$A$1,$M73,D$13-1)*VLOOKUP(D$14,$A$3:$D$11,3,FALSE) -> 0 | E73: =OFFSET('base de donnée conso réelle'!$A$1,$M73,E$13-1)*VLOOKUP(E$14,$A$3:$D$11,3,FALSE) -> 0 | F73: =OFFSET('base de donnée conso réelle'!$A$1,$M73,F$13-1)*VLOOKUP(F$14,$A$3:$D$11,3,FALSE) -> 0 | G73: =OFFSET('base de donnée conso réelle'!$A$1,$M73,G$13-1)*VLOOKUP(G$14,$A$3:$D$11,3,FALSE) -> 0 | H73: =OFFSET('base de donnée conso réelle'!$A$1,$M73,H$13-1)*VLOOKUP(H$14,$A$3:$D$11,3,FALSE) -> 0 | I73: =OFFSET('base de donnée conso réelle'!$A$1,$M73,I$13-1)*VLOOKUP(I$14,$A$3:$D$11,3,FALSE) -> 0 | J73: =OFFSET('base de donnée conso réelle'!$A$1,$M73,J$13-1)*VLOOKUP(J$14,$A$3:$D$11,3,FALSE) -> 0 | K73: =SUM(B73:J73) -> 0 | M73: =MATCH(A73,ingrédient,0) -> 59
A74: ='base de donnée conso réelle'!A61 -> bh | B74: =OFFSET('base de donnée conso réelle'!$A$1,$M74,B$13-1)*VLOOKUP(B$14,$A$3:$D$11,3,FALSE) -> 0 | C74: =OFFSET('base de donnée conso réelle'!$A$1,$M74,C$13-1)*VLOOKUP(C$14,$A$3:$D$11,3,FALSE) -> 0 | D74: =OFFSET('base de donnée conso réelle'!$A$1,$M74,D$13-1)*VLOOKUP(D$14,$A$3:$D$11,3,FALSE) -> 0 | E74: =OFFSET('base de donnée conso réelle'!$A$1,$M74,E$13-1)*VLOOKUP(E$14,$A$3:$D$11,3,FALSE) -> 0 | F74: =OFFSET('base de donnée conso réelle'!$A$1,$M74,F$13-1)*VLOOKUP(F$14,$A$3:$D$11,3,FALSE) -> 0 | G74: =OFFSET('base de donnée conso réelle'!$A$1,$M74,G$13-1)*VLOOKUP(G$14,$A$3:$D$11,3,FALSE) -> 0 | H74: =OFFSET('base de donnée conso réelle'!$A$1,$M74,H$13-1)*VLOOKUP(H$14,$A$3:$D$11,3,FALSE) -> 0 | I74: =OFFSET('base de donnée conso réelle'!$A$1,$M74,I$13-1)*VLOOKUP(I$14,$A$3:$D$11,3,FALSE) -> 0 | J74: =OFFSET('base de donnée conso réelle'!$A$1,$M74,J$13-1)*VLOOKUP(J$14,$A$3:$D$11,3,FALSE) -> 0 | K74: =SUM(B74:J74) -> 0 | M74: =MATCH(A74,ingrédient,0) -> 60
A75: ='base de donnée conso réelle'!A62 -> bi | B75: =OFFSET('base de donnée conso réelle'!$A$1,$M75,B$13-1)*VLOOKUP(B$14,$A$3:$D$11,3,FALSE) -> 0 | C75: =OFFSET('base de donnée conso réelle'!$A$1,$M75,C$13-1)*VLOOKUP(C$14,$A$3:$D$11,3,FALSE) -> 0 | D75: =OFFSET('base de donnée conso réelle'!$A$1,$M75,D$13-1)*VLOOKUP(D$14,$A$3:$D$11,3,FALSE) -> 0 | E75: =OFFSET('base de donnée conso réelle'!$A$1,$M75,E$13-1)*VLOOKUP(E$14,$A$3:$D$11,3,FALSE) -> 0 | F75: =OFFSET('base de donnée conso réelle'!$A$1,$M75,F$13-1)*VLOOKUP(F$14,$A$3:$D$11,3,FALSE) -> 0 | G75: =OFFSET('base de donnée conso réelle'!$A$1,$M75,G$13-1)*VLOOKUP(G$14,$A$3:$D$11,3,FALSE) -> 0 | H75: =OFFSET('base de donnée conso réelle'!$A$1,$M75,H$13-1)*VLOOKUP(H$14,$A$3:$D$11,3,FALSE) -> 0 | I75: =OFFSET('base de donnée conso réelle'!$A$1,$M75,I$13-1)*VLOOKUP(I$14,$A$3:$D$11,3,FALSE) -> 0 | J75: =OFFSET('base de donnée conso réelle'!$A$1,$M75,J$13-1)*VLOOKUP(J$14,$A$3:$D$11,3,FALSE) -> 0 | K75: =SUM(B75:J75) -> 0 | L75: mètre | M75: =MATCH(A75,ingrédient,0) -> 61
A76: ='base de donnée conso réelle'!A63 -> bj | B76: =OFFSET('base de donnée conso réelle'!$A$1,$M76,B$13-1)*VLOOKUP(B$14,$A$3:$D$11,3,FALSE) -> 0 | C76: =OFFSET('base de donnée conso réelle'!$A$1,$M76,C$13-1)*VLOOKUP(C$14,$A$3:$D$11,3,FALSE) -> 0 | D76: =OFFSET('base de donnée conso réelle'!$A$1,$M76,D$13-1)*VLOOKUP(D$14,$A$3:$D$11,3,FALSE) -> 0 | E76: =OFFSET('base de donnée conso réelle'!$A$1,$M76,E$13-1)*VLOOKUP(E$14,$A$3:$D$11,3,FALSE) -> 0 | F76: =OFFSET('base de donnée conso réelle'!$A$1,$M76,F$13-1)*VLOOKUP(F$14,$A$3:$D$11,3,FALSE) -> 0 | G76: =OFFSET('base de donnée conso réelle'!$A$1,$M76,G$13-1)*VLOOKUP(G$14,$A$3:$D$11,3,FALSE) -> 0 | H76: =OFFSET('base de donnée conso réelle'!$A$1,$M76,H$13-1)*VLOOKUP(H$14,$A$3:$D$11,3,FALSE) -> 0 | I76: =OFFSET('base de donnée conso réelle'!$A$1,$M76,I$13-1)*VLOOKUP(I$14,$A$3:$D$11,3,FALSE) -> 0 | J76: =OFFSET('base de donnée conso réelle'!$A$1,$M76,J$13-1)*VLOOKUP(J$14,$A$3:$D$11,3,FALSE) -> 0 | K76: =SUM(B76:J76) -> 0 | M76: =MATCH(A76,ingrédient,0) -> 62
A77: ='base de donnée conso réelle'!A64 -> bk | B77: =OFFSET('base de donnée conso réelle'!$A$1,$M77,B$13-1)*VLOOKUP(B$14,$A$3:$D$11,3,FALSE) -> 0 | C77: =OFFSET('base de donnée conso réelle'!$A$1,$M77,C$13-1)*VLOOKUP(C$14,$A$3:$D$11,3,FALSE) -> 0 | D77: =OFFSET('base de donnée conso réelle'!$A$1,$M77,D$13-1)*VLOOKUP(D$14,$A$3:$D$11,3,FALSE) -> 0 | E77: =OFFSET('base de donnée conso réelle'!$A$1,$M77,E$13-1)*VLOOKUP(E$14,$A$3:$D$11,3,FALSE) -> 0 | F77: =OFFSET('base de donnée conso réelle'!$A$1,$M77,F$13-1)*VLOOKUP(F$14,$A$3:$D$11,3,FALSE) -> 0 | G77: =OFFSET('base de donnée conso réelle'!$A$1,$M77,G$13-1)*VLOOKUP(G$14,$A$3:$D$11,3,FALSE) -> 0 | H77: =OFFSET('base de donnée conso réelle'!$A$1,$M77,H$13-1)*VLOOKUP(H$14,$A$3:$D$11,3,FALSE) -> 0 | I77: =OFFSET('base de donnée conso réelle'!$A$1,$M77,I$13-1)*VLOOKUP(I$14,$A$3:$D$11,3,FALSE) -> 0 | J77: =OFFSET('base de donnée conso réelle'!$A$1,$M77,J$13-1)*VLOOKUP(J$14,$A$3:$D$11,3,FALSE) -> 0 | K77: =SUM(B77:J77) -> 0 | M77: =MATCH(A77,ingrédient,0) -> 63
A78: ='base de donnée conso réelle'!A65 -> bl | B78: =OFFSET('base de donnée conso réelle'!$A$1,$M78,B$13-1)*VLOOKUP(B$14,$A$3:$D$11,3,FALSE) -> 0 | C78: =OFFSET('base de donnée conso réelle'!$A$1,$M78,C$13-1)*VLOOKUP(C$14,$A$3:$D$11,3,FALSE) -> 0 | D78: =OFFSET('base de donnée conso réelle'!$A$1,$M78,D$13-1)*VLOOKUP(D$14,$A$3:$D$11,3,FALSE) -> 0 | E78: =OFFSET('base de donnée conso réelle'!$A$1,$M78,E$13-1)*VLOOKUP(E$14,$A$3:$D$11,3,FALSE) -> 0 | F78: =OFFSET('base de donnée conso réelle'!$A$1,$M78,F$13-1)*VLOOKUP(F$14,$A$3:$D$11,3,FALSE) -> 0 | G78: =OFFSET('base de donnée conso réelle'!$A$1,$M78,G$13-1)*VLOOKUP(G$14,$A$3:$D$11,3,FALSE) -> 0 | H78: =OFFSET('base de donnée conso réelle'!$A$1,$M78,H$13-1)*VLOOKUP(H$14,$A$3:$D$11,3,FALSE) -> 0 | I78: =OFFSET('base de donnée conso réelle'!$A$1,$M78,I$13-1)*VLOOKUP(I$14,$A$3:$D$11,3,FALSE) -> 0 | J78: =OFFSET('base de donnée conso réelle'!$A$1,$M78,J$13-1)*VLOOKUP(J$14,$A$3:$D$11,3,FALSE) -> 0 | K78: =SUM(B78:J78) -> 0 | L78: mètre | M78: =MATCH(A78,ingrédient,0) -> 64
A79: ='base de donnée conso réelle'!A66 -> bm | B79: =OFFSET('base de donnée conso réelle'!$A$1,$M79,B$13-1)*VLOOKUP(B$14,$A$3:$D$11,3,FALSE) -> 0 | C79: =OFFSET('base de donnée conso réelle'!$A$1,$M79,C$13-1)*VLOOKUP(C$14,$A$3:$D$11,3,FALSE) -> 0 | D79: =OFFSET('base de donnée conso réelle'!$A$1,$M79,D$13-1)*VLOOKUP(D$14,$A$3:$D$11,3,FALSE) -> 0 | E79: =OFFSET('base de donnée conso réelle'!$A$1,$M79,E$13-1)*VLOOKUP(E$14,$A$3:$D$11,3,FALSE) -> 0 | F79: =OFFSET('base de donnée conso réelle'!$A$1,$M79,F$13-1)*VLOOKUP(F$14,$A$3:$D$11,3,FALSE) -> 0 | G79: =OFFSET('base de donnée conso réelle'!$A$1,$M79,G$13-1)*VLOOKUP(G$14,$A$3:$D$11,3,FALSE) -> 0 | H79: =OFFSET('base de donnée conso réelle'!$A$1,$M79,H$13-1)*VLOOKUP(H$14,$A$3:$D$11,3,FALSE) -> 0 | I79: =OFFSET('base de donnée conso réelle'!$A$1,$M79,I$13-1)*VLOOKUP(I$14,$A$3:$D$11,3,FALSE) -> 0 | J79: =OFFSET('base de donnée conso réelle'!$A$1,$M79,J$13-1)*VLOOKUP(J$14,$A$3:$D$11,3,FALSE) -> 0 | K79: =SUM(B79:J79) -> 0 | L79: mètre | M79: =MATCH(A79,ingrédient,0) -> 65
A80: ='base de donnée conso réelle'!A67 -> bn | B80: =OFFSET('base de donnée conso réelle'!$A$1,$M80,B$13-1)*VLOOKUP(B$14,$A$3:$D$11,3,FALSE) -> 0 | C80: =OFFSET('base de donnée conso réelle'!$A$1,$M80,C$13-1)*VLOOKUP(C$14,$A$3:$D$11,3,FALSE) -> 0 | D80: =OFFSET('base de donnée conso réelle'!$A$1,$M80,D$13-1)*VLOOKUP(D$14,$A$3:$D$11,3,FALSE) -> 0 | E80: =OFFSET('base de donnée conso réelle'!$A$1,$M80,E$13-1)*VLOOKUP(E$14,$A$3:$D$11,3,FALSE) -> 0 | F80: =OFFSET('base de donnée conso réelle'!$A$1,$M80,F$13-1)*VLOOKUP(F$14,$A$3:$D$11,3,FALSE) -> 0 | G80: =OFFSET('base de donnée conso réelle'!$A$1,$M80,G$13-1)*VLOOKUP(G$14,$A$3:$D$11,3,FALSE) -> 0 | H80: =OFFSET('base de donnée conso réelle'!$A$1,$M80,H$13-1)*VLOOKUP(H$14,$A$3:$D$11,3,FALSE) -> 0 | I80: =OFFSET('base de donnée conso réelle'!$A$1,$M80,I$13-1)*VLOOKUP(I$14,$A$3:$D$11,3,FALSE) -> 0 | J80: =OFFSET('base de donnée conso réelle'!$A$1,$M80,J$13-1)*VLOOKUP(J$14,$A$3:$D$11,3,FALSE) -> 0 | K80: =SUM(B80:J80) -> 0 | L80: mètre | M80: =MATCH(A80,ingrédient,0) -> 66
A81: ='base de donnée conso réelle'!A68 -> bo | B81: =OFFSET('base de donnée conso réelle'!$A$1,$M81,B$13-1)*VLOOKUP(B$14,$A$3:$D$11,3,FALSE) -> 0 | C81: =OFFSET('base de donnée conso réelle'!$A$1,$M81,C$13-1)*VLOOKUP(C$14,$A$3:$D$11,3,FALSE) -> 0 | D81: =OFFSET('base de donnée conso réelle'!$A$1,$M81,D$13-1)*VLOOKUP(D$14,$A$3:$D$11,3,FALSE) -> 0 | E81: =OFFSET('base de donnée conso réelle'!$A$1,$M81,E$13-1)*VLOOKUP(E$14,$A$3:$D$11,3,FALSE) -> 0 | F81: =OFFSET('base de donnée conso réelle'!$A$1,$M81,F$13-1)*VLOOKUP(F$14,$A$3:$D$11,3,FALSE) -> 0 | G81: =OFFSET('base de donnée conso réelle'!$A$1,$M81,G$13-1)*VLOOKUP(G$14,$A$3:$D$11,3,FALSE) -> 0 | H81: =OFFSET('base de donnée conso réelle'!$A$1,$M81,H$13-1)*VLOOKUP(H$14,$A$3:$D$11,3,FALSE) -> 0 | I81: =OFFSET('base de donnée conso réelle'!$A$1,$M81,I$13-1)*VLOOKUP(I$14,$A$3:$D$11,3,FALSE) -> 0 | J81: =OFFSET('base de donnée conso réelle'!$A$1,$M81,J$13-1)*VLOOKUP(J$14,$A$3:$D$11,3,FALSE) -> 0 | K81: =SUM(B81:J81) -> 0 | L81: paltte de panière | M81: =MATCH(A81,ingrédient,0) -> 67
A82: ='base de donnée conso réelle'!A69 -> bp | B82: =OFFSET('base de donnée conso réelle'!$A$1,$M82,B$13-1)*VLOOKUP(B$14,$A$3:$D$11,3,FALSE) -> 0 | C82: =OFFSET('base de donnée conso réelle'!$A$1,$M82,C$13-1)*VLOOKUP(C$14,$A$3:$D$11,3,FALSE) -> 0 | D82: =OFFSET('base de donnée conso réelle'!$A$1,$M82,D$13-1)*VLOOKUP(D$14,$A$3:$D$11,3,FALSE) -> 0 | E82: =OFFSET('base de donnée conso réelle'!$A$1,$M82,E$13-1)*VLOOKUP(E$14,$A$3:$D$11,3,FALSE) -> 0 | F82: =OFFSET('base de donnée conso réelle'!$A$1,$M82,F$13-1)*VLOOKUP(F$14,$A$3:$D$11,3,FALSE) -> 0 | G82: =OFFSET('base de donnée conso réelle'!$A$1,$M82,G$13-1)*VLOOKUP(G$14,$A$3:$D$11,3,FALSE) -> 0 | H82: =OFFSET('base de donnée conso réelle'!$A$1,$M82,H$13-1)*VLOOKUP(H$14,$A$3:$D$11,3,FALSE) -> 0 | I82: =OFFSET('base de donnée conso réelle'!$A$1,$M82,I$13-1)*VLOOKUP(I$14,$A$3:$D$11,3,FALSE) -> 0 | J82: =OFFSET('base de donnée conso réelle'!$A$1,$M82,J$13-1)*VLOOKUP(J$14,$A$3:$D$11,3,FALSE) -> 0 | K82: =SUM(B82:J82) -> 0 | L82: paltte de panière | M82: =MATCH(A82,ingrédient,0) -> 68
A83: ='base de donnée conso réelle'!A70 -> bq | B83: =OFFSET('base de donnée conso réelle'!$A$1,$M83,B$13-1)*VLOOKUP(B$14,$A$3:$D$11,3,FALSE) -> 0 | C83: =OFFSET('base de donnée conso réelle'!$A$1,$M83,C$13-1)*VLOOKUP(C$14,$A$3:$D$11,3,FALSE) -> 0 | D83: =OFFSET('base de donnée conso réelle'!$A$1,$M83,D$13-1)*VLOOKUP(D$14,$A$3:$D$11,3,FALSE) -> 0 | E83: =OFFSET('base de donnée conso réelle'!$A$1,$M83,E$13-1)*VLOOKUP(E$14,$A$3:$D$11,3,FALSE) -> 0 | F83: =OFFSET('base de donnée conso réelle'!$A$1,$M83,F$13-1)*VLOOKUP(F$14,$A$3:$D$11,3,FALSE) -> 0 | G83: =OFFSET('base de donnée conso réelle'!$A$1,$M83,G$13-1)*VLOOKUP(G$14,$A$3:$D$11,3,FALSE) -> 0 | H83: =OFFSET('base de donnée conso réelle'!$A$1,$M83,H$13-1)*VLOOKUP(H$14,$A$3:$D$11,3,FALSE) -> 0 | I83: =OFFSET('base de donnée conso réelle'!$A$1,$M83,I$13-1)*VLOOKUP(I$14,$A$3:$D$11,3,FALSE) -> 0 | J83: =OFFSET('base de donnée conso réelle'!$A$1,$M83,J$13-1)*VLOOKUP(J$14,$A$3:$D$11,3,FALSE) -> 0 | K83: =SUM(B83:J83) -> 0 | L83: paltte de panière | M83: =MATCH(A83,ingrédient,0) -> 69
A84: ='base de donnée conso réelle'!A71 -> br | B84: =OFFSET('base de donnée conso réelle'!$A$1,$M84,B$13-1)*VLOOKUP(B$14,$A$3:$D$11,3,FALSE) -> 0 | C84: =OFFSET('base de donnée conso réelle'!$A$1,$M84,C$13-1)*VLOOKUP(C$14,$A$3:$D$11,3,FALSE) -> 0 | D84: =OFFSET('base de donnée conso réelle'!$A$1,$M84,D$13-1)*VLOOKUP(D$14,$A$3:$D$11,3,FALSE) -> 0 | E84: =OFFSET('base de donnée conso réelle'!$A$1,$M84,E$13-1)*VLOOKUP(E$14,$A$3:$D$11,3,FALSE) -> 0 | F84: =OFFSET('base de donnée conso réelle'!$A$1,$M84,F$13-1)*VLOOKUP(F$14,$A$3:$D$11,3,FALSE) -> 0 | G84: =OFFSET('base de donnée conso réelle'!$A$1,$M84,G$13-1)*VLOOKUP(G$14,$A$3:$D$11,3,FALSE) -> 0 | H84: =OFFSET('base de donnée conso réelle'!$A$1,$M84,H$13-1)*VLOOKUP(H$14,$A$3:$D$11,3,FALSE) -> 0 | I84: =OFFSET('base de donnée conso réelle'!$A$1,$M84,I$13-1)*VLOOKUP(I$14,$A$3:$D$11,3,FALSE) -> 0 | J84: =OFFSET('base de donnée conso réelle'!$A$1,$M84,J$13-1)*VLOOKUP(J$14,$A$3:$D$11,3,FALSE) -> 0 | K84: =SUM(B84:J84) -> 0 | M84: =MATCH(A84,ingrédient,0) -> 70
A85: ='base de donnée conso réelle'!A72 -> bs | B85: =OFFSET('base de donnée conso réelle'!$A$1,$M85,B$13-1)*VLOOKUP(B$14,$A$3:$D$11,3,FALSE) -> 0 | C85: =OFFSET('base de donnée conso réelle'!$A$1,$M85,C$13-1)*VLOOKUP(C$14,$A$3:$D$11,3,FALSE) -> 0 | D85: =OFFSET('base de donnée conso réelle'!$A$1,$M85,D$13-1)*VLOOKUP(D$14,$A$3:$D$11,3,FALSE) -> 0 | E85: =OFFSET('base de donnée conso réelle'!$A$1,$M85,E$13-1)*VLOOKUP(E$14,$A$3:$D$11,3,FALSE) -> 0 | F85: =OFFSET('base de donnée conso réelle'!$A$1,$M85,F$13-1)*VLOOKUP(F$14,$A$3:$D$11,3,FALSE) -> 0 | G85: =OFFSET('base de donnée conso réelle'!$A$1,$M85,G$13-1)*VLOOKUP(G$14,$A$3:$D$11,3,FALSE) -> 0 | H85: =OFFSET('base de donnée conso réelle'!$A$1,$M85,H$13-1)*VLOOKUP(H$14,$A$3:$D$11,3,FALSE) -> 0 | I85: =OFFSET('base de donnée conso réelle'!$A$1,$M85,I$13-1)*VLOOKUP(I$14,$A$3:$D$11,3,FALSE) -> 0 | J85: =OFFSET('base de donnée conso réelle'!$A$1,$M85,J$13-1)*VLOOKUP(J$14,$A$3:$D$11,3,FALSE) -> 0 | K85: =SUM(B85:J85) -> 0 | M85: =MATCH(A85,ingrédient,0) -> 71
A86: ='base de donnée conso réelle'!A73 -> bt | B86: =OFFSET('base de donnée conso réelle'!$A$1,$M86,B$13-1)*VLOOKUP(B$14,$A$3:$D$11,3,FALSE) -> 0 | C86: =OFFSET('base de donnée conso réelle'!$A$1,$M86,C$13-1)*VLOOKUP(C$14,$A$3:$D$11,3,FALSE) -> 0 | D86: =OFFSET('base de donnée conso réelle'!$A$1,$M86,D$13-1)*VLOOKUP(D$14,$A$3:$D$11,3,FALSE) -> 0 | E86: =OFFSET('base de donnée conso réelle'!$A$1,$M86,E$13-1)*VLOOKUP(E$14,$A$3:$D$11,3,FALSE) -> 0 | F86: =OFFSET('base de donnée conso réelle'!$A$1,$M86,F$13-1)*VLOOKUP(F$14,$A$3:$D$11,3,FALSE) -> 0 | G86: =OFFSET('base de donnée conso réelle'!$A$1,$M86,G$13-1)*VLOOKUP(G$14,$A$3:$D$11,3,FALSE) -> 0 | H86: =OFFSET('base de donnée conso réelle'!$A$1,$M86,H$13-1)*VLOOKUP(H$14,$A$3:$D$11,3,FALSE) -> 0 | I86: =OFFSET('base de donnée conso réelle'!$A$1,$M86,I$13-1)*VLOOKUP(I$14,$A$3:$D$11,3,FALSE) -> 0 | J86: =OFFSET('base de donnée conso réelle'!$A$1,$M86,J$13-1)*VLOOKUP(J$14,$A$3:$D$11,3,FALSE) -> 0 | K86: =SUM(B86:J86) -> 0 | M86: =MATCH(A86,ingrédient,0) -> 72
A87: ='base de donnée conso réelle'!A74 -> bu | B87: =OFFSET('base de donnée conso réelle'!$A$1,$M87,B$13-1)*VLOOKUP(B$14,$A$3:$D$11,3,FALSE) -> 0 | C87: =OFFSET('base de donnée conso réelle'!$A$1,$M87,C$13-1)*VLOOKUP(C$14,$A$3:$D$11,3,FALSE) -> 0 | D87: =OFFSET('base de donnée conso réelle'!$A$1,$M87,D$13-1)*VLOOKUP(D$14,$A$3:$D$11,3,FALSE) -> 0 | E87: =OFFSET('base de donnée conso réelle'!$A$1,$M87,E$13-1)*VLOOKUP(E$14,$A$3:$D$11,3,FALSE) -> 0 | F87: =OFFSET('base de donnée conso réelle'!$A$1,$M87,F$13-1)*VLOOKUP(F$14,$A$3:$D$11,3,FALSE) -> 0 | G87: =OFFSET('base de donnée conso réelle'!$A$1,$M87,G$13-1)*VLOOKUP(G$14,$A$3:$D$11,3,FALSE) -> 0 | H87: =OFFSET('base de donnée conso réelle'!$A$1,$M87,H$13-1)*VLOOKUP(H$14,$A$3:$D$11,3,FALSE) -> 0 | I87: =OFFSET('base de donnée conso réelle'!$A$1,$M87,I$13-1)*VLOOKUP(I$14,$A$3:$D$11,3,FALSE) -> 0 | J87: =OFFSET('base de donnée conso réelle'!$A$1,$M87,J$13-1)*VLOOKUP(J$14,$A$3:$D$11,3,FALSE) -> 0 | K87: =SUM(B87:J87) -> 0 | M87: =MATCH(A87,ingrédient,0) -> 73
A88: ='base de donnée conso réelle'!A75 -> bv | B88: =OFFSET('base de donnée conso réelle'!$A$1,$M88,B$13-1)*VLOOKUP(B$14,$A$3:$D$11,3,FALSE) -> 0 | C88: =OFFSET('base de donnée conso réelle'!$A$1,$M88,C$13-1)*VLOOKUP(C$14,$A$3:$D$11,3,FALSE) -> 0 | D88: =OFFSET('base de donnée conso réelle'!$A$1,$M88,D$13-1)*VLOOKUP(D$14,$A$3:$D$11,3,FALSE) -> 0 | E88: =OFFSET('base de donnée conso réelle'!$A$1,$M88,E$13-1)*VLOOKUP(E$14,$A$3:$D$11,3,FALSE) -> 0 | F88: =OFFSET('base de donnée conso réelle'!$A$1,$M88,F$13-1)*VLOOKUP(F$14,$A$3:$D$11,3,FALSE) -> 0 | G88: =OFFSET('base de donnée conso réelle'!$A$1,$M88,G$13-1)*VLOOKUP(G$14,$A$3:$D$11,3,FALSE) -> 0 | H88: =OFFSET('base de donnée conso réelle'!$A$1,$M88,H$13-1)*VLOOKUP(H$14,$A$3:$D$11,3,FALSE) -> 0 | I88: =OFFSET('base de donnée conso réelle'!$A$1,$M88,I$13-1)*VLOOKUP(I$14,$A$3:$D$11,3,FALSE) -> 0 | J88: =OFFSET('base de donnée conso réelle'!$A$1,$M88,J$13-1)*VLOOKUP(J$14,$A$3:$D$11,3,FALSE) -> 0 | K88: =SUM(B88:J88) -> 0 | M88: =MATCH(A88,ingrédient,0) -> 74
A89: ='base de donnée conso réelle'!A76 -> bw | B89: =OFFSET('base de donnée conso réelle'!$A$1,$M89,B$13-1)*VLOOKUP(B$14,$A$3:$D$11,3,FALSE) -> 0 | C89: =OFFSET('base de donnée conso réelle'!$A$1,$M89,C$13-1)*VLOOKUP(C$14,$A$3:$D$11,3,FALSE) -> 0 | D89: =OFFSET('base de donnée conso réelle'!$A$1,$M89,D$13-1)*VLOOKUP(D$14,$A$3:$D$11,3,FALSE) -> 0 | E89: =OFFSET('base de donnée conso réelle'!$A$1,$M89,E$13-1)*VLOOKUP(E$14,$A$3:$D$11,3,FALSE) -> 0 | F89: =OFFSET('base de donnée conso réelle'!$A$1,$M89,F$13-1)*VLOOKUP(F$14,$A$3:$D$11,3,FALSE) -> 0 | G89: =OFFSET('base de donnée conso réelle'!$A$1,$M89,G$13-1)*VLOOKUP(G$14,$A$3:$D$11,3,FALSE) -> 0 | H89: =OFFSET('base de donnée conso réelle'!$A$1,$M89,H$13-1)*VLOOKUP(H$14,$A$3:$D$11,3,FALSE) -> 0 | I89: =OFFSET('base de donnée conso réelle'!$A$1,$M89,I$13-1)*VLOOKUP(I$14,$A$3:$D$11,3,FALSE) -> 0 | J89: =OFFSET('base de donnée conso réelle'!$A$1,$M89,J$13-1)*VLOOKUP(J$14,$A$3:$D$11,3,FALSE) -> 0 | K89: =SUM(B89:J89) -> 0 | M89: =MATCH(A89,ingrédient,0) -> 75
A90: ='base de donnée conso réelle'!A77 -> bx | B90: =OFFSET('base de donnée conso réelle'!$A$1,$M90,B$13-1)*VLOOKUP(B$14,$A$3:$D$11,3,FALSE) -> 0 | C90: =OFFSET('base de donnée conso réelle'!$A$1,$M90,C$13-1)*VLOOKUP(C$14,$A$3:$D$11,3,FALSE) -> 0 | D90: =OFFSET('base de donnée conso réelle'!$A$1,$M90,D$13-1)*VLOOKUP(D$14,$A$3:$D$11,3,FALSE) -> 0 | E90: =OFFSET('base de donnée conso réelle'!$A$1,$M90,E$13-1)*VLOOKUP(E$14,$A$3:$D$11,3,FALSE) -> 0 | F90: =OFFSET('base de donnée conso réelle'!$A$1,$M90,F$13-1)*VLOOKUP(F$14,$A$3:$D$11,3,FALSE) -> 0 | G90: =OFFSET('base de donnée conso réelle'!$A$1,$M90,G$13-1)*VLOOKUP(G$14,$A$3:$D$11,3,FALSE) -> 0 | H90: =OFFSET('base de donnée conso réelle'!$A$1,$M90,H$13-1)*VLOOKUP(H$14,$A$3:$D$11,3,FALSE) -> 0 | I90: =OFFSET('base de donnée conso réelle'!$A$1,$M90,I$13-1)*VLOOKUP(I$14,$A$3:$D$11,3,FALSE) -> 0 | J90: =OFFSET('base de donnée conso réelle'!$A$1,$M90,J$13-1)*VLOOKUP(J$14,$A$3:$D$11,3,FALSE) -> 0 | K90: =SUM(B90:J90) -> 0 | M90: =MATCH(A90,ingrédient,0) -> 76
A91: ='base de donnée conso réelle'!A78 -> by | B91: =OFFSET('base de donnée conso réelle'!$A$1,$M91,B$13-1)*VLOOKUP(B$14,$A$3:$D$11,3,FALSE) -> 0 | C91: =OFFSET('base de donnée conso réelle'!$A$1,$M91,C$13-1)*VLOOKUP(C$14,$A$3:$D$11,3,FALSE) -> 0 | D91: =OFFSET('base de donnée conso réelle'!$A$1,$M91,D$13-1)*VLOOKUP(D$14,$A$3:$D$11,3,FALSE) -> 0 | E91: =OFFSET('base de donnée conso réelle'!$A$1,$M91,E$13-1)*VLOOKUP(E$14,$A$3:$D$11,3,FALSE) -> 0 | F91: =OFFSET('base de donnée conso réelle'!$A$1,$M91,F$13-1)*VLOOKUP(F$14,$A$3:$D$11,3,FALSE) -> 0 | G91: =OFFSET('base de donnée conso réelle'!$A$1,$M91,G$13-1)*VLOOKUP(G$14,$A$3:$D$11,3,FALSE) -> 0 | H91: =OFFSET('base de donnée conso réelle'!$A$1,$M91,H$13-1)*VLOOKUP(H$14,$A$3:$D$11,3,FALSE) -> 0 | I91: =OFFSET('base de donnée conso réelle'!$A$1,$M91,I$13-1)*VLOOKUP(I$14,$A$3:$D$11,3,FALSE) -> 0 | J91: =OFFSET('base de donnée conso réelle'!$A$1,$M91,J$13-1)*VLOOKUP(J$14,$A$3:$D$11,3,FALSE) -> 0 | K91: =SUM(B91:J91) -> 0 | M91: =MATCH(A91,ingrédient,0) -> 77
A92: ='base de donnée conso réelle'!A79 -> bz | B92: =OFFSET('base de donnée conso réelle'!$A$1,$M92,B$13-1)*VLOOKUP(B$14,$A$3:$D$11,3,FALSE) -> 0 | C92: =OFFSET('base de donnée conso réelle'!$A$1,$M92,C$13-1)*VLOOKUP(C$14,$A$3:$D$11,3,FALSE) -> 0 | D92: =OFFSET('base de donnée conso réelle'!$A$1,$M92,D$13-1)*VLOOKUP(D$14,$A$3:$D$11,3,FALSE) -> 0 | E92: =OFFSET('base de donnée conso réelle'!$A$1,$M92,E$13-1)*VLOOKUP(E$14,$A$3:$D$11,3,FALSE) -> 0 | F92: =OFFSET('base de donnée conso réelle'!$A$1,$M92,F$13-1)*VLOOKUP(F$14,$A$3:$D$11,3,FALSE) -> 0 | G92: =OFFSET('base de donnée conso réelle'!$A$1,$M92,G$13-1)*VLOOKUP(G$14,$A$3:$D$11,3,FALSE) -> 0 | H92: =OFFSET('base de donnée conso réelle'!$A$1,$M92,H$13-1)*VLOOKUP(H$14,$A$3:$D$11,3,FALSE) -> 0 | I92: =OFFSET('base de donnée conso réelle'!$A$1,$M92,I$13-1)*VLOOKUP(I$14,$A$3:$D$11,3,FALSE) -> 0 | J92: =OFFSET('base de donnée conso réelle'!$A$1,$M92,J$13-1)*VLOOKUP(J$14,$A$3:$D$11,3,FALSE) -> 0 | K92: =SUM(B92:J92) -> 0 | M92: =MATCH(A92,ingrédient,0) -> 78
A93: ='base de donnée conso réelle'!A80 -> ca | B93: =OFFSET('base de donnée conso réelle'!$A$1,$M93,B$13-1)*VLOOKUP(B$14,$A$3:$D$11,3,FALSE) -> 0 | C93: =OFFSET('base de donnée conso réelle'!$A$1,$M93,C$13-1)*VLOOKUP(C$14,$A$3:$D$11,3,FALSE) -> 0 | D93: =OFFSET('base de donnée conso réelle'!$A$1,$M93,D$13-1)*VLOOKUP(D$14,$A$3:$D$11,3,FALSE) -> 0 | E93: =OFFSET('base de donnée conso réelle'!$A$1,$M93,E$13-1)*VLOOKUP(E$14,$A$3:$D$11,3,FALSE) -> 0 | F93: =OFFSET('base de donnée conso réelle'!$A$1,$M93,F$13-1)*VLOOKUP(F$14,$A$3:$D$11,3,FALSE) -> 0 | G93: =OFFSET('base de donnée conso réelle'!$A$1,$M93,G$13-1)*VLOOKUP(G$14,$A$3:$D$11,3,FALSE) -> 0 | H93: =OFFSET('base de donnée conso réelle'!$A$1,$M93,H$13-1)*VLOOKUP(H$14,$A$3:$D$11,3,FALSE) -> 0 | I93: =OFFSET('base de donnée conso réelle'!$A$1,$M93,I$13-1)*VLOOKUP(I$14,$A$3:$D$11,3,FALSE) -> 0 | J93: =OFFSET('base de donnée conso réelle'!$A$1,$M93,J$13-1)*VLOOKUP(J$14,$A$3:$D$11,3,FALSE) -> 0 | K93: =SUM(B93:J93) -> 0 | M93: =MATCH(A93,ingrédient,0) -> 79
A94: ='base de donnée conso réelle'!A81 -> cb | B94: =OFFSET('base de donnée conso réelle'!$A$1,$M94,B$13-1)*VLOOKUP(B$14,$A$3:$D$11,3,FALSE) -> 3300 | C94: =OFFSET('base de donnée conso réelle'!$A$1,$M94,C$13-1)*VLOOKUP(C$14,$A$3:$D$11,3,FALSE) -> 510 | D94: =OFFSET('base de donnée conso réelle'!$A$1,$M94,D$13-1)*VLOOKUP(D$14,$A$3:$D$11,3,FALSE) -> 2160 | E94: =OFFSET('base de donnée conso réelle'!$A$1,$M94,E$13-1)*VLOOKUP(E$14,$A$3:$D$11,3,FALSE) -> 3780 | F94: =OFFSET('base de donnée conso réelle'!$A$1,$M94,F$13-1)*VLOOKUP(F$14,$A$3:$D$11,3,FALSE) -> 645 | G94: =OFFSET('base de donnée conso réelle'!$A$1,$M94,G$13-1)*VLOOKUP(G$14,$A$3:$D$11,3,FALSE) -> 0 | H94: =OFFSET('base de donnée conso réelle'!$A$1,$M94,H$13-1)*VLOOKUP(H$14,$A$3:$D$11,3,FALSE) -> 11340 | I94: =OFFSET('base de donnée conso réelle'!$A$1,$M94,I$13-1)*VLOOKUP(I$14,$A$3:$D$11,3,FALSE) -> 0 | J94: =OFFSET('base de donnée conso réelle'!$A$1,$M94,J$13-1)*VLOOKUP(J$14,$A$3:$D$11,3,FALSE) -> 0 | K94: =SUM(B94:J94) -> 21735 | M94: =MATCH(A94,ingrédient,0) -> 80
A95: ='base de donnée conso réelle'!A82 -> cc | B95: =OFFSET('base de donnée conso réelle'!$A$1,$M95,B$13-1)*VLOOKUP(B$14,$A$3:$D$11,3,FALSE) -> 0 | C95: =OFFSET('base de donnée conso réelle'!$A$1,$M95,C$13-1)*VLOOKUP(C$14,$A$3:$D$11,3,FALSE) -> 0 | D95: =OFFSET('base de donnée conso réelle'!$A$1,$M95,D$13-1)*VLOOKUP(D$14,$A$3:$D$11,3,FALSE) -> 0 | E95: =OFFSET('base de donnée conso réelle'!$A$1,$M95,E$13-1)*VLOOKUP(E$14,$A$3:$D$11,3,FALSE) -> 0 | F95: =OFFSET('base de donnée conso réelle'!$A$1,$M95,F$13-1)*VLOOKUP(F$14,$A$3:$D$11,3,FALSE) -> 0 | G95: =OFFSET('base de donnée conso réelle'!$A$1,$M95,G$13-1)*VLOOKUP(G$14,$A$3:$D$11,3,FALSE) -> 0 | H95: =OFFSET('base de donnée conso réelle'!$A$1,$M95,H$13-1)*VLOOKUP(H$14,$A$3:$D$11,3,FALSE) -> 0 | I95: =OFFSET('base de donnée conso réelle'!$A$1,$M95,I$13-1)*VLOOKUP(I$14,$A$3:$D$11,3,FALSE) -> 0 | J95: =OFFSET('base de donnée conso réelle'!$A$1,$M95,J$13-1)*VLOOKUP(J$14,$A$3:$D$11,3,FALSE) -> 0 | K95: =SUM(B95:J95) -> 0 | M95: =MATCH(A95,ingrédient,0) -> 81
A96: ='base de donnée conso réelle'!A83 -> cd | B96: =OFFSET('base de donnée conso réelle'!$A$1,$M96,B$13-1)*VLOOKUP(B$14,$A$3:$D$11,3,FALSE) -> 0 | C96: =OFFSET('base de donnée conso réelle'!$A$1,$M96,C$13-1)*VLOOKUP(C$14,$A$3:$D$11,3,FALSE) -> 0 | D96: =OFFSET('base de donnée conso réelle'!$A$1,$M96,D$13-1)*VLOOKUP(D$14,$A$3:$D$11,3,FALSE) -> 0 | E96: =OFFSET('base de donnée conso réelle'!$A$1,$M96,E$13-1)*VLOOKUP(E$14,$A$3:$D$11,3,FALSE) -> 0 | F96: =OFFSET('base de donnée conso réelle'!$A$1,$M96,F$13-1)*VLOOKUP(F$14,$A$3:$D$11,3,FALSE) -> 0 | G96: =OFFSET('base de donnée conso réelle'!$A$1,$M96,G$13-1)*VLOOKUP(G$14,$A$3:$D$11,3,FALSE) -> 0 | H96: =OFFSET('base de donnée conso réelle'!$A$1,$M96,H$13-1)*VLOOKUP(H$14,$A$3:$D$11,3,FALSE) -> 0 | I96: =OFFSET('base de donnée conso réelle'!$A$1,$M96,I$13-1)*VLOOKUP(I$14,$A$3:$D$11,3,FALSE) -> 0 | J96: =OFFSET('base de donnée conso réelle'!$A$1,$M96,J$13-1)*VLOOKUP(J$14,$A$3:$D$11,3,FALSE) -> 1050 | K96: =SUM(B96:J96) -> 1050 | M96: =MATCH(A96,ingrédient,0) -> 82

Sheet base de donnée conso réelle
B1: pdt 1 | C1: pdt2 | D1: pdt 3 | E1: pdt 4 | F1: pdt 5 | G1: pdt 6 | H1: pdt 7 | I1: pdt 8 | J1: pdt 9 | K1: pdt 10 | L1: pdt 11 | M1: pdt 12 | N1: pdt 13 | O1: pdt 14 | Q1: pdt 15 | R1: pdt 16 | S1: pdt 17 | T1: pdt 18 | U1: pdt 19 | V1: pdt 20 | W1: pdt 21 | X1: pdt 22 | Y1: pdt 23 | AA1: pdt 24 | AB1: pdt 25 | AC1: pdt 26 | AE1: pdt 27 | AG1: pdt 28
A2: a | B2: 581 | C2: =370+247 -> 617 | D2: =360+238 -> 598 | E2: =374+252 -> 626 | F2: =369+247 -> 616 | G2: =265+177 -> 442 | H2: =376+251 -> 627 | I2: =305*2 -> 610 | J2: =305*2 -> 610 | K2: =282+188 -> 470 | L2: =291*2 -> 582 | Q2: =363+243 -> 606 | R2: =250+167 -> 417 | S2: =382+255 -> 637 | T2: =209+140 -> 349 | U2: =338+225 -> 563 | V2: =288+192 -> 480 | AA2: =325+209 -> 534 | AB2: =392+252 -> 644 | AC2: =383+247 -> 630 | AE2: =238+158 -> 396 | AG2: =319+205 -> 524
A3: b | B3: 75.7 | C3: 80.1 | D3: 77.8 | E3: 63.2 | F3: 79.9 | G3: 35.3 | H3: 63.1 | I3: 79.9 | J3: 79.9 | K3: 61.5 | L3: 58.9 | Q3: 66.7 | R3: 37.5 | S3: 76.5 | T3: 26.2 | U3: 16.6 | V3: 43.1 | AA3: =27 -> 27 | AB3: 32.6 | AC3: 31.7 | AE3: =27.5 -> 27.5 | AG3: 26.5
A4: c | B4: 10.5 | C4: 10.9 | D4: 10.4 | E4: 8.4 | F4: 9.7 | G4: 6.6 | H4: 8.4 | I4: 11 | J4: 10 | K4: 8.5 | L4: 8 | Q4: 12.1 | R4: 8.3 | S4: 12.8 | T4: 6.6 | U4: 10.3 | V4: 9.5 | AA4: 9.6 | AB4: 11.5 | AC4: 11.3 | AE4: 7.1 | AG4: 9.4
A5: d | B5: 1.97 | C5: 2.28 | D5: 2.5 | E5: 1.4 | F5: 1.8 | G5: 1.9 | H5: 1.64 | I5: 1.58 | J5: 1.3 | K5: 1.08 | L5: 1.63 | Q5: 2.73 | R5: 1.88 | S5: 3.5 | T5: 1.56 | U5: 2.54 | V5: 1.7 | AA5: 1.65 | AB5: 1.33 | AC5: 2.69 | AE5: 1.13 | AG5: 1.62
A6: e | B6: 17.4 | C6: 18.5 | D6: 17.9 | E6: 18.7 | F6: 18.3 | G6: 13.4 | H6: 18.9 | I6: 18.3 | J6: 18.3 | K6: 14.1 | L6: 16.4 | Q6: 30.3 | R6: 14.6 | S6: 27.4 | T6: 10.5 | V6: 16.8 | AA6: 17.6 | AB6: 21.3 | AC6: 20.7 | AE6: 11.8 | AG6: 17.2
A7: f | B7: 0.07 | C7: 0.45 | D7: 0.3 | E7: 0.7 | F7: 1.1 | G7: 0.58 | I7: 0.6 | J7: 0.6 | L7: 0.2 | Q7: 0.3 | R7: 0.7 | S7: 0.64 | T7: 0.82 | V7: 0.61 | AA7: 0.32 | AB7: 0.6 | AC7: 0.2 | AE7: 0.2 | AG7: 0.41
A8: g | B8: 0.54 | C8: 0.5 | D8: 0.55 | G8: 0.2 | J8: 0.3 | AA8: 1.4 | AB8: 1.8 | AC8: 1.6
A9: h | AA9: 11 | AB9: 13.3 | AC9: 13 | AE9: 16.7 | AG9: 10.78
A10: i | D10: 11 | E10: 5.1 | F10: 3 | G10: 4.2 | H10: 2.6 | I10: 3.2 | J10: 3.2 | K10: 2.5 | L10: 3.2 | Q10: 2.8 | R10: 10.5 | S10: 3.8 | T10: 5.2 | U10: 2.8 | V10: 12.1 | AA10: 1 | AC10: 1.2 | AE10: 5.7 | AG10: 1
A11: j | E11: 2.25 | G11: 1.1 | H11: 2 | L11: 1.34
A12: k | D12: 0.6 | T12: 1.5 | V12: 5
A13: l | B13: =21.2+10.5 -> 31.7 | C13: =18.7+9.7 -> 28.4 | D13: =18.8+18 -> 36.8 | E13: =19+6 -> 25 | F13: =18.9+12 -> 30.9 | G13: =11.6+6.6 -> 18.2 | H13: =14.4+7 -> 21.4 | I13: =18.9+6.9 -> 25.8 | J13: =19+6.5 -> 25.5 | K13: =16.9+2.5 -> 19.4 | L13: =10+5.6 -> 15.6 | Q13: =18.4+12 -> 30.4 | R13: =13.8+6.5 -> 20.3 | S13: =19.4+16.8 -> 36.2 | T13: =10.1+0.6 -> 10.7 | U13: =18.7+13.6 -> 32.3 | V13: =15.9+10 -> 25.9 | AA13: =19.4+16.4 -> 35.8 | AB13: =23.9+5.7 -> 29.6 | AC13: =23.9+16.7 -> 40.6 | AE13: =15+1.9 -> 16.9 | AG13: =19+8.5 -> 27.5
A14: m | D14: 6 | F14: 2.3 | G14: 1.1 | J14: 3.2 | Q14: 6.1 | R14: 3.1 | S14: 9 | T14: 5.2 | U14: 5.6 | V14: 3.6 | AA14: 1 | AC14: 1.2
A15: n | U15: 5.8 | V15: 4.8
A16: o | I16: 0.13 | K16: 0.08
A17: p | I17: 60 | K17: 46 | AE17: 37
A18: q
A19: r | I19: 12 | J19: 18 | L19: 17.1
A20: s | L20: 5
A21: t | B21: 0.32 | I21: 1.9 | K21: 1.5 | Q21: 0.61 | R21: 0.84 | S21: 0.64 | U21: 0.6 | V21: 0.97
A22: u | I22: 1.9 | K22: 1.5
A23: v | B23: 0.04 | C23: 0.08 | D23: 0.13 | E23: 0.07 | F23: 0.03 | G23: 0.07 | H23: 0.04 | I23: 0.06 | J23: 0.06 | K23: 0.09 | L23: 0.03 | Q23: 0.06 | R23: 0.06 | S23: 0.08 | T23: 0.03 | U23: 0.06 | V23: 0.07 | AA23: 0.04 | AB23: 0.04 | AC23: 0.1 | AE23: 0.07 | AG23: 0.02
A24: w | I24: 3.2 | L24: 4.8
A25: x | U25: 27
A26: t | U26: 28.08
A27: y | U27: 22.68
A28: aa | U28: 50
A29: ab | AE29: 2.8
A30: ac
A31: ad
A32: ae
A33: af
A34: ag
A35: ah | C35: 25.74 | D35: 20.9 | F35: 28.14 | G35: 15 | H35: 20 | I35: 20.27 | J35: 20 | Q35: 22.3 | S35: 20 | T35: 12 | AA35: 22 | AB35: 20.11 | AC35: 19 | AG35: 22
A36: ai | G36: 30
A37: aj | H37: 10
A38: ak | H38: 30 | I38: 15 | K38: 16 | V38: 17 | AE38: 15
A39: al | L39: 10
A40: am | R40: 18
A41: an
A42: ao | V42: 57
A43: ap | U43: 22
A44: aq
A45: ar
A46: as
A47: at
A48: au
A49: av
A50: aw
A51: ax
A52: ay
A53: az
A54: ba
A55: bb
... A80: ca
A81: cb | B81: 275 | C81: 255 | E81: 270 | F81: 270 | G81: 210 | H81: 255 | I81: 270 | J81: 270 | L81: 250 | Q81: 255 | S81: 270 | AA81: 355 | AB81: 260 | AE81: 190 | AG81: 215
A82: cc | D82: 400 | K82: 400 | AC82: 250
A83: cd | R83: 400 | T83: 280 | V83: 210
