Workbook
Name ingrédient: 'base de donnée conso réelle'!$A$2:$A$83
Name liste_ingredients: #REF!
Name liste_produit: #REF!
Name liste_produits: #REF!
Name listedesrecettes: #REF!
Name produits: [1]Recette!$B$1:$Z$1
Name recette: 'base de donnée conso réelle'!$B$1:$AG$1
Name tableau: #REF!

Sheet conso réelle planning
A2: produit | C2: nombre de pate
A3: pdt 1 | C3: 12
A4: pdt2 | C4: 2
A5: pdt 8 | C5: 8
A6: pdt 17 | C6: 14
A7: pdt 28 | C7: 3
A8: pdt 12 | C8: 2
A9: pdt 9 | C9: 42
A10: pdt 14 | C10: 10
A11: pdt 20 | C11: 5
B13: =MATCH(B14,'base de donnée conso réelle'!$A$1:$AG$1,0) -> 2 | C13: =MATCH(C14,'base de donnée conso réelle'!$A$1:$AG$1,0) -> 3 | D13: =MATCH(D14,'base de donnée conso réelle'!$A$1:$AG$1,0) -> 9 | E13: =MATCH(E14,'base de donnée conso réelle'!$A$1:$AG$1,0) -> 19 | F13: =MATCH(F14,'base de donnée conso réelle'!$A$1:$AG$1,0) -> 33 | G13: =MATCH(G14,'base de donnée conso réelle'!$A$1:$AG$1,0) -> 13 | H13: =MATCH(H14,'base de donnée conso réelle'!$A$1:$AG$1,0) -> 10 | I13: =MATCH(I14,'base de donnée conso réelle'!$A$1:$AG$1,0) -> 15 | J13: =MATCH(J14,'base de donnée conso réelle'!$A$1:$AG$1,0) -> 22
B14: =A3 -> pdt 1 | C14: =A4 -> pdt2 | D14: =A5 -> pdt 8 | E14: =A6 -> pdt 17 | F14: =A7 -> pdt 28 | G14: =A8 -> pdt 12 | H14: =A9 -> pdt 9 | I14: =A10 -> pdt 14 | J14: =A11 -> pdt 20 | K14: Quantité totale | L14: unité
A15: ='base de donnée conso réelle'!A2 -> a | B15: =OFFSET('base de donnée conso réelle'!$A$1,$M15,B$13-1)*VLOOKUP(B$14,$A$3:$D$11,3,FALSE) -> 6972 | C15: =OFFSET('base de donnée conso réelle'!$A$1,$M15,C$13-1)*VLOOKUP(C$14,$A$3:$D$11,3,FALSE) -> 1234 | D15: =OFFSET('base de donnée conso réelle'!$A$1,$M15,D$13-1)*VLOOKUP(D$14,$A$3:$D$11,3,FALSE) -> 4880 | E15: =OFFSET('base de donnée conso réelle'!$A$1,$M15,E$13-1)*VLOOKUP(E$14,$A$3:$D$11,3,FALSE) -> 8918 | F15: =OFFSET('base de donnée conso réelle'!$A$1,$M15,F$13-1)*VLOOKUP(F$14,$A$3:$D$11,3,FALSE) -> 1572 | G15: =OFFSET('base de donnée conso réelle'!$A$1,$M15,G$13-1)*VLOOKUP(G$14,$A$3:$D$11,3,FALSE) -> 0 | H15: =OFFSET('base de donnée conso réelle'!$A$1,$M15,H$13-1)*VLOOKUP(H$14,$A$3:$D$11,3,FALSE) -> 25620 | I15: =OFFSET('base de donnée conso réelle'!$A$1,$M15,I$13-1)*VLOOKUP(I$14,$A$3:$D$11,3,FALSE) -> 0 | J15: =OFFSET('base de donnée conso réelle'!$A$1,$M15,J$13-1)*VLOOKUP(J$14,$A$3:$D$11,3,FALSE) -> 2400 | K15: =SUM(B15:J15) -> 51596 | L15: kg | M15: =MATCH(A15,ingrédient,0) -> 1
A16: ='base de donnée conso réelle'!A3 -> b | B16: =OFFSET('base de donnée conso réelle'!$A$1,$M16,B$13-1)*VLOOKUP(B$14,$A$3:$D$11,3,FALSE) -> 908.4 | C16: =OFFSET('base de donnée conso réelle'!$A$1,$M16,C$13-1)*VLOOKUP(C$14,$A$3:$D$11,3,FALSE) -> 160.2 | D16: =OFFSET('base de donnée conso réelle'!$A$1,$M16,D$13-1)*VLOOKUP(D$14,$A$3:$D$11,3,FALSE) -> 639.2 | E16: =OFFSET('base de donnée conso réelle'!$A$1,$M16,E$13-1)*VLOOKUP(E$14,$A$3:$D$11,3,FALSE) -> 1071 | F16: =OFFSET('base de donnée conso réelle'!$A$1,$M16,F$13-1)*VLOOKUP(F$14,$A$3:$D$11,3,FALSE) -> 79.5 | G16: =OFFSET('base de donnée conso réelle'!$A$1,$M16,G$13-1)*VLOOKUP(G$14,$A$3:$D$11,3,FALSE) -> 0 | H16: =OFFSET('base de donnée conso réelle'!$A$1,$M16,H$13-1)*VLOOKUP(H$14,$A$3:$D$11,3,FALSE) -> 3355.8 | I16: =OFFSET('base de donnée conso réelle'!$A$1,$M16,I$13-1)*VLOOKUP(I$14,$A$3:$D$11,3,FALSE) -> 0 | J16: =OFFSET('base de donnée conso réelle'!$A$1,$M16,J$13-1)*VLOOKUP(J$14,$A$3:$D$11,3,FALSE) -> 215.5 | K16: =SUM(B16:J16) -> 6429.6 | L16: kg | M16: =MATCH(A16,ingrédient,0) -> 2
A17: ='base de donnée conso réelle'!A4 -> c | B17: =OFFSET('base de donnée conso réelle'!$A$1,$M17,B$13-1)*VLOOKUP(B$14,$A$3:$D$11,3,FALSE) -> 126 | C17: =OFFSET('base de donnée conso réelle'!$A$1,$M17,C$13-1)*VLOOKUP(C$14,$A$3:$D$11,3,FALSE) -> 21.8 | D17: =OFFSET('base de donnée conso réelle'!$A$1,$M17,D$13-1)*VLOOKUP(D$14,$A$3:$D$11,3,FALSE) -> 88 | E17: =OFFSET('base de donnée conso réelle'!$A$1,$M17,E$13-1)*VLOOKUP(E$14,$A$3:$D$11,3,FALSE) -> 179.2 | F17: =OFFSET('base de donnée conso réelle'!$A$1,$M17,F$13-1)*VLOOKUP(F$14,$A$3:$D$11,3,FALSE) -> 28.2 | G17: =OFFSET('base de donnée conso réelle'!$A$1,$M17,G$13-1)*VLOOKUP(G$14,$A$3:$D$11,3,FALSE) -> 0 | H17: =OFFSET('base de donnée conso réelle'!$A$1,$M17,H$13-1)*VLOOKUP(H$14,$A$3:$D$11,3,FALSE) -> 420 | I17: =OFFSET('base de donnée conso réelle'!$A$1,$M17,I$13-1)*VLOOKUP(I$14,$A$3:$D$11,3,FALSE) -> 0 | J17: =OFFSET('base de donnée conso réelle'!$A$1,$M17,J$13-1)*VLOOKUP(J$14,$A$3:$D$11,3,FALSE) -> 47.5 | K17: =SUM(B17:J17) -> 910.7 | L17: kg | M17: =MATCH(A17,ingrédient,0) -> 3
A18: ='base de donnée conso réelle'!A5 -> d | B18: =OFFSET('base de donnée conso réelle'!$A$1,$M18,B$13-1)*VLOOKUP(B$14,$A$3:$D$11,3,FALSE) -> 23.64 | C18: =OFFSET('base de donnée conso réelle'!$A$1,$M18,C$13-1)*VLOOKUP(C$14,$A$3:$D$11,3,FALSE) -> 4.56 | D18: =OFFSET('base de donnée conso réelle'!$A$1,$M18,D$13-1)*VLOOKUP(D$14,$A$3:$D$11,3,FALSE) -> 12.64 | E18: =OFFSET('base de donnée conso réelle'!$A$1,$M18,E$13-1)*VLOOKUP(E$14,$A$3:$D$11,3,FALSE) -> 49 | F18: =OFFSET('base de donnée conso réelle'!$A$1,$M18,F$13-1)*VLOOKUP(F$14,$A$3:$D$11,3,FALSE) -> 4.86 | G18: =OFFSET('base de donnée conso réelle'!$A$1,$M18,G$13-1)*VLOOKUP(G$14,$A$3:$D$11,3,FALSE) -> 0 | H18: =OFFSET('base de donnée conso réelle'!$A$1,$M18,H$13-1)*VLOOKUP(H$14,$A$3:$D$11,3,FALSE) -> 54.6 | I18: =OFFSET('base de donnée conso réelle'!$A$1,$M18,I$13-1)*VLOOKUP(I$14,$A$3:$D$11,3,FALSE) -> 0 | J18: =OFFSET('base de donnée conso réelle'!$A$1,$M18,J$13-1)*VLOOKUP(J$14,$A$3:$D$11,3,FALSE) -> 8.5 | K18: =SUM(B18:J18) -> 157.8 | L18: kg | M18: =MATCH(A18,ingrédient,0) -> 4
A19: ='base de donnée conso réelle'!A6 -> e | B19: =OFFSET('base de donnée conso réelle'!$A$1,$M19,B$13-1)*VLOOKUP(B$14,$A$3:$D$11,3,FALSE) -> 208.8 | C19: =OFFSET('base de donnée conso réelle'!$A$1,$M19,C$13-1)*VLOOKUP(C$14,$A$3:$D$11,3,FALSE) -> 37 | D19: =OFFSET('base de donnée conso réelle'!$A$1,$M19,D$13-1)*VLOOKUP(D$14,$A$3:$D$11,3,FALSE) -> 146.4 | E19: =OFFSET('base de donnée conso réelle'!$A$1,$M19,E$13-1)*VLOOKUP(E$14,$A$3:$D$11,3,FALSE) -> 383.6 | F19: =OFFSET('base de donnée conso réelle'!$A$1,$M19,F$13-1)*VLOOKUP(F$14,$A$3:$D$11,3,FALSE) -> 51.6 | G19: =OFFSET('base de donnée conso réelle'!$A$1,$M19,G$13-1)*VLOOKUP(G$14,$A$3:$D$11,3,FALSE) -> 0 | H19: =OFFSET('base de donnée conso réelle'!$A$1,$M19,H$13-1)*VLOOKUP(H$14,$A$3:$D$11,3,FALSE) -> 768.6 | I19: =OFFSET('base de donnée conso réelle'!$A$1,$M19,I$13-1)*VLOOKUP(I$14,$A$3:$D$11,3,FALSE) -> 0 | J19: =OFFSET('base de donnée conso réelle'!$A$1,$M19,J$13-1)*VLOOKUP(J$14,$A$3:$D$11,3,FALSE) -> 84 | K19: =SUM(B19:J19) -> 1680 | L19: Litre | M19: =MATCH(A19,ingrédient,0) -> 5
A20: ='base de donnée conso réelle'!A7 -> f | B20: =OFFSET('base de donnée conso réelle'!$A$1,$M20,B$13-1)*VLOOKUP(B$14,$A$3:$D$11,3,FALSE) -> 0.84 | C20: =OFFSET('base de donnée conso réelle'!$A$1,$M20,C$13-1)*VLOOKUP(C$14,$A$3:$D$11,3,FALSE) -> 0.9 | D20: =OFFSET('base de donnée conso réelle'!$A$1,$M20,D$13-1)*VLOOKUP(D$14,$A$3:$D$11,3,FALSE) -> 4.8 | E20: =OFFSET('base de donnée conso réelle'!$A$1,$M20,E$13-1)*VLOOKUP(E$14,$A$3:$D$11,3,FALSE) -> 8.96 | F20: =OFFSET('base de donnée conso réelle'!$A$1,$M20,F$13-1)*VLOOKUP(F$14,$A$3:$D$11,3,FALSE) -> 1.23 | G20: =OFFSET('base de donnée conso réelle'!$A$1,$M20,G$13-1)*VLOOKUP(G$14,$A$3:$D$11,3,FALSE) -> 0 | H20: =OFFSET('base de donnée conso réelle'!$A$1,$M20,H$13-1)*VLOOKUP(H$14,$A$3:$D$11,3,FALSE) -> 25.2 | I20: =OFFSET('base de donnée conso réelle'!$A$1,$M20,I$13-1)*VLOOKUP(I$14,$A$3:$D$11,3,FALSE) -> 0 | J20: =OFFSET('base de donnée conso réelle'!$A$1,$M20,J$13-1)*VLOOKUP(J$14,$A$3:$D$11,3,FALSE) -> 3.05 | K20: =SUM(B20:J20) -> 44.98 | L20: kg | M20: =MATCH(A20,ingrédient,0) -> 6
A21: ='base de donnée conso réelle'!A8 -> g | B21: =OFFSET('base de donnée conso réelle'!$A$1,$M21,B$13-1)*VLOOKUP(B$14,$A$3:$D$11,3,FALSE) -> 6.48 | C21: =OFFSET('base de donnée conso réelle'!$A$1,$M21,C$13-1)*VLOOKUP(C$14,$A$3:$D$11,3,FALSE) -> 1 | D21: =OFFSET('base de donnée conso réelle'!$A$1,$M21,D$13-1)*VLOOKUP(D$14,$A$3:$D$11,3,FALSE) -> 0 | E21: =OFFSET('base de donnée conso réelle'!$A$1,$M21,E$13-1)*VLOOKUP(E$14,$A$3:$D$11,3,FALSE) -> 0 | F21: =OFFSET('base de donnée conso réelle'!$A$1,$M21,F$13-1)*VLOOKUP(F$14,$A$3:$D$11,3,FALSE) -> 0 | G21: =OFFSET('base de donnée conso réelle'!$A$1,$M21,G$13-1)*VLOOKUP(G$14,$A$3:$D$11,3,FALSE) -> 0 | H21: =OFFSET('base de donnée conso réelle'!$A$1,$M21,H$13-1)*VLOOKUP(H$14,$A$3:$D$11,3,FALSE) -> 12.6 | I21: =OFFSET('base de donnée conso réelle'!$A$1,$M21,I$13-1)*VLOOKUP(I$14,$A$3:$D$11,3,FALSE) -> 0 | J21: =OFFSET('base de donnée conso réelle'!$A$1,$M21,J$13-1)*VLOOKUP(J$14,$A$3:$D$11,3,FALSE) -> 0 | K21: =SUM(B21:J21) -> 20.08 | L21: kg | M21: =MATCH(A21,ingrédient,0) -> 7
A22: ='base de donnée conso réelle'!A9 -> h | B22: =OFFSET('base de donnée conso réelle'!$A$1,$M22,B$13-1)*VLOOKUP(B$14,$A$3:$D$11,3,FALSE) -> 0 | C22: =OFFSET('base de donnée conso réelle'!$A$1,$M22,C$13-1)*VLOOKUP(C$14,$A$3:$D$11,3,FALSE) -> 0 | D22: =OFFSET('base de donnée conso réelle'!$A$1,$M22,D$13-1)*VLOOKUP(D$14,$A$3:$D$11,3,FALSE) -> 0 | E22: =OFFSET('base de donnée conso réelle'!$A$1,$M22,E$13-1)*VLOOKUP(E$14,$A$3:$D$11,3,FALSE) -> 0 | F22: =OFFSET('base de donnée conso réelle'!$A$1,$M22,F$13-1)*VLOOKUP(F$14,$A$3:$D$11,3,FALSE) -> 32.34 | G22: =OFFSET('base de donnée conso réelle'!$A$1,$M22,G$13-1)*VLOOKUP(G$14,$A$3:$D$11,3,FALSE) -> 0 | H22: =OFFSET('base de donnée conso réelle'!$A$1,$M22,H$13-1)*VLOOKUP(H$14,$A$3:$D$11,3,FALSE) -> 0 | I22: =OFFSET('base de donnée conso réelle'!$A$1,$M22,I$13-1)*VLOOKUP(I$14,$A$3:$D$11,3,FALSE) -> 0 | J22: =OFFSET('base de donnée conso réelle'!$A$1,$M22,J$13-1)*VLOOKUP(J$14,$A$3:$D$11,3,FALSE) -> 0 | K22: =SUM(B22:J22) -> 32.34 | L22: kg | M22: =MATCH(A22,ingrédient,0) -> 8
A23: ='base de donnée conso réelle'!A10 -> i | B23: =OFFSET('base de donnée conso réelle'!$A$1,$M23,B$13-1)*VLOOKUP(B$14,$A$3:$D$11,3,FALSE) -> 0 | C23: =OFFSET('base de donnée conso réelle'!$A$1,$M23,C$13-1)*VLOOKUP(C$14,$A$3:$D$11,3,FALSE) -> 0 | D23: =OFFSET('base de donnée conso réelle'!$A$1,$M23,D$13-1)*VLOOKUP(D$14,$A$3:$D$11,3,FALSE) -> 25.6 | E23: =OFFSET('base de donnée conso réelle'!$A$1,$M23,E$13-1)*VLOOKUP(E$14,$A$3:$D$11,3,FALSE) -> 53.2 | F23: =OFFSET('base de donnée conso réelle'!$A$1,$M23,F$13-1)*VLOOKUP(F$14,$A$3:$D$11,3,FALSE) -> 3 | G23: =OFFSET('base de donnée conso réelle'!$A$1,$M23,G$13-1)*VLOOKUP(G$14,$A$3:$D$11,3,FALSE) -> 0 | H23: =OFFSET('base de donnée conso réelle'!$A$1,$M23,H$13-1)*VLOOKUP(H$14,$A$3:$D$11,3,FALSE) -> 134.4 | I23: =OFFSET('base de donnée conso réelle'!$A$1,$M23,I$13-1)*VLOOKUP(I$14,$A$3:$D$11,3,FALSE) -> 0 | J23: =OFFSET('base de donnée conso réelle'!$A$1,$M23,J$13-1)*VLOOKUP(J$14,$A$3:$D$11,3,FALSE) -> 60.5 | K23: =SUM(B23:J23) -> 276.7 | L23: kg | M23: =MATCH(A23,ingrédient,0) -> 9
A24: ='base de donnée conso réelle'!A11 -> j | B24: =OFFSET('base de donnée conso réelle'!$A$1,$M24,B$13-1)*VLOOKUP(B$14,$A$3:$D$11,3,FALSE) -> 0 | C24: =OFFSET('base de donnée conso réelle'!$A$1,$M24,C$13-1)*VLOOKUP(C$14,$A$3:$D$11,3,FALSE) -> 0 | D24: =OFFSET('base de donnée conso réelle'!$A$1,$M24,D$13-1)*VLOOKUP(D$14,$A$3:$D$11,3,FALSE) -> 0 | E24: =OFFSET('base de donnée conso réelle'!$A$1,$M24,E$13-1)*VLOOKUP(E$14,$A$3:$D$11,3,FALSE) -> 0 | F24: =OFFSET('base de donnée conso réelle'!$A$1,$M24,F$13-1)*VLOOKUP(F$14,$A$3:$D$11,3,FALSE) -> 0 | G24: =OFFSET('base de donnée conso réelle'!$A$1,$M24,G$13-1)*VLOOKUP(G$14,$A$3:$D$11,3,FALSE) -> 0 | H24: =OFFSET('base de donnée conso réelle'!$A$1,$M24,H$13-1)*VLOOKUP(H$14,$A$3:$D$11,3,FALSE) -> 0 | I24: =OFFSET('base de donnée conso réelle'!$A$1,$M24,I$13-1)*VLOOKUP(I$14,$A$3:$D$11,3,FALSE) -> 0 | J24: =OFFSET('base de donnée conso réelle'!$A$1,$M24,J$13-1)*VLOOKUP(J$14,$A$3:$D$11,3,FALSE) -> 0 | K24: =SUM(B24:J24) -> 0 | L24: kg | M24: =MATCH(A24,ingrédient,0) -> 10
A25: ='base de donnée conso réelle'!A12 -> k | B25: =OFFSET('base de donnée conso réelle'!$A$1,$M25,B$13-1)*VLOOKUP(B$14,$A$3:$D$11,3,FALSE) -> 0 | C25: =OFFSET('base de donnée conso réelle'!$A$1,$M25,C$13-1)*VLOOKUP(C$14,$A$3:$D$11,3,FALSE) -> 0 | D25: =OFFSET('base de donnée conso réelle'!$A$1,$M25,D$13-1)*VLOOKUP(D$14,$A$3:$D$11,3,FALSE) -> 0 | E25: =OFFSET('base de donnée conso réelle'!$A$1,$M25,E$13-1)*VLOOKUP(E$14,$A$3:$D$11,3,FALSE) -> 0 | F25: =OFFSET('base de donnée conso réelle'!$A$1,$M25,F$13-1)*VLOOKUP(F$14,$A$3:$D$11,3,FALSE) -> 0 | G25: =OFFSET('base de donnée conso réelle'!$A$1,$M25,G$13-1)*VLOOKUP(G$14,$A$3:$D$11,3,FALSE) -> 0 | H25: =OFFSET('base de donnée conso réelle'!$A$1,$M25,H$13-1)*VLOOKUP(H$14,$A$3:$D$11,3,FALSE) -> 0 | I25: =OFFSET('base de donnée conso réelle'!$A$1,$M25,I$13-1)*VLOOKUP(I$14,$A$3:$D$11,3,FALSE) -> 0 | J25: =OFFSET('base de donnée conso réelle'!$A$1,$M25,J$13-1)*VLOOKUP(J$14,$A$3:$D$11,3,FALSE) -> 25 | K25: =SUM(B25:J25) -> 25 | L25: kg | M25: =MATCH(A25,ingrédient,0) -> 11
A26: ='base de donnée conso réelle'!A13 -> l | B26: =OFFSET('base de donnée conso réelle'!$A$1,$M26,B$13-1)*VLOOKUP(B$14,$A$3:$D$11,3,FALSE) -> 380.4 | C26: =OFFSET('base de donnée conso réelle'!$A$1,$M26,C$13-1)*VLOOKUP(C$14,$A$3:$D$11,3,FALSE) -> 56.8 | D26: =OFFSET('base de donnée conso réelle'!$A$1,$M26,D$13-1)*VLOOKUP(D$14,$A$3:$D$11,3,FALSE) -> 206.4 | E26: =OFFSET('base de donnée conso réelle'!$A$1,$M26,E$13-1)*VLOOKUP(E$14,$A$3:$D$11,3,FALSE) -> 506.8 | F26: =OFFSET('base de donnée conso réelle'!$A$1,$M26,F$13-1)*VLOOKUP(F$14,$A$3:$D$11,3,FALSE) -> 82.5 | G26: =OFFSET('base de donnée conso réelle'!$A$1,$M26,G$13-1)*VLOOKUP(G$14,$A$3:$D$11,3,FALSE) -> 0 | H26: =OFFSET('base de donnée conso réelle'!$A$1,$M26,H$13-1)*VLOOKUP(H$14,$A$3:$D$11,3,FALSE) -> 1071 | I26: =OFFSET('base de donnée conso réelle'!$A$1,$M26,I$13-1)*VLOOKUP(I$14,$A$3:$D$11,3,FALSE) -> 0 | J26: =OFFSET('base de donnée conso réelle'!$A$1,$M26,J$13-1)*VLOOKUP(J$14,$A$3:$D$11,3,FALSE) -> 129.5 | K26: =SUM(B26:J26) -> 2433.4 | L26: Litre | M26: =MATCH(A26,ingrédient,0) -> 12
... A37: ='base de donnée conso réelle'!A24 -> w | B37: =OFFSET('base de donnée conso réelle'!$A$1,$M37,B$13-1)*VLOOKUP(B$14,$A$3:$D$11,3,FALSE) -> 0 | C37: =OFFSET('base de donnée conso réelle'!$A$1,$M37,C$13-1)*VLOOKUP(C$14,$A$3:$D$11,3,FALSE) -> 0 | D37: =OFFSET('base de donnée conso réelle'!$A$1,$M37,D$13-1)*VLOOKUP(D$14,$A$3:$D$11,3,FALSE) -> 25.6 | E37: =OFFSET('base de donnée conso réelle'!$A$1,$M37,E$13-1)*VLOOKUP(E$14,$A$3:$D$11,3,FALSE) -> 0 | F37: =OFFSET('base de donnée conso réelle'!$A$1,$M37,F$13-1)*VLOOKUP(F$14,$A$3:$D$11,3,FALSE) -> 0 | G37: =OFFSET('base de donnée conso réelle'!$A$1,$M37,G$13-1)*VLOOKUP(G$14,$A$3:$D$11,3,FALSE) -> 0 | H37: =OFFSET('base de donnée conso réelle'!$A$1,$M37,H$13-1)*VLOOKUP(H$14,$A$3:$D$11,3,FALSE) -> 0 | I37: =OFFSET('base de donnée conso réelle'!$A$1,$M37,I$13-1)*VLOOKUP(I$14,$A$3:$D$11,3,FALSE) -> 0 | J37: =OFFSET('base de donnée conso réelle'!$A$1,$M37,J$13-1)*VLOOKUP(J$14,$A$3:$D$11,3,FALSE) -> 0 | K37: =SUM(B37:J37) -> 25.6 | L37: kg | M37: =MATCH(A37,ingrédient,0) -> 23
A38: ='base de donnée conso réelle'!A25 -> x | B38: =OFFSET('base de donnée conso réelle'!$A$1,$M38,B$13-1)*VLOOKUP(B$14,$A$3:$D$11,3,FALSE) -> 0 | C38: =OFFSET('base de donnée conso réelle'!$A$1,$M38,C$13-1)*VLOOKUP(C$14,$A$3:$D$11,3,FALSE) -> 0 | D38: =OFFSET('base de donnée conso réelle'!$A$1,$M38,D$13-1)*VLOOKUP(D$14,$A$3:$D$11,3,FALSE) -> 0 | E38: =OFFSET('base de donnée conso réelle'!$A$1,$M38,E$13-1)*VLOOKUP(E$14,$A$3:$D$11,3,FALSE) -> 0 | F38: =OFFSET('base de donnée conso réelle'!$A$1,$M38,F$13-1)*VLOOKUP(F$14,$A$3:$D$11,3,FALSE) -> 0 | G38: =OFFSET('base de donnée conso réelle'!$A$1,$M38,G$13-1)*VLOOKUP(G$14,$A$3:$D$11,3,FALSE) -> 0 | H38: =OFFSET('base de donnée conso réelle'!$A$1,$M38,H$13-1)*VLOOKUP(H$14,$A$3:$D$11,3,FALSE) -> 0 | I38: =OFFSET('base de donnée conso réelle'!$A$1,$M38,I$13-1)*VLOOKUP(I$14,$A$3:$D$11,3,FALSE) -> 0 | J38: =OFFSET('base de donnée conso réelle'!$A$1,$M38,J$13-1)*VLOOKUP(J$14,$A$3:$D$11,3,FALSE) -> 0 | K38: =SUM(B38:J38) -> 0 | M38: =MATCH(A38,ingrédient,0) -> 24
A39: ='base de donnée conso réelle'!A26 -> t | B39: =OFFSET('base de donnée conso réelle'!$A$1,$M39,B$13-1)*VLOOKUP(B$14,$A$3:$D$11,3,FALSE) -> 3.84 | C39: =OFFSET('base de donnée conso réelle'!$A$1,$M39,C$13-1)*VLOOKUP(C$14,$A$3:$D$11,3,FALSE) -> 0 | D39: =OFFSET('base de donnée conso réelle'!$A$1,$M39,D$13-1)*VLOOKUP(D$14,$A$3:$D$11,3,FALSE) -> 15.2 | E39: =OFFSET('base de donnée conso réelle'!$A$1,$M39,E$13-1)*VLOOKUP(E$14,$A$3:$D$11,3,FALSE) -> 8.96 | F39: =OFFSET('base de donnée conso réelle'!$A$1,$M39,F$13-1)*VLOOKUP(F$14,$A$3:$D$11,3,FALSE) -> 0 | G39: =OFFSET('base de donnée conso réelle'!$A$1,$M39,G$13-1)*VLOOKUP(G$14,$A$3:$D$11,3,FALSE) -> 0 | H39: =OFFSET('base de donnée conso réelle'!$A$1,$M39,H$13-1)*VLOOKUP(H$14,$A$3:$D$11,3,FALSE) -> 0 | I39: =OFFSET('base de donnée conso réelle'!$A$1,$M39,I$13-1)*VLOOKUP(I$14,$A$3:$D$11,3,FALSE) -> 0 | J39: =OFFSET('base de donnée conso réelle'!$A$1,$M39,J$13-1)*VLOOKUP(J$14,$A$3:$D$11,3,FALSE) -> 4.85 | K39: =SUM(B39:J39) -> 32.85 | M39: =MATCH(A39,ingrédient,0) -> 20
A40: ='base de donnée conso réelle'!A27 -> y | B40: =OFFSET('base de donnée conso réelle'!$A$1,$M40,B$13-1)*VLOOKUP(B$14,$A$3:$D$11,3,FALSE) -> 0 | C40: =OFFSET('base de donnée conso réelle'!$A$1,$M40,C$13-1)*VLOOKUP(C$14,$A$3:$D$11,3,FALSE) -> 0 | D40: =OFFSET('base de donnée conso réelle'!$A$1,$M40,D$13-1)*VLOOKUP(D$14,$A$3:$D$11,3,FALSE) -> 0 | E40: =OFFSET('base de donnée conso réelle'!$A$1,$M40,E$13-1)*VLOOKUP(E$14,$A$3:$D$11,3,FALSE) -> 0 | F40: =OFFSET('base de donnée conso réelle'!$A$1,$M40,F$13-1)*VLOOKUP(F$14,$A$3:$D$11,3,FALSE) -> 0 | G40: =OFFSET('base de donnée conso réelle'!$A$1,$M40,G$13-1)*VLOOKUP(G$14,$A$3:$D$11,3,FALSE) -> 0 | H40: =OFFSET('base de donnée conso réelle'!$A$1,$M40,H$13-1)*VLOOKUP(H$14,$A$3:$D$11,3,FALSE) -> 0 | I40: =OFFSET('base de donnée conso réelle'!$A$1,$M40,I$13-1)*VLOOKUP(I$14,$A$3:$D$11,3,FALSE) -> 0 | J40: =OFFSET('base de donnée conso réelle'!$A$1,$M40,J$13-1)*VLOOKUP(J$14,$A$3:$D$11,3,FALSE) -> 0 | K40: =SUM(B40:J40) -> 0 | M40: =MATCH(A40,ingrédient,0) -> 26
A41: ='base de donnée conso réelle'!A28 -> aa | B41: =OFFSET('base de donnée conso réelle'!$A$1,$M41,B$13-1)*VLOOKUP(B$14,$A$3:$D$11,3,FALSE) -> 0 | C41: =OFFSET('base de donnée conso réelle'!$A$1,$M41,C$13-1)*VLOOKUP(C$14,$A$3:$D$11,3,FALSE) -> 0 | D41: =OFFSET('base de donnée conso réelle'!$A$1,$M41,D$13-1)*VLOOKUP(D$14,$A$3:$D$11,3,FALSE) -> 0 | E41: =OFFSET('base de donnée conso réelle'!$A$1,$M41,E$13-1)*VLOOKUP(E$14,$A$3:$D$11,3,FALSE) -> 0 | F41: =OFFSET('base de donnée conso réelle'!$A$1,$M41,F$13-1)*VLOOKUP(F$14,$A$3:$D$11,3,FALSE) -> 0 | G41: =OFFSET('base de donnée conso réelle'!$A$1,$M41,G$13-1)*VLOOKUP(G$14,$A$3:$D$11,3,FALSE) -> 0 | H41: =OFFSET('base de donnée conso réelle'!$A$1,$M41,H$13-1)*VLOOKUP(H$14,$A$3:$D$11,3,FALSE) -> 0 | I41: =OFFSET('base de donnée conso réelle'!$A$1,$M41,I$13-1)*VLOOKUP(I$14,$A$3:$D$11,3,FALSE) -> 0 | J41: =OFFSET('base de donnée conso réelle'!$A$1,$M41,J$13-1)*VLOOKUP(J$14,$A$3:$D$11,3,FALSE) -> 0 | K41: =SUM(B41:J41) -> 0 | M41: =MATCH(A41,ingrédient,0) -> 27
A42: ='base de donnée conso réelle'!A29 -> ab | B42: =OFFSET('base de donnée conso réelle'!$A$1,$M42,B$13-1)*VLOOKUP(B$14,$A$3:$D$11,3,FALSE) -> 0 | C42: =OFFSET('base de donnée conso réelle'!$A$1,$M42,C$13-1)*VLOOKUP(C$14,$A$3:$D$11,3,FALSE) -> 0 | D42: =OFFSET('base de donnée conso réelle'!$A$1,$M42,D$13-1)*VLOOKUP(D$14,$A$3:$D$11,3,FALSE) -> 0 | E42: =OFFSET('base de donnée conso réelle'!$A$1,$M42,E$13-1)*VLOOKUP(E$14,$A$3:$D$11,3,FALSE) -> 0 | F42: =OFFSET('base de donnée conso réelle'!$A$1,$M42,F$13-1)*VLOOKUP(F$14,$A$3:$D$11,3,FALSE) -> 0 | G42: =OFFSET('base de donnée conso réelle'!$A$1,$M42,G$13-1)*VLOOKUP(G$14,$A$3:$D$11,3,FALSE) -> 0 | H42: =OFFSET('base de donnée conso réelle'!$A$1,$M42,H$13-1)*VLOOKUP(H$14,$A$3:$D$11,3,FALSE) -> 0 | I42: =OFFSET('base de donnée conso réelle'!$A$1,$M42,I$13-1)*VLOOKUP(I$14,$A$3:$D$11,3,FALSE) -> 0 | J42: =OFFSET('base de donnée conso réelle'!$A$1,$M42,J$13-1)*VLOOKUP(J$14,$A$3:$D$11,3,FALSE) -> 0 | K42: =SUM(B42:J42) -> 0 | L42: kg | M42: =MATCH(A42,ingrédient,0) -> 28
A43: ='base de donnée conso réelle'!A30 -> ac | B43: =OFFSET('base de donnée conso réelle'!$A$1,$M43,B$13-1)*VLOOKUP(B$14,$A$3:$D$11,3,FALSE) -> 0 | C43: =OFFSET('base de donnée conso réelle'!$A$1,$M43,C$13-1)*VLOOKUP(C$14,$A$3:$D$11,3,FALSE) -> 0 | D43: =OFFSET('base de donnée conso réelle'!$A$1,$M43,D$13-1)*VLOOKUP(D$14,$A$3:$D$11,3,FALSE) -> 0 | E43: =OFFSET('base de donnée conso réelle'!$A$1,$M43,E$13-1)*VLOOKUP(E$14,$A$3:$D$11,3,FALSE) -> 0 | F43: =OFFSET('base de donnée conso réelle'!$A$1,$M43,F$13-1)*VLOOKUP(F$14,$A$3:$D$11,3,FALSE) -> 0 | G43: =OFFSET('base de donnée conso réelle'!$A$1,$M43,G$13-1)*VLOOKUP(G$14,$A$3:$D$11,3,FALSE) -> 0 | H43: =OFFSET('base de donnée conso réelle'!$A$1,$M43,H$13-1)*VLOOKUP(H$14,$A$3:$D$11,3,FALSE) -> 0 | I43: =OFFSET('base de donnée conso réelle'!$A$1,$M43,I$13-1)*VLOOKUP(I$14,$A$3:$D$11,3,FALSE) -> 0 | J43: =OFFSET('base de donnée conso réelle'!$A$1,$M43,J$13-1)*VLOOKUP(J$14,$A$3:$D$11,3,FALSE) -> 0 | K43: =SUM(B43:J43) -> 0 | L43: kg | M43: =MATCH(A43,ingrédient,0) -> 29
A44: ='base de donnée conso réelle'!A31 -> ad | B44: =OFFSET('base de donnée conso réelle'!$A$1,$M44,B$13-1)*VLOOKUP(B$14,$A$3:$D$11,3,FALSE) -> 0 | C44: =OFFSET('base de donnée conso réelle'!$A$1,$M44,C$13-1)*VLOOKUP(C$14,$A$3:$D$11,3,FALSE) -> 0 | D44: =OFFSET('base de donnée conso réelle'!$A$1,$M44,D$13-1)*VLOOKUP(D$14,$A$3:$D$11,3,FALSE) -> 0 | E44: =OFFSET('base de donnée conso réelle'!$A$1,$M44,E$13-1)*VLOOKUP(E$14,$A$3:$D$11,3,FALSE) -> 0 | F44: =OFFSET('base de donnée conso réelle'!$A$1,$M44,F$13-1)*VLOOKUP(F$14,$A$3:$D$11,3,FALSE) -> 0 | G44: =OFFSET('base de donnée conso réelle'!$A$1,$M44,G$13-1)*VLOOKUP(G$14,$A$3:$D$11,3,FALSE) -> 0 | H44: =OFFSET('base de donnée conso réelle'!$A$1,$M44,H$13-1)*VLOOKUP(H$14,$A$3:$D$11,3,FALSE) -> 0 | I44: =OFFSET('base de donnée conso réelle'!$A$1,$M44,I$13-1)*VLOOKUP(I$14,$A$3:$D$11,3,FALSE) -> 0 | J44: =OFFSET('base de donnée conso réelle'!$A$1,$M44,J$13-1)*VLOOKUP(J$14,$A$3:$D$11,3,FALSE) -> 0 | K44: =SUM(B44:J44) -> 0 | L44: kg | M44: =MATCH(A44,ingrédient,0) -> 30
A45: ='base de donnée conso réelle'!A32 -> ae | B45: =OFFSET('base de donnée conso réelle'!$A$1,$M45,B$13-1)*VLOOKUP(B$14,$A$3:$D$11,3,FALSE) -> 0 | C45: =OFFSET('base de donnée conso réelle'!$A$1,$M45,C$13-1)*VLOOKUP(C$14,$A$3:$D$11,3,FALSE) -> 0 | D45: =OFFSET('base de donnée conso réelle'!$A$1,$M45,D$13-1)*VLOOKUP(D$14,$A$3:$D$11,3,FALSE) -> 0 | E45: =OFFSET('base de donnée conso réelle'!$A$1,$M45,E$13-1)*VLOOKUP(E$14,$A$3:$D$11,3,FALSE) -> 0 | F45: =OFFSET('base de donnée conso réelle'!$A$1,$M45,F$13-1)*VLOOKUP(F$14,$A$3:$D$11,3,FALSE) -> 0 | G45: =OFFSET('base de donnée conso réelle'!$A$1,$M45,G$13-1)*VLOOKUP(G$14,$A$3:$D$11,3,FALSE) -> 0 | H45: =OFFSET('base de donnée conso réelle'!$A$1,$M45,H$13-1)*VLOOKUP(H$14,$A$3:$D$11,3,FALSE) -> 0 | I45: =OFFSET('base de donnée conso réelle'!$A$1,$M45,I$13-1)*VLOOKUP(I$14,$A$3:$D$11,3,FALSE) -> 0 | J45: =OFFSET('base de donnée conso réelle'!$A$1,$M45,J$13-1)*VLOOKUP(J$14,$A$3:$D$11,3,FALSE) -> 0 | K45: =SUM(B45:J45) -> 0 | L45: kg | M45: =MATCH(A45,ingrédient,0) -> 31
A46: ='base de donnée conso réelle'!A33 -> af | B46: =OFFSET('base de donnée conso réelle'!$A$1,$M46,B$13-1)*VLOOKUP(B$14,$A$3:$D$11,3,FALSE) -> 0 | C46: =OFFSET('base de donnée conso réelle'!$A$1,$M46,C$13-1)*VLOOKUP(C$14,$A$3:$D$11,3,FALSE) -> 0 | D46: =OFFSET('base de donnée conso réelle'!$A$1,$M46,D$13-1)*VLOOKUP(D$14,$A$3:$D$11,3,FALSE) -> 0 | E46: =OFFSET('base de donnée conso réelle'!$A$1,$M46,E$13-1)*VLOOKUP(E$14,$A$3:$D$11,3,FALSE) -> 0 | F46: =OFFSET('base de donnée conso réelle'!$A$1,$M46,F$13-1)*VLOOKUP(F$14,$A$3:$D$11,3,FALSE) -> 0 | G46: =OFFSET('base de donnée conso réelle'!$A$1,$M46,G$13-1)*VLOOKUP(G$14,$A$3:$D$11,3,FALSE) -> 0 | H46: =OFFSET('base de donnée conso réelle'!$A$1,$M46,H$13-1)*VLOOKUP(H$14,$A$3:$D$11,3,FALSE) -> 0 | I46: =OFFSET('base de donnée conso réelle'!$A$1,$M46,I$13-1)*VLOOKUP(I$14,$A$3:$D$11,3,FALSE) -> 0 | J46: =OFFSET('base de donnée conso réelle'!$A$1,$M46,J$13-1)*VLOOKUP(J$14,$A$3:$D$11,3,FALSE) -> 0 | K46: =SUM(B46:J46) -> 0 | L46: kg | M46: =MATCH(A46,ingrédient,0) -> 32
A47: ='base de donnée conso réelle'!A34 -> ag | B47: =OFFSET('base de donnée conso réelle'!$A$1,$M47,B$13-1)*VLOOKUP(B$14,$A$3:$D$11,3,FALSE) -> 0 | C47: =OFFSET('base de donnée conso réelle'!$A$1,$M47,C$13-1)*VLOOKUP(C$14,$A$3:$D$11,3,FALSE) -> 0 | D47: =OFFSET('base de donnée conso réelle'!$A$1,$M47,D$13-1)*VLOOKUP(D$14,$A$3:$D$11,3,FALSE) -> 0 | E47: =OFFSET('base de donnée conso réelle'!$A$1,$M47,E$13-1)*VLOOKUP(E$14,$A$3:$D$11,3,FALSE) -> 0 | F47: =OFFSET('base de donnée conso réelle'!$A$1,$M47,F$13-1)*VLOOKUP(F$14,$A$3:$D$11,3,FALSE) -> 0 | G47: =OFFSET('base de donnée conso réelle'!$A$1,$M47,G$13-1)*VLOOKUP(G$14,$A$3:$D$11,3,FALSE) -> 0 | H47: =OFFSET('base de donnée conso réelle'!$A$1,$M47,H$13-1)*VLOOKUP(H$14,$A$3:$D$11,3,FALSE) -> 0 | I47: =OFFSET('base de donnée conso réelle'!$A$1,$M47,I$13-1)*VLOOKUP(I$14,$A$3:$D$11,3,FALSE) -> 0 | J47: =OFFSET('base de donnée conso réelle'!$A$1,$M47,J$13-1)*VLOOKUP(J$14,$A$3:$D$11,3,FALSE) -> 0 | K47: =SUM(B47:J47) -> 0 | L47: kg | M47: =MATCH(A47,ingrédient,0) -> 33
A48: ='base de donnée conso réelle'!A35 -> ah | B48: =OFFSET('base de donnée conso réelle'!$A$1,$M48,B$13-1)*VLOOKUP(B$14,$A$3:$D$11,3,FALSE) -> 0 | C48: =OFFSET('base de donnée conso réelle'!$A$1,$M48,C$13-1)*VLOOKUP(C$14,$A$3:$D$11,3,FALSE) -> 51.48 | D48: =OFFSET('base de donnée conso réelle'!$A$1,$M48,D$13-1)*VLOOKUP(D$14,$A$3:$D$11,3,FALSE) -> 162.16 | E48: =OFFSET('base de donnée conso réelle'!$A$1,$M48,E$13-1)*VLOOKUP(E$14,$A$3:$D$11,3,FALSE) -> 280 | F48: =OFFSET('base de donnée conso réelle'!$A$1,$M48,F$13-1)*VLOOKUP(F$14,$A$3:$D$11,3,FALSE) -> 66 | G48: =OFFSET('base de donnée conso réelle'!$A$1,$M48,G$13-1)*VLOOKUP(G$14,$A$3:$D$11,3,FALSE) -> 0 | H48: =OFFSET('base de donnée conso réelle'!$A$1,$M48,H$13-1)*VLOOKUP(H$14,$A$3:$D$11,3,FALSE) -> 840 | I48: =OFFSET('base de donnée conso réelle'!$A$1,$M48,I$13-1)*VLOOKUP(I$14,$A$3:$D$11,3,FALSE) -> 0 | J48: =OFFSET('base de donnée conso réelle'!$A$1,$M48,J$13-1)*VLOOKUP(J$14,$A$3:$D$11,3,FALSE) -> 0 | K48: =SUM(B48:J48) -> 1399.64 | L48: kg | M48: =MATCH(A48,ingrédient,0) -> 34
A49: ='base de donnée conso réelle'!A36 -> ai | B49: =OFFSET('base de donnée conso réelle'!$A$1,$M49,B$13-1)*VLOOKUP(B$14,$A$3:$D$11,3,FALSE) -> 0 | C49: =OFFSET('base de donnée conso réelle'!$A$1,$M49,C$13-1)*VLOOKUP(C$14,$A$3:$D$11,3,FALSE) -> 0 | D49: =OFFSET('base de donnée conso réelle'!$A$1,$M49,D$13-1)*VLOOKUP(D$14,$A$3:$D$11,3,FALSE) -> 0 | E49: =OFFSET('base de donnée conso réelle'!$A$1,$M49,E$13-1)*VLOOKUP(E$14,$A$3:$D$11,3,FALSE) -> 0 | F49: =OFFSET('base de donnée conso réelle'!$A$1,$M49,F$13-1)*VLOOKUP(F$14,$A$3:$D$11,3,FALSE) -> 0 | G49: =OFFSET('base de donnée conso réelle'!$A$1,$M49,G$13-1)*VLOOKUP(G$14,$A$3:$D$11,3,FALSE) -> 0 | H49: =OFFSET('base de donnée conso réelle'!$A$1,$M49,H$13-1)*VLOOKUP(H$14,$A$3:$D$11,3,FALSE) -> 0 | I49: =OFFSET('base de donnée conso réelle'!$A$1,$M49,I$13-1)*VLOOKUP(I$14,$A$3:$D$11,3,FALSE) -> 0 | J49: =OFFSET('base de donnée conso réelle'!$A$1,$M49,J$13-1)*VLOOKUP(J$14,$A$3:$D$11,3,FALSE) -> 0 | K49: =SUM(B49:J49) -> 0 | L49: kg | M49: =MATCH(A49,ingrédient,0) -> 35
A50: ='base de donnée conso réelle'!A37 -> aj | B50: =OFFSET('base de donnée conso réelle'!$A$1,$M50,B$13-1)*VLOOKUP(B$14,$A$3:$D$11,3,FALSE) -> 0 | C50: =OFFSET('base de donnée conso réelle'!$A$1,$M50,C$13-1)*VLOOKUP(C$14,$A$3:$D$11,3,FALSE) -> 0 | D50: =OFFSET('base de donnée conso réelle'!$A$1,$M50,D$13-1)*VLOOKUP(D$14,$A$3:$D$11,3,FALSE) -> 0 | E50: =OFFSET('base de donnée conso réelle'!$A$1,$M50,E$13-1)*VLOOKUP(E$14,$A$3:$D$11,3,FALSE) -> 0 | F50: =OFFSET('base de donnée conso réelle'!$A$1,$M50,F$13-1)*VLOOKUP(F$14,$A$3:$D$11,3,FALSE) -> 0 | G50: =OFFSET('base de donnée conso réelle'!$A$1,$M50,G$13-1)*VLOOKUP(G$14,$A$3:$D$11,3,FALSE) -> 0 | H50: =OFFSET('base de donnée conso réelle'!$A$1,$M50,H$13-1)*VLOOKUP(H$14,$A$3:$D$11,3,FALSE) -> 0 | I50: =OFFSET('base de donnée conso réelle'!$A$1,$M50,I$13-1)*VLOOKUP(I$14,$A$3:$D$11,3,FALSE) -> 0 | J50: =OFFSET('base de donnée conso réelle'!$A$1,$M50,J$13-1)*VLOOKUP(J$14,$A$3:$D$11,3,FALSE) -> 0 | K50: =SUM(B50:J50) -> 0 | L50: kg | M50: =MATCH(A50,ingrédient,0) -> 36
A51: ='base de donnée conso réelle'!A38 -> ak | B51: =OFFSET('base de donnée conso réelle'!$A$1,$M51,B$13-1)*VLOOKUP(B$14,$A$3:$D$11,3,FALSE) -> 0 | C51: =OFFSET('base de donnée conso réelle'!$A$1,$M51,C$13-1)*VLOOKUP(C$14,$A$3:$D$11,3,FALSE) -> 0 | D51: =OFFSET('base de donnée conso réelle'!$A$1,$M51,D$13-1)*VLOOKUP(D$14,$A$3:$D$11,3,FALSE) -> 120 | E51: =OFFSET('base de donnée conso réelle'!$A$1,$M51,E$13-1)*VLOOKUP(E$14,$A$3:$D$11,3,FALSE) -> 0 | F51: =OFFSET('base de donnée conso réelle'!$A$1,$M51,F$13-1)*VLOOKUP(F$14,$A$3:$D$11,3,FALSE) -> 0 | G51: =OFFSET('base de donnée conso réelle'!$A$1,$M51,G$13-1)*VLOOKUP(G$14,$A$3:$D$11,3,FALSE) -> 0 | H51: =OFFSET('base de donnée conso réelle'!$A$1,$M51,H$13-1)*VLOOKUP(H$14,$A$3:$D$11,3,FALSE) -> 0 | I51: =OFFSET('base de donnée conso réelle'!$A$1,$M51,I$13-1)*VLOOKUP(I$14,$A$3:$D$11,3,FALSE) -> 0 | J51: =OFFSET('base de donnée conso réelle'!$A$1,$M51,J$13-1)*VLOOKUP(J$14,$A$3:$D$11,3,FALSE) -> 85 | K51: =SUM(B51:J51) -> 205 | L51: kg | M51: =MATCH(A51,ingrédient,0) -> 37
A52: ='base de donnée conso réelle'!A39 -> al | B52: =OFFSET('base de donnée conso réelle'!$A$1,$M52,B$13-1)*VLOOKUP(B$14,$A$3:$D$11,3,FALSE) -> 0 | C52: =OFFSET('base de donnée conso réelle'!$A$1,$M52,C$13-1)*VLOOKUP(C$14,$A$3:$D$11,3,FALSE) -> 0 | D52: =OFFSET('base de donnée conso réelle'!$A$1,$M52,D$13-1)*VLOOKUP(D$14,$A$3:$D$11,3,FALSE) -> 0 | E52: =OFFSET('base de donnée conso réelle'!$A$1,$M52,E$13-1)*VLOOKUP(E$14,$A$3:$D$11,3,FALSE) -> 0 | F52: =OFFSET('base de donnée conso réelle'!$A$1,$M52,F$13-1)*VLOOKUP(F$14,$A$3:$D$11,3,FALSE) -> 0 | G52: =OFFSET('base de donnée conso réelle'!$A$1,$M52,G$13-1)*VLOOKUP(G$14,$A$3:$D$11,3,FALSE) -> 0 | H52: =OFFSET('base de donnée conso réelle'!$A$1,$M52,H$13-1)*VLOOKUP(H$14,$A$3:$D$11,3,FALSE) -> 0 | I52: =OFFSET('base de donnée conso réelle'!$A$1,$M52,I$13-1)*VLOOKUP(I$14,$A$3:$D$11,3,FALSE) -> 0 | J52: =OFFSET('base de donnée conso réelle'!$A$1,$M52,J$13-1)*VLOOKUP(J$14,$A$3:$D$11,3,FALSE) -> 0 | K52: =SUM(B52:J52) -> 0 | L52: mètre | M52: =MATCH(A52,ingrédient,0) -> 38
...

Sheet base de donnée conso réelle
B1: pdt 1 | C1: pdt2 | D1: pdt 3 | E1: pdt 4 | F1: pdt 5 | G1: pdt 6 | H1: pdt 7 | I1: pdt 8 | J1: pdt 9 | K1: pdt 10 | L1: pdt 11 | M1: pdt 12 | N1: pdt 13 | O1: pdt 14 | Q1: pdt 15 | R1: pdt 16 | S1: pdt 17 | T1: pdt 18 | U1: pdt 19 | V1: pdt 20 | W1: pdt 21 | X1: pdt 22 | Y1: pdt 23 | AA1: pdt 24 | AB1: pdt 25 | AC1: pdt 26 | AE1: pdt 27 | AG1: pdt 28
A2: a | B2: 581 | C2: =370+247 -> 617 | D2: =360+238 -> 598 | E2: =374+252 -> 626 | F2: =369+247 -> 616 | G2: =265+177 -> 442 | H2: =376+251 -> 627 | I2: =305*2 -> 610 | J2: =305*2 -> 610 | K2: =282+188 -> 470 | L2: =291*2 -> 582 | Q2: =363+243 -> 606 | R2: =250+167 -> 417 | S2: =382+255 -> 637 | T2: =209+140 -> 349 | U2: =338+225 -> 563 | V2: =288+192 -> 480 | AA2: =325+209 -> 534 | AB2: =392+252 -> 644 | AC2: =383+247 -> 630 | AE2: =238+158 -> 396 | AG2: =319+205 -> 524
A3: b | B3: 75.7 | C3: 80.1 | D3: 77.8 | E3: 63.2 | F3: 79.9 | G3: 35.3 | H3: 63.1 | I3: 79.9 | J3: 79.9 | K3: 61.5 | L3: 58.9 | Q3: 66.7 | R3: 37.5 | S3: 76.5 | T3: 26.2 | U3: 16.6 | V3: 43.1 | AA3: =27 -> 27 | AB3: 32.6 | AC3: 31.7 | AE3: =27.5 -> 27.5 | AG3: 26.5
A4: c | B4: 10.5 | C4: 10.9 | D4: 10.4 | E4: 8.4 | F4: 9.7 | G4: 6.6 | H4: 8.4 | I4: 11 | J4: 10 | K4: 8.5 | L4: 8 | Q4: 12.1 | R4: 8.3 | S4: 12.8 | T4: 6.6 | U4: 10.3 | V4: 9.5 | AA4: 9.6 | AB4: 11.5 | AC4: 11.3 | AE4: 7.1 | AG4: 9.4
A5: d | B5: 1.97 | C5: 2.28 | D5: 2.5 | E5: 1.4 | F5: 1.8 | G5: 1.9 | H5: 1.64 | I5: 1.58 | J5: 1.3 | K5: 1.08 | L5: 1.63 | Q5: 2.73 | R5: 1.88 | S5: 3.5 | T5: 1.56 | U5: 2.54 | V5: 1.7 | AA5: 1.65 | AB5: 1.33 | AC5: 2.69 | AE5: 1.13 | AG5: 1.62
A6: e | B6: 17.4 | C6: 18.5 | D6: 17.9 | E6: 18.7 | F6: 18.3 | G6: 13.4 | H6: 18.9 | I6: 18.3 | J6: 18.3 | K6: 14.1 | L6: 16.4 | Q6: 30.3 | R6: 14.6 | S6: 27.4 | T6: 10.5 | V6: 16.8 | AA6: 17.6 | AB6: 21.3 | AC6: 20.7 | AE6: 11.8 | AG6: 17.2
A7: f | B7: 0.07 | C7: 0.45 | D7: 0.3 | E7: 0.7 | F7: 1.1 | G7: 0.58 | I7: 0.6 | J7: 0.6 | L7: 0.2 | Q7: 0.3 | R7: 0.7 | S7: 0.64 | T7: 0.82 | V7: 0.61 | AA7: 0.32 | AB7: 0.6 | AC7: 0.2 | AE7: 0.2 | AG7: 0.41
A8: g | B8: 0.54 | C8: 0.5 | D8: 0.55 | G8: 0.2 | J8: 0.3 | AA8: 1.4 | AB8: 1.8 | AC8: 1.6
A9: h | AA9: 11 | AB9: 13.3 | AC9: 13 | AE9: 16.7 | AG9: 10.78
A10: i | D10: 11 | E10: 5.1 | F10: 3 | G10: 4.2 | H10: 2.6 | I10: 3.2 | J10: 3.2 | K10: 2.5 | L10: 3.2 | Q10: 2.8 | R10: 10.5 | S10: 3.8 | T10: 5.2 | U10: 2.8 | V10: 12.1 | AA10: 1 | AC10: 1.2 | AE10: 5.7 | AG10: 1
A11: j | E11: 2.25 | G11: 1.1 | H11: 2 | L11: 1.34
A12: k | D12: 0.6 | T12: 1.5 | V12: 5
A13: l | B13: =21.2+10.5 -> 31.7 | C13: =18.7+9.7 -> 28.4 | D13: =18.8+18 -> 36.8 | E13: =19+6 -> 25 | F13: =18.9+12 -> 30.9 | G13: =11.6+6.6 -> 18.2 | H13: =14.4+7 -> 21.4 | I13: =18.9+6.9 -> 25.8 | J13: =19+6.5 -> 25.5 | K13: =16.9+2.5 -> 19.4 | L13: =10+5.6 -> 15.6 | Q13: =18.4+12 -> 30.4 | R13: =13.8+6.5 -> 20.3 | S13: =19.4+16.8 -> 36.2 | T13: =10.1+0.6 -> 10.7 | U13: =18.7+13.6 -> 32.3 | V13: =15.9+10 -> 25.9 | AA13: =19.4+16.4 -> 35.8 | AB13: =23.9+5.7 -> 29.6 | AC13: =23.9+16.7 -> 40.6 | AE13: =15+1.9 -> 16.9 | AG13: =19+8.5 -> 27.5
A14: m | D14: 6 | F14: 2.3 | G14: 1.1 | J14: 3.2 | Q14: 6.1 | R14: 3.1 | S14: 9 | T14: 5.2 | U14: 5.6 | V14: 3.6 | AA14: 1 | AC14: 1.2
A15: n | U15: 5.8 | V15: 4.8
A16: o | I16: 0.13 | K16: 0.08
A17: p | I17: 60 | K17: 46 | AE17: 37
A18: q
A19: r | I19: 12 | J19: 18 | L19: 17.1
A20: s | L20: 5
A21: t | B21: 0.32 | I21: 1.9 | K21: 1.5 | Q21: 0.61 | R21: 0.84 | S21: 0.64 | U21: 0.6 | V21: 0.97
A22: u | I22: 1.9 | K22: 1.5
A23: v | B23: 0.04 | C23: 0.08 | D23: 0.13 | E23: 0.07 | F23: 0.03 | G23: 0.07 | H23: 0.04 | I23: 0.06 | J23: 0.06 | K23: 0.09 | L23: 0.03 | Q23: 0.06 | R23: 0.06 | S23: 0.08 | T23: 0.03 | U23: 0.06 | V23: 0.07 | AA23: 0.04 | AB23: 0.04 | AC23: 0.1 | AE23: 0.07 | AG23: 0.02
A24: w | I24: 3.2 | L24: 4.8
A25: x | U25: 27
A26: t | U26: 28.08
A27: y | U27: 22.68
A28: aa | U28: 50
A29: ab | AE29: 2.8
A30: ac
A31: ad
A32: ae
A33: af
A34: ag
A35: ah | C35: 25.74 | D35: 20.9 | F35: 28.14 | G35: 15 | H35: 20 | I35: 20.27 | J35: 20 | Q35: 22.3 | S35: 20 | T35: 12 | AA35: 22 | AB35: 20.11 | AC35: 19 | AG35: 22
A36: ai | G36: 30
A37: aj | H37: 10
A38: ak | H38: 30 | I38: 15 | K38: 16 | V38: 17 | AE38: 15
A39: al | L39: 10
A40: am | R40: 18
...
