Workbook

Sheet Feuil1
C1: 43344 | H1: 43345 | M1: 43346 | R1: 43347 | W1: 43348 | AB1: 43349 | AG1: 43350 | AL1: 43351 | AQ1: 43352 | AV1: 43353 | BA1: 43354 | BF1: 43355 | BK1: 43356 | BP1: 43357 | BU1: 43358 | BZ1: 43359 | CE1: 43360 | CJ1: 43361 | CO1: 43362 | CT1: 43363 | CY1: 43364 | DD1: 43365 | DI1: 43366 | DN1: 43367 | DS1: 43368 | DX1: 43369 | EC1: 43370 | EH1: 43371 | EM1: 43372 | ER1: 43373
C2: samedi | H2: dimanche | M2: lundi | R2: mardi | W2: mercredi | AB2: jeudi | AG2: vendredi | AL2: samedi | AQ2: dimanche | AV2: lundi | BA2: mardi | BF2: mercredi | BK2: jeudi | BP2: vendredi | BU2: samedi | BZ2: dimanche | CE2: lundi | CJ2: mardi | CO2: mercredi | CT2: jeudi | CY2: vendredi | DD2: samedi | DI2: dimanche | DN2: lundi | DS2: mardi | DX2: mercredi | EC2: jeudi | EH2: vendredi | EM2: samedi | ER2: dimanche
C3: GJ | D3: AJ | E3: GN | F3: AN | G3: FDF | H3: GJ | I3: AJ | J3: GN | K3: AN | L3: FDF | M3: GJ | N3: AJ | O3: GN | P3: AN | Q3: FDF | R3: GJ | S3: AJ | T3: GN | U3: AN | V3: FDF | W3: GJ | X3: AJ | Y3: GN | Z3: AN | AA3: FDF | AB3: GJ | AC3: AJ | AD3: GN | AE3: AN | AF3: FDF | AG3: GJ | AH3: AJ | AI3: GN | AJ3: AN | AK3: FDF | AL3: GJ | AM3: AJ | AN3: GN | AO3: AN | AP3: FDF | AQ3: GJ | AR3: AJ | AS3: GN | AT3: AN | AU3: FDF | AV3: GJ | AW3: AJ | AX3: GN | AY3: AN | AZ3: FDF | BA3: GJ | BB3: AJ | BC3: GN | BD3: AN | BE3: FDF | BF3: GJ | BG3: AJ | BH3: GN | BI3: AN | BJ3: FDF | BK3: GJ | BL3: AJ | BM3: GN | BN3: AN | BO3: FDF | BP3: GJ | BQ3: AJ | BR3: GN | BS3: AN | BT3: FDF | BU3: GJ | BV3: AJ | BW3: GN | BX3: AN | BY3: FDF | BZ3: GJ | CA3: AJ | CB3: GN | CC3: AN | CD3: FDF | CE3: GJ | CF3: AJ | CG3: GN | CH3: AN | CI3: FDF | CJ3: GJ | CK3: AJ | CL3: GN | CM3: AN | CN3: FDF | CO3: GJ | CP3: AJ | CQ3: GN | CR3: AN | CS3: FDF | CT3: GJ | CU3: AJ | CV3: GN | CW3: AN | CX3: FDF | CY3: GJ | CZ3: AJ | DA3: GN | DB3: AN | DC3: FDF | DD3: GJ | DE3: AJ | DF3: GN | DG3: AN | DH3: FDF | DI3: GJ | DJ3: AJ | DK3: GN | DL3: AN | DM3: FDF | DN3: GJ | DO3: AJ | DP3: GN | DQ3: AN | DR3: FDF | DS3: GJ | DT3: AJ | DU3: GN | DV3: AN | DW3: FDF | DX3: GJ | DY3: AJ | DZ3: GN | EA3: AN | EB3: FDF | EC3: GJ | ED3: AJ | EE3: GN | EF3: AN | EG3: FDF | EH3: GJ | EI3: AJ | EJ3: GN | EK3: AN | EL3: FDF | EM3: GJ | EN3: AJ | EO3: GN | EP3: AN | EQ3: FDF | ER3: GJ | ES3: AJ | ET3: GN | EU3: AN | EV3: FDF
A4: xxxxx | B4: GJ | C4: -1 | H4: 1 | M4: 0 | R4: 0 | W4: 0 | AB4: 0 | AG4: 0 | AL4: 0 | AQ4: 0 | AV4: 0 | BA4: 0 | BF4: 0 | BK4: 0 | BP4: 0 | BU4: 0 | BZ4: 0 | CE4: 0 | CJ4: 0 | CO4: 0 | CT4: 0 | CY4: 0 | DD4: 0 | DI4: 0 | DN4: 0 | DS4: 0 | DX4: 0 | EC4: 0 | EH4: 0 | EM4: 0 | ER4: 0
B5: AJ | D5: 0 | I5: 4 | N5: 5 | S5: 4
B6: GN | E6: 0 | J6: 0 | O6: 0 | T6: 0 | Y6: 0 | AD6: 0 | AI6: 0 | AN6: 0 | AS6: 0 | AX6: 0 | BC6: 0 | BH6: 0 | BM6: 0 | BR6: 0 | BW6: 0 | CB6: 0 | CG6: 0 | CL6: 0 | CQ6: 2 | CV6: 1 | DA6: 0 | DF6: 1 | DK6: 0 | DP6: 0 | DU6: 0 | DZ6: 0 | EE6: 0 | EJ6: 0 | EO6: 0 | ET6: 0
B7: AN | F7: 0 | K7: 6 | P7: 2 | U7: 4
B8: FDF | G8: 0 | L8: -2 | Q8: 0 | V8: 0 | AA8: 0 | AF8: 0 | AK8: 0 | AP8: 0 | AU8: 0 | AZ8: 0 | BE8: 0 | BJ8: 0 | BO8: 0 | BT8: 0 | BY8: 0 | CD8: 0 | CI8: 0 | CN8: 0

Sheet Feuil2
B3: 1 | C3: 2 | D3: 3 | E3: 4 | F3: 5 | G3: 6 | H3: 7 | I3: 8 | J3: 9 | K3: 10 | L3: 11 | M3: 12 | N3: 13 | O3: 14 | P3: 15 | Q3: 16 | R3: 17 | S3: 18 | T3: 19 | U3: 20 | V3: 21 | W3: 22 | X3: 23 | Y3: 24 | Z3: 25 | AA3: 26 | AB3: 27 | AC3: 28 | AD3: 29 | AE3: 30
A4: GJ | B4: =OFFSET(Feuil1!$A$1,ROW()-1,(B$3-1)*5+2+ROW()-4,1,1) -> -1 | C4: =OFFSET(Feuil1!$A$1,ROW()-1,(C$3-1)*5+2+ROW()-4,1,1) -> 1 | D4: =OFFSET(Feuil1!$A$1,ROW()-1,(D$3-1)*5+2+ROW()-4,1,1) -> 0 | E4: =OFFSET(Feuil1!$A$1,ROW()-1,(E$3-1)*5+2+ROW()-4,1,1) -> 0 | F4: =OFFSET(Feuil1!$A$1,ROW()-1,(F$3-1)*5+2+ROW()-4,1,1) -> 0 | G4: =OFFSET(Feuil1!$A$1,ROW()-1,(G$3-1)*5+2+ROW()-4,1,1) -> 0 | H4: =OFFSET(Feuil1!$A$1,ROW()-1,(H$3-1)*5+2+ROW()-4,1,1) -> 0 | I4: =OFFSET(Feuil1!$A$1,ROW()-1,(I$3-1)*5+2+ROW()-4,1,1) -> 0 | ... AE4: =OFFSET(Feuil1!$A$1,ROW()-1,(AE$3-1)*5+2+ROW()-4,1,1) -> 0 | AF4: =SUM(B4:AE4) -> 0
A5: AJ | B5: =OFFSET(Feuil1!$A$1,ROW()-1,(B$3-1)*5+2+ROW()-4,1,1) -> 0 | C5: =OFFSET(Feuil1!$A$1,ROW()-1,(C$3-1)*5+2+ROW()-4,1,1) -> 4 | D5: =OFFSET(Feuil1!$A$1,ROW()-1,(D$3-1)*5+2+ROW()-4,1,1) -> 5 | E5: =OFFSET(Feuil1!$A$1,ROW()-1,(E$3-1)*5+2+ROW()-4,1,1) -> 4 | F5: =OFFSET(Feuil1!$A$1,ROW()-1,(F$3-1)*5+2+ROW()-4,1,1) -> 0 | G5: =OFFSET(Feuil1!$A$1,ROW()-1,(G$3-1)*5+2+ROW()-4,1,1) -> 0 | H5: =OFFSET(Feuil1!$A$1,ROW()-1,(H$3-1)*5+2+ROW()-4,1,1) -> 0 | I5: =OFFSET(Feuil1!$A$1,ROW()-1,(I$3-1)*5+2+ROW()-4,1,1) -> 0 | ... AE5: =OFFSET(Feuil1!$A$1,ROW()-1,(AE$3-1)*5+2+ROW()-4,1,1) -> 0 | AF5: =SUM(B5:AE5) -> 13
A6: GN | B6: =OFFSET(Feuil1!$A$1,ROW()-1,(B$3-1)*5+2+ROW()-4,1,1) -> 0 | C6: =OFFSET(Feuil1!$A$1,ROW()-1,(C$3-1)*5+2+ROW()-4,1,1) -> 0 | D6: =OFFSET(Feuil1!$A$1,ROW()-1,(D$3-1)*5+2+ROW()-4,1,1) -> 0 | E6: =OFFSET(Feuil1!$A$1,ROW()-1,(E$3-1)*5+2+ROW()-4,1,1) -> 0 | F6: =OFFSET(Feuil1!$A$1,ROW()-1,(F$3-1)*5+2+ROW()-4,1,1) -> 0 | G6: =OFFSET(Feuil1!$A$1,ROW()-1,(G$3-1)*5+2+ROW()-4,1,1) -> 0 | H6: =OFFSET(Feuil1!$A$1,ROW()-1,(H$3-1)*5+2+ROW()-4,1,1) -> 0 | I6: =OFFSET(Feuil1!$A$1,ROW()-1,(I$3-1)*5+2+ROW()-4,1,1) -> 0 | ... AE6: =OFFSET(Feuil1!$A$1,ROW()-1,(AE$3-1)*5+2+ROW()-4,1,1) -> 0 | AF6: =SUM(B6:AE6) -> 4
A7: AN | B7: =OFFSET(Feuil1!$A$1,ROW()-1,(B$3-1)*5+2+ROW()-4,1,1) -> 0 | C7: =OFFSET(Feuil1!$A$1,ROW()-1,(C$3-1)*5+2+ROW()-4,1,1) -> 6 | D7: =OFFSET(Feuil1!$A$1,ROW()-1,(D$3-1)*5+2+ROW()-4,1,1) -> 2 | E7: =OFFSET(Feuil1!$A$1,ROW()-1,(E$3-1)*5+2+ROW()-4,1,1) -> 4 | F7: =OFFSET(Feuil1!$A$1,ROW()-1,(F$3-1)*5+2+ROW()-4,1,1) -> 0 | G7: =OFFSET(Feuil1!$A$1,ROW()-1,(G$3-1)*5+2+ROW()-4,1,1) -> 0 | H7: =OFFSET(Feuil1!$A$1,ROW()-1,(H$3-1)*5+2+ROW()-4,1,1) -> 0 | I7: =OFFSET(Feuil1!$A$1,ROW()-1,(I$3-1)*5+2+ROW()-4,1,1) -> 0 | ... AE7: =OFFSET(Feuil1!$A$1,ROW()-1,(AE$3-1)*5+2+ROW()-4,1,1) -> 0 | AF7: =SUM(B7:AE7) -> 12
A8: FDF | B8: =OFFSET(Feuil1!$A$1,ROW()-1,(B$3-1)*5+2+ROW()-4,1,1) -> 0 | C8: =OFFSET(Feuil1!$A$1,ROW()-1,(C$3-1)*5+2+ROW()-4,1,1) -> -2 | D8: =OFFSET(Feuil1!$A$1,ROW()-1,(D$3-1)*5+2+ROW()-4,1,1) -> 0 | E8: =OFFSET(Feuil1!$A$1,ROW()-1,(E$3-1)*5+2+ROW()-4,1,1) -> 0 | F8: =OFFSET(Feuil1!$A$1,ROW()-1,(F$3-1)*5+2+ROW()-4,1,1) -> 0 | G8: =OFFSET(Feuil1!$A$1,ROW()-1,(G$3-1)*5+2+ROW()-4,1,1) -> 0 | H8: =OFFSET(Feuil1!$A$1,ROW()-1,(H$3-1)*5+2+ROW()-4,1,1) -> 0 | I8: =OFFSET(Feuil1!$A$1,ROW()-1,(I$3-1)*5+2+ROW()-4,1,1) -> 0 | ... AE8: =OFFSET(Feuil1!$A$1,ROW()-1,(AE$3-1)*5+2+ROW()-4,1,1) -> 0 | AF8: =SUM(B8:AE8) -> -2
B11: En cellule B4 je souhaiterais la valeur de C4 du tableau en "Feuil1"
