Workbook

Sheet Feuil1
A2: Code Postal | B2: Ville | C2: Région | D2: Nom du client
A3: 75000 | B3: =IFERROR(VLOOKUP($A3,Feuil2!$A:$C,2,FALSE),"") -> Paris | C3: =IFERROR(VLOOKUP($A3,Feuil2!$A:$C,3,FALSE),"") -> Ile de France
B4: =IFERROR(VLOOKUP($A4,Feuil2!$A:$C,2,FALSE),"") | C4: =IFERROR(VLOOKUP($A4,Feuil2!$A:$C,3,FALSE),"")
B5: =IFERROR(VLOOKUP($A5,Feuil2!$A:$C,2,FALSE),"") | C5: =IFERROR(VLOOKUP($A5,Feuil2!$A:$C,3,FALSE),"")
B6: =IFERROR(VLOOKUP($A6,Feuil2!$A:$C,2,FALSE),"") | C6: =IFERROR(VLOOKUP($A6,Feuil2!$A:$C,3,FALSE),"")
B7: =IFERROR(VLOOKUP($A7,Feuil2!$A:$C,2,FALSE),"") | C7: =IFERROR(VLOOKUP($A7,Feuil2!$A:$C,3,FALSE),"")
B8: =IFERROR(VLOOKUP($A8,Feuil2!$A:$C,2,FALSE),"") | C8: =IFERROR(VLOOKUP($A8,Feuil2!$A:$C,3,FALSE),"")
B9: =IFERROR(VLOOKUP($A9,Feuil2!$A:$C,2,FALSE),"") | C9: =IFERROR(VLOOKUP($A9,Feuil2!$A:$C,3,FALSE),"")
B10: =IFERROR(VLOOKUP($A10,Feuil2!$A:$C,2,FALSE),"") | C10: =IFERROR(VLOOKUP($A10,Feuil2!$A:$C,3,FALSE),"")
B11: =IFERROR(VLOOKUP($A11,Feuil2!$A:$C,2,FALSE),"") | C11: =IFERROR(VLOOKUP($A11,Feuil2!$A:$C,3,FALSE),"")
B12: =IFERROR(VLOOKUP($A12,Feuil2!$A:$C,2,FALSE),"") | C12: =IFERROR(VLOOKUP($A12,Feuil2!$A:$C,3,FALSE),"")
B13: =IFERROR(VLOOKUP($A13,Feuil2!$A:$C,2,FALSE),"") | C13: =IFERROR(VLOOKUP($A13,Feuil2!$A:$C,3,FALSE),"")
B14: =IFERROR(VLOOKUP($A14,Feuil2!$A:$C,2,FALSE),"") | C14: =IFERROR(VLOOKUP($A14,Feuil2!$A:$C,3,FALSE),"")
B15: =IFERROR(VLOOKUP($A15,Feuil2!$A:$C,2,FALSE),"") | C15: =IFERROR(VLOOKUP($A15,Feuil2!$A:$C,3,FALSE),"")
... B27: =IFERROR(VLOOKUP($A27,Feuil2!$A:$C,2,FALSE),"") | C27: =IFERROR(VLOOKUP($A27,Feuil2!$A:$C,3,FALSE),"")

Sheet Feuil2
A1: Code postal | B1: Ville | C1: Région
A2: 75000 | B2: Paris | C2: Ile de France
A3: 94700 | B3: Maisons Alfort | C3: Ile de France
A4: 33000 | B4: Bordeaux | C4: Aquitaine -limousin-Poitou Charentes
A5: 86000 | B5: Poitiers | C5: Aquitaine -limousin-Poitou Charentes
A6: 87000 | B6: Limoges | C6: Aquitaine -limousin-Poitou Charentes
A7: 41000 | B7: Blois | C7: Centre
A8: 37000 | B8: Tours | C8: Centre
A9: 45000 | B9: Orléans | C9: Centre
A10: 28000 | B10: Chartres | C10: Centre
