Workbook

Sheet MMSE
A1: MMSE
A3: Tranche d'âge | B3: 40-60 ans | E3: 61-70 ans | H3: 71-85 ans
A4: Niveau scolaire | B4: 1 | C4: 2 | D4: 3 | E4: 1 | F4: 2 | G4: 3 | H4: 1 | I4: 2 | J4: 3
A5: Moyenne | B5: 28 | C5: 28.6 | D5: 29.4 | E5: 28 | F5: 28.8 | G5: 29.1 | H5: 27.9 | I5: 28.5 | J5: 29.1
A6: DS | B6: 1.8 | C6: 1.4 | D6: 0.8 | E6: 1.6 | F6: 1.3 | G6: 0.9 | H6: 1.9 | I6: 1.4 | J6: 1.1
A7: Médiane | B7: 28.5 | C7: 29 | D7: 30 | E7: 28 | F7: 29 | G7: 29 | H7: 28 | I7: 29 | J7: 29
A8: IIQ | B8: 2 | C8: 2 | D8: 1 | E8: 2 | F8: 2 | G8: 1 | H8: 2 | I8: 2 | J8: 2
A9: C5 | B9: 24.7 | C9: 26 | D9: 27.1 | E9: 24.7 | F9: 26 | G9: 27.1 | H9: 24.7 | I9: 26 | J9: 27.1
A10: -1DS | B10: 26.3 | C10: 27.4 | D10: 28.3 | E10: 26.3 | F10: 27.4 | G10: 28.3 | H10: 26.3 | I10: 27.4 | J10: 28.3
A11: -1,5DS | B11: 24.9 | C11: 26.2 | D11: 27.3 | E11: 24.9 | F11: 26.2 | G11: 27.3 | H11: 24.9 | I11: 26.2 | J11: 27.3
A12: -1,98DS | B12: 23.5 | C12: 24.9 | D12: 26.1 | E12: 23.5 | F12: 24.9 | G12: 26.1 | H12: 23.5 | I12: 24.9 | J12: 26.1

Sheet Normes automatiques
A1: Tentative EXEMPLE
C2: Résultat
A3: Âge du patient | B3: 85 | C3: =IF(B3<40,0,IF(B3<61,40,IF(B3<71,61,IF(B3<=85,71,0)))) -> 71
A4: NSC | B4: 1
A5: Score | C5: =TNorm!D1 -> Moyenne | D5: =TNorm!E1 -> DS | E5: =TNorm!F1 -> Médiane | F5: =TNorm!G1 -> IIQ | G5: =TNorm!H1 -> C5 | H5: =TNorm!I1 -> -1DS | I5: =TNorm!J1 -> -1,5DS | J5: =TNorm!K1 -> -1,98DS
A6: MMSE | B6: 25 | C6: =VLOOKUP(SUBSTITUTE('Normes automatiques'!$A6," ","") & $C$3&$B$4,TNorm!$A$2:$K$199,COLUMN(D1),FALSE) -> 27.9 | D6: =VLOOKUP(SUBSTITUTE('Normes automatiques'!$A6," ","") & $C$3&$B$4,TNorm!$A$2:$K$199,COLUMN(E1),FALSE) -> 1.9 | E6: =VLOOKUP(SUBSTITUTE('Normes automatiques'!$A6," ","") & $C$3&$B$4,TNorm!$A$2:$K$199,COLUMN(F1),FALSE) -> 28 | F6: =VLOOKUP(SUBSTITUTE('Normes automatiques'!$A6," ","") & $C$3&$B$4,TNorm!$A$2:$K$199,COLUMN(G1),FALSE) -> 2 | G6: =VLOOKUP(SUBSTITUTE('Normes automatiques'!$A6," ","") & $C$3&$B$4,TNorm!$A$2:$K$199,COLUMN(H1),FALSE) -> 24.7 | H6: =VLOOKUP(SUBSTITUTE('Normes automatiques'!$A6," ","") & $C$3&$B$4,TNorm!$A$2:$K$199,COLUMN(I1),FALSE) -> 26.3 | I6: =VLOOKUP(SUBSTITUTE('Normes automatiques'!$A6," ","") & $C$3&$B$4,TNorm!$A$2:$K$199,COLUMN(J1),FALSE) -> 24.9 | J6: =VLOOKUP(SUBSTITUTE('Normes automatiques'!$A6," ","") & $C$3&$B$4,TNorm!$A$2:$K$199,COLUMN(K1),FALSE) -> 23.5
A7: MOCA | B7: 20 | C7: =VLOOKUP(SUBSTITUTE('Normes automatiques'!$A7," ","") & $C$3&$B$4,TNorm!$A$2:$K$199,COLUMN(D2),FALSE) -> 24.3 | D7: =VLOOKUP(SUBSTITUTE('Normes automatiques'!$A7," ","") & $C$3&$B$4,TNorm!$A$2:$K$199,COLUMN(E2),FALSE) -> 3 | E7: =VLOOKUP(SUBSTITUTE('Normes automatiques'!$A7," ","") & $C$3&$B$4,TNorm!$A$2:$K$199,COLUMN(F2),FALSE) -> 25 | F7: =VLOOKUP(SUBSTITUTE('Normes automatiques'!$A7," ","") & $C$3&$B$4,TNorm!$A$2:$K$199,COLUMN(G2),FALSE) -> 3 | G7: =VLOOKUP(SUBSTITUTE('Normes automatiques'!$A7," ","") & $C$3&$B$4,TNorm!$A$2:$K$199,COLUMN(H2),FALSE) -> 20.4 | H7: =VLOOKUP(SUBSTITUTE('Normes automatiques'!$A7," ","") & $C$3&$B$4,TNorm!$A$2:$K$199,COLUMN(I2),FALSE) -> 22.4 | I7: =VLOOKUP(SUBSTITUTE('Normes automatiques'!$A7," ","") & $C$3&$B$4,TNorm!$A$2:$K$199,COLUMN(J2),FALSE) -> 21.2 | J7: =VLOOKUP(SUBSTITUTE('Normes automatiques'!$A7," ","") & $C$3&$B$4,TNorm!$A$2:$K$199,COLUMN(K2),FALSE) -> 20
A8: Boston VERSION A | B8: 32 | C8: =VLOOKUP(SUBSTITUTE('Normes automatiques'!$A8," ","") & $C$3&$B$4,TNorm!$A$2:$K$199,COLUMN(D3),FALSE) -> 28.2 | D8: =VLOOKUP(SUBSTITUTE('Normes automatiques'!$A8," ","") & $C$3&$B$4,TNorm!$A$2:$K$199,COLUMN(E3),FALSE) -> 3.6 | E8: =VLOOKUP(SUBSTITUTE('Normes automatiques'!$A8," ","") & $C$3&$B$4,TNorm!$A$2:$K$199,COLUMN(F3),FALSE) -> 29 | F8: =VLOOKUP(SUBSTITUTE('Normes automatiques'!$A8," ","") & $C$3&$B$4,TNorm!$A$2:$K$199,COLUMN(G3),FALSE) -> 6 | G8: =VLOOKUP(SUBSTITUTE('Normes automatiques'!$A8," ","") & $C$3&$B$4,TNorm!$A$2:$K$199,COLUMN(H3),FALSE) -> 22.4 | H8: =VLOOKUP(SUBSTITUTE('Normes automatiques'!$A8," ","") & $C$3&$B$4,TNorm!$A$2:$K$199,COLUMN(I3),FALSE) -> 25.7 | I8: =VLOOKUP(SUBSTITUTE('Normes automatiques'!$A8," ","") & $C$3&$B$4,TNorm!$A$2:$K$199,COLUMN(J3),FALSE) -> 23.2 | J8: =VLOOKUP(SUBSTITUTE('Normes automatiques'!$A8," ","") & $C$3&$B$4,TNorm!$A$2:$K$199,COLUMN(K3),FALSE) -> 20.7
A9: Rey Copie | B9: 30 | C9: =VLOOKUP(SUBSTITUTE('Normes automatiques'!$A9," ","") & $C$3&$B$4,TNorm!$A$2:$K$199,COLUMN(D5),FALSE) -> 30.9 | D9: =VLOOKUP(SUBSTITUTE('Normes automatiques'!$A9," ","") & $C$3&$B$4,TNorm!$A$2:$K$199,COLUMN(E5),FALSE) -> 3.3 | E9: =VLOOKUP(SUBSTITUTE('Normes automatiques'!$A9," ","") & $C$3&$B$4,TNorm!$A$2:$K$199,COLUMN(F5),FALSE) -> 31 | F9: =VLOOKUP(SUBSTITUTE('Normes automatiques'!$A9," ","") & $C$3&$B$4,TNorm!$A$2:$K$199,COLUMN(G5),FALSE) -> 4.8 | G9: =VLOOKUP(SUBSTITUTE('Normes automatiques'!$A9," ","") & $C$3&$B$4,TNorm!$A$2:$K$199,COLUMN(H5),FALSE) -> 25.5 | H9: =VLOOKUP(SUBSTITUTE('Normes automatiques'!$A9," ","") & $C$3&$B$4,TNorm!$A$2:$K$199,COLUMN(I5),FALSE) -> 28.2 | I9: =VLOOKUP(SUBSTITUTE('Normes automatiques'!$A9," ","") & $C$3&$B$4,TNorm!$A$2:$K$199,COLUMN(J5),FALSE) -> 26 | J9: =VLOOKUP(SUBSTITUTE('Normes automatiques'!$A9," ","") & $C$3&$B$4,TNorm!$A$2:$K$199,COLUMN(K4),FALSE) -> 23.6
A10: Rey Différé | B10: 10 | C10: =VLOOKUP(SUBSTITUTE('Normes automatiques'!$A10," ","") & $C$3&$B$4,TNorm!$A$2:$K$199,COLUMN(D6),FALSE) -> 13.8 | D10: =VLOOKUP(SUBSTITUTE('Normes automatiques'!$A10," ","") & $C$3&$B$4,TNorm!$A$2:$K$199,COLUMN(E6),FALSE) -> 4.6 | E10: =VLOOKUP(SUBSTITUTE('Normes automatiques'!$A10," ","") & $C$3&$B$4,TNorm!$A$2:$K$199,COLUMN(F6),FALSE) -> 13.5 | F10: =VLOOKUP(SUBSTITUTE('Normes automatiques'!$A10," ","") & $C$3&$B$4,TNorm!$A$2:$K$199,COLUMN(G6),FALSE) -> 6 | G10: =VLOOKUP(SUBSTITUTE('Normes automatiques'!$A10," ","") & $C$3&$B$4,TNorm!$A$2:$K$199,COLUMN(H6),FALSE) -> 5.8 | H10: =VLOOKUP(SUBSTITUTE('Normes automatiques'!$A10," ","") & $C$3&$B$4,TNorm!$A$2:$K$199,COLUMN(I6),FALSE) -> 9.3 | I10: =VLOOKUP(SUBSTITUTE('Normes automatiques'!$A10," ","") & $C$3&$B$4,TNorm!$A$2:$K$199,COLUMN(J6),FALSE) -> 6.5 | J10: =VLOOKUP(SUBSTITUTE('Normes automatiques'!$A10," ","") & $C$3&$B$4,TNorm!$A$2:$K$199,COLUMN(K6),FALSE) -> 3.8
A11: Rey Différé - Copie | B11: -20 | C11: =VLOOKUP(SUBSTITUTE('Normes automatiques'!$A11," ","") & $C$3&$B$4,TNorm!$A$2:$K$199,COLUMN(D7),FALSE) -> -17.1 | D11: =VLOOKUP(SUBSTITUTE('Normes automatiques'!$A11," ","") & $C$3&$B$4,TNorm!$A$2:$K$199,COLUMN(E7),FALSE) -> 4.2 | E11: =VLOOKUP(SUBSTITUTE('Normes automatiques'!$A11," ","") & $C$3&$B$4,TNorm!$A$2:$K$199,COLUMN(F7),FALSE) -> -17 | F11: =VLOOKUP(SUBSTITUTE('Normes automatiques'!$A11," ","") & $C$3&$B$4,TNorm!$A$2:$K$199,COLUMN(G7),FALSE) -> 6.5 | G11: =VLOOKUP(SUBSTITUTE('Normes automatiques'!$A11," ","") & $C$3&$B$4,TNorm!$A$2:$K$199,COLUMN(H7),FALSE) -> -25 | H11: =VLOOKUP(SUBSTITUTE('Normes automatiques'!$A11," ","") & $C$3&$B$4,TNorm!$A$2:$K$199,COLUMN(I7),FALSE) -> -21.8 | I11: =VLOOKUP(SUBSTITUTE('Normes automatiques'!$A11," ","") & $C$3&$B$4,TNorm!$A$2:$K$199,COLUMN(J7),FALSE) -> -24.3 | J11: =VLOOKUP(SUBSTITUTE('Normes automatiques'!$A11," ","") & $C$3&$B$4,TNorm!$A$2:$K$199,COLUMN(K7),FALSE) -> -26.8
A12: portes Partie A | B12: 10 | C12: =VLOOKUP(SUBSTITUTE('Normes automatiques'!$A12," ","") & $C$3&$B$4,TNorm!$A$2:$K$199,COLUMN(D8),FALSE) -> 9.7 | D12: =VLOOKUP(SUBSTITUTE('Normes automatiques'!$A12," ","") & $C$3&$B$4,TNorm!$A$2:$K$199,COLUMN(E8),FALSE) -> 1.8 | E12: =VLOOKUP(SUBSTITUTE('Normes automatiques'!$A12," ","") & $C$3&$B$4,TNorm!$A$2:$K$199,COLUMN(F8),FALSE) -> 10 | F12: =VLOOKUP(SUBSTITUTE('Normes automatiques'!$A12," ","") & $C$3&$B$4,TNorm!$A$2:$K$199,COLUMN(G8),FALSE) -> 2 | G12: =VLOOKUP(SUBSTITUTE('Normes automatiques'!$A12," ","") & $C$3&$B$4,TNorm!$A$2:$K$199,COLUMN(H8),FALSE) -> 6.2 | H12: =VLOOKUP(SUBSTITUTE('Normes automatiques'!$A12," ","") & $C$3&$B$4,TNorm!$A$2:$K$199,COLUMN(I8),FALSE) -> 7.9 | I12: =VLOOKUP(SUBSTITUTE('Normes automatiques'!$A12," ","") & $C$3&$B$4,TNorm!$A$2:$K$199,COLUMN(J8),FALSE) -> 6.6 | J12: =VLOOKUP(SUBSTITUTE('Normes automatiques'!$A12," ","") & $C$3&$B$4,TNorm!$A$2:$K$199,COLUMN(K8),FALSE) -> 5.3
A13: portes Partie B | B13: 5 | C13: =VLOOKUP(SUBSTITUTE('Normes automatiques'!$A13," ","") & $C$3&$B$4,TNorm!$A$2:$K$199,COLUMN(D9),FALSE) -> 5.7 | D13: =VLOOKUP(SUBSTITUTE('Normes automatiques'!$A13," ","") & $C$3&$B$4,TNorm!$A$2:$K$199,COLUMN(E9),FALSE) -> 2 | E13: =VLOOKUP(SUBSTITUTE('Normes automatiques'!$A13," ","") & $C$3&$B$4,TNorm!$A$2:$K$199,COLUMN(F9),FALSE) -> 6 | F13: =VLOOKUP(SUBSTITUTE('Normes automatiques'!$A13," ","") & $C$3&$B$4,TNorm!$A$2:$K$199,COLUMN(G9),FALSE) -> 3 | G13: =VLOOKUP(SUBSTITUTE('Normes automatiques'!$A13," ","") & $C$3&$B$4,TNorm!$A$2:$K$199,COLUMN(H9),FALSE) -> 2.4 | H13: =VLOOKUP(SUBSTITUTE('Normes automatiques'!$A13," ","") & $C$3&$B$4,TNorm!$A$2:$K$199,COLUMN(I9),FALSE) -> 3.6 | I13: =VLOOKUP(SUBSTITUTE('Normes automatiques'!$A13," ","") & $C$3&$B$4,TNorm!$A$2:$K$199,COLUMN(J9),FALSE) -> 2.6 | J13: =VLOOKUP(SUBSTITUTE('Normes automatiques'!$A13," ","") & $C$3&$B$4,TNorm!$A$2:$K$199,COLUMN(K9),FALSE) -> 1.8
A14: portes Parties A+B | B14: 15 | C14: =VLOOKUP(SUBSTITUTE('Normes automatiques'!$A14," ","") & $C$3&$B$4,TNorm!$A$2:$K$199,COLUMN(D10),FALSE) -> 15.3 | D14: =VLOOKUP(SUBSTITUTE('Normes automatiques'!$A14," ","") & $C$3&$B$4,TNorm!$A$2:$K$199,COLUMN(E10),FALSE) -> 3.2 | E14: =VLOOKUP(SUBSTITUTE('Normes automatiques'!$A14," ","") & $C$3&$B$4,TNorm!$A$2:$K$199,COLUMN(F10),FALSE) -> 16 | F14: =VLOOKUP(SUBSTITUTE('Normes automatiques'!$A14," ","") & $C$3&$B$4,TNorm!$A$2:$K$199,COLUMN(G10),FALSE) -> 4 | G14: =VLOOKUP(SUBSTITUTE('Normes automatiques'!$A14," ","") & $C$3&$B$4,TNorm!$A$2:$K$199,COLUMN(H10),FALSE) -> 10.3 | H14: =VLOOKUP(SUBSTITUTE('Normes automatiques'!$A14," ","") & $C$3&$B$4,TNorm!$A$2:$K$199,COLUMN(I10),FALSE) -> 12.3 | I14: =VLOOKUP(SUBSTITUTE('Normes automatiques'!$A14," ","") & $C$3&$B$4,TNorm!$A$2:$K$199,COLUMN(J10),FALSE) -> 10.6 | J14: =VLOOKUP(SUBSTITUTE('Normes automatiques'!$A14," ","") & $C$3&$B$4,TNorm!$A$2:$K$199,COLUMN(K10),FALSE) -> 8.9
A15: RLRI-16 Somme des 3 rappels totaux | B15: 28 | C15: =VLOOKUP(SUBSTITUTE('Normes automatiques'!$A15," ","") & $C$3&$B$4,TNorm!$A$2:$K$199,COLUMN(D11),FALSE) -> 44.3 | D15: =VLOOKUP(SUBSTITUTE('Normes automatiques'!$A15," ","") & $C$3&$B$4,TNorm!$A$2:$K$199,COLUMN(E11),FALSE) -> 3.5 | E15: =VLOOKUP(SUBSTITUTE('Normes automatiques'!$A15," ","") & $C$3&$B$4,TNorm!$A$2:$K$199,COLUMN(F11),FALSE) -> 45 | F15: =VLOOKUP(SUBSTITUTE('Normes automatiques'!$A15," ","") & $C$3&$B$4,TNorm!$A$2:$K$199,COLUMN(G11),FALSE) -> 4.5 | G15: =VLOOKUP(SUBSTITUTE('Normes automatiques'!$A15," ","") & $C$3&$B$4,TNorm!$A$2:$K$199,COLUMN(H11),FALSE) -> 37.6 | H15: =VLOOKUP(SUBSTITUTE('Normes automatiques'!$A15," ","") & $C$3&$B$4,TNorm!$A$2:$K$199,COLUMN(I11),FALSE) -> 41.5 | I15: =VLOOKUP(SUBSTITUTE('Normes automatiques'!$A15," ","") & $C$3&$B$4,TNorm!$A$2:$K$199,COLUMN(J11),FALSE) -> 39 | J15: =VLOOKUP(SUBSTITUTE('Normes automatiques'!$A15," ","") & $C$3&$B$4,TNorm!$A$2:$K$199,COLUMN(K11),FALSE) -> 36.2
A16: RLRI-16 Somme des 3 rappels libres | B16: 36 | C16: =VLOOKUP(SUBSTITUTE('Normes automatiques'!$A16," ","") & $C$3&$B$4,TNorm!$A$2:$K$199,COLUMN(D12),FALSE) -> 25.3 | D16: =VLOOKUP(SUBSTITUTE('Normes automatiques'!$A16," ","") & $C$3&$B$4,TNorm!$A$2:$K$199,COLUMN(E12),FALSE) -> 6.2 | E16: =VLOOKUP(SUBSTITUTE('Normes automatiques'!$A16," ","") & $C$3&$B$4,TNorm!$A$2:$K$199,COLUMN(F12),FALSE) -> 25 | F16: =VLOOKUP(SUBSTITUTE('Normes automatiques'!$A16," ","") & $C$3&$B$4,TNorm!$A$2:$K$199,COLUMN(G12),FALSE) -> 9.5 | G16: =VLOOKUP(SUBSTITUTE('Normes automatiques'!$A16," ","") & $C$3&$B$4,TNorm!$A$2:$K$199,COLUMN(H12),FALSE) -> 15.9 | H16: =VLOOKUP(SUBSTITUTE('Normes automatiques'!$A16," ","") & $C$3&$B$4,TNorm!$A$2:$K$199,COLUMN(I12),FALSE) -> 20.3 | I16: =VLOOKUP(SUBSTITUTE('Normes automatiques'!$A16," ","") & $C$3&$B$4,TNorm!$A$2:$K$199,COLUMN(J12),FALSE) -> 17.2 | J16: =VLOOKUP(SUBSTITUTE('Normes automatiques'!$A16," ","") & $C$3&$B$4,TNorm!$A$2:$K$199,COLUMN(K12),FALSE) -> 14.4
A17: Codes | B17: 40 | C17: =VLOOKUP(SUBSTITUTE('Normes automatiques'!$A17," ","") & $C$3&$B$4,TNorm!$A$2:$K$199,COLUMN(D13),FALSE) -> 41.7 | D17: =VLOOKUP(SUBSTITUTE('Normes automatiques'!$A17," ","") & $C$3&$B$4,TNorm!$A$2:$K$199,COLUMN(E13),FALSE) -> 10.5 | E17: =VLOOKUP(SUBSTITUTE('Normes automatiques'!$A17," ","") & $C$3&$B$4,TNorm!$A$2:$K$199,COLUMN(F13),FALSE) -> 41 | F17: =VLOOKUP(SUBSTITUTE('Normes automatiques'!$A17," ","") & $C$3&$B$4,TNorm!$A$2:$K$199,COLUMN(G13),FALSE) -> 14 | G17: =VLOOKUP(SUBSTITUTE('Normes automatiques'!$A17," ","") & $C$3&$B$4,TNorm!$A$2:$K$199,COLUMN(H13),FALSE) -> 24.3 | H17: =VLOOKUP(SUBSTITUTE('Normes automatiques'!$A17," ","") & $C$3&$B$4,TNorm!$A$2:$K$199,COLUMN(I13),FALSE) -> 31.8 | I17: =VLOOKUP(SUBSTITUTE('Normes automatiques'!$A17," ","") & $C$3&$B$4,TNorm!$A$2:$K$199,COLUMN(J13),FALSE) -> 25.6 | J17: =VLOOKUP(SUBSTITUTE('Normes automatiques'!$A17," ","") & $C$3&$B$4,TNorm!$A$2:$K$199,COLUMN(K13),FALSE) -> 19.7
A18: fluences Animaux | B18: 10 | C18: =VLOOKUP(SUBSTITUTE('Normes automatiques'!$A18," ","") & $C$3&$B$4,TNorm!$A$2:$K$199,COLUMN(D14),FALSE) -> 17.3 | D18: =VLOOKUP(SUBSTITUTE('Normes automatiques'!$A18," ","") & $C$3&$B$4,TNorm!$A$2:$K$199,COLUMN(E14),FALSE) -> 4.4 | E18: =VLOOKUP(SUBSTITUTE('Normes automatiques'!$A18," ","") & $C$3&$B$4,TNorm!$A$2:$K$199,COLUMN(F14),FALSE) -> 16.5 | F18: =VLOOKUP(SUBSTITUTE('Normes automatiques'!$A18," ","") & $C$3&$B$4,TNorm!$A$2:$K$199,COLUMN(G14),FALSE) -> 6 | G18: =VLOOKUP(SUBSTITUTE('Normes automatiques'!$A18," ","") & $C$3&$B$4,TNorm!$A$2:$K$199,COLUMN(H14),FALSE) -> 9.8 | H18: =VLOOKUP(SUBSTITUTE('Normes automatiques'!$A18," ","") & $C$3&$B$4,TNorm!$A$2:$K$199,COLUMN(I14),FALSE) -> 12.5 | I18: =VLOOKUP(SUBSTITUTE('Normes automatiques'!$A18," ","") & $C$3&$B$4,TNorm!$A$2:$K$199,COLUMN(J14),FALSE) -> 10.1 | J18: =VLOOKUP(SUBSTITUTE('Normes automatiques'!$A18," ","") & $C$3&$B$4,TNorm!$A$2:$K$199,COLUMN(K14),FALSE) -> 7.8
A19: Fluences P | B19: 12 | C19: =VLOOKUP(SUBSTITUTE('Normes automatiques'!$A19," ","") & $C$3&$B$4,TNorm!$A$2:$K$199,COLUMN(D15),FALSE) -> 11.1 | D19: =VLOOKUP(SUBSTITUTE('Normes automatiques'!$A19," ","") & $C$3&$B$4,TNorm!$A$2:$K$199,COLUMN(E15),FALSE) -> 3.7 | E19: =VLOOKUP(SUBSTITUTE('Normes automatiques'!$A19," ","") & $C$3&$B$4,TNorm!$A$2:$K$199,COLUMN(F15),FALSE) -> 11 | F19: =VLOOKUP(SUBSTITUTE('Normes automatiques'!$A19," ","") & $C$3&$B$4,TNorm!$A$2:$K$199,COLUMN(G15),FALSE) -> 5 | G19: =VLOOKUP(SUBSTITUTE('Normes automatiques'!$A19," ","") & $C$3&$B$4,TNorm!$A$2:$K$199,COLUMN(H15),FALSE) -> 4.7 | H19: =VLOOKUP(SUBSTITUTE('Normes automatiques'!$A19," ","") & $C$3&$B$4,TNorm!$A$2:$K$199,COLUMN(I15),FALSE) -> 7.1 | I19: =VLOOKUP(SUBSTITUTE('Normes automatiques'!$A19," ","") & $C$3&$B$4,TNorm!$A$2:$K$199,COLUMN(J15),FALSE) -> 5 | J19: =VLOOKUP(SUBSTITUTE('Normes automatiques'!$A19," ","") & $C$3&$B$4,TNorm!$A$2:$K$199,COLUMN(K15),FALSE) -> 3

Sheet MOCA
A1: MOCA
A3: Tranche d'âge | B3: 40-60 ans | E3: 61-70 ans | H3: 71-85 ans
A4: Niveau scolaire | B4: 1 | C4: 2 | D4: 3 | E4: 1 | F4: 2 | G4: 3 | H4: 1 | I4: 2 | J4: 3
A5: Moyenne | B5: 25.9 | C5: 26.9 | D5: 27.9 | E5: 25.3 | F5: 26.7 | G5: 27.4 | H5: 24.3 | I5: 25.4 | J5: 27.6
A6: DS | B6: 2.7 | C6: 2.2 | D6: 1.7 | E6: 2.9 | F6: 2.4 | G6: 1.7 | H6: 3 | I6: 2.6 | J6: 2.1
A7: Médiane | B7: 26 | C7: 27 | D7: 28 | E7: 26 | F7: 27 | G7: 27 | H7: 25 | I7: 25 | J7: 28
A8: IIQ | B8: 3.2 | C8: 4 | D8: 2 | E8: 4 | F8: 3 | G8: 3 | H8: 3 | I8: 5 | J8: 3
A9: C5 | B9: 21.4 | C9: 22.6 | D9: 23.8 | E9: 20.8 | F9: 22 | G9: 23.2 | H9: 20.4 | I9: 21.6 | J9: 22.8
A10: -1DS | B10: 23.4 | C10: 24.5 | D10: 25.7 | E10: 22.8 | F10: 23.9 | G10: 25.1 | H10: 22.4 | I10: 23.6 | J10: 24.7
A11: -1,5DS | B11: 22.2 | C11: 23.4 | D11: 24.6 | E11: 21.6 | F11: 22.8 | G11: 24 | H11: 21.2 | I11: 22.4 | J11: 23.6
A12: -1,98DS | B12: 21 | C12: 22.2 | D12: 23.4 | E12: 20.4 | F12: 21.6 | G12: 22.8 | H12: 20 | I12: 21.2 | J12: 22.4

Sheet Déno de Boston
A1: Dénomination orale : Test de dénomination abrégé de Boston versions A et C
A3: VERSION A | B3: Tranche d'âge | C3: 40-60 ans | F3: 61-70 ans | I3: 71-85 ans
B4: Niveau scolaire | C4: 1 | D4: 2 | E4: 3 | F4: 1 | G4: 2 | H4: 3 | I4: 1 | J4: 2 | K4: 3
B5: Moyenne | C5: 30.5 | D5: 32 | E5: 32.7 | F5: 30.5 | G5: 31.5 | H5: 32.2 | I5: 28.2 | J5: 29.4 | K5: 31.5
B6: DS | C6: 3.9 | D6: 2.4 | E6: 1.7 | F6: 2.9 | G6: 2.4 | H6: 2.1 | I6: 3.6 | J6: 3.3 | K6: 1.9
B7: Médiane | C7: 32 | D7: 33 | E7: 33 | F7: 31 | G7: 32 | H7: 33 | I7: 29 | J7: 30 | K7: 32
B8: IIQ | C8: 4 | D8: 3 | E8: 2 | F8: 4.3 | G8: 3 | H8: 3 | I8: 6 | J8: 4 | K8: 3
B9: C5 | C9: 25.4 | D9: 27.1 | E9: 28.7 | F9: 23.6 | G9: 25.5 | H9: 27.2 | I9: 22.4 | J9: 24.3 | K9: 26.2
B10: -1DS | C10: 28.3 | D10: 29.8 | E10: 31.1 | F10: 26.8 | G10: 28.4 | H10: 29.9 | I10: 25.7 | J10: 27.4 | K10: 29
B11: -1,5DS | C11: 26.1 | D11: 27.8 | E11: 29.4 | F11: 24.4 | G11: 26.2 | H11: 27.9 | I11: 23.2 | J11: 25.1 | K11: 26.9
B12: -1,98DS | C12: 23.8 | D12: 25.7 | E12: 27.4 | F12: 22 | G12: 24 | H12: 25.8 | I12: 20.7 | J12: 22.7 | K12: 24.7
A14: VERSION C | B14: Tranche d'âge | C14: 40-60 ans | F14: 61-70 ans | I14: 71-85 ans
B15: Niveau scolaire | C15: 1 | D15: 2 | E15: 3 | F15: 1 | G15: 2 | H15: 3 | I15: 1 | J15: 2 | K15: 3
B16: Moyenne | C16: 18.4 | D16: 19.4 | E16: 19.6 | F16: 18.9 | G16: 19.4 | H16: 19.4 | I16: 18.7 | J16: 19.1 | K16: 19.5
B17: DS | C17: 1.9 | D17: 0.9 | E17: 0.6 | F17: 1.2 | G17: 0.7 | H17: 0.9 | I17: 1.4 | J17: 1.3 | K17: 0.7
B18: Médiane | C18: 19 | D18: 20 | E18: 20 | F18: 19 | G18: 20 | H18: 20 | I18: 19 | J18: 20 | K18: 20
B19: IIQ | C19: 2 | D19: 1 | E19: 1 | F19: 2 | G19: 1 | H19: 1 | I19: 2 | J19: 1 | K19: 1
B20: C5 | C20: 16.2 | D20: 17 | E20: 17.7 | F20: 16.2 | G20: 17 | H20: 17.7 | I20: 16.2 | J20: 17 | K20: 17.7
B21: -1DS | C21: 17.7 | D21: 18.3 | E21: 18.8 | F21: 17.7 | G21: 18.3 | H21: 18.8 | I21: 17.7 | J21: 18.3 | K21: 18.8
B22: -1,5DS | C22: 16.6 | D22: 17.4 | E22: 18 | F22: 16.6 | G22: 17.4 | H22: 18 | I22: 16.6 | J22: 17.4 | K22: 18
B23: -1,98DS | C23: 15.5 | D23: 16.3 | E23: 17.1 | F23: 15.5 | G23: 16.3 | H23: 17.1 | I23: 15.5 | J23: 16.3 | K23: 17.1

Sheet Figure de Rey
A1: Figure de REY (3 tableaux)
A3: Copie | B3: Tranche d'âge | C3: 40-60 ans | F3: 61-70 ans | I3: 71-85 ans
B4: Niveau scolaire | C4: 1 | D4: 2 | E4: 3 | F4: 1 | G4: 2 | H4: 3 | I4: 1 | J4: 2 | K4: 3
B5: Moyenne | C5: 32.8 | D5: 33.5 | E5: 34.3 | F5: 32.2 | G5: 33.1 | H5: 33.7 | I5: 30.9 | J5: 32.3 | K5: 33.7
B6: DS | C6: 2.6 | D6: 2.3 | E6: 1.8 | F6: 3.4 | G6: 2.2 | H6: 2.6 | I6: 3.3 | J6: 2.9 | K6: 2.7
B7: Médiane | C7: 33 | D7: 34 | E7: 35 | F7: 33 | G7: 34 | H7: 34 | I7: 31 | J7: 33 | K7: 34
B8: IIQ | C8: 3 | D8: 3 | E8: 2 | F8: 3.8 | G8: 3 | H8: 3 | I8: 4.8 | J8: 3 | K8: 2
B9: C5 | C9: 27.5 | D9: 29 | E9: 30.4 | F9: 26.3 | G9: 27.9 | H9: 29.4 | I9: 25.5 | J9: 27.1 | K9: 28.6
B10: -1DS | C10: 30.1 | D10: 31.4 | E10: 32.5 | F10: 29 | G10: 30.4 | H10: 31.7 | I10: 28.2 | J10: 29.7 | K10: 31
B11: -1,5DS | C11: 28 | D11: 29.4 | E11: 30.8 | F11: 26.8 | G11: 28.3 | H11: 29.8 | I11: 26 | J11: 27.6 | K11: 29.1
B12: -1,98DS | C12: 25.8 | D12: 27.4 | E12: 28.9 | F12: 24.5 | G12: 26.2 | H12: 27.7 | I12: 23.6 | J12: 25.3 | K12: 27
A15: Différé | B15: Tranche d'âge | C15: 40-60 ans | F15: 61-70 ans | I15: 71-85 ans
B16: Niveau scolaire | C16: 1 | D16: 2 | E16: 3 | F16: 1 | G16: 2 | H16: 3 | I16: 1 | J16: 2 | K16: 3
B17: Moyenne | C17: 18.6 | D17: 18.9 | E17: 21.3 | F17: 16.8 | G17: 18 | H17: 19.8 | I17: 13.8 | J17: 16 | K17: 18.9
B18: DS | C18: 5.5 | D18: 6 | E18: 5.3 | F18: 4.9 | G18: 5.8 | H18: 6.1 | I18: 4.6 | J18: 5.5 | K18: 6.1
B19: Médiane | C19: 18.3 | D19: 19 | E19: 21 | F19: 17.3 | G19: 18 | H19: 20 | I19: 13.5 | J19: 15.5 | K19: 19
B20: IIQ | C20: 6.6 | D20: 8 | E20: 6 | F20: 7.4 | G20: 7 | H20: 7 | I20: 6 | J20: 7.9 | K20: 10
B21: C5 | C21: 8.9 | D21: 10.6 | E21: 12.3 | F21: 7.1 | G21: 8.8 | H21: 10.5 | I21: 5.8 | J21: 7.5 | K21: 9.2
B22: -1DS | C22: 12.4 | D22: 14.1 | E22: 15.8 | F22: 10.5 | G22: 12.2 | H22: 13.9 | I22: 9.3 | J22: 11 | K22: 12.7
B23: -1,5DS | C23: 9.6 | D23: 11.3 | E23: 13 | F23: 7.7 | G23: 9.4 | H23: 11.1 | I23: 6.5 | J23: 8.2 | K23: 9.9
B24: -1,98DS | C24: 6.9 | D24: 8.6 | E24: 10.3 | F24: 5.1 | G24: 6.8 | H24: 8.4 | I24: 3.8 | J24: 5.5 | K24: 7.2
A26: Différé - Copie | B26: Tranche d'âge | C26: 40-60 ans | F26: 61-70 ans | I26: 71-85 ans
B27: Niveau scolaire | C27: 1 | D27: 2 | E27: 3 | F27: 1 | G27: 2 | H27: 3 | I27: 1 | J27: 2 | K27: 3
B28: Moyenne | C28: -14.2 | D28: -14.6 | E28: -13 | F28: -15.4 | G28: -15.1 | H28: -14 | I28: -17.1 | J28: -16.4 | K28: -14.8
B29: DS | C29: 5.1 | D29: 5.5 | E29: 4.8 | F29: 4.7 | G29: 5.5 | H29: 5.5 | I29: 4.2 | J29: 4.9 | K29: 5.9
B30: Médiane | C30: -15 | D30: -14.5 | E30: -13 | F30: -15 | G30: -15 | H30: -13.5 | I30: -17 | J30: -16.5 | K30: -15
B31: IIQ | C31: 6.1 | D31: 7.5 | E31: 6.1 | F31: 7.1 | G31: 6 | H31: 6.5 | I31: 6.5 | J31: 6.8 | K31: 9.5
B32: C5 | C32: -23.1 | D32: -22.4 | E32: -21.6 | F32: -24.3 | G32: -23.5 | H32: -22.7 | I32: -25 | J32: -24.2 | K32: -23.5
B33: -1DS | C33: -19.9 | D33: -19.1 | E33: -18.3 | F33: -21 | G33: -20.2 | H33: -19.4 | I33: -21.8 | J33: -21 | K33: -20.2
B34: -1,5DS | C34: -22.4 | D34: -21.7 | E34: -20.9 | F34: -23.6 | G34: -22.8 | H34: -22 | I34: -24.3 | J34: -23.6 | K34: -22.8
B35: -1,98DS | C35: -24.9 | D35: -24.1 | E35: -23.3 | F35: -26 | G35: -25.3 | H35: -24.5 | I35: -26.8 | J35: -26 | K35: -25.2

Sheet Test des portes
A1: Test des portes de Baddeley (3 tableaux)
A4: Partie A | B4: Tranche d'âge | C4: 40-60 ans | F4: 61-70 ans | I4: 71-85 ans
B5: Niveau scolaire | C5: 1 | D5: 2 | E5: 3 | F5: 1 | G5: 2 | H5: 3 | I5: 1 | J5: 2 | K5: 3
B6: Moyenne | C6: 10.4 | D6: 10.6 | E6: 10.9 | F6: 10.4 | G6: 10.6 | H6: 10.6 | I6: 9.7 | J6: 9.4 | K6: 10.3
B7: DS | C7: 1.4 | D7: 1.4 | E7: 1.4 | F7: 1.6 | G7: 1.4 | H7: 1.4 | I7: 1.8 | J7: 2 | K7: 1.6
B8: Médiane | C8: 10.5 | D8: 11 | E8: 11 | F8: 11 | G8: 1 | H8: 11 | I8: 10 | J8: 10 | K8: 11
B9: IIQ | C9: 1.25 | D9: 2 | E9: 2 | F9: 1 | G9: 2 | H9: 2 | I9: 2 | J9: 3 | K9: 2
B10: C5 | C10: 7.5 | D10: 7.9 | E10: 8.3 | F10: 6.7 | G10: 7.1 | H10: 7.6 | I10: 6.2 | J10: 6.6 | K10: 7.1
B11: -1DS | C11: 9 | D11: 9.4 | E11: 9.7 | F11: 8.3 | G11: 8.7 | H11: 9.1 | I11: 7.9 | J11: 8.3 | K11: 8.7
B12: -1,5DS | C12: 7.8 | D12: 8.2 | E12: 8.6 | F12: 7.1 | G12: 7.5 | H12: 7.9 | I12: 6.6 | J12: 7 | K12: 7.4
B13: -1,98DS | C13: 6.5 | D13: 6.9 | E13: 7.4 | F13: 5.8 | G13: 6.2 | H13: 6.6 | I13: 5.3 | J13: 5.7 | K13: 6.1
A15: Partie B | B15: Tranche d'âge | C15: 40-60 ans | F15: 61-70 ans | I15: 71-85 ans
B16: Niveau scolaire | C16: 1 | D16: 2 | E16: 3 | F16: 1 | G16: 2 | H16: 3 | I16: 1 | J16: 2 | K16: 3
B17: Moyenne | C17: 6.5 | D17: 7.1 | E17: 7.6 | F17: 6.7 | G17: 6.5 | H17: 7 | I17: 5.7 | J17: 6 | K17: 6.8
B18: DS | C18: 2.3 | D18: 2.2 | E18: 2.1 | F18: 2.1 | G18: 2.3 | H18: 1.9 | I18: 2 | J18: 1.9 | K18: 1.9
B19: Médiane | C19: 6 | D19: 7 | E19: 8 | F19: 7 | G19: 6 | H19: 7 | I19: 6 | J19: 6 | K19: 7
B20: IIQ | C20: 3 | D20: 3 | E20: 3 | F20: 3 | G20: 3 | H20: 2 | I20: 3 | J20: 3 | K20: 2
B21: C5 | C21: 3.3 | D21: 3.7 | E21: 4.1 | F21: 2.8 | G21: 3.1 | H21: 3.5 | I21: 2.4 | J21: 2.8 | K21: 3.1
B22: -1DS | C22: 4.6 | D22: 5 | E22: 5.4 | F22: 4 | G22: 4.4 | H22: 4.8 | I22: 3.6 | J22: 4 | K22: 4.4
B23: -1,5DS | C23: 3.5 | D23: 3.9 | E23: 4.3 | F23: 3 | G23: 3.3 | H23: 3.7 | I23: 2.6 | J23: 2.9 | K23: 3.3
B24: -1,98DS | C24: 2.6 | D24: 2.9 | E24: 3.2 | F24: 2.1 | G24: 2.4 | H24: 2.7 | I24: 1.8 | J24: 2 | K24: 2.3
A26: Parties A+B | B26: Tranche d'âge | C26: 40-60 ans | F26: 61-70 ans | I26: 71-85 ans
B27: Niveau scolaire | C27: 1 | D27: 2 | E27: 3 | F27: 1 | G27: 2 | H27: 3 | I27: 1 | J27: 2 | K27: 3
B28: Moyenne | C28: 16.9 | D28: 17.8 | E28: 18.5 | F28: 17.1 | G28: 17.2 | H28: 17.6 | I28: 15.3 | J28: 15.4 | K28: 17.1
B29: DS | C29: 3 | D29: 2.9 | E29: 2.9 | F29: 3.1 | G29: 3 | H29: 2.8 | I29: 3.2 | J29: 3.3 | K29: 2.8
B30: Médiane | C30: 17 | D30: 18 | E30: 19 | F30: 18 | G30: 17 | H30: 18 | I30: 16 | J30: 15 | K30: 17
B31: IIQ | C31: 4 | D31: 4 | E31: 4 | F31: 4 | G31: 4 | H31: 4 | I31: 4 | J31: 5 | K31: 4
B32: C5 | C32: 12.3 | D32: 13 | E32: 13.6 | F32: 11.1 | G32: 11.8 | H32: 12.5 | I32: 10.3 | J32: 11 | K32: 11.7
B33: -1DS | C33: 14.3 | D33: 15 | E33: 15.6 | F33: 13.1 | G33: 13.8 | H33: 14.5 | I33: 12.3 | J33: 13 | K33: 13.7
B34: -1,5DS | C34: 12.5 | D34: 13.2 | E34: 13.9 | F34: 11.3 | G34: 12 | H34: 12.7 | I34: 10.6 | J34: 11.2 | K34: 11.9
B35: -1,98DS | C35: 10.9 | D35: 11.6 | E35: 12.2 | F35: 9.7 | G35: 10.4 | H35: 11 | I35: 8.9 | J35: 9.6 | K35: 10.3

Sheet RLRI-16
A1: RL/RI-16
A3: Somme des 3 rappels libres | B3: Tranche d'âge | C3: 40-60 ans | F3: 61-70 ans | I3: 71-85 ans
B4: Niveau scolaire | C4: 1 | D4: 2 | E4: 3 | F4: 1 | G4: 2 | H4: 3 | I4: 1 | J4: 2 | K4: 3
B5: Moyenne | C5: 31 | D5: 32.8 | E5: 34.4 | F5: 29.5 | G5: 30.2 | H5: 30.2 | I5: 25.3 | J5: 27.1 | K5: 30.4
B6: DS | C6: 6 | D6: 5.7 | E6: 4.7 | F6: 6.2 | G6: 6.2 | H6: 5.2 | I6: 6.2 | J6: 6.2 | K6: 6.4
B7: Médiane | C7: 32 | D7: 33 | E7: 35 | F7: 29.5 | G7: 30 | H7: 30 | I7: 25 | J7: 27 | K7: 31
B8: IIQ | C8: 8 | D8: 8 | E8: 7 | F8: 8 | G8: 6 | H8: 7 | I8: 9.5 | J8: 8 | K8: 9
B9: C5 | C9: 21.1 | D9: 22.6 | E9: 24.2 | F9: 18 | G9: 19.4 | H9: 20.9 | I9: 15.9 | J9: 17.4 | K9: 18.8
B10: -1DS | C10: 25.6 | D10: 27.1 | E10: 28.6 | F10: 22.4 | G10: 23.9 | H10: 25.4 | I10: 20.3 | J10: 21.8 | K10: 23.3
B11: -1,5DS | C11: 22.5 | D11: 24 | E11: 25.5 | F11: 19.3 | G11: 20.8 | H11: 22.3 | I11: 17.2 | J11: 18.7 | K11: 20.2
B12: -1,98DS | C12: 19.5 | D12: 21 | E12: 22.5 | F12: 16.4 | G12: 17.9 | H12: 19.3 | I12: 14.4 | J12: 15.8 | K12: 17.3
A14: Somme des 3 rappels totaux | B14: Tranche d'âge | C14: 40-60 ans | F14: 61-70 ans | I14: 71-85 ans
B15: Niveau scolaire | C15: 1 | D15: 2 | E15: 3 | F15: 1 | G15: 2 | H15: 3 | I15: 1 | J15: 2 | K15: 3
B16: Moyenne | C16: 44.5 | D16: 45.9 | E16: 46.5 | F16: 45.5 | G16: 45.2 | H16: 45.6 | I16: 44.3 | J16: 45.1 | K16: 46.1
B17: DS | C17: 4.9 | D17: 3.1 | E17: 2.2 | F17: 2.7 | G17: 3.5 | H17: 2.5 | I17: 3.5 | J17: 2.9 | K17: 2.6
B18: Médiane | C18: 46 | D18: 47 | E18: 47 | F18: 46 | G18: 46 | H18: 46 | I18: 45 | J18: 46 | K18: 47
B19: IIQ | C19: 3 | D19: 3 | E19: 2 | F19: 2 | G19: 3.5 | H19: 3 | I19: 4.5 | J19: 5 | K19: 2.3
B20: C5 | C20: 38.6 | D20: 39.8 | E20: 41 | F20: 38 | G20: 39.2 | H20: 40.4 | I20: 37.6 | J20: 38.8 | K20: 40
B21: -1DS | C21: 42.4 | D21: 43.4 | E21: 44.2 | F21: 41.9 | G21: 42.9 | H21: 43.8 | I21: 41.5 | J21: 42.6 | K21: 43.5
B22: -1,5DS | C22: 40 | D22: 41.1 | E22: 42.1 | F22: 39.4 | G22: 40.5 | H22: 41.6 | I22: 39 | J22: 40.1 | K22: 41.3
B23: -1,98DS | C23: 37.3 | D23: 38.5 | E23: 39.7 | F23: 36.6 | G23: 37.9 | H23: 39.2 | I23: 36.2 | J23: 37.5 | K23: 38.8

Sheet Codes
A1: Subtest des codes
A3: Tranche d'âge | B3: 40-60 ans | E3: 61-70 ans | H3: 71-85 ans
A4: Niveau scolaire | B4: 1 | C4: 2 | D4: 3 | E4: 1 | F4: 2 | G4: 3 | H4: 1 | I4: 2 | J4: 3
A5: Moyenne | B5: 57.7 | C5: 65.9 | D5: 76.4 | E5: 53.2 | F5: 61.1 | G5: 67 | H5: 41.7 | I5: 51 | J5: 58.9
A6: DS | B6: 14.3 | C6: 12.9 | D6: 12.9 | E6: 10.6 | F6: 12.1 | G6: 12.8 | H6: 10.5 | I6: 12.9 | J6: 13.4
A7: Médiane | B7: 56.5 | C7: 65 | D7: 76.5 | E7: 53 | F7: 61 | G7: 69 | H7: 41 | I7: 51 | J7: 61
A8: IIQ | B8: 18.25 | C8: 16 | D8: 20.3 | E8: 14 | F8: 16 | G8: 20 | H8: 14 | I8: 15 | J8: 18.3
A9: C5 | B9: 39.9 | C9: 47.8 | D9: 55.7 | E9: 30.5 | F9: 38.5 | G9: 46.4 | H9: 24.3 | I9: 32.2 | J9: 40.1
A10: -1DS | B10: 47.4 | C10: 55.4 | D10: 63.3 | E10: 38.1 | F10: 46 | G10: 53.9 | H10: 31.8 | I10: 39.8 | J10: 47.7
A11: -1,5DS | B11: 41.2 | C11: 49.2 | D11: 57.1 | E11: 31.9 | F11: 39.8 | G11: 47.7 | H11: 25.6 | I11: 33.6 | J11: 41.5
A12: -1,98DS | B12: 35.3 | C12: 43.2 | D12: 51.1 | E12: 25.9 | F12: 33.8 | G12: 41.8 | H12: 19.7 | I12: 27.6 | J12: 35.5

Sheet Fluences
A1: Fluences (Animaux ; PVR ; BLT) 9 tableaux
A3: Animaux | B3: Tranche d'âge | C3: 40-60 ans | F3: 61-70 ans | I3: 71-85 ans
B4: Niveau scolaire | C4: 1 | D4: 2 | E4: 3 | F4: 1 | G4: 2 | H4: 3 | I4: 1 | J4: 2 | K4: 3
B5: Moyenne | C5: 18.9 | D5: 20.6 | E5: 22.8 | F5: 17.8 | G5: 20.4 | H5: 21 | I5: 17.3 | J5: 18.2 | K5: 20.5
B6: DS | C6: 4.5 | D6: 4.4 | E6: 5.5 | F6: 4.6 | G6: 4.6 | H6: 4.7 | I6: 4.4 | J6: 4.5 | K6: 5.3
B7: Médiane | C7: 19 | D7: 21 | E7: 22 | F7: 17 | G7: 20 | H7: 21 | I7: 16.5 | J7: 18 | K7: 21
B8: IIQ | C8: 6 | D8: 6.5 | E8: 8 | F8: 6 | G8: 6 | H8: 7 | I8: 6 | J8: 6.5 | K8: 7
B9: C5 | C9: 11.7 | D9: 13.4 | E9: 15.1 | F9: 10.6 | G9: 12.3 | H9: 13.9 | I9: 9.8 | J9: 11.5 | K9: 13.2
B10: -1DS | C10: 14.4 | D10: 16.1 | E10: 17.7 | F10: 13.2 | G10: 14.9 | H10: 16.6 | I10: 12.5 | J10: 14.1 | K10: 15.8
B11: -1,5DS | C11: 12 | D11: 13.7 | E11: 15.4 | F11: 10.9 | G11: 12.5 | H11: 14.2 | I11: 10.1 | J11: 11.8 | K11: 13.4
B12: -1,98DS | C12: 9.7 | D12: 11.4 | E12: 13.1 | F12: 8.6 | G12: 10.2 | H12: 11.9 | I12: 7.8 | J12: 9.5 | K12: 11.1
A14: Fluences P | B14: Tranche d'âge | C14: 40-60 ans | F14: 61-70 ans | I14: 71-85 ans
B15: Niveau scolaire | C15: 1 | D15: 2 | E15: 3 | F15: 1 | G15: 2 | H15: 3 | I15: 1 | J15: 2 | K15: 3
B16: Moyenne | C16: 12.5 | D16: 14 | E16: 16.7 | F16: 11.6 | G16: 14.2 | H16: 15.4 | I16: 11.1 | J16: 13 | K16: 15.6
B17: DS | C17: 4.2 | D17: 4.2 | E17: 4.3 | F17: 3.6 | G17: 4.6 | H17: 4.2 | I17: 3.7 | J17: 4.3 | K17: 4.2
B18: Médiane | C18: 12 | D18: 14 | E18: 17 | F18: 12 | G18: 14 | H18: 15 | I18: 11 | J18: 13 | K18: 15
B19: IIQ | C19: 5.2 | D19: 5 | E19: 6 | F19: 5 | G19: 6 | H19: 5 | I19: 5 | J19: 6 | K19: 7
B20: C5 | C20: 5.6 | D20: 7.7 | E20: 9.8 | F20: 5.1 | G20: 7.2 | H20: 9.3 | I20: 4.7 | J20: 6.8 | K20: 8.9
B21: -1DS | C21: 8 | D21: 10.1 | E21: 12.2 | F21: 7.4 | G21: 9.5 | H21: 11.6 | I21: 7.1 | J21: 9.2 | K21: 11.3
B22: -1,5DS | C22: 5.9 | D22: 8 | E22: 10.1 | F22: 5.3 | G22: 7.4 | H22: 9.5 | I22: 5 | J22: 7.1 | K22: 9.2
B23: -1,98DS | C23: 3.8 | D23: 5.9 | E23: 8 | F23: 3.3 | G23: 5.4 | H23: 7.5 | I23: 3 | J23: 5.1 | K23: 7.1
A25: Fluences V | B25: Tranche d'âge | C25: 40-60 ans | F25: 61-70 ans | I25: 71-85 ans
B26: Niveau scolaire | C26: 1 | D26: 2 | E26: 3 | F26: 1 | G26: 2 | H26: 3 | I26: 1 | J26: 2 | K26: 3
B27: Moyenne | C27: 10.5 | D27: 11.3 | E27: 13 | F27: 9.5 | G27: 11.6 | H27: 12.8 | I27: 9.1 | J27: 11 | K27: 13.1
B28: DS | C28: 3.9 | D28: 3.3 | E28: 3.4 | F28: 3.1 | G28: 4 | H28: 3.7 | I28: 3.2 | J28: 3.7 | K28: 3.8
B29: Médiane | C29: 10.5 | D29: 11 | E29: 13 | F29: 9.5 | G29: 11 | H29: 13 | I29: 9 | J29: 11 | K29: 13
B30: IIQ | C30: 7 | D30: 4.2 | E30: 4 | F30: 5 | G30: 6 | H30: 4 | I30: 5 | J30: 5.5 | K30: 4
B31: C5 | C31: 4.4 | D31: 6 | E31: 7.6 | F31: 4.4 | G31: 6 | H31: 7.6 | I31: 4.4 | J31: 6 | K31: 7.6
B32: -1DS | C32: 6.1 | D32: 7.8 | E32: 9.4 | F32: 6.1 | G32: 7.8 | H32: 9.4 | I32: 6.1 | J32: 7.8 | K32: 9.4
B33: -1,5DS | C33: 4.4 | D33: 6 | E33: 7.6 | F33: 4.4 | G33: 6 | H33: 7.6 | I33: 4.4 | J33: 6 | K33: 7.6
B34: -1,98DS | C34: 2.6 | D34: 4.3 | E34: 5.9 | F34: 2.6 | G34: 4.3 | H34: 5.9 | I34: 2.6 | J34: 4.3 | K34: 5.9
A36: Fluences R | B36: Tranche d'âge | C36: 40-60 ans | F36: 61-70 ans | I36: 71-85 ans
B37: Niveau scolaire | C37: 1 | D37: 2 | E37: 3 | F37: 1 | G37: 2 | H37: 3 | I37: 1 | J37: 2 | K37: 3
B38: Moyenne | C38: 10.8 | D38: 11.8 | E38: 14.5 | F38: 9.7 | G38: 12.6 | H38: 14.1 | I38: 9.3 | J38: 11 | K38: 14.4
B39: DS | C39: 3.9 | D39: 3.9 | E39: 3.9 | F39: 3.5 | G39: 4.3 | H39: 4.6 | I39: 3.8 | J39: 3.9 | K39: 4.5
B40: Médiane | C40: 11 | D40: 12 | E40: 14 | F40: 9.5 | G40: 12.5 | H40: 14 | I40: 9 | J40: 11 | K40: 14
B41: IIQ | C41: 6 | D41: 5 | E41: 5 | F41: 5 | G41: 5.25 | H41: 7 | I41: 5 | J41: 6 | K41: 6
B42: C5 | C42: 3.6 | D42: 5.8 | E42: 8 | F42: 3.6 | G42: 5.8 | H42: 8 | I42: 3.6 | J42: 5.8 | K42: 8
B43: -1DS | C43: 5.7 | D43: 7.9 | E43: 10.2 | F43: 5.7 | G43: 7.9 | H43: 10.2 | I43: 5.7 | J43: 7.9 | K43: 10.2
B44: -1,5DS | C44: 3.7 | D44: 5.9 | E44: 8.1 | F44: 3.7 | G44: 5.9 | H44: 8.1 | I44: 3.7 | J44: 5.9 | K44: 8.1
B45: -1,98DS | C45: 1.7 | D45: 4 | E45: 6.2 | F45: 1.7 | G45: 4 | H45: 6.2 | I45: 1.7 | J45: 4 | K45: 6.2
A47: Fluences PVR | B47: Tranche d'âge | C47: 40-60 ans | F47: 61-70 ans | I47: 71-85 ans
B48: Niveau scolaire | C48: 1 | D48: 2 | E48: 3 | F48: 1 | G48: 2 | H48: 3 | I48: 1 | J48: 2 | K48: 3
B49: Moyenne | C49: 33.8 | D49: 37.1 | E49: 44.1 | F49: 30.6 | G49: 38.3 | H49: 42.3 | I49: 29.5 | J49: 34.9 | K49: 43.1
B50: DS | C50: 10.7 | D50: 10 | E50: 9.9 | F50: 8.8 | G50: 11.5 | H50: 10.6 | I50: 9.5 | J50: 10.1 | K50: 11.1
B51: Médiane | C51: 33 | D51: 36 | E51: 44 | F51: 32 | G51: 37 | H51: 42 | I51: 29 | J51: 35 | K51: 42
B52: IIQ | C52: 17 | D52: 14 | E52: 13 | F52: 12 | G52: 13 | H52: 17 | I52: 17 | J52: 15 | K52: 15
B53: C5 | C53: 15.6 | D53: 21.6 | E53: 27.5 | F53: 14.7 | G53: 20.7 | H53: 26.6 | I53: 14.2 | J53: 20.1 | K53: 26
B54: -1DS | C54: 21.6 | D54: 27.5 | E54: 33.5 | F54: 20.7 | G54: 26.6 | H54: 32.6 | I54: 20.1 | J54: 26.1 | K54: 32
B55: -1,5DS | C55: 16.5 | D55: 22.4 | E55: 28.3 | F55: 15.6 | G55: 21.5 | H55: 27.4 | I55: 15 | J55: 20.9 | K55: 26.8
B56: -1,98DS | C56: 11.5 | D56: 17.4 | E56: 23.4 | F56: 10.6 | G56: 16.6 | H56: 22.5 | I56: 10 | J56: 16 | K56: 21.9
A58: Fluences B | B58: Tranche d'âge | C58: 40-60 ans | F58: 61-70 ans | I58: 71-85 ans
B59: Niveau scolaire | C59: 1 | D59: 2 | E59: 3 | F59: 1 | G59: 2 | H59: 3 | I59: 1 | J59: 2 | K59: 3
B60: Moyenne | C60: 12.4 | D60: 13.8 | E60: 15.5 | F60: 11 | G60: 14.1 | H60: 14.6 | I60: 10.4 | J60: 12.3 | K60: 15
B61: DS | C61: 4.1 | D61: 3.5 | E61: 3.8 | F61: 3.3 | G61: 4.4 | H61: 3.5 | I61: 3.8 | J61: 4.5 | K61: 4.2
B62: Médiane | C62: 12 | D62: 13 | E62: 16 | F62: 11 | G62: 14 | H62: 14 | I62: 10 | J62: 12 | K62: 15
B63: IIQ | C63: 7 | D63: 6 | E63: 5 | F63: 5 | G63: 6 | H63: 6 | I63: 5 | J63: 7 | K63: 6
B64: C5 | C64: 5.8 | D64: 7.6 | E64: 9.4 | F64: 5.2 | G64: 7 | H64: 8.8 | I64: 4.8 | J64: 6.6 | K64: 8.4
B65: -1DS | C65: 8.1 | D65: 9.9 | E65: 11.7 | F65: 7.5 | G65: 9.3 | H65: 11.1 | I65: 7.1 | J65: 8.9 | K65: 10.7
B66: -1,5DS | C66: 6.1 | D66: 7.9 | E66: 9.8 | F66: 5.5 | G66: 7.3 | H66: 9.2 | I66: 5.1 | J66: 6.9 | K66: 8.8
B67: -1,98DS | C67: 4.2 | D67: 6.1 | E67: 7.9 | F67: 3.6 | G67: 5.5 | H67: 7.3 | I67: 3.3 | J67: 5.1 | K67: 6.9
A69: Fluences L | B69: Tranche d'âge | C69: 40-60 ans | F69: 61-70 ans | I69: 71-85 ans
B70: Niveau scolaire | C70: 1 | D70: 2 | E70: 3 | F70: 1 | G70: 2 | H70: 3 | I70: 1 | J70: 2 | K70: 3
B71: Moyenne | C71: 9.6 | D71: 10.2 | E71: 12.3 | F71: 7.9 | G71: 10.5 | H71: 12 | I71: 7.9 | J71: 10 | K71: 12
B72: DS | C72: 3.9 | D72: 3.5 | E72: 3.7 | F72: 2.8 | G72: 3.9 | H72: 3.3 | I72: 3.5 | J72: 3.8 | K72: 3.6
B73: Médiane | C73: 9 | D73: 10 | E73: 12 | F73: 8 | G73: 10 | H73: 12 | I73: 7 | J73: 10 | K73: 12
B74: IIQ | C74: 5 | D74: 5 | E74: 5.3 | F74: 4.5 | G74: 5 | H74: 4 | I74: 4 | J74: 5.5 | K74: 4
B75: C5 | C75: 3.2 | D75: 5 | E75: 6.8 | F75: 3 | G75: 4.8 | H75: 6.6 | I75: 2.8 | J75: 4.6 | K75: 6.4
B76: -1DS | C76: 5.1 | D76: 6.9 | E76: 8.7 | F76: 4.8 | G76: 6.6 | H76: 8.4 | I76: 4.7 | J76: 6.5 | K76: 8.3
B77: -1,5DS | C77: 3.3 | D77: 5.1 | E77: 6.9 | F77: 3 | G77: 4.8 | H77: 6.6 | I77: 2.9 | J77: 4.7 | K77: 6.5
B78: -1,98DS | C78: 1.6 | D78: 3.4 | E78: 5.2 | F78: 1.3 | G78: 3.1 | H78: 4.9 | I78: 1.1 | J78: 2.9 | K78: 4.8
A80: Fluences T | B80: Tranche d'âge | C80: 40-60 ans | F80: 61-70 ans | I80: 71-85 ans
B81: Niveau scolaire | C81: 1 | D81: 2 | E81: 3 | F81: 1 | G81: 2 | H81: 3 | I81: 1 | J81: 2 | K81: 3
B82: Moyenne | C82: 11.5 | D82: 12.2 | E82: 14.3 | F82: 9.4 | G82: 12.5 | H82: 13.5 | I82: 9.2 | J82: 11.1 | K82: 13.8
B83: DS | C83: 3.9 | D83: 5.2 | E83: 4.2 | F83: 3.3 | G83: 4.6 | H83: 4.1 | I83: 3.5 | J83: 3.8 | K83: 4
B84: Médiane | C84: 12 | D84: 12 | E84: 14 | F84: 9 | G84: 12 | H84: 14 | I84: 9 | J84: 11 | K84: 13.5
B85: IIQ | C85: 7 | D85: 5 | E85: 5.3 | F85: 5 | G85: 5 | H85: 6 | I85: 5 | J85: 6 | K85: 5
B86: C5 | C86: 4.4 | D86: 6.2 | E86: 8.1 | F86: 3.8 | G86: 5.7 | H86: 7.5 | I86: 3.4 | J86: 5.3 | K86: 7.2
B87: -1DS | C87: 6.4 | D87: 8.2 | E87: 10.1 | F87: 5.8 | G87: 7.7 | H87: 9.5 | I87: 5.4 | J87: 7.3 | K87: 9.1
B88: -1,5DS | C88: 4.2 | D88: 6.1 | E88: 8 | F88: 3.7 | G88: 5.5 | H88: 7.4 | I88: 3.3 | J88: 5.2 | K88: 7
B89: -1,98DS | C89: 2.2 | D89: 4.1 | E89: 5.9 | F89: 1.6 | G89: 3.5 | H89: 5.4 | I89: 1.3 | J89: 3.1 | K89: 5
A91: Fluences BLT | B91: Tranche d'âge | C91: 40-60 ans | F91: 61-70 ans | I91: 71-85 ans
B92: Niveau scolaire | C92: 1 | D92: 2 | E92: 3 | F92: 1 | G92: 2 | H92: 3 | I92: 1 | J92: 2 | K92: 3
B93: Moyenne | C93: 3.8 | D93: 36.2 | E93: 42.1 | F93: 28.3 | G93: 37.2 | H93: 40.1 | I93: 27.5 | J93: 33.5 | K93: 40.8
B94: DS | C94: 10.6 | D94: 10 | E94: 10.1 | F94: 7.8 | G94: 11.7 | H94: 9.5 | I94: 9.5 | J94: 10.9 | K94: 10.5
B95: Médiane | C95: 33.5 | D95: 36 | E95: 42 | F95: 27 | G95: 36 | H95: 40 | I95: 26 | J95: 34 | K95: 40
B96: IIQ | C96: 16 | D96: 13 | E96: 13.3 | F96: 12.5 | G96: 13 | H96: 12 | I96: 13 | J96: 17 | K96: 15
B97: C5 | C97: 15.4 | D97: 20.8 | E97: 26.3 | F97: 14 | G97: 19.4 | H97: 24.9 | I97: 13.1 | J97: 18.5 | K97: 24
B98: -1DS | C98: 21.1 | D98: 26.5 | E98: 32 | F98: 19.7 | G98: 25.1 | H98: 30.6 | I98: 18.8 | J98: 24.2 | K98: 29.7
B99: -1,5DS | C99: 16 | D99: 21.4 | E99: 26.9 | F99: 14.6 | G99: 20 | H99: 25.5 | I99: 13.7 | J99: 19.1 | K99: 24.6
B100: -1,98DS | C100: 11.1 | D100: 16.5 | E100: 22 | F100: 9.7 | G100: 15.1 | H100: 20.6 | I100: 8.8 | J100: 14.2 | K100: 19.7

Sheet TNorm
A1: key | B1: Tranche d'âge | C1: Niveau scolaire | D1: Moyenne | E1: DS | F1: Médiane | G1: IIQ | H1: C5 | I1: -1DS | J1: -1,5DS | K1: -1,98DS
A2: MMSE401 | B2: 40-60 ans | C2: 1 | D2: 28 | E2: 1.8 | F2: 28.5 | G2: 2 | H2: 24.7 | I2: 26.3 | J2: 24.9 | K2: 23.5
A3: MMSE402 | B3: 40-60 ans | C3: 2 | D3: 28.6 | E3: 1.4 | F3: 29 | G3: 2 | H3: 26 | I3: 27.4 | J3: 26.2 | K3: 24.9
A4: MMSE403 | B4: 40-60 ans | C4: 3 | D4: 29.4 | E4: 0.8 | F4: 30 | G4: 1 | H4: 27.1 | I4: 28.3 | J4: 27.3 | K4: 26.1
A5: MMSE611 | B5: 61-70 ans | C5: 1 | D5: 28 | E5: 1.6 | F5: 28 | G5: 2 | H5: 24.7 | I5: 26.3 | J5: 24.9 | K5: 23.5
A6: MMSE612 | B6: 61-70 ans | C6: 2 | D6: 28.8 | E6: 1.3 | F6: 29 | G6: 2 | H6: 26 | I6: 27.4 | J6: 26.2 | K6: 24.9
A7: MMSE613 | B7: 61-70 ans | C7: 3 | D7: 29.1 | E7: 0.9 | F7: 29 | G7: 1 | H7: 27.1 | I7: 28.3 | J7: 27.3 | K7: 26.1
A8: MMSE711 | B8: 71-85 ans | C8: 1 | D8: 27.9 | E8: 1.9 | F8: 28 | G8: 2 | H8: 24.7 | I8: 26.3 | J8: 24.9 | K8: 23.5
A9: MMSE712 | B9: 71-85 ans | C9: 2 | D9: 28.5 | E9: 1.4 | F9: 29 | G9: 2 | H9: 26 | I9: 27.4 | J9: 26.2 | K9: 24.9
A10: MMSE713 | B10: 71-85 ans | C10: 3 | D10: 29.1 | E10: 1.1 | F10: 29 | G10: 2 | H10: 27.1 | I10: 28.3 | J10: 27.3 | K10: 26.1
A11: MOCA401 | B11: 40-60 ans | C11: 1 | D11: 25.9 | E11: 2.7 | F11: 26 | G11: 3.2 | H11: 21.4 | I11: 23.4 | J11: 22.2 | K11: 21
A12: MOCA402 | B12: 40-60 ans | C12: 2 | D12: 26.9 | E12: 2.2 | F12: 27 | G12: 4 | H12: 22.6 | I12: 24.5 | J12: 23.4 | K12: 22.2
A13: MOCA403 | B13: 40-60 ans | C13: 3 | D13: 27.9 | E13: 1.7 | F13: 28 | G13: 2 | H13: 23.8 | I13: 25.7 | J13: 24.6 | K13: 23.4
... A199: FluencesBLT713 | B199: 71-85 ans | C199: 3 | D199: 40.8 | E199: 10.5 | F199: 40 | G199: 15 | H199: 24 | I199: 29.7 | J199: 24.6 | K199: 19.7
