Workbook

Sheet Déboursé
A1: DEBOURSE | H1: =A1 -> DEBOURSE | N1: Acier HA | O1: KG | P1: 1.15 | R1: 01 - AIN | S1: U | T1: 750 | W1: About de voile 06x35 en 6 ml 13.20 Kg/pc | X1: KG | Y1: 1.13
A2: Désignation | B2: Quantitée | C2: Unité | D2: Prix unitaire | E2: TOTAL H.T. | H2: Désignation | I2: Quantitée | J2: Unité | K2: Prix unitaire | L2: TOTAL H.T. | N2: Acier relevage 02.5T Frimeda | O2: U | P2: 1.7 | R2: 02 - AISNE | S2: U | T2: 730 | W2: About de voile 08x30 en 3 ml 6.60 Kg/pc | X2: KG | Y2: 1.27
A3: BAN 14N XC3 XF1 C40/50 | B3: 10 | C3: =LOOKUP($A$3:$A$16,article!C7:E2418) -> M3 | D3: 123 | E3: =B3*D3 -> 1230 | H3: =A3 -> BAN 14N XC3 XF1 C40/50 | I3: =B3 -> 10 | J3: =C3 -> M3 | K3: =D3 -> 123 | L3: =I3*K3 -> 1230 | N3: Acier relevage 05T Frimeda | O3: U | P3: 2 | R3: 03 - ALLIER | S3: U | T3: 580 | W3: About de voile 10x45 en 3 ml 6.60 Kg/pc | X3: KG | Y3: 1.11
A4: Armatures assemblées industriel | B4: 260 | C4: =LOOKUP($A$3:$A$16,article!C8:E2419) -> KG | D4: 1.2 | E4: =B4*D4 -> 312 | H4: =A4 -> Armatures assemblées industriel | I4: =B4 -> 260 | J4: =C4 -> KG | K4: =D4 -> 1.2 | L4: =I4*K4 -> 312 | N4: Acier relevage 10T Frimeda | O4: U | P4: 4.2 | R4: 04 - ALPES HAUTE PROVENCE | S4: U | T4: 1150 | W4: Acier de relevage Frimeda 02T5 | X4: U | Y4: 1.7
A5: TS | B5: 0 | C5: =LOOKUP($A$3:$A$16,article!C9:E2420) -> U | D5: =LOOKUP($A$3:$A$16,article!C:C,article!M:M) -> 10.9 | E5: =B5*D5 -> 0 | H5: =A5 -> TS | I5: =B5 -> 0 | J5: =C5 -> U | K5: =D5 -> 10.9 | L5: =I5*K5 -> 0 | N5: Ancre Artéon 01.3T | O5: U | P5: 2 | R5: 05 - ALPES HAUTES | S5: U | T5: 1150 | W5: Acier de relevage Frimeda 05T | X5: U | Y5: 1.99
A6: HCA | B6: 5 | C6: =LOOKUP($A$3:$A$16,article!C10:E2421) -> U | D6: 1.2 | E6: =B6*D6 -> 6 | H6: =A6 -> HCA | I6: =B6 -> 5 | J6: =C6 -> U | K6: =D6 -> 1.2 | L6: =I6*K6 -> 6 | N6: Ancre Artéon 02.5T | O6: U | P6: 3 | R6: 06 - ALPES MARITIMES | S6: U | T6: 1410 | W6: Acier de relevage Frimeda 10T | X6: U | Y6: 4.33
A7: Ecarteur de nappe | B7: 0 | C7: =LOOKUP($A$3:$A$16,article!C11:E2422) -> ML | D7: =LOOKUP($A$3:$A$16,article!C:C,article!M:M) -> 0.82 | E7: =B7*D7 -> 0 | H7: =A7 -> Ecarteur de nappe | I7: =B7 -> 0 | J7: =C7 -> ML | K7: =D7 -> 0.82 | L7: =I7*K7 -> 0 | N7: Ancre Artéon 05T | O7: U | P7: 3.5 | R7: 07 - ARDECHE | S7: U | T7: 900 | W7: Aciers HA | X7: KG | Y7: 1.1
A8: ANCRE A PIED 2T5/ LG 170MM SAC DE 100 | B8: 0 | C8: =LOOKUP($A$3:$A$16,article!C12:E2423) -> U | D8: =LOOKUP($A$3:$A$16,article!C:C,article!M:M) -> 0.55 | E8: =B8*D8 -> 0 | H8: =A8 -> ANCRE A PIED 2T5/ LG 170MM SAC DE 100 | I8: =B8 -> 0 | J8: =C8 -> U | K8: =D8 -> 0.55 | L8: =I8*K8 -> 0 | N8: Ancre Artéon 10T | O8: U | P8: 4 | R8: 08 - ARDENNES | S8: U | T8: 880 | W8: Ancre a oeil 01T3 / lg 050 mm | X8: U | Y8: 0.39
A9: ANCRE A PIED 1T3 / LG 170 MM SAC DE 100 | B9: 40 | C9: =LOOKUP($A$3:$A$16,article!C13:E2424) -> U | D9: 3 | E9: =B9*D9 -> 120 | H9: =A9 -> ANCRE A PIED 1T3 / LG 170 MM SAC DE 100 | I9: =B9 -> 40 | J9: =C9 -> U | K9: =D9 -> 3 | L9: =I9*K9 -> 120 | N9: Ancre Artéon 15T | O9: U | P9: 6 | R9: 09 - ARIEGE | S9: U | T9: 940 | W9: Ancre a oeil 01T3 / lg 065 mm | X9: U | Y9: 0.39
A10: Ancre Artéon 10T | B10: 0 | C10: =LOOKUP($A$3:$A$16,article!C14:E2425) -> U | D10: =LOOKUP($A$3:$A$16,article!C:C,article!M:M) -> 8.14 | E10: =B10*D10 -> 0 | H10: =A10 -> Ancre Artéon 10T | I10: =B10 -> 0 | J10: =C10 -> U | K10: =D10 -> 8.14 | L10: =I10*K10 -> 0 | N10: Ancre Artéon 20T | O10: U | P10: 10 | R10: 10 - AUBE | S10: U | T10: 765 | W10: Ancre a oeil 02T5 / lg 090 mm | X10: U | Y10: 0.56
A11: Crochet de levage ordinaire | B11: 0 | C11: =LOOKUP($A$3:$A$16,article!C15:E2426) -> U | D11: =LOOKUP($A$3:$A$16,article!C:C,article!M:M) -> 7.15 | E11: =B11*D11 -> 0 | H11: =A11 -> Crochet de levage ordinaire | I11: =B11 -> 0 | J11: =C11 -> U | K11: =D11 -> 7.15 | L11: =I11*K11 -> 0 | N11: Ancre Frimeda 02.5T | O11: U | P11: 3.5 | R11: 11 - AUDE | S11: U | T11: 1000 | W11: Ancre a oeil 02T5 / lg 120 mm | X11: U | Y11: 1.4
A12: Douilles 2 T | B12: 10 | C12: =LOOKUP($A$3:$A$16,article!C16:E2427) -> U | D12: =LOOKUP($A$3:$A$16,article!C:C,article!M:M) -> 7.37 | E12: =B12*D12 -> 73.7 | H12: =A12 -> Douilles 2 T | I12: =B12 -> 10 | J12: =C12 -> U | K12: =D12 -> 7.37 | L12: =I12*K12 -> 73.7 | N12: Ancre Frimeda 05T | O12: U | P12: 6.5 | R12: 12 - AVEYRON | S12: U | T12: 881 | W12: Ancre a oeil 05T / lg 090 mm | X12: U | Y12: 1.12
A13: Métal déployé | B13: 0 | C13: =LOOKUP($A$3:$A$16,article!C17:E2428) -> U | D13: =LOOKUP($A$3:$A$16,article!C:C,article!M:M) -> 0 | E13: =B13*D13 -> 0 | H13: =A13 -> Métal déployé | I13: =B13 -> 0 | J13: =C13 -> U | K13: =D13 -> 0 | L13: =I13*K13 -> 0 | N13: Ancre Frimeda 10T | O13: U | P13: 15 | R13: 13 - BOUCHES DU RHONE | S13: U | T13: 1150 | W13: Ancre a oeil 10T / lg 115 mm | X13: U | Y13: 2.48
A14: Boite d'attente Ø6 ou Ø8 | B14: 0 | C14: =LOOKUP($A$3:$A$16,article!C18:E2429) -> ML | D14: =LOOKUP($A$3:$A$16,article!C:C,article!M:M) -> 2.44 | E14: =B14*D14 -> 0 | H14: =A14 -> Boite d'attente Ø6 ou Ø8 | I14: =B14 -> 0 | J14: =C14 -> ML | K14: =D14 -> 2.44 | L14: =I14*K14 -> 0 | N14: Ankrobox Ø40 mm | O14: ML | P14: 3 | R14: 14 - CALVADOS | S14: U | T14: 600 | W14: Ancre a oeil 10T / lg 180 mm | X14: U | Y14: 2.94
A15: TUBE DIAM 50 X 2 | B15: 0 | C15: =LOOKUP($A$3:$A$16,article!C19:E2430) -> ML | D15: =LOOKUP($A$3:$A$16,article!C:C,article!M:M) -> 2.31 | E15: =B15*D15 -> 0 | H15: =A15 -> TUBE DIAM 50 X 2 | I15: =B15 -> 0 | J15: =C15 -> ML | K15: =D15 -> 2.31 | L15: =I15*K15 -> 0 | N15: Ankrobox Ø50 mm | O15: ML | P15: 3 | R15: 14 - CANTAL | S15: U | T15: 695 | W15: Ancre a oeil 20T / lg 250 mm | X15: U | Y15: 9.95
A16: Contreplaqué | B16: 20 | C16: M2 | D16: 20 | E16: =B16*D16 -> 400 | H16: =A16 -> Contreplaqué | I16: =B16 -> 20 | J16: =C16 -> M2 | K16: =D16 -> 20 | L16: =I16*K16 -> 400 | N16: Ankrobox Ø60 mm | O16: ML | P16: 4 | R16: 16 - CHARENTE | S16: U | T16: 400 | W16: Ancre a pied 01T3 / lg 035 mm | X16: U | Y16: 0.26
A17: TOTAL HORS BENEFICE | D17: 0 | E17: =SUM(E3:E16) -> 2141.7 | H17: TOTAL HORS BENEFICE | K17: 0 | L17: =SUM(L3:L16) -> 2141.7 | N17: Ankrobox Ø80 mm | O17: ML | P17: 5 | R17: 17 - CHARENTE MARITIME | S17: U | T17: 400 | W17: Ancre a pied 01T3 / lg 050 mm | X17: U | Y17: 0.39
A18: Marge | B18: 30 | C18: % | D18: 0 | E18: =E17*B18/100 -> 642.51 | F18: =IF(E24=0,"",E18/E24) -> 0.2108865 | H18: Marge | I18: =(M18/(1-M18))/(L17/(L17+SUM(L20:L23))) -> 0.20530969 | J18: % | K18: 0 | L18: =L17*I18 -> 439.71176 | M18: 0.15 | N18: Ankrobox Ø95 mm | O18: ML | P18: 6.5 | R18: 18 - CHER | S18: U | T18: 500 | W18: Ancre a pied 01T3 / lg 065 mm | X18: U | Y18: 0
E19: =E17+E18 -> 2784.21 | L19: =L17+L18 -> 2581.4118 | N19: Ankromur avec crochets | O19: ML | P19: 6 | R19: 19 - CORREZE | S19: U | T19: 558 | W19: Ancre a pied 01T3 / lg 085 mm | X19: U | Y19: 0.36
A20: M.O. | B20: 3 | C20: U | D20: 87.5 | E20: =B20*D20 -> 262.5 | H20: =A20 -> M.O. | I20: =B20 -> 3 | J20: =C20 -> U | K20: =D20 -> 87.5 | L20: =I20*K20 -> 262.5 | N20: Béton | O20: M3 | P20: 110 | R20: 20 - CORSE | S20: U | T20: 0 | W20: Ancre a pied 01T3 / lg 120 mm | X20: U | Y20: 0.38
A21: Coffrage | B21: 0 | C21: U | D21: 87.5 | E21: =B21*D21 -> 0 | H21: =A21 -> Coffrage | I21: 1 | J21: =C21 -> U | K21: =D21 -> 87.5 | L21: =I21*K21 -> 87.5 | N21: Boite d'attente Ø6 ou Ø8 | O21: ML | P21: 4 | R21: 21 - COTE D'OR | S21: U | T21: 750 | W21: Ancre a pied 01T3 / lg 170 mm | X21: U | Y21: 0.54
A22: Finition | B22: 0 | C22: U | D22: 87.5 | E22: =B22*D22 -> 0 | H22: =A22 -> Finition | I22: =B22 -> 0 | J22: =C22 -> U | K22: =D22 -> 87.5 | L22: =I22*K22 -> 0 | N22: Bouchon Ankrobox Ø40 mm | O22: U | P22: 0.15 | R22: 22 - COTES D'ARMOR | S22: U | T22: 560 | W22: Ancre a pied 01T3 / lg 240 mm | X22: U | Y22: 0.63
A23: 01 - AIN | B23: 0 | C23: =LOOKUP(A23,R:S) -> U | D23: =LOOKUP(A23,R:R,T:T) -> 750 | E23: =B23*D23 -> 0 | H23: =A23 -> 01 - AIN | I23: =B23 -> 0 | J23: =C23 -> U | K23: =D23 -> 750 | L23: =I23*K23 -> 0 | N23: Bouchon Ankrobox Ø50 mm | O23: U | P23: 0.2 | R23: 23 - CREUSE | S23: U | T23: 550 | W23: Ancre a pied 02T5 / lg 055 mm | X23: U | Y23: 0.48
A24: TOTAL H.T. | E24: =SUM(E19:E23) -> 3046.71 | H24: TOTAL H.T. | L24: =SUM(L19:L23) -> 2931.4118 | M24: =L18/L24 -> 0.15 | N24: Bouchon Ankrobox Ø60 mm | O24: U | P24: 0.25 | R24: 24 - DORDOGNE | S24: U | T24: 550 | W24: Ancre a pied 02T5 / lg 085 mm | X24: U | Y24: 0.54
A25: ML | B25: 0 | E25: =E24/B25 -> #DIV/0! | H25: ML | I25: =B25 -> 0 | L25: =L24/I25 -> #DIV/0! | N25: Bouchon Ankrobox Ø80 mm | O25: U | P25: 0.5 | R25: 25 - DOUBS | S25: U | T25: 900 | W25: Ancre a pied 02T5 / lg 120 mm | X25: U | Y25: 0.51
A26: U | B26: =B6 -> 5 | E26: =E24/B26 -> 609.342 | H26: U | I26: =B26 -> 5 | L26: =L24/I26 -> 586.28235 | N26: Contreplaqué | O26: M2 | P26: 20 | R26: 26 - DROME | S26: U | T26: 1000 | W26: Ancre a pied 02T5 / lg 170 mm | X26: U | Y26: 0.59
A27: M3 | B27: =B3 -> 10 | E27: =E24/B27 -> 304.671 | H27: M3 | I27: =B27 -> 10 | L27: =L24/I27 -> 293.14118 | N27: Coupleurs Ø12 femele | O27: U | P27: 5 | R27: 27 - EURE | S27: U | T27: 559 | W27: Ancre a pied 02T5 / lg 280 mm | X27: U | Y27: 0.9
A28: M² | B28: 0 | E28: =E24/B28 -> #DIV/0! | H28: M² | I28: =B28 -> 0 | L28: =L24/I28 -> #DIV/0! | N28: Coupleurs Ø12 mâle | O28: U | P28: 4 | R28: 28 - EURE ET LOIRE | S28: U | T28: 540 | W28: Ancre a pied 05T / lg 095 mm | X28: U | Y28: 0.96
N29: Coupleurs Ø14 femele | O29: U | P29: 9 | R29: 29 - FINISTERE | S29: U | T29: 620 | W29: Ancre a pied 05T / lg 120 mm | X29: U | Y29: 0.98
N30: Coupleurs Ø14 mâle | O30: U | P30: 7 | R30: 30 - GARD | S30: U | T30: 1090 | W30: Ancre a pied 05T / lg 180 mm | X30: U | Y30: 1.19
N31: Coupleurs Ø16 femele | O31: U | P31: 5 | R31: 31 - GARONNE | S31: U | T31: 780 | W31: Ancre a pied 05T / lg 240 mm | X31: U | Y31: 1.35
N32: Coupleurs Ø16 mâle | O32: U | P32: 5 | R32: 32 - GERS | S32: U | T32: 750 | W32: Ancre a pied 05T / lg 340 mm | X32: U | Y32: 1.79
N33: Coupleurs Ø20 femele | O33: U | P33: 18 | R33: 33 - GIRONDE | S33: U | T33: 500 | W33: Ancre a pied 07.5T / lg 100 mm | X33: U | Y33: 1.45
N34: Coupleurs Ø20 mâle | O34: U | P34: 13 | R34: 34 - HERAULT | S34: U | T34: 950 | W34: Ancre a pied 10T / lg 120 mm | X34: U | Y34: 2.16
N35: Crochet de levage ordinaire | O35: U | P35: 3 | R35: 35 - ILLE ET VILAINE | S35: U | T35: 430 | W35: Ancre a pied 10T / lg 150 mm | X35: U | Y35: 2.29
N36: Douilles 1 T | O36: U | P36: 2 | R36: 36 - INDRE | S36: U | T36: 490 | W36: Ancre a pied 10T / lg 170 mm | X36: U | Y36: 2.72
N37: Douilles 2 T | O37: U | P37: 3 | R37: 37 - INDRE ET LOIRE | S37: U | T37: 410 | W37: Ancre a pied 10T / lg 340 mm | X37: U | Y37: 3.52
N38: Douilles BT Innovation | O38: U | P38: 3 | R38: 38 - ISERE | S38: U | T38: 850 | W38: Ancre a pied 15T / lg 165 mm | X38: U | Y38: 3.77
N39: Ecarteur de nappe | O39: ML | P39: 2 | R39: 39 - JURA | S39: U | T39: 850 | W39: Ancre a pied 15T / lg 300 mm | X39: U | Y39: 7.2
N40: Echelle | O40: U | P40: 150 | R40: 40 - LANDES | S40: U | T40: 650 | W40: Ancre a pied 20T / lg 200 mm | X40: U | Y40: 6.91
...

Sheet Déboursé (2)
A1: DEBOURSE | H1: =A1 -> DEBOURSE | N1: Acier HA | O1: KG | P1: 1.15 | R1: 01 - AIN | S1: U | T1: 750 | W1: About de voile 06x35 en 6 ml 13.20 Kg/pc | X1: KG | Y1: 1.13
A2: Désignation | B2: Quantitée | C2: Unité | D2: Prix unitaire | E2: TOTAL H.T. | H2: Désignation | I2: Quantitée | J2: Unité | K2: Prix unitaire | L2: TOTAL H.T. | N2: Acier relevage 02.5T Frimeda | O2: U | P2: 1.7 | R2: 02 - AISNE | S2: U | T2: 730 | W2: About de voile 08x30 en 3 ml 6.60 Kg/pc | X2: KG | Y2: 1.27
A3: BAN 14N XC3 XF1 C40/50 | B3: 0 | C3: =LOOKUP($A$3:$A$16,article!C7:E2418) -> M3 | D3: 123 | E3: =B3*D3 -> 0 | H3: =A3 -> BAN 14N XC3 XF1 C40/50 | I3: =B3 -> 0 | J3: =C3 -> M3 | K3: 100 | L3: =I3*K3 -> 0 | N3: Acier relevage 05T Frimeda | O3: U | P3: 2 | R3: 03 - ALLIER | S3: U | T3: 580 | W3: About de voile 10x45 en 3 ml 6.60 Kg/pc | X3: KG | Y3: 1.11
A4: Armatures assemblées industriel | B4: 0 | C4: =LOOKUP($A$3:$A$16,article!C8:E2419) -> KG | D4: 1.2 | E4: =B4*D4 -> 0 | H4: =A4 -> Armatures assemblées industriel | I4: =B4 -> 0 | J4: =C4 -> KG | K4: =D4 -> 1.2 | L4: =I4*K4 -> 0 | N4: Acier relevage 10T Frimeda | O4: U | P4: 4.2 | R4: 04 - ALPES HAUTE PROVENCE | S4: U | T4: 1150 | W4: Acier de relevage Frimeda 02T5 | X4: U | Y4: 1.7
A5: TS | B5: 0 | C5: =LOOKUP($A$3:$A$16,article!C9:E2420) -> U | D5: =LOOKUP($A$3:$A$16,article!C:C,article!M:M) -> 10.9 | E5: =B5*D5 -> 0 | H5: =A5 -> TS | I5: =B5 -> 0 | J5: =C5 -> U | K5: =D5 -> 10.9 | L5: =I5*K5 -> 0 | N5: Ancre Artéon 01.3T | O5: U | P5: 2 | R5: 05 - ALPES HAUTES | S5: U | T5: 1150 | W5: Acier de relevage Frimeda 05T | X5: U | Y5: 1.99
A6: HCA | B6: 0 | C6: =LOOKUP($A$3:$A$16,article!C10:E2421) -> U | D6: 1.2 | E6: =B6*D6 -> 0 | H6: =A6 -> HCA | I6: =B6 -> 0 | J6: =C6 -> U | K6: =D6 -> 1.2 | L6: =I6*K6 -> 0 | N6: Ancre Artéon 02.5T | O6: U | P6: 3 | R6: 06 - ALPES MARITIMES | S6: U | T6: 1410 | W6: Acier de relevage Frimeda 10T | X6: U | Y6: 4.33
A7: Ecarteur de nappe | B7: 0 | C7: =LOOKUP($A$3:$A$16,article!C11:E2422) -> ML | D7: =LOOKUP($A$3:$A$16,article!C:C,article!M:M) -> 0.82 | E7: =B7*D7 -> 0 | H7: =A7 -> Ecarteur de nappe | I7: =B7 -> 0 | J7: =C7 -> ML | K7: =D7 -> 0.82 | L7: =I7*K7 -> 0 | N7: Ancre Artéon 05T | O7: U | P7: 3.5 | R7: 07 - ARDECHE | S7: U | T7: 900 | W7: Aciers HA | X7: KG | Y7: 1.1
A8: ANCRE A PIED 2T5/ LG 170MM SAC DE 100 | B8: 0 | C8: =LOOKUP($A$3:$A$16,article!C12:E2423) -> U | D8: =LOOKUP($A$3:$A$16,article!C:C,article!M:M) -> 0.55 | E8: =B8*D8 -> 0 | H8: =A8 -> ANCRE A PIED 2T5/ LG 170MM SAC DE 100 | I8: =B8 -> 0 | J8: =C8 -> U | K8: =D8 -> 0.55 | L8: =I8*K8 -> 0 | N8: Ancre Artéon 10T | O8: U | P8: 4 | R8: 08 - ARDENNES | S8: U | T8: 880 | W8: Ancre a oeil 01T3 / lg 050 mm | X8: U | Y8: 0.39
A9: ANCRE A PIED 1T3 / LG 170 MM SAC DE 100 | B9: 0 | C9: =LOOKUP($A$3:$A$16,article!C13:E2424) -> U | D9: =LOOKUP($A$3:$A$16,article!C:C,article!M:M) -> 0.32 | E9: =B9*D9 -> 0 | H9: =A9 -> ANCRE A PIED 1T3 / LG 170 MM SAC DE 100 | I9: =B9 -> 0 | J9: =C9 -> U | K9: =D9 -> 0.32 | L9: =I9*K9 -> 0 | N9: Ancre Artéon 15T | O9: U | P9: 6 | R9: 09 - ARIEGE | S9: U | T9: 940 | W9: Ancre a oeil 01T3 / lg 065 mm | X9: U | Y9: 0.39
A10: Ancre Artéon 10T | B10: 0 | C10: =LOOKUP($A$3:$A$16,article!C14:E2425) -> U | D10: =LOOKUP($A$3:$A$16,article!C:C,article!M:M) -> 8.14 | E10: =B10*D10 -> 0 | H10: =A10 -> Ancre Artéon 10T | I10: =B10 -> 0 | J10: =C10 -> U | K10: =D10 -> 8.14 | L10: =I10*K10 -> 0 | N10: Ancre Artéon 20T | O10: U | P10: 10 | R10: 10 - AUBE | S10: U | T10: 765 | W10: Ancre a oeil 02T5 / lg 090 mm | X10: U | Y10: 0.56
A11: Crochet de levage ordinaire | B11: 0 | C11: =LOOKUP($A$3:$A$16,article!C15:E2426) -> U | D11: =LOOKUP($A$3:$A$16,article!C:C,article!M:M) -> 7.15 | E11: =B11*D11 -> 0 | H11: =A11 -> Crochet de levage ordinaire | I11: =B11 -> 0 | J11: =C11 -> U | K11: =D11 -> 7.15 | L11: =I11*K11 -> 0 | N11: Ancre Frimeda 02.5T | O11: U | P11: 3.5 | R11: 11 - AUDE | S11: U | T11: 1000 | W11: Ancre a oeil 02T5 / lg 120 mm | X11: U | Y11: 1.4
A12: Douilles 2 T | B12: 0 | C12: =LOOKUP($A$3:$A$16,article!C16:E2427) -> U | D12: =LOOKUP($A$3:$A$16,article!C:C,article!M:M) -> 7.37 | E12: =B12*D12 -> 0 | H12: =A12 -> Douilles 2 T | I12: =B12 -> 0 | J12: =C12 -> U | K12: =D12 -> 7.37 | L12: =I12*K12 -> 0 | N12: Ancre Frimeda 05T | O12: U | P12: 6.5 | R12: 12 - AVEYRON | S12: U | T12: 881 | W12: Ancre a oeil 05T / lg 090 mm | X12: U | Y12: 1.12
A13: Métal déployé | B13: 0 | C13: =LOOKUP($A$3:$A$16,article!C17:E2428) -> U | D13: =LOOKUP($A$3:$A$16,article!C:C,article!M:M) -> 0 | E13: =B13*D13 -> 0 | H13: =A13 -> Métal déployé | I13: =B13 -> 0 | J13: =C13 -> U | K13: =D13 -> 0 | L13: =I13*K13 -> 0 | N13: Ancre Frimeda 10T | O13: U | P13: 15 | R13: 13 - BOUCHES DU RHONE | S13: U | T13: 1150 | W13: Ancre a oeil 10T / lg 115 mm | X13: U | Y13: 2.48
A14: Boite d'attente Ø6 ou Ø8 | B14: 0 | C14: =LOOKUP($A$3:$A$16,article!C18:E2429) -> ML | D14: =LOOKUP($A$3:$A$16,article!C:C,article!M:M) -> 2.44 | E14: =B14*D14 -> 0 | H14: =A14 -> Boite d'attente Ø6 ou Ø8 | I14: =B14 -> 0 | J14: =C14 -> ML | K14: =D14 -> 2.44 | L14: =I14*K14 -> 0 | N14: Ankrobox Ø40 mm | O14: ML | P14: 3 | R14: 14 - CALVADOS | S14: U | T14: 600 | W14: Ancre a oeil 10T / lg 180 mm | X14: U | Y14: 2.94
A15: TUBE DIAM 50 X 2 | B15: 0 | C15: =LOOKUP($A$3:$A$16,article!C19:E2430) -> ML | D15: =LOOKUP($A$3:$A$16,article!C:C,article!M:M) -> 2.31 | E15: =B15*D15 -> 0 | H15: =A15 -> TUBE DIAM 50 X 2 | I15: =B15 -> 0 | J15: =C15 -> ML | K15: =D15 -> 2.31 | L15: =I15*K15 -> 0 | N15: Ankrobox Ø50 mm | O15: ML | P15: 3 | R15: 14 - CANTAL | S15: U | T15: 695 | W15: Ancre a oeil 20T / lg 250 mm | X15: U | Y15: 9.95
A16: Contreplaqué | B16: 0 | C16: M2 | D16: 20 | E16: =B16*D16 -> 0 | H16: =A16 -> Contreplaqué | I16: =B16 -> 0 | J16: =C16 -> M2 | K16: =D16 -> 20 | L16: =I16*K16 -> 0 | N16: Ankrobox Ø60 mm | O16: ML | P16: 4 | R16: 16 - CHARENTE | S16: U | T16: 400 | W16: Ancre a pied 01T3 / lg 035 mm | X16: U | Y16: 0.26
A17: TOTAL HORS BENEFICE | D17: 0 | E17: =SUM(E3:E16) -> 0 | H17: TOTAL HORS BENEFICE | K17: 0 | L17: =SUM(L3:L16) -> 0 | N17: Ankrobox Ø80 mm | O17: ML | P17: 5 | R17: 17 - CHARENTE MARITIME | S17: U | T17: 400 | W17: Ancre a pied 01T3 / lg 050 mm | X17: U | Y17: 0.39
A18: Marge | B18: 30 | C18: % | D18: 0 | E18: =E17*B18/100 -> 0 | F18: =IF(E24=0,"",E18/E24) | H18: Marge | I18: =IF((L18=0),"",L18/L17*100) | J18: % | K18: 0 | L18: =L19-L17 -> 0 | M18: =IF(E24=0,"",L18/L24) | N18: Ankrobox Ø95 mm | O18: ML | P18: 6.5 | R18: 18 - CHER | S18: U | T18: 500 | W18: Ancre a pied 01T3 / lg 065 mm | X18: U | Y18: 0
E19: =E17+E18 -> 0 | L19: =L24-L21-L20-L22-L23 -> 0 | N19: Ankromur avec crochets | O19: ML | P19: 6 | R19: 19 - CORREZE | S19: U | T19: 558 | W19: Ancre a pied 01T3 / lg 085 mm | X19: U | Y19: 0.36
A20: M.O. | B20: 0 | C20: U | D20: 87.5 | E20: =B20*D20 -> 0 | H20: =A20 -> M.O. | I20: =B20 -> 0 | J20: U | K20: 85 | L20: =I20*K20 -> 0 | N20: Béton | O20: M3 | P20: 110 | R20: 20 - CORSE | S20: U | T20: 0 | W20: Ancre a pied 01T3 / lg 120 mm | X20: U | Y20: 0.38
A21: Coffrage | B21: 0 | C21: U | D21: 87.5 | E21: =B21*D21 -> 0 | H21: =A21 -> Coffrage | I21: =B21 -> 0 | J21: U | K21: 85 | L21: =I21*K21 -> 0 | N21: Boite d'attente Ø6 ou Ø8 | O21: ML | P21: 4 | R21: 21 - COTE D'OR | S21: U | T21: 750 | W21: Ancre a pied 01T3 / lg 170 mm | X21: U | Y21: 0.54
A22: Finition | B22: 0 | C22: U | D22: 87.5 | E22: =B22*D22 -> 0 | H22: =A22 -> Finition | I22: =B22 -> 0 | J22: U | K22: 85 | L22: =I22*K22 -> 0 | N22: Bouchon Ankrobox Ø40 mm | O22: U | P22: 0.15 | R22: 22 - COTES D'ARMOR | S22: U | T22: 560 | W22: Ancre a pied 01T3 / lg 240 mm | X22: U | Y22: 0.63
A23: 01 - AIN | B23: 0 | C23: =LOOKUP(A23,R:S) -> U | D23: =LOOKUP(A23,R:R,T:T) -> 750 | E23: =B23*D23 -> 0 | H23: =A23 -> 01 - AIN | I23: =B23 -> 0 | J23: U | K23: =D23 -> 750 | L23: =I23*K23 -> 0 | N23: Bouchon Ankrobox Ø50 mm | O23: U | P23: 0.2 | R23: 23 - CREUSE | S23: U | T23: 550 | W23: Ancre a pied 02T5 / lg 055 mm | X23: U | Y23: 0.48
A24: TOTAL H.T. | E24: =E19+E20+E21+E22+E23 -> 0 | H24: TOTAL H.T. | L24: =E24 -> 0 | N24: Bouchon Ankrobox Ø60 mm | O24: U | P24: 0.25 | R24: 24 - DORDOGNE | S24: U | T24: 550 | W24: Ancre a pied 02T5 / lg 085 mm | X24: U | Y24: 0.54
A25: ML | B25: 0 | E25: =E24/B25 -> #DIV/0! | H25: ML | I25: =B25 -> 0 | L25: =L24/I25 -> #DIV/0! | N25: Bouchon Ankrobox Ø80 mm | O25: U | P25: 0.5 | R25: 25 - DOUBS | S25: U | T25: 900 | W25: Ancre a pied 02T5 / lg 120 mm | X25: U | Y25: 0.51
A26: U | B26: =B6 -> 0 | E26: =E24/B26 -> #DIV/0! | H26: U | I26: =B26 -> 0 | L26: =L24/I26 -> #DIV/0! | N26: Contreplaqué | O26: M2 | P26: 20 | R26: 26 - DROME | S26: U | T26: 1000 | W26: Ancre a pied 02T5 / lg 170 mm | X26: U | Y26: 0.59
A27: M3 | B27: =B3 -> 0 | E27: =E24/B27 -> #DIV/0! | H27: M3 | I27: =B27 -> 0 | L27: =L24/I27 -> #DIV/0! | N27: Coupleurs Ø12 femele | O27: U | P27: 5 | R27: 27 - EURE | S27: U | T27: 559 | W27: Ancre a pied 02T5 / lg 280 mm | X27: U | Y27: 0.9
A28: M² | B28: 0 | E28: =E24/B28 -> #DIV/0! | H28: M² | I28: =B28 -> 0 | L28: =L24/I28 -> #DIV/0! | N28: Coupleurs Ø12 mâle | O28: U | P28: 4 | R28: 28 - EURE ET LOIRE | S28: U | T28: 540 | W28: Ancre a pied 05T / lg 095 mm | X28: U | Y28: 0.96
N29: Coupleurs Ø14 femele | O29: U | P29: 9 | R29: 29 - FINISTERE | S29: U | T29: 620 | W29: Ancre a pied 05T / lg 120 mm | X29: U | Y29: 0.98
N30: Coupleurs Ø14 mâle | O30: U | P30: 7 | R30: 30 - GARD | S30: U | T30: 1090 | W30: Ancre a pied 05T / lg 180 mm | X30: U | Y30: 1.19
N31: Coupleurs Ø16 femele | O31: U | P31: 5 | R31: 31 - GARONNE | S31: U | T31: 780 | W31: Ancre a pied 05T / lg 240 mm | X31: U | Y31: 1.35
N32: Coupleurs Ø16 mâle | O32: U | P32: 5 | R32: 32 - GERS | S32: U | T32: 750 | W32: Ancre a pied 05T / lg 340 mm | X32: U | Y32: 1.79
N33: Coupleurs Ø20 femele | O33: U | P33: 18 | R33: 33 - GIRONDE | S33: U | T33: 500 | W33: Ancre a pied 07.5T / lg 100 mm | X33: U | Y33: 1.45
N34: Coupleurs Ø20 mâle | O34: U | P34: 13 | R34: 34 - HERAULT | S34: U | T34: 950 | W34: Ancre a pied 10T / lg 120 mm | X34: U | Y34: 2.16
N35: Crochet de levage ordinaire | O35: U | P35: 3 | R35: 35 - ILLE ET VILAINE | S35: U | T35: 430 | W35: Ancre a pied 10T / lg 150 mm | X35: U | Y35: 2.29
N36: Douilles 1 T | O36: U | P36: 2 | R36: 36 - INDRE | S36: U | T36: 490 | W36: Ancre a pied 10T / lg 170 mm | X36: U | Y36: 2.72
N37: Douilles 2 T | O37: U | P37: 3 | R37: 37 - INDRE ET LOIRE | S37: U | T37: 410 | W37: Ancre a pied 10T / lg 340 mm | X37: U | Y37: 3.52
N38: Douilles BT Innovation | O38: U | P38: 3 | R38: 38 - ISERE | S38: U | T38: 850 | W38: Ancre a pied 15T / lg 165 mm | X38: U | Y38: 3.77
N39: Ecarteur de nappe | O39: ML | P39: 2 | R39: 39 - JURA | S39: U | T39: 850 | W39: Ancre a pied 15T / lg 300 mm | X39: U | Y39: 7.2
N40: Echelle | O40: U | P40: 150 | R40: 40 - LANDES | S40: U | T40: 650 | W40: Ancre a pied 20T / lg 200 mm | X40: U | Y40: 6.91
...

Sheet Déboursé (3)
A1: DEBOURSE | H1: =A1 -> DEBOURSE | N1: Acier HA | O1: KG | P1: 1.15 | R1: 01 - AIN | S1: U | T1: 750 | W1: About de voile 06x35 en 6 ml 13.20 Kg/pc | X1: KG | Y1: 1.13
A2: Désignation | B2: Quantitée | C2: Unité | D2: Prix unitaire | E2: TOTAL H.T. | H2: Désignation | I2: Quantitée | J2: Unité | K2: Prix unitaire | L2: TOTAL H.T. | N2: Acier relevage 02.5T Frimeda | O2: U | P2: 1.7 | R2: 02 - AISNE | S2: U | T2: 730 | W2: About de voile 08x30 en 3 ml 6.60 Kg/pc | X2: KG | Y2: 1.27
A3: BAN 14N XC3 XF1 C40/50 | B3: 0 | C3: =LOOKUP($A$3:$A$16,article!C7:E2418) -> M3 | D3: 123 | E3: =B3*D3 -> 0 | H3: =A3 -> BAN 14N XC3 XF1 C40/50 | I3: =B3 -> 0 | J3: =C3 -> M3 | K3: 100 | L3: =I3*K3 -> 0 | N3: Acier relevage 05T Frimeda | O3: U | P3: 2 | R3: 03 - ALLIER | S3: U | T3: 580 | W3: About de voile 10x45 en 3 ml 6.60 Kg/pc | X3: KG | Y3: 1.11
A4: Armatures assemblées industriel | B4: 0 | C4: =LOOKUP($A$3:$A$16,article!C8:E2419) -> KG | D4: 1.2 | E4: =B4*D4 -> 0 | H4: =A4 -> Armatures assemblées industriel | I4: =B4 -> 0 | J4: =C4 -> KG | K4: =D4 -> 1.2 | L4: =I4*K4 -> 0 | N4: Acier relevage 10T Frimeda | O4: U | P4: 4.2 | R4: 04 - ALPES HAUTE PROVENCE | S4: U | T4: 1150 | W4: Acier de relevage Frimeda 02T5 | X4: U | Y4: 1.7
A5: TS | B5: 0 | C5: =LOOKUP($A$3:$A$16,article!C9:E2420) -> U | D5: =LOOKUP($A$3:$A$16,article!C:C,article!M:M) -> 10.9 | E5: =B5*D5 -> 0 | H5: =A5 -> TS | I5: =B5 -> 0 | J5: =C5 -> U | K5: =D5 -> 10.9 | L5: =I5*K5 -> 0 | N5: Ancre Artéon 01.3T | O5: U | P5: 2 | R5: 05 - ALPES HAUTES | S5: U | T5: 1150 | W5: Acier de relevage Frimeda 05T | X5: U | Y5: 1.99
A6: HCA | B6: 0 | C6: =LOOKUP($A$3:$A$16,article!C10:E2421) -> U | D6: 1.2 | E6: =B6*D6 -> 0 | H6: =A6 -> HCA | I6: =B6 -> 0 | J6: =C6 -> U | K6: =D6 -> 1.2 | L6: =I6*K6 -> 0 | N6: Ancre Artéon 02.5T | O6: U | P6: 3 | R6: 06 - ALPES MARITIMES | S6: U | T6: 1410 | W6: Acier de relevage Frimeda 10T | X6: U | Y6: 4.33
A7: Ecarteur de nappe | B7: 0 | C7: =LOOKUP($A$3:$A$16,article!C11:E2422) -> ML | D7: =LOOKUP($A$3:$A$16,article!C:C,article!M:M) -> 0.82 | E7: =B7*D7 -> 0 | H7: =A7 -> Ecarteur de nappe | I7: =B7 -> 0 | J7: =C7 -> ML | K7: =D7 -> 0.82 | L7: =I7*K7 -> 0 | N7: Ancre Artéon 05T | O7: U | P7: 3.5 | R7: 07 - ARDECHE | S7: U | T7: 900 | W7: Aciers HA | X7: KG | Y7: 1.1
A8: ANCRE A PIED 2T5/ LG 170MM SAC DE 100 | B8: 0 | C8: =LOOKUP($A$3:$A$16,article!C12:E2423) -> U | D8: =LOOKUP($A$3:$A$16,article!C:C,article!M:M) -> 0.55 | E8: =B8*D8 -> 0 | H8: =A8 -> ANCRE A PIED 2T5/ LG 170MM SAC DE 100 | I8: =B8 -> 0 | J8: =C8 -> U | K8: =D8 -> 0.55 | L8: =I8*K8 -> 0 | N8: Ancre Artéon 10T | O8: U | P8: 4 | R8: 08 - ARDENNES | S8: U | T8: 880 | W8: Ancre a oeil 01T3 / lg 050 mm | X8: U | Y8: 0.39
A9: ANCRE A PIED 1T3 / LG 170 MM SAC DE 100 | B9: 0 | C9: =LOOKUP($A$3:$A$16,article!C13:E2424) -> U | D9: =LOOKUP($A$3:$A$16,article!C:C,article!M:M) -> 0.32 | E9: =B9*D9 -> 0 | H9: =A9 -> ANCRE A PIED 1T3 / LG 170 MM SAC DE 100 | I9: =B9 -> 0 | J9: =C9 -> U | K9: =D9 -> 0.32 | L9: =I9*K9 -> 0 | N9: Ancre Artéon 15T | O9: U | P9: 6 | R9: 09 - ARIEGE | S9: U | T9: 940 | W9: Ancre a oeil 01T3 / lg 065 mm | X9: U | Y9: 0.39
A10: Ancre Artéon 10T | B10: 0 | C10: =LOOKUP($A$3:$A$16,article!C14:E2425) -> U | D10: =LOOKUP($A$3:$A$16,article!C:C,article!M:M) -> 8.14 | E10: =B10*D10 -> 0 | H10: =A10 -> Ancre Artéon 10T | I10: =B10 -> 0 | J10: =C10 -> U | K10: =D10 -> 8.14 | L10: =I10*K10 -> 0 | N10: Ancre Artéon 20T | O10: U | P10: 10 | R10: 10 - AUBE | S10: U | T10: 765 | W10: Ancre a oeil 02T5 / lg 090 mm | X10: U | Y10: 0.56
A11: Crochet de levage ordinaire | B11: 0 | C11: =LOOKUP($A$3:$A$16,article!C15:E2426) -> U | D11: =LOOKUP($A$3:$A$16,article!C:C,article!M:M) -> 7.15 | E11: =B11*D11 -> 0 | H11: =A11 -> Crochet de levage ordinaire | I11: =B11 -> 0 | J11: =C11 -> U | K11: =D11 -> 7.15 | L11: =I11*K11 -> 0 | N11: Ancre Frimeda 02.5T | O11: U | P11: 3.5 | R11: 11 - AUDE | S11: U | T11: 1000 | W11: Ancre a oeil 02T5 / lg 120 mm | X11: U | Y11: 1.4
A12: Douilles 2 T | B12: 0 | C12: =LOOKUP($A$3:$A$16,article!C16:E2427) -> U | D12: =LOOKUP($A$3:$A$16,article!C:C,article!M:M) -> 7.37 | E12: =B12*D12 -> 0 | H12: =A12 -> Douilles 2 T | I12: =B12 -> 0 | J12: =C12 -> U | K12: =D12 -> 7.37 | L12: =I12*K12 -> 0 | N12: Ancre Frimeda 05T | O12: U | P12: 6.5 | R12: 12 - AVEYRON | S12: U | T12: 881 | W12: Ancre a oeil 05T / lg 090 mm | X12: U | Y12: 1.12
A13: Métal déployé | B13: 0 | C13: =LOOKUP($A$3:$A$16,article!C17:E2428) -> U | D13: =LOOKUP($A$3:$A$16,article!C:C,article!M:M) -> 0 | E13: =B13*D13 -> 0 | H13: =A13 -> Métal déployé | I13: =B13 -> 0 | J13: =C13 -> U | K13: =D13 -> 0 | L13: =I13*K13 -> 0 | N13: Ancre Frimeda 10T | O13: U | P13: 15 | R13: 13 - BOUCHES DU RHONE | S13: U | T13: 1150 | W13: Ancre a oeil 10T / lg 115 mm | X13: U | Y13: 2.48
A14: Boite d'attente Ø6 ou Ø8 | B14: 0 | C14: =LOOKUP($A$3:$A$16,article!C18:E2429) -> ML | D14: =LOOKUP($A$3:$A$16,article!C:C,article!M:M) -> 2.44 | E14: =B14*D14 -> 0 | H14: =A14 -> Boite d'attente Ø6 ou Ø8 | I14: =B14 -> 0 | J14: =C14 -> ML | K14: =D14 -> 2.44 | L14: =I14*K14 -> 0 | N14: Ankrobox Ø40 mm | O14: ML | P14: 3 | R14: 14 - CALVADOS | S14: U | T14: 600 | W14: Ancre a oeil 10T / lg 180 mm | X14: U | Y14: 2.94
A15: Tiges filetées | B15: 0 | C15: =LOOKUP($A$3:$A$16,article!C19:E2430) -> U | D15: =LOOKUP($A$3:$A$16,article!C:C,article!M:M) -> 63.01 | E15: =B15*D15 -> 0 | H15: =A15 -> Tiges filetées | I15: =B15 -> 0 | J15: =C15 -> U | K15: =D15 -> 63.01 | L15: =I15*K15 -> 0 | N15: Ankrobox Ø50 mm | O15: ML | P15: 3 | R15: 14 - CANTAL | S15: U | T15: 695 | W15: Ancre a oeil 20T / lg 250 mm | X15: U | Y15: 9.95
A16: Contreplaqué | B16: 0 | C16: M2 | D16: 20 | E16: =B16*D16 -> 0 | H16: =A16 -> Contreplaqué | I16: =B16 -> 0 | J16: =C16 -> M2 | K16: =D16 -> 20 | L16: =I16*K16 -> 0 | N16: Ankrobox Ø60 mm | O16: ML | P16: 4 | R16: 16 - CHARENTE | S16: U | T16: 400 | W16: Ancre a pied 01T3 / lg 035 mm | X16: U | Y16: 0.26
A17: TOTAL HORS BENEFICE | D17: 0 | E17: =SUM(E3:E16) -> 0 | H17: TOTAL HORS BENEFICE | K17: 0 | L17: =SUM(L3:L16) -> 0 | N17: Ankrobox Ø80 mm | O17: ML | P17: 5 | R17: 17 - CHARENTE MARITIME | S17: U | T17: 400 | W17: Ancre a pied 01T3 / lg 050 mm | X17: U | Y17: 0.39
A18: Marge | B18: 30 | C18: % | D18: 0 | E18: =E17*B18/100 -> 0 | F18: =IF(E24=0,"",E18/E24) | H18: Marge | I18: =IF((L18=0),"",L18/L17*100) | J18: % | K18: 0 | L18: =L19-L17 -> 0 | M18: =IF(E24=0,"",L18/L24) | N18: Ankrobox Ø95 mm | O18: ML | P18: 6.5 | R18: 18 - CHER | S18: U | T18: 500 | W18: Ancre a pied 01T3 / lg 065 mm | X18: U | Y18: 0
E19: =E17+E18 -> 0 | L19: =L24-L21-L20-L22-L23 -> 0 | N19: Ankromur avec crochets | O19: ML | P19: 6 | R19: 19 - CORREZE | S19: U | T19: 558 | W19: Ancre a pied 01T3 / lg 085 mm | X19: U | Y19: 0.36
A20: M.O. | B20: 0 | C20: U | D20: 87.5 | E20: =B20*D20 -> 0 | H20: =A20 -> M.O. | I20: =B20 -> 0 | J20: U | K20: 85 | L20: =I20*K20 -> 0 | N20: Béton | O20: M3 | P20: 110 | R20: 20 - CORSE | S20: U | T20: 0 | W20: Ancre a pied 01T3 / lg 120 mm | X20: U | Y20: 0.38
A21: Coffrage | B21: 0 | C21: U | D21: 87.5 | E21: =B21*D21 -> 0 | H21: =A21 -> Coffrage | I21: =B21 -> 0 | J21: U | K21: 85 | L21: =I21*K21 -> 0 | N21: Boite d'attente Ø6 ou Ø8 | O21: ML | P21: 4 | R21: 21 - COTE D'OR | S21: U | T21: 750 | W21: Ancre a pied 01T3 / lg 170 mm | X21: U | Y21: 0.54
A22: Finition | B22: 0 | C22: U | D22: 87.5 | E22: =B22*D22 -> 0 | H22: =A22 -> Finition | I22: =B22 -> 0 | J22: U | K22: 85 | L22: =I22*K22 -> 0 | N22: Bouchon Ankrobox Ø40 mm | O22: U | P22: 0.15 | R22: 22 - COTES D'ARMOR | S22: U | T22: 560 | W22: Ancre a pied 01T3 / lg 240 mm | X22: U | Y22: 0.63
A23: 01 - AIN | B23: 0 | C23: =LOOKUP(A23,R:S) -> U | D23: =LOOKUP(A23,R:R,T:T) -> 750 | E23: =B23*D23 -> 0 | H23: =A23 -> 01 - AIN | I23: =B23 -> 0 | J23: U | K23: =D23 -> 750 | L23: =I23*K23 -> 0 | N23: Bouchon Ankrobox Ø50 mm | O23: U | P23: 0.2 | R23: 23 - CREUSE | S23: U | T23: 550 | W23: Ancre a pied 02T5 / lg 055 mm | X23: U | Y23: 0.48
A24: TOTAL H.T. | E24: =E19+E20+E21+E22+E23 -> 0 | H24: TOTAL H.T. | L24: =E24 -> 0 | N24: Bouchon Ankrobox Ø60 mm | O24: U | P24: 0.25 | R24: 24 - DORDOGNE | S24: U | T24: 550 | W24: Ancre a pied 02T5 / lg 085 mm | X24: U | Y24: 0.54
A25: ML | B25: 0 | E25: =E24/B25 -> #DIV/0! | H25: ML | I25: =B25 -> 0 | L25: =L24/I25 -> #DIV/0! | N25: Bouchon Ankrobox Ø80 mm | O25: U | P25: 0.5 | R25: 25 - DOUBS | S25: U | T25: 900 | W25: Ancre a pied 02T5 / lg 120 mm | X25: U | Y25: 0.51
A26: U | B26: =B6 -> 0 | E26: =E24/B26 -> #DIV/0! | H26: U | I26: =B26 -> 0 | L26: =L24/I26 -> #DIV/0! | N26: Contreplaqué | O26: M2 | P26: 20 | R26: 26 - DROME | S26: U | T26: 1000 | W26: Ancre a pied 02T5 / lg 170 mm | X26: U | Y26: 0.59
A27: M3 | B27: =B3 -> 0 | E27: =E24/B27 -> #DIV/0! | H27: M3 | I27: =B27 -> 0 | L27: =L24/I27 -> #DIV/0! | N27: Coupleurs Ø12 femele | O27: U | P27: 5 | R27: 27 - EURE | S27: U | T27: 559 | W27: Ancre a pied 02T5 / lg 280 mm | X27: U | Y27: 0.9
A28: M² | B28: 0 | E28: =E24/B28 -> #DIV/0! | H28: M² | I28: =B28 -> 0 | L28: =L24/I28 -> #DIV/0! | N28: Coupleurs Ø12 mâle | O28: U | P28: 4 | R28: 28 - EURE ET LOIRE | S28: U | T28: 540 | W28: Ancre a pied 05T / lg 095 mm | X28: U | Y28: 0.96
N29: Coupleurs Ø14 femele | O29: U | P29: 9 | R29: 29 - FINISTERE | S29: U | T29: 620 | W29: Ancre a pied 05T / lg 120 mm | X29: U | Y29: 0.98
N30: Coupleurs Ø14 mâle | O30: U | P30: 7 | R30: 30 - GARD | S30: U | T30: 1090 | W30: Ancre a pied 05T / lg 180 mm | X30: U | Y30: 1.19
N31: Coupleurs Ø16 femele | O31: U | P31: 5 | R31: 31 - GARONNE | S31: U | T31: 780 | W31: Ancre a pied 05T / lg 240 mm | X31: U | Y31: 1.35
N32: Coupleurs Ø16 mâle | O32: U | P32: 5 | R32: 32 - GERS | S32: U | T32: 750 | W32: Ancre a pied 05T / lg 340 mm | X32: U | Y32: 1.79
N33: Coupleurs Ø20 femele | O33: U | P33: 18 | R33: 33 - GIRONDE | S33: U | T33: 500 | W33: Ancre a pied 07.5T / lg 100 mm | X33: U | Y33: 1.45
N34: Coupleurs Ø20 mâle | O34: U | P34: 13 | R34: 34 - HERAULT | S34: U | T34: 950 | W34: Ancre a pied 10T / lg 120 mm | X34: U | Y34: 2.16
N35: Crochet de levage ordinaire | O35: U | P35: 3 | R35: 35 - ILLE ET VILAINE | S35: U | T35: 430 | W35: Ancre a pied 10T / lg 150 mm | X35: U | Y35: 2.29
N36: Douilles 1 T | O36: U | P36: 2 | R36: 36 - INDRE | S36: U | T36: 490 | W36: Ancre a pied 10T / lg 170 mm | X36: U | Y36: 2.72
N37: Douilles 2 T | O37: U | P37: 3 | R37: 37 - INDRE ET LOIRE | S37: U | T37: 410 | W37: Ancre a pied 10T / lg 340 mm | X37: U | Y37: 3.52
N38: Douilles BT Innovation | O38: U | P38: 3 | R38: 38 - ISERE | S38: U | T38: 850 | W38: Ancre a pied 15T / lg 165 mm | X38: U | Y38: 3.77
N39: Ecarteur de nappe | O39: ML | P39: 2 | R39: 39 - JURA | S39: U | T39: 850 | W39: Ancre a pied 15T / lg 300 mm | X39: U | Y39: 7.2
N40: Echelle | O40: U | P40: 150 | R40: 40 - LANDES | S40: U | T40: 650 | W40: Ancre a pied 20T / lg 200 mm | X40: U | Y40: 6.91
...

Sheet Déboursé (4)
A1: DEBOURSE | H1: =A1 -> DEBOURSE | N1: Acier HA | O1: KG | P1: 1.15 | R1: 01 - AIN | S1: U | T1: 750 | W1: About de voile 06x35 en 6 ml 13.20 Kg/pc | X1: KG | Y1: 1.13
A2: Désignation | B2: Quantitée | C2: Unité | D2: Prix unitaire | E2: TOTAL H.T. | H2: Désignation | I2: Quantitée | J2: Unité | K2: Prix unitaire | L2: TOTAL H.T. | N2: Acier relevage 02.5T Frimeda | O2: U | P2: 1.7 | R2: 02 - AISNE | S2: U | T2: 730 | W2: About de voile 08x30 en 3 ml 6.60 Kg/pc | X2: KG | Y2: 1.27
A3: BAN 14N XC3 XF1 C40/50 | B3: 0 | C3: =LOOKUP($A$3:$A$16,article!C7:E2418) -> M3 | D3: 123 | E3: =B3*D3 -> 0 | H3: =A3 -> BAN 14N XC3 XF1 C40/50 | I3: =B3 -> 0 | J3: =C3 -> M3 | K3: 100 | L3: =I3*K3 -> 0 | N3: Acier relevage 05T Frimeda | O3: U | P3: 2 | R3: 03 - ALLIER | S3: U | T3: 580 | W3: About de voile 10x45 en 3 ml 6.60 Kg/pc | X3: KG | Y3: 1.11
A4: Armatures assemblées industriel | B4: 0 | C4: =LOOKUP($A$3:$A$16,article!C8:E2419) -> KG | D4: 1.2 | E4: =B4*D4 -> 0 | H4: =A4 -> Armatures assemblées industriel | I4: =B4 -> 0 | J4: =C4 -> KG | K4: =D4 -> 1.2 | L4: =I4*K4 -> 0 | N4: Acier relevage 10T Frimeda | O4: U | P4: 4.2 | R4: 04 - ALPES HAUTE PROVENCE | S4: U | T4: 1150 | W4: Acier de relevage Frimeda 02T5 | X4: U | Y4: 1.7
A5: TS | B5: 0 | C5: =LOOKUP($A$3:$A$16,article!C9:E2420) -> U | D5: =LOOKUP($A$3:$A$16,article!C:C,article!M:M) -> 10.9 | E5: =B5*D5 -> 0 | H5: =A5 -> TS | I5: =B5 -> 0 | J5: =C5 -> U | K5: =D5 -> 10.9 | L5: =I5*K5 -> 0 | N5: Ancre Artéon 01.3T | O5: U | P5: 2 | R5: 05 - ALPES HAUTES | S5: U | T5: 1150 | W5: Acier de relevage Frimeda 05T | X5: U | Y5: 1.99
A6: HCA | B6: 0 | C6: =LOOKUP($A$3:$A$16,article!C10:E2421) -> U | D6: 1.2 | E6: =B6*D6 -> 0 | H6: =A6 -> HCA | I6: =B6 -> 0 | J6: =C6 -> U | K6: =D6 -> 1.2 | L6: =I6*K6 -> 0 | N6: Ancre Artéon 02.5T | O6: U | P6: 3 | R6: 06 - ALPES MARITIMES | S6: U | T6: 1410 | W6: Acier de relevage Frimeda 10T | X6: U | Y6: 4.33
A7: Ecarteur de nappe | B7: 0 | C7: =LOOKUP($A$3:$A$16,article!C11:E2422) -> ML | D7: =LOOKUP($A$3:$A$16,article!C:C,article!M:M) -> 0.82 | E7: =B7*D7 -> 0 | H7: =A7 -> Ecarteur de nappe | I7: =B7 -> 0 | J7: =C7 -> ML | K7: =D7 -> 0.82 | L7: =I7*K7 -> 0 | N7: Ancre Artéon 05T | O7: U | P7: 3.5 | R7: 07 - ARDECHE | S7: U | T7: 900 | W7: Aciers HA | X7: KG | Y7: 1.1
A8: ANCRE A PIED 2T5/ LG 170MM SAC DE 100 | B8: 0 | C8: =LOOKUP($A$3:$A$16,article!C12:E2423) -> U | D8: =LOOKUP($A$3:$A$16,article!C:C,article!M:M) -> 0.55 | E8: =B8*D8 -> 0 | H8: =A8 -> ANCRE A PIED 2T5/ LG 170MM SAC DE 100 | I8: =B8 -> 0 | J8: =C8 -> U | K8: =D8 -> 0.55 | L8: =I8*K8 -> 0 | N8: Ancre Artéon 10T | O8: U | P8: 4 | R8: 08 - ARDENNES | S8: U | T8: 880 | W8: Ancre a oeil 01T3 / lg 050 mm | X8: U | Y8: 0.39
A9: ANCRE A PIED 1T3 / LG 170 MM SAC DE 100 | B9: 0 | C9: =LOOKUP($A$3:$A$16,article!C13:E2424) -> U | D9: =LOOKUP($A$3:$A$16,article!C:C,article!M:M) -> 0.32 | E9: =B9*D9 -> 0 | H9: =A9 -> ANCRE A PIED 1T3 / LG 170 MM SAC DE 100 | I9: =B9 -> 0 | J9: =C9 -> U | K9: =D9 -> 0.32 | L9: =I9*K9 -> 0 | N9: Ancre Artéon 15T | O9: U | P9: 6 | R9: 09 - ARIEGE | S9: U | T9: 940 | W9: Ancre a oeil 01T3 / lg 065 mm | X9: U | Y9: 0.39
A10: Ancre Artéon 10T | B10: 0 | C10: =LOOKUP($A$3:$A$16,article!C14:E2425) -> U | D10: =LOOKUP($A$3:$A$16,article!C:C,article!M:M) -> 8.14 | E10: =B10*D10 -> 0 | H10: =A10 -> Ancre Artéon 10T | I10: =B10 -> 0 | J10: =C10 -> U | K10: =D10 -> 8.14 | L10: =I10*K10 -> 0 | N10: Ancre Artéon 20T | O10: U | P10: 10 | R10: 10 - AUBE | S10: U | T10: 765 | W10: Ancre a oeil 02T5 / lg 090 mm | X10: U | Y10: 0.56
A11: Crochet de levage ordinaire | B11: 0 | C11: =LOOKUP($A$3:$A$16,article!C15:E2426) -> U | D11: =LOOKUP($A$3:$A$16,article!C:C,article!M:M) -> 7.15 | E11: =B11*D11 -> 0 | H11: =A11 -> Crochet de levage ordinaire | I11: =B11 -> 0 | J11: =C11 -> U | K11: =D11 -> 7.15 | L11: =I11*K11 -> 0 | N11: Ancre Frimeda 02.5T | O11: U | P11: 3.5 | R11: 11 - AUDE | S11: U | T11: 1000 | W11: Ancre a oeil 02T5 / lg 120 mm | X11: U | Y11: 1.4
A12: Douilles 2 T | B12: 0 | C12: =LOOKUP($A$3:$A$16,article!C16:E2427) -> U | D12: =LOOKUP($A$3:$A$16,article!C:C,article!M:M) -> 7.37 | E12: =B12*D12 -> 0 | H12: =A12 -> Douilles 2 T | I12: =B12 -> 0 | J12: =C12 -> U | K12: =D12 -> 7.37 | L12: =I12*K12 -> 0 | N12: Ancre Frimeda 05T | O12: U | P12: 6.5 | R12: 12 - AVEYRON | S12: U | T12: 881 | W12: Ancre a oeil 05T / lg 090 mm | X12: U | Y12: 1.12
A13: Métal déployé | B13: 0 | C13: =LOOKUP($A$3:$A$16,article!C17:E2428) -> U | D13: =LOOKUP($A$3:$A$16,article!C:C,article!M:M) -> 0 | E13: =B13*D13 -> 0 | H13: =A13 -> Métal déployé | I13: =B13 -> 0 | J13: =C13 -> U | K13: =D13 -> 0 | L13: =I13*K13 -> 0 | N13: Ancre Frimeda 10T | O13: U | P13: 15 | R13: 13 - BOUCHES DU RHONE | S13: U | T13: 1150 | W13: Ancre a oeil 10T / lg 115 mm | X13: U | Y13: 2.48
A14: Boite d'attente Ø6 ou Ø8 | B14: 0 | C14: =LOOKUP($A$3:$A$16,article!C18:E2429) -> ML | D14: =LOOKUP($A$3:$A$16,article!C:C,article!M:M) -> 2.44 | E14: =B14*D14 -> 0 | H14: =A14 -> Boite d'attente Ø6 ou Ø8 | I14: =B14 -> 0 | J14: =C14 -> ML | K14: =D14 -> 2.44 | L14: =I14*K14 -> 0 | N14: Ankrobox Ø40 mm | O14: ML | P14: 3 | R14: 14 - CALVADOS | S14: U | T14: 600 | W14: Ancre a oeil 10T / lg 180 mm | X14: U | Y14: 2.94
A15: Tiges filetées | B15: 0 | C15: =LOOKUP($A$3:$A$16,article!C19:E2430) -> U | D15: =LOOKUP($A$3:$A$16,article!C:C,article!M:M) -> 63.01 | E15: =B15*D15 -> 0 | H15: =A15 -> Tiges filetées | I15: =B15 -> 0 | J15: =C15 -> U | K15: =D15 -> 63.01 | L15: =I15*K15 -> 0 | N15: Ankrobox Ø50 mm | O15: ML | P15: 3 | R15: 14 - CANTAL | S15: U | T15: 695 | W15: Ancre a oeil 20T / lg 250 mm | X15: U | Y15: 9.95
A16: Contreplaqué | B16: 0 | C16: M2 | D16: 20 | E16: =B16*D16 -> 0 | H16: =A16 -> Contreplaqué | I16: =B16 -> 0 | J16: =C16 -> M2 | K16: =D16 -> 20 | L16: =I16*K16 -> 0 | N16: Ankrobox Ø60 mm | O16: ML | P16: 4 | R16: 16 - CHARENTE | S16: U | T16: 400 | W16: Ancre a pied 01T3 / lg 035 mm | X16: U | Y16: 0.26
A17: TOTAL HORS BENEFICE | D17: 0 | E17: =SUM(E3:E16) -> 0 | H17: TOTAL HORS BENEFICE | K17: 0 | L17: =SUM(L3:L16) -> 0 | N17: Ankrobox Ø80 mm | O17: ML | P17: 5 | R17: 17 - CHARENTE MARITIME | S17: U | T17: 400 | W17: Ancre a pied 01T3 / lg 050 mm | X17: U | Y17: 0.39
A18: Marge | B18: 30 | C18: % | D18: 0 | E18: =E17*B18/100 -> 0 | F18: =IF(E24=0,"",E18/E24) | H18: Marge | I18: =IF((L18=0),"",L18/L17*100) | J18: % | K18: 0 | L18: =L19-L17 -> 0 | M18: =IF(E24=0,"",L18/L24) | N18: Ankrobox Ø95 mm | O18: ML | P18: 6.5 | R18: 18 - CHER | S18: U | T18: 500 | W18: Ancre a pied 01T3 / lg 065 mm | X18: U | Y18: 0
E19: =E17+E18 -> 0 | L19: =L24-L21-L20-L22-L23 -> 0 | N19: Ankromur avec crochets | O19: ML | P19: 6 | R19: 19 - CORREZE | S19: U | T19: 558 | W19: Ancre a pied 01T3 / lg 085 mm | X19: U | Y19: 0.36
A20: M.O. | B20: 0 | C20: U | D20: 87.5 | E20: =B20*D20 -> 0 | H20: =A20 -> M.O. | I20: =B20 -> 0 | J20: U | K20: 85 | L20: =I20*K20 -> 0 | N20: Béton | O20: M3 | P20: 110 | R20: 20 - CORSE | S20: U | T20: 0 | W20: Ancre a pied 01T3 / lg 120 mm | X20: U | Y20: 0.38
A21: Coffrage | B21: 0 | C21: U | D21: 87.5 | E21: =B21*D21 -> 0 | H21: =A21 -> Coffrage | I21: =B21 -> 0 | J21: U | K21: 85 | L21: =I21*K21 -> 0 | N21: Boite d'attente Ø6 ou Ø8 | O21: ML | P21: 4 | R21: 21 - COTE D'OR | S21: U | T21: 750 | W21: Ancre a pied 01T3 / lg 170 mm | X21: U | Y21: 0.54
A22: Finition | B22: 0 | C22: U | D22: 87.5 | E22: =B22*D22 -> 0 | H22: =A22 -> Finition | I22: =B22 -> 0 | J22: U | K22: 85 | L22: =I22*K22 -> 0 | N22: Bouchon Ankrobox Ø40 mm | O22: U | P22: 0.15 | R22: 22 - COTES D'ARMOR | S22: U | T22: 560 | W22: Ancre a pied 01T3 / lg 240 mm | X22: U | Y22: 0.63
A23: 01 - AIN | B23: 0 | C23: =LOOKUP(A23,R:S) -> U | D23: =LOOKUP(A23,R:R,T:T) -> 750 | E23: =B23*D23 -> 0 | H23: =A23 -> 01 - AIN | I23: =B23 -> 0 | J23: U | K23: =D23 -> 750 | L23: =I23*K23 -> 0 | N23: Bouchon Ankrobox Ø50 mm | O23: U | P23: 0.2 | R23: 23 - CREUSE | S23: U | T23: 550 | W23: Ancre a pied 02T5 / lg 055 mm | X23: U | Y23: 0.48
A24: TOTAL H.T. | E24: =E19+E20+E21+E22+E23 -> 0 | H24: TOTAL H.T. | L24: =E24 -> 0 | N24: Bouchon Ankrobox Ø60 mm | O24: U | P24: 0.25 | R24: 24 - DORDOGNE | S24: U | T24: 550 | W24: Ancre a pied 02T5 / lg 085 mm | X24: U | Y24: 0.54
A25: ML | B25: 0 | E25: =E24/B25 -> #DIV/0! | H25: ML | I25: =B25 -> 0 | L25: =L24/I25 -> #DIV/0! | N25: Bouchon Ankrobox Ø80 mm | O25: U | P25: 0.5 | R25: 25 - DOUBS | S25: U | T25: 900 | W25: Ancre a pied 02T5 / lg 120 mm | X25: U | Y25: 0.51
A26: U | B26: =B6 -> 0 | E26: =E24/B26 -> #DIV/0! | H26: U | I26: =B26 -> 0 | L26: =L24/I26 -> #DIV/0! | N26: Contreplaqué | O26: M2 | P26: 20 | R26: 26 - DROME | S26: U | T26: 1000 | W26: Ancre a pied 02T5 / lg 170 mm | X26: U | Y26: 0.59
A27: M3 | B27: =B3 -> 0 | E27: =E24/B27 -> #DIV/0! | H27: M3 | I27: =B27 -> 0 | L27: =L24/I27 -> #DIV/0! | N27: Coupleurs Ø12 femele | O27: U | P27: 5 | R27: 27 - EURE | S27: U | T27: 559 | W27: Ancre a pied 02T5 / lg 280 mm | X27: U | Y27: 0.9
A28: M² | B28: 0 | E28: =E24/B28 -> #DIV/0! | H28: M² | I28: =B28 -> 0 | L28: =L24/I28 -> #DIV/0! | N28: Coupleurs Ø12 mâle | O28: U | P28: 4 | R28: 28 - EURE ET LOIRE | S28: U | T28: 540 | W28: Ancre a pied 05T / lg 095 mm | X28: U | Y28: 0.96
N29: Coupleurs Ø14 femele | O29: U | P29: 9 | R29: 29 - FINISTERE | S29: U | T29: 620 | W29: Ancre a pied 05T / lg 120 mm | X29: U | Y29: 0.98
N30: Coupleurs Ø14 mâle | O30: U | P30: 7 | R30: 30 - GARD | S30: U | T30: 1090 | W30: Ancre a pied 05T / lg 180 mm | X30: U | Y30: 1.19
N31: Coupleurs Ø16 femele | O31: U | P31: 5 | R31: 31 - GARONNE | S31: U | T31: 780 | W31: Ancre a pied 05T / lg 240 mm | X31: U | Y31: 1.35
N32: Coupleurs Ø16 mâle | O32: U | P32: 5 | R32: 32 - GERS | S32: U | T32: 750 | W32: Ancre a pied 05T / lg 340 mm | X32: U | Y32: 1.79
N33: Coupleurs Ø20 femele | O33: U | P33: 18 | R33: 33 - GIRONDE | S33: U | T33: 500 | W33: Ancre a pied 07.5T / lg 100 mm | X33: U | Y33: 1.45
N34: Coupleurs Ø20 mâle | O34: U | P34: 13 | R34: 34 - HERAULT | S34: U | T34: 950 | W34: Ancre a pied 10T / lg 120 mm | X34: U | Y34: 2.16
N35: Crochet de levage ordinaire | O35: U | P35: 3 | R35: 35 - ILLE ET VILAINE | S35: U | T35: 430 | W35: Ancre a pied 10T / lg 150 mm | X35: U | Y35: 2.29
N36: Douilles 1 T | O36: U | P36: 2 | R36: 36 - INDRE | S36: U | T36: 490 | W36: Ancre a pied 10T / lg 170 mm | X36: U | Y36: 2.72
N37: Douilles 2 T | O37: U | P37: 3 | R37: 37 - INDRE ET LOIRE | S37: U | T37: 410 | W37: Ancre a pied 10T / lg 340 mm | X37: U | Y37: 3.52
N38: Douilles BT Innovation | O38: U | P38: 3 | R38: 38 - ISERE | S38: U | T38: 850 | W38: Ancre a pied 15T / lg 165 mm | X38: U | Y38: 3.77
N39: Ecarteur de nappe | O39: ML | P39: 2 | R39: 39 - JURA | S39: U | T39: 850 | W39: Ancre a pied 15T / lg 300 mm | X39: U | Y39: 7.2
N40: Echelle | O40: U | P40: 150 | R40: 40 - LANDES | S40: U | T40: 650 | W40: Ancre a pied 20T / lg 200 mm | X40: U | Y40: 6.91
...

Sheet Déboursé (5)
A1: DEBOURSE | H1: =A1 -> DEBOURSE | N1: Acier HA | O1: KG | P1: 1.15 | R1: 01 - AIN | S1: U | T1: 750 | W1: About de voile 06x35 en 6 ml 13.20 Kg/pc | X1: KG | Y1: 1.13
A2: Désignation | B2: Quantitée | C2: Unité | D2: Prix unitaire | E2: TOTAL H.T. | H2: Désignation | I2: Quantitée | J2: Unité | K2: Prix unitaire | L2: TOTAL H.T. | N2: Acier relevage 02.5T Frimeda | O2: U | P2: 1.7 | R2: 02 - AISNE | S2: U | T2: 730 | W2: About de voile 08x30 en 3 ml 6.60 Kg/pc | X2: KG | Y2: 1.27
A3: BAN 14N XC3 XF1 C40/50 | B3: 0 | C3: =LOOKUP($A$3:$A$16,article!C7:E2418) -> M3 | D3: 123 | E3: =B3*D3 -> 0 | H3: =A3 -> BAN 14N XC3 XF1 C40/50 | I3: =B3 -> 0 | J3: =C3 -> M3 | K3: 100 | L3: =I3*K3 -> 0 | N3: Acier relevage 05T Frimeda | O3: U | P3: 2 | R3: 03 - ALLIER | S3: U | T3: 580 | W3: About de voile 10x45 en 3 ml 6.60 Kg/pc | X3: KG | Y3: 1.11
A4: Armatures assemblées industriel | B4: 0 | C4: =LOOKUP($A$3:$A$16,article!C8:E2419) -> KG | D4: 1.2 | E4: =B4*D4 -> 0 | H4: =A4 -> Armatures assemblées industriel | I4: =B4 -> 0 | J4: =C4 -> KG | K4: =D4 -> 1.2 | L4: =I4*K4 -> 0 | N4: Acier relevage 10T Frimeda | O4: U | P4: 4.2 | R4: 04 - ALPES HAUTE PROVENCE | S4: U | T4: 1150 | W4: Acier de relevage Frimeda 02T5 | X4: U | Y4: 1.7
A5: TS | B5: 0 | C5: =LOOKUP($A$3:$A$16,article!C9:E2420) -> U | D5: =LOOKUP($A$3:$A$16,article!C:C,article!M:M) -> 10.9 | E5: =B5*D5 -> 0 | H5: =A5 -> TS | I5: =B5 -> 0 | J5: =C5 -> U | K5: =D5 -> 10.9 | L5: =I5*K5 -> 0 | N5: Ancre Artéon 01.3T | O5: U | P5: 2 | R5: 05 - ALPES HAUTES | S5: U | T5: 1150 | W5: Acier de relevage Frimeda 05T | X5: U | Y5: 1.99
A6: HCA | B6: 0 | C6: =LOOKUP($A$3:$A$16,article!C10:E2421) -> U | D6: 1.2 | E6: =B6*D6 -> 0 | H6: =A6 -> HCA | I6: =B6 -> 0 | J6: =C6 -> U | K6: =D6 -> 1.2 | L6: =I6*K6 -> 0 | N6: Ancre Artéon 02.5T | O6: U | P6: 3 | R6: 06 - ALPES MARITIMES | S6: U | T6: 1410 | W6: Acier de relevage Frimeda 10T | X6: U | Y6: 4.33
A7: Ecarteur de nappe | B7: 0 | C7: =LOOKUP($A$3:$A$16,article!C11:E2422) -> ML | D7: =LOOKUP($A$3:$A$16,article!C:C,article!M:M) -> 0.82 | E7: =B7*D7 -> 0 | H7: =A7 -> Ecarteur de nappe | I7: =B7 -> 0 | J7: =C7 -> ML | K7: =D7 -> 0.82 | L7: =I7*K7 -> 0 | N7: Ancre Artéon 05T | O7: U | P7: 3.5 | R7: 07 - ARDECHE | S7: U | T7: 900 | W7: Aciers HA | X7: KG | Y7: 1.1
A8: ANCRE A PIED 2T5/ LG 170MM SAC DE 100 | B8: 0 | C8: =LOOKUP($A$3:$A$16,article!C12:E2423) -> U | D8: =LOOKUP($A$3:$A$16,article!C:C,article!M:M) -> 0.55 | E8: =B8*D8 -> 0 | H8: =A8 -> ANCRE A PIED 2T5/ LG 170MM SAC DE 100 | I8: =B8 -> 0 | J8: =C8 -> U | K8: =D8 -> 0.55 | L8: =I8*K8 -> 0 | N8: Ancre Artéon 10T | O8: U | P8: 4 | R8: 08 - ARDENNES | S8: U | T8: 880 | W8: Ancre a oeil 01T3 / lg 050 mm | X8: U | Y8: 0.39
A9: ANCRE A PIED 1T3 / LG 170 MM SAC DE 100 | B9: 0 | C9: =LOOKUP($A$3:$A$16,article!C13:E2424) -> U | D9: =LOOKUP($A$3:$A$16,article!C:C,article!M:M) -> 0.32 | E9: =B9*D9 -> 0 | H9: =A9 -> ANCRE A PIED 1T3 / LG 170 MM SAC DE 100 | I9: =B9 -> 0 | J9: =C9 -> U | K9: =D9 -> 0.32 | L9: =I9*K9 -> 0 | N9: Ancre Artéon 15T | O9: U | P9: 6 | R9: 09 - ARIEGE | S9: U | T9: 940 | W9: Ancre a oeil 01T3 / lg 065 mm | X9: U | Y9: 0.39
A10: Ancre Artéon 10T | B10: 0 | C10: =LOOKUP($A$3:$A$16,article!C14:E2425) -> U | D10: =LOOKUP($A$3:$A$16,article!C:C,article!M:M) -> 8.14 | E10: =B10*D10 -> 0 | H10: =A10 -> Ancre Artéon 10T | I10: =B10 -> 0 | J10: =C10 -> U | K10: =D10 -> 8.14 | L10: =I10*K10 -> 0 | N10: Ancre Artéon 20T | O10: U | P10: 10 | R10: 10 - AUBE | S10: U | T10: 765 | W10: Ancre a oeil 02T5 / lg 090 mm | X10: U | Y10: 0.56
A11: Crochet de levage ordinaire | B11: 0 | C11: =LOOKUP($A$3:$A$16,article!C15:E2426) -> U | D11: =LOOKUP($A$3:$A$16,article!C:C,article!M:M) -> 7.15 | E11: =B11*D11 -> 0 | H11: =A11 -> Crochet de levage ordinaire | I11: =B11 -> 0 | J11: =C11 -> U | K11: =D11 -> 7.15 | L11: =I11*K11 -> 0 | N11: Ancre Frimeda 02.5T | O11: U | P11: 3.5 | R11: 11 - AUDE | S11: U | T11: 1000 | W11: Ancre a oeil 02T5 / lg 120 mm | X11: U | Y11: 1.4
A12: Douilles 2 T | B12: 0 | C12: =LOOKUP($A$3:$A$16,article!C16:E2427) -> U | D12: =LOOKUP($A$3:$A$16,article!C:C,article!M:M) -> 7.37 | E12: =B12*D12 -> 0 | H12: =A12 -> Douilles 2 T | I12: =B12 -> 0 | J12: =C12 -> U | K12: =D12 -> 7.37 | L12: =I12*K12 -> 0 | N12: Ancre Frimeda 05T | O12: U | P12: 6.5 | R12: 12 - AVEYRON | S12: U | T12: 881 | W12: Ancre a oeil 05T / lg 090 mm | X12: U | Y12: 1.12
A13: Métal déployé | B13: 0 | C13: =LOOKUP($A$3:$A$16,article!C17:E2428) -> U | D13: =LOOKUP($A$3:$A$16,article!C:C,article!M:M) -> 0 | E13: =B13*D13 -> 0 | H13: =A13 -> Métal déployé | I13: =B13 -> 0 | J13: =C13 -> U | K13: =D13 -> 0 | L13: =I13*K13 -> 0 | N13: Ancre Frimeda 10T | O13: U | P13: 15 | R13: 13 - BOUCHES DU RHONE | S13: U | T13: 1150 | W13: Ancre a oeil 10T / lg 115 mm | X13: U | Y13: 2.48
A14: Boite d'attente Ø6 ou Ø8 | B14: 0 | C14: =LOOKUP($A$3:$A$16,article!C18:E2429) -> ML | D14: =LOOKUP($A$3:$A$16,article!C:C,article!M:M) -> 2.44 | E14: =B14*D14 -> 0 | H14: =A14 -> Boite d'attente Ø6 ou Ø8 | I14: =B14 -> 0 | J14: =C14 -> ML | K14: =D14 -> 2.44 | L14: =I14*K14 -> 0 | N14: Ankrobox Ø40 mm | O14: ML | P14: 3 | R14: 14 - CALVADOS | S14: U | T14: 600 | W14: Ancre a oeil 10T / lg 180 mm | X14: U | Y14: 2.94
A15: Tiges filetées | B15: 0 | C15: =LOOKUP($A$3:$A$16,article!C19:E2430) -> U | D15: =LOOKUP($A$3:$A$16,article!C:C,article!M:M) -> 63.01 | E15: =B15*D15 -> 0 | H15: =A15 -> Tiges filetées | I15: =B15 -> 0 | J15: =C15 -> U | K15: =D15 -> 63.01 | L15: =I15*K15 -> 0 | N15: Ankrobox Ø50 mm | O15: ML | P15: 3 | R15: 14 - CANTAL | S15: U | T15: 695 | W15: Ancre a oeil 20T / lg 250 mm | X15: U | Y15: 9.95
A16: Contreplaqué | B16: 0 | C16: M2 | D16: 20 | E16: =B16*D16 -> 0 | H16: =A16 -> Contreplaqué | I16: =B16 -> 0 | J16: =C16 -> M2 | K16: =D16 -> 20 | L16: =I16*K16 -> 0 | N16: Ankrobox Ø60 mm | O16: ML | P16: 4 | R16: 16 - CHARENTE | S16: U | T16: 400 | W16: Ancre a pied 01T3 / lg 035 mm | X16: U | Y16: 0.26
A17: TOTAL HORS BENEFICE | D17: 0 | E17: =SUM(E3:E16) -> 0 | H17: TOTAL HORS BENEFICE | K17: 0 | L17: =SUM(L3:L16) -> 0 | N17: Ankrobox Ø80 mm | O17: ML | P17: 5 | R17: 17 - CHARENTE MARITIME | S17: U | T17: 400 | W17: Ancre a pied 01T3 / lg 050 mm | X17: U | Y17: 0.39
A18: Marge | B18: 30 | C18: % | D18: 0 | E18: =E17*B18/100 -> 0 | F18: =IF(E24=0,"",E18/E24) | H18: Marge | I18: =IF((L18=0),"",L18/L17*100) | J18: % | K18: 0 | L18: =L19-L17 -> 0 | M18: =IF(E24=0,"",L18/L24) | N18: Ankrobox Ø95 mm | O18: ML | P18: 6.5 | R18: 18 - CHER | S18: U | T18: 500 | W18: Ancre a pied 01T3 / lg 065 mm | X18: U | Y18: 0
E19: =E17+E18 -> 0 | L19: =L24-L21-L20-L22-L23 -> 0 | N19: Ankromur avec crochets | O19: ML | P19: 6 | R19: 19 - CORREZE | S19: U | T19: 558 | W19: Ancre a pied 01T3 / lg 085 mm | X19: U | Y19: 0.36
A20: M.O. | B20: 0 | C20: U | D20: 87.5 | E20: =B20*D20 -> 0 | H20: =A20 -> M.O. | I20: =B20 -> 0 | J20: U | K20: 85 | L20: =I20*K20 -> 0 | N20: Béton | O20: M3 | P20: 110 | R20: 20 - CORSE | S20: U | T20: 0 | W20: Ancre a pied 01T3 / lg 120 mm | X20: U | Y20: 0.38
A21: Coffrage | B21: 0 | C21: U | D21: 87.5 | E21: =B21*D21 -> 0 | H21: =A21 -> Coffrage | I21: =B21 -> 0 | J21: U | K21: 85 | L21: =I21*K21 -> 0 | N21: Boite d'attente Ø6 ou Ø8 | O21: ML | P21: 4 | R21: 21 - COTE D'OR | S21: U | T21: 750 | W21: Ancre a pied 01T3 / lg 170 mm | X21: U | Y21: 0.54
A22: Finition | B22: 0 | C22: U | D22: 87.5 | E22: =B22*D22 -> 0 | H22: =A22 -> Finition | I22: =B22 -> 0 | J22: U | K22: 85 | L22: =I22*K22 -> 0 | N22: Bouchon Ankrobox Ø40 mm | O22: U | P22: 0.15 | R22: 22 - COTES D'ARMOR | S22: U | T22: 560 | W22: Ancre a pied 01T3 / lg 240 mm | X22: U | Y22: 0.63
A23: 01 - AIN | B23: 0 | C23: =LOOKUP(A23,R:S) -> U | D23: =LOOKUP(A23,R:R,T:T) -> 750 | E23: =B23*D23 -> 0 | H23: =A23 -> 01 - AIN | I23: =B23 -> 0 | J23: U | K23: =D23 -> 750 | L23: =I23*K23 -> 0 | N23: Bouchon Ankrobox Ø50 mm | O23: U | P23: 0.2 | R23: 23 - CREUSE | S23: U | T23: 550 | W23: Ancre a pied 02T5 / lg 055 mm | X23: U | Y23: 0.48
A24: TOTAL H.T. | E24: =E19+E20+E21+E22+E23 -> 0 | H24: TOTAL H.T. | L24: =E24 -> 0 | N24: Bouchon Ankrobox Ø60 mm | O24: U | P24: 0.25 | R24: 24 - DORDOGNE | S24: U | T24: 550 | W24: Ancre a pied 02T5 / lg 085 mm | X24: U | Y24: 0.54
A25: ML | B25: 0 | E25: =E24/B25 -> #DIV/0! | H25: ML | I25: =B25 -> 0 | L25: =L24/I25 -> #DIV/0! | N25: Bouchon Ankrobox Ø80 mm | O25: U | P25: 0.5 | R25: 25 - DOUBS | S25: U | T25: 900 | W25: Ancre a pied 02T5 / lg 120 mm | X25: U | Y25: 0.51
A26: U | B26: =B6 -> 0 | E26: =E24/B26 -> #DIV/0! | H26: U | I26: =B26 -> 0 | L26: =L24/I26 -> #DIV/0! | N26: Contreplaqué | O26: M2 | P26: 20 | R26: 26 - DROME | S26: U | T26: 1000 | W26: Ancre a pied 02T5 / lg 170 mm | X26: U | Y26: 0.59
A27: M3 | B27: =B3 -> 0 | E27: =E24/B27 -> #DIV/0! | H27: M3 | I27: =B27 -> 0 | L27: =L24/I27 -> #DIV/0! | N27: Coupleurs Ø12 femele | O27: U | P27: 5 | R27: 27 - EURE | S27: U | T27: 559 | W27: Ancre a pied 02T5 / lg 280 mm | X27: U | Y27: 0.9
A28: M² | B28: 0 | E28: =E24/B28 -> #DIV/0! | H28: M² | I28: =B28 -> 0 | L28: =L24/I28 -> #DIV/0! | N28: Coupleurs Ø12 mâle | O28: U | P28: 4 | R28: 28 - EURE ET LOIRE | S28: U | T28: 540 | W28: Ancre a pied 05T / lg 095 mm | X28: U | Y28: 0.96
N29: Coupleurs Ø14 femele | O29: U | P29: 9 | R29: 29 - FINISTERE | S29: U | T29: 620 | W29: Ancre a pied 05T / lg 120 mm | X29: U | Y29: 0.98
N30: Coupleurs Ø14 mâle | O30: U | P30: 7 | R30: 30 - GARD | S30: U | T30: 1090 | W30: Ancre a pied 05T / lg 180 mm | X30: U | Y30: 1.19
N31: Coupleurs Ø16 femele | O31: U | P31: 5 | R31: 31 - GARONNE | S31: U | T31: 780 | W31: Ancre a pied 05T / lg 240 mm | X31: U | Y31: 1.35
N32: Coupleurs Ø16 mâle | O32: U | P32: 5 | R32: 32 - GERS | S32: U | T32: 750 | W32: Ancre a pied 05T / lg 340 mm | X32: U | Y32: 1.79
N33: Coupleurs Ø20 femele | O33: U | P33: 18 | R33: 33 - GIRONDE | S33: U | T33: 500 | W33: Ancre a pied 07.5T / lg 100 mm | X33: U | Y33: 1.45
N34: Coupleurs Ø20 mâle | O34: U | P34: 13 | R34: 34 - HERAULT | S34: U | T34: 950 | W34: Ancre a pied 10T / lg 120 mm | X34: U | Y34: 2.16
N35: Crochet de levage ordinaire | O35: U | P35: 3 | R35: 35 - ILLE ET VILAINE | S35: U | T35: 430 | W35: Ancre a pied 10T / lg 150 mm | X35: U | Y35: 2.29
N36: Douilles 1 T | O36: U | P36: 2 | R36: 36 - INDRE | S36: U | T36: 490 | W36: Ancre a pied 10T / lg 170 mm | X36: U | Y36: 2.72
N37: Douilles 2 T | O37: U | P37: 3 | R37: 37 - INDRE ET LOIRE | S37: U | T37: 410 | W37: Ancre a pied 10T / lg 340 mm | X37: U | Y37: 3.52
N38: Douilles BT Innovation | O38: U | P38: 3 | R38: 38 - ISERE | S38: U | T38: 850 | W38: Ancre a pied 15T / lg 165 mm | X38: U | Y38: 3.77
N39: Ecarteur de nappe | O39: ML | P39: 2 | R39: 39 - JURA | S39: U | T39: 850 | W39: Ancre a pied 15T / lg 300 mm | X39: U | Y39: 7.2
N40: Echelle | O40: U | P40: 150 | R40: 40 - LANDES | S40: U | T40: 650 | W40: Ancre a pied 20T / lg 200 mm | X40: U | Y40: 6.91
...

Sheet Déboursé (6)
A1: DEBOURSE | H1: =A1 -> DEBOURSE | N1: Acier HA | O1: KG | P1: 1.15 | R1: 01 - AIN | S1: U | T1: 750 | W1: About de voile 06x35 en 6 ml 13.20 Kg/pc | X1: KG | Y1: 1.13
A2: Désignation | B2: Quantitée | C2: Unité | D2: Prix unitaire | E2: TOTAL H.T. | H2: Désignation | I2: Quantitée | J2: Unité | K2: Prix unitaire | L2: TOTAL H.T. | N2: Acier relevage 02.5T Frimeda | O2: U | P2: 1.7 | R2: 02 - AISNE | S2: U | T2: 730 | W2: About de voile 08x30 en 3 ml 6.60 Kg/pc | X2: KG | Y2: 1.27
A3: BAN 14N XC3 XF1 C40/50 | B3: 0 | C3: =LOOKUP($A$3:$A$16,article!C7:E2418) -> M3 | D3: 123 | E3: =B3*D3 -> 0 | H3: =A3 -> BAN 14N XC3 XF1 C40/50 | I3: =B3 -> 0 | J3: =C3 -> M3 | K3: 100 | L3: =I3*K3 -> 0 | N3: Acier relevage 05T Frimeda | O3: U | P3: 2 | R3: 03 - ALLIER | S3: U | T3: 580 | W3: About de voile 10x45 en 3 ml 6.60 Kg/pc | X3: KG | Y3: 1.11
A4: Armatures assemblées industriel | B4: 0 | C4: =LOOKUP($A$3:$A$16,article!C8:E2419) -> KG | D4: 1.2 | E4: =B4*D4 -> 0 | H4: =A4 -> Armatures assemblées industriel | I4: =B4 -> 0 | J4: =C4 -> KG | K4: =D4 -> 1.2 | L4: =I4*K4 -> 0 | N4: Acier relevage 10T Frimeda | O4: U | P4: 4.2 | R4: 04 - ALPES HAUTE PROVENCE | S4: U | T4: 1150 | W4: Acier de relevage Frimeda 02T5 | X4: U | Y4: 1.7
A5: TS | B5: 0 | C5: =LOOKUP($A$3:$A$16,article!C9:E2420) -> U | D5: =LOOKUP($A$3:$A$16,article!C:C,article!M:M) -> 10.9 | E5: =B5*D5 -> 0 | H5: =A5 -> TS | I5: =B5 -> 0 | J5: =C5 -> U | K5: =D5 -> 10.9 | L5: =I5*K5 -> 0 | N5: Ancre Artéon 01.3T | O5: U | P5: 2 | R5: 05 - ALPES HAUTES | S5: U | T5: 1150 | W5: Acier de relevage Frimeda 05T | X5: U | Y5: 1.99
A6: HCA | B6: 0 | C6: =LOOKUP($A$3:$A$16,article!C10:E2421) -> U | D6: 1.2 | E6: =B6*D6 -> 0 | H6: =A6 -> HCA | I6: =B6 -> 0 | J6: =C6 -> U | K6: =D6 -> 1.2 | L6: =I6*K6 -> 0 | N6: Ancre Artéon 02.5T | O6: U | P6: 3 | R6: 06 - ALPES MARITIMES | S6: U | T6: 1410 | W6: Acier de relevage Frimeda 10T | X6: U | Y6: 4.33
A7: Ecarteur de nappe | B7: 0 | C7: =LOOKUP($A$3:$A$16,article!C11:E2422) -> ML | D7: =LOOKUP($A$3:$A$16,article!C:C,article!M:M) -> 0.82 | E7: =B7*D7 -> 0 | H7: =A7 -> Ecarteur de nappe | I7: =B7 -> 0 | J7: =C7 -> ML | K7: =D7 -> 0.82 | L7: =I7*K7 -> 0 | N7: Ancre Artéon 05T | O7: U | P7: 3.5 | R7: 07 - ARDECHE | S7: U | T7: 900 | W7: Aciers HA | X7: KG | Y7: 1.1
A8: ANCRE A PIED 2T5/ LG 170MM SAC DE 100 | B8: 0 | C8: =LOOKUP($A$3:$A$16,article!C12:E2423) -> U | D8: =LOOKUP($A$3:$A$16,article!C:C,article!M:M) -> 0.55 | E8: =B8*D8 -> 0 | H8: =A8 -> ANCRE A PIED 2T5/ LG 170MM SAC DE 100 | I8: =B8 -> 0 | J8: =C8 -> U | K8: =D8 -> 0.55 | L8: =I8*K8 -> 0 | N8: Ancre Artéon 10T | O8: U | P8: 4 | R8: 08 - ARDENNES | S8: U | T8: 880 | W8: Ancre a oeil 01T3 / lg 050 mm | X8: U | Y8: 0.39
A9: ANCRE A PIED 1T3 / LG 170 MM SAC DE 100 | B9: 0 | C9: =LOOKUP($A$3:$A$16,article!C13:E2424) -> U | D9: =LOOKUP($A$3:$A$16,article!C:C,article!M:M) -> 0.32 | E9: =B9*D9 -> 0 | H9: =A9 -> ANCRE A PIED 1T3 / LG 170 MM SAC DE 100 | I9: =B9 -> 0 | J9: =C9 -> U | K9: =D9 -> 0.32 | L9: =I9*K9 -> 0 | N9: Ancre Artéon 15T | O9: U | P9: 6 | R9: 09 - ARIEGE | S9: U | T9: 940 | W9: Ancre a oeil 01T3 / lg 065 mm | X9: U | Y9: 0.39
A10: Ancre Artéon 10T | B10: 0 | C10: =LOOKUP($A$3:$A$16,article!C14:E2425) -> U | D10: =LOOKUP($A$3:$A$16,article!C:C,article!M:M) -> 8.14 | E10: =B10*D10 -> 0 | H10: =A10 -> Ancre Artéon 10T | I10: =B10 -> 0 | J10: =C10 -> U | K10: =D10 -> 8.14 | L10: =I10*K10 -> 0 | N10: Ancre Artéon 20T | O10: U | P10: 10 | R10: 10 - AUBE | S10: U | T10: 765 | W10: Ancre a oeil 02T5 / lg 090 mm | X10: U | Y10: 0.56
A11: Crochet de levage ordinaire | B11: 0 | C11: =LOOKUP($A$3:$A$16,article!C15:E2426) -> U | D11: =LOOKUP($A$3:$A$16,article!C:C,article!M:M) -> 7.15 | E11: =B11*D11 -> 0 | H11: =A11 -> Crochet de levage ordinaire | I11: =B11 -> 0 | J11: =C11 -> U | K11: =D11 -> 7.15 | L11: =I11*K11 -> 0 | N11: Ancre Frimeda 02.5T | O11: U | P11: 3.5 | R11: 11 - AUDE | S11: U | T11: 1000 | W11: Ancre a oeil 02T5 / lg 120 mm | X11: U | Y11: 1.4
A12: Douilles 2 T | B12: 0 | C12: =LOOKUP($A$3:$A$16,article!C16:E2427) -> U | D12: =LOOKUP($A$3:$A$16,article!C:C,article!M:M) -> 7.37 | E12: =B12*D12 -> 0 | H12: =A12 -> Douilles 2 T | I12: =B12 -> 0 | J12: =C12 -> U | K12: =D12 -> 7.37 | L12: =I12*K12 -> 0 | N12: Ancre Frimeda 05T | O12: U | P12: 6.5 | R12: 12 - AVEYRON | S12: U | T12: 881 | W12: Ancre a oeil 05T / lg 090 mm | X12: U | Y12: 1.12
A13: Métal déployé | B13: 0 | C13: =LOOKUP($A$3:$A$16,article!C17:E2428) -> U | D13: =LOOKUP($A$3:$A$16,article!C:C,article!M:M) -> 0 | E13: =B13*D13 -> 0 | H13: =A13 -> Métal déployé | I13: =B13 -> 0 | J13: =C13 -> U | K13: =D13 -> 0 | L13: =I13*K13 -> 0 | N13: Ancre Frimeda 10T | O13: U | P13: 15 | R13: 13 - BOUCHES DU RHONE | S13: U | T13: 1150 | W13: Ancre a oeil 10T / lg 115 mm | X13: U | Y13: 2.48
A14: Boite d'attente Ø6 ou Ø8 | B14: 0 | C14: =LOOKUP($A$3:$A$16,article!C18:E2429) -> ML | D14: =LOOKUP($A$3:$A$16,article!C:C,article!M:M) -> 2.44 | E14: =B14*D14 -> 0 | H14: =A14 -> Boite d'attente Ø6 ou Ø8 | I14: =B14 -> 0 | J14: =C14 -> ML | K14: =D14 -> 2.44 | L14: =I14*K14 -> 0 | N14: Ankrobox Ø40 mm | O14: ML | P14: 3 | R14: 14 - CALVADOS | S14: U | T14: 600 | W14: Ancre a oeil 10T / lg 180 mm | X14: U | Y14: 2.94
