Workbook

Sheet Pays Qualifies
D7: PAYS QUALIFIES POUR LA COUPE DU MONDE DE LA FIFA 2018
D9: EUROPE | F9: AFRIQUE | H9: AMERIQUE CENTRALE | J9: AMERIQUE DU SUD | L9: ASIE
D15: Russie | F15: Tunisie | H15: Mexique | J15: Brésil | L15: Iran
D16: France | F16: Nigéria | H16: Costa Rica | J16: Uruguay | L16: Corée du Sud
D17: Portugal | F17: Maroc | H17: Panama | J17: Argentine | L17: Arabie Saoudite
D18: Allemagne | F18: Sénégal | J18: Colombie | L18: Japon
D19: Serbie | F19: Egypte | J19: Perou | L19: Australie
D20: Pologne
D21: Angleterre
D22: Espagne
D23: Belgique
D24: Islande
D25: Suisse
D26: Croatie
D27: Suède

Sheet Tirage au Sort
E3: LES GROUPES
D7: GROUPE A | G7: GROUPE B | J7: GROUPE C | M7: GROUPE D
D8: Russie | G8: Portugal | J8: France | M8: Argentine
D9: Arabie Saoudite | G9: Espagne | J9: Australie | M9: Islande
D10: Egypte | G10: Maroc | J10: Perou | M10: Croatie
D11: Uruguay | G11: Iran | J11: Danemark | M11: Nigeria
D16: GROUPE E | G16: GROUPE F | J16: GROUPE G | M16: GROUPE H
D17: Brésil | G17: Allemagne | J17: Belgique | M17: Pologne
D18: Suisse | G18: Mexique | J18: Panama | M18: Senegal
D19: Costa Rica | G19: Suède | J19: Tunisie | M19: Colombie
D20: Serbie | G20: Corée du Sud | J20: Angleterre | M20: Japon

Sheet Sélections n°1
B3: Russie | G3: Arabie Saoudite | L3: Egypte | Q3: Uruguay
B4: Poste | C4: Joueurs | D4: Age | E4: Clubs | G4: Poste | H4: Joueurs | I4: Age | J4: Clubs | L4: Poste | M4: Joueurs | N4: Age | O4: Clubs | Q4: Poste | R4: Joueurs | S4: Age | T4: Clubs
B31: Portugal | G31: Espagne | L31: Maroc | Q31: Iran
B32: Poste | C32: Joueurs | D32: Age | E32: Clubs | G32: Poste | H32: Joueurs | I32: Age | J32: Clubs | L32: Poste | M32: Joueurs | N32: Age | O32: Clubs | Q32: Poste | R32: Joueurs | S32: Age | T32: Clubs
B59: France | G59: Australie | L59: Pérou | Q59: Danemark
B60: Poste | C60: Joueurs | D60: Age | E60: Clubs | G60: Poste | H60: Joueurs | I60: Age | J60: Clubs | L60: Poste | M60: Joueurs | N60: Age | O60: Clubs | Q60: Poste | R60: Joueurs | S60: Age | T60: Clubs
B87: Argentine | G87: Islande | L87: Croatie | Q87: Nigéria
B88: Poste | C88: Joueurs | D88: Age | E88: Clubs | G88: Poste | H88: Joueurs | I88: Age | J88: Clubs | L88: Poste | M88: Joueurs | N88: Age | O88: Clubs | Q88: Poste | R88: Joueurs | S88: Age | T88: Clubs

Sheet Sélections n°2
B3: Brésil | G3: Suisse | L3: Costa Rica | Q3: Serbie
B4: Poste | C4: Joueurs | D4: Age | E4: Clubs | G4: Poste | H4: Joueurs | I4: Age | J4: Clubs | L4: Poste | M4: Joueurs | N4: Age | O4: Clubs | Q4: Poste | R4: Joueurs | S4: Age | T4: Clubs
B31: Allemagne | G31: Mexique | L31: Suède | Q31: Corée du Sud
B32: Poste | C32: Joueurs | D32: Age | E32: Clubs | G32: Poste | H32: Joueurs | I32: Age | J32: Clubs | L32: Poste | M32: Joueurs | N32: Age | O32: Clubs | Q32: Poste | R32: Joueurs | S32: Age | T32: Clubs
B59: Belgique | G59: Panama | L59: Tunisie | Q59: Angleterre
B60: Poste | C60: Joueurs | D60: Age | E60: Clubs | G60: Poste | H60: Joueurs | I60: Age | J60: Clubs | L60: Poste | M60: Joueurs | N60: Age | O60: Clubs | Q60: Poste | R60: Joueurs | S60: Age | T60: Clubs
B87: Pologne | G87: Sénégal | L87: Colombie | Q87: Japon
B88: Poste | C88: Joueurs | D88: Age | E88: Clubs | G88: Poste | H88: Joueurs | I88: Age | J88: Clubs | L88: Poste | M88: Joueurs | N88: Age | O88: Clubs | Q88: Poste | R88: Joueurs | S88: Age | T88: Clubs

Sheet Phase de Groupe
B5: 43265 | C5: 17h00 | E5: Moscou | F5: Russie | H5: 1 | I5: - | J5: 1 | L5: Arabie Saoudite | O5: Groupe A | AS5: Groupe A
B6: 43266 | C6: 16h00 | E6: Ekaterinbourg | F6: Egypte | H6: 2 | I6: - | J6: 1 | L6: Uruguay | Q6: MJ | R6: MG | S6: MN | T6: MP | U6: GP | V6: GC | W6: PTS | AU6: MJ | AV6: MG | AW6: MN | AX6: MP | AY6: GP | AZ6: GC | BA6: PTS | BB6: Magic
B7: 43331 | C7: 20h00 | E7: St-Petersbourg | F7: Russie | H7: 0 | I7: - | J7: 0 | L7: Egypte | O7: 1 | P7: =VLOOKUP(1,$AR$7:$BB$10,COLUMN(C1),FALSE) -> Russie | Q7: =VLOOKUP(1,$AR$7:$BB$10,COLUMN(D1),FALSE) -> 3 | R7: =VLOOKUP(1,$AR$7:$BB$10,COLUMN(E1),FALSE) -> 1 | S7: =VLOOKUP(1,$AR$7:$BB$10,COLUMN(F1),FALSE) -> 2 | T7: =VLOOKUP(1,$AR$7:$BB$10,COLUMN(G1),FALSE) -> 0 | U7: =VLOOKUP(1,$AR$7:$BB$10,COLUMN(H1),FALSE) -> 3 | V7: =VLOOKUP(1,$AR$7:$BB$10,COLUMN(I1),FALSE) -> 2 | W7: =VLOOKUP(1,$AR$7:$BB$10,COLUMN(J1),FALSE) -> 5 | AR7: =RANK(BB7,$BB$7:$BB$10) -> 1 | AS7: 1. | AT7: Russie | AU7: =COUNTIFS($F$5:$F$10,AT7,$H$5:$H$10,"<>")+COUNTIFS($L$5:$L$10,AT7,$J$5:$J$10,"<>") -> 3 | AV7: =SUMPRODUCT(($F$5:$F$10=AT7)*($H$5:$H$10>$J$5:$J$10)*($H$5:$H$10<>""))+SUMPRODUCT(($L$5:$L$10=AT7)*($J$5:$J$10>$H$5:$H$10)*($H$5:$H$10<>"")) -> 1 | AW7: =SUMPRODUCT(($F$5:$F$10=AT7)*($H$5:$H$10=$J$5:$J$10)*($H$5:$H$10<>""))+SUMPRODUCT(($L$5:$L$10=AT7)*($J$5:$J$10=$H$5:$H$10)*($H$5:$H$10<>"")) -> 2 | AX7: =AU7-AV7-AW7 -> 0 | AY7: =SUMIFS($H$5:$H$10,$F$5:$F$10,AT7)+SUMIFS($J$5:$J$10,$L$5:$L$10,AT7) -> 3 | AZ7: =SUMIFS($H$5:$H$10,$L$5:$L$10,AT7)+SUMIFS($J$5:$J$10,$F$5:$F$10,AT7) -> 2 | BA7: =3*AV7+AW7 -> 5 | BB7: =BA7*100000+(AY7-AZ7)*1000+AY7+(100-ROW())/100 -> 501003.93
B8: 43271 | C8: 17h00 | E8: Rostov | F8: Uruguay | H8: 2 | I8: - | J8: 1 | L8: Arabie Saoudite | O8: =IF(INT(VLOOKUP(2,$AR$7:$BB$10,11,0))=INT(VLOOKUP(1,$AR$7:$BB$10,11,0)),O7,2) -> 1 | P8: =VLOOKUP(2,$AR$7:$BB$10,COLUMN(C2),FALSE) -> Egypte | Q8: =VLOOKUP(2,$AR$7:$BB$10,COLUMN(D2),FALSE) -> 3 | R8: =VLOOKUP(2,$AR$7:$BB$10,COLUMN(E2),FALSE) -> 1 | S8: =VLOOKUP(2,$AR$7:$BB$10,COLUMN(F2),FALSE) -> 2 | T8: =VLOOKUP(2,$AR$7:$BB$10,COLUMN(G2),FALSE) -> 0 | U8: =VLOOKUP(2,$AR$7:$BB$10,COLUMN(H2),FALSE) -> 3 | V8: =VLOOKUP(2,$AR$7:$BB$10,COLUMN(I2),FALSE) -> 2 | W8: =VLOOKUP(2,$AR$7:$BB$10,COLUMN(J2),FALSE) -> 5 | AR8: =RANK(BB8,$BB$7:$BB$10) -> 4 | AS8: 2. | AT8: Arabie Saoudite | AU8: =COUNTIFS($F$5:$F$10,AT8,$H$5:$H$10,"<>")+COUNTIFS($L$5:$L$10,AT8,$J$5:$J$10,"<>") -> 3 | AV8: =SUMPRODUCT(($F$5:$F$10=AT8)*($H$5:$H$10>$J$5:$J$10)*($H$5:$H$10<>""))+SUMPRODUCT(($L$5:$L$10=AT8)*($J$5:$J$10>$H$5:$H$10)*($H$5:$H$10<>"")) -> 0 | AW8: =SUMPRODUCT(($F$5:$F$10=AT8)*($H$5:$H$10=$J$5:$J$10)*($H$5:$H$10<>""))+SUMPRODUCT(($L$5:$L$10=AT8)*($J$5:$J$10=$H$5:$H$10)*($H$5:$H$10<>"")) -> 2 | AX8: =AU8-AV8-AW8 -> 1 | AY8: =SUMIFS($H$5:$H$10,$F$5:$F$10,AT8)+SUMIFS($J$5:$J$10,$L$5:$L$10,AT8) -> 3 | AZ8: =SUMIFS($H$5:$H$10,$L$5:$L$10,AT8)+SUMIFS($J$5:$J$10,$F$5:$F$10,AT8) -> 4 | BA8: =3*AV8+AW8 -> 2 | BB8: =BA8*100000+(AY8-AZ8)*1000+AY8+(100-ROW())/100 -> 199003.92
B9: 43276 | C9: 16h00 | E9: Samara | F9: Uruguay | H9: 1 | I9: - | J9: 2 | L9: Russie | O9: =IF(INT(VLOOKUP(3,$AR$7:$BB$10,11,0))=INT(VLOOKUP(2,$AR$7:$BB$10,11,0)),O8,3) -> 3 | P9: =VLOOKUP(3,$AR$7:$BB$10,COLUMN(C3),FALSE) -> Uruguay | Q9: =VLOOKUP(3,$AR$7:$BB$10,COLUMN(D3),FALSE) -> 3 | R9: =VLOOKUP(3,$AR$7:$BB$10,COLUMN(E3),FALSE) -> 1 | S9: =VLOOKUP(3,$AR$7:$BB$10,COLUMN(F3),FALSE) -> 0 | T9: =VLOOKUP(3,$AR$7:$BB$10,COLUMN(G3),FALSE) -> 2 | U9: =VLOOKUP(3,$AR$7:$BB$10,COLUMN(H3),FALSE) -> 4 | V9: =VLOOKUP(3,$AR$7:$BB$10,COLUMN(I3),FALSE) -> 5 | W9: =VLOOKUP(3,$AR$7:$BB$10,COLUMN(J3),FALSE) -> 3 | AR9: =RANK(BB9,$BB$7:$BB$10) -> 2 | AS9: 3. | AT9: Egypte | AU9: =COUNTIFS($F$5:$F$10,AT9,$H$5:$H$10,"<>")+COUNTIFS($L$5:$L$10,AT9,$J$5:$J$10,"<>") -> 3 | AV9: =SUMPRODUCT(($F$5:$F$10=AT9)*($H$5:$H$10>$J$5:$J$10)*($H$5:$H$10<>""))+SUMPRODUCT(($L$5:$L$10=AT9)*($J$5:$J$10>$H$5:$H$10)*($H$5:$H$10<>"")) -> 1 | AW9: =SUMPRODUCT(($F$5:$F$10=AT9)*($H$5:$H$10=$J$5:$J$10)*($H$5:$H$10<>""))+SUMPRODUCT(($L$5:$L$10=AT9)*($J$5:$J$10=$H$5:$H$10)*($H$5:$H$10<>"")) -> 2 | AX9: =AU9-AV9-AW9 -> 0 | AY9: =SUMIFS($H$5:$H$10,$F$5:$F$10,AT9)+SUMIFS($J$5:$J$10,$L$5:$L$10,AT9) -> 3 | AZ9: =SUMIFS($H$5:$H$10,$L$5:$L$10,AT9)+SUMIFS($J$5:$J$10,$F$5:$F$10,AT9) -> 2 | BA9: =3*AV9+AW9 -> 5 | BB9: =BA9*100000+(AY9-AZ9)*1000+AY9+(100-ROW())/100 -> 501003.91
B10: 43276 | C10: 16h00 | E10: Volgograd | F10: Arabie Saoudite | H10: 1 | I10: - | J10: 1 | L10: Egypte | O10: =IF(INT(VLOOKUP(4,$AR$7:$BB$10,11,0))=INT(VLOOKUP(3,$AR$7:$BB$10,11,0)),O9,4) -> 4 | P10: =VLOOKUP(4,$AR$7:$BB$10,COLUMN(C4),FALSE) -> Arabie Saoudite | Q10: =VLOOKUP(4,$AR$7:$BB$10,COLUMN(D4),FALSE) -> 3 | R10: =VLOOKUP(4,$AR$7:$BB$10,COLUMN(E4),FALSE) -> 0 | S10: =VLOOKUP(4,$AR$7:$BB$10,COLUMN(F4),FALSE) -> 2 | T10: =VLOOKUP(4,$AR$7:$BB$10,COLUMN(G4),FALSE) -> 1 | U10: =VLOOKUP(4,$AR$7:$BB$10,COLUMN(H4),FALSE) -> 3 | V10: =VLOOKUP(4,$AR$7:$BB$10,COLUMN(I4),FALSE) -> 4 | W10: =VLOOKUP(4,$AR$7:$BB$10,COLUMN(J4),FALSE) -> 2 | AR10: =RANK(BB10,$BB$7:$BB$10) -> 3 | AS10: 4. | AT10: Uruguay | AU10: =COUNTIFS($F$5:$F$10,AT10,$H$5:$H$10,"<>")+COUNTIFS($L$5:$L$10,AT10,$J$5:$J$10,"<>") -> 3 | AV10: =SUMPRODUCT(($F$5:$F$10=AT10)*($H$5:$H$10>$J$5:$J$10)*($H$5:$H$10<>""))+SUMPRODUCT(($L$5:$L$10=AT10)*($J$5:$J$10>$H$5:$H$10)*($H$5:$H$10<>"")) -> 1 | AW10: =SUMPRODUCT(($F$5:$F$10=AT10)*($H$5:$H$10=$J$5:$J$10)*($H$5:$H$10<>""))+SUMPRODUCT(($L$5:$L$10=AT10)*($J$5:$J$10=$H$5:$H$10)*($H$5:$H$10<>"")) -> 0 | AX10: =AU10-AV10-AW10 -> 2 | AY10: =SUMIFS($H$5:$H$10,$F$5:$F$10,AT10)+SUMIFS($J$5:$J$10,$L$5:$L$10,AT10) -> 4 | AZ10: =SUMIFS($H$5:$H$10,$L$5:$L$10,AT10)+SUMIFS($J$5:$J$10,$F$5:$F$10,AT10) -> 5 | BA10: =3*AV10+AW10 -> 3 | BB10: =BA10*100000+(AY10-AZ10)*1000+AY10+(100-ROW())/100 -> 299004.9
B13: 42901 | C13: 18h00 | E13: St-Petersbourg | F13: Maroc | H13: 1 | I13: - | J13: 0 | L13: Iran | O13: Groupe B | AS13: Groupe B
B14: 42901 | C14: 21h00 | E14: Sotchi | F14: Portugal | I14: - | L14: Espagne | Q14: MJ | R14: MG | S14: MN | T14: MP | U14: GP | V14: GC | W14: PTS | AU14: MJ | AV14: MG | AW14: MN | AX14: MP | AY14: GP | AZ14: GC | BA14: PTS | BB14: Magic
B15: 42906 | C15: 14h00 | E15: Moscou | F15: Portugal | I15: - | L15: Maroc | O15: 1 | P15: =VLOOKUP(1,$AR$15:$BB$18,COLUMN(C9),FALSE) -> Maroc | Q15: =VLOOKUP(1,$AR$15:$BB$18,COLUMN(D9),FALSE) -> 1 | R15: =VLOOKUP(1,$AR$15:$BB$18,COLUMN(E9),FALSE) -> 1 | S15: =VLOOKUP(1,$AR$15:$BB$18,COLUMN(F9),FALSE) -> 0 | T15: =VLOOKUP(1,$AR$15:$BB$18,COLUMN(G9),FALSE) -> 0 | U15: =VLOOKUP(1,$AR$15:$BB$18,COLUMN(H9),FALSE) -> 1 | V15: =VLOOKUP(1,$AR$15:$BB$18,COLUMN(I9),FALSE) -> 0 | W15: =VLOOKUP(1,$AR$15:$BB$18,COLUMN(J9),FALSE) -> 3 | AR15: =RANK(BB15,$BB$15:$BB$18) -> 2 | AS15: 1. | AT15: Portugal | AU15: =COUNTIFS($F$13:$F$18,AT15,$H$13:$H$18,"<>")+COUNTIFS($L$13:$L$18,AT15,$J$13:$J$18,"<>") -> 0 | AV15: =SUMPRODUCT(($F$13:$F$18=AT15)*($H$13:$H$18>$J$13:$J$18)*($H$13:$H$18<>""))+SUMPRODUCT(($L$13:$L$18=AT15)*($J$13:$J$18>$H$13:$H$18)*($H$13:$H$18<>"")) -> 0 | AW15: =SUMPRODUCT(($F$13:$F$18=AT15)*($H$13:$H$18=$J$13:$J$18)*($H$13:$H$18<>""))+SUMPRODUCT(($L$13:$L$18=AT15)*($J$13:$J$18=$H$13:$H$18)*($H$13:$H$18<>"")) -> 0 | AX15: =AU15-AV15-AW15 -> 0 | AY15: =SUMIFS($H$13:$H$18,$F$13:$F$18,AT15)+SUMIFS($J$13:$J$18,$L$13:$L$18,AT15) -> 0 | AZ15: =SUMIFS($H$13:$H$18,$L$13:$L$18,AT15)+SUMIFS($J$13:$J$18,$F$13:$F$18,AT15) -> 0 | BA15: =3*AV15+AW15 -> 0 | BB15: =BA15*100000+(AY15-AZ15)*1000+AY15+(100-ROW())/100 -> 0.85
B16: 42906 | C16: 20h00 | E16: Kazan | F16: Iran | I16: - | L16: Espagne | O16: =IF(INT(VLOOKUP(2,$AR$15:$BB$18,11,0))=INT(VLOOKUP(1,$AR$15:$BB$18,11,0)),O15,2) -> 2 | P16: =VLOOKUP(2,$AR$15:$BB$18,COLUMN(C10),FALSE) -> Portugal | Q16: =VLOOKUP(2,$AR$15:$BB$18,COLUMN(D10),FALSE) -> 0 | R16: =VLOOKUP(2,$AR$15:$BB$18,COLUMN(E10),FALSE) -> 0 | S16: =VLOOKUP(2,$AR$15:$BB$18,COLUMN(F10),FALSE) -> 0 | T16: =VLOOKUP(2,$AR$15:$BB$18,COLUMN(G10),FALSE) -> 0 | U16: =VLOOKUP(2,$AR$15:$BB$18,COLUMN(H10),FALSE) -> 0 | V16: =VLOOKUP(2,$AR$15:$BB$18,COLUMN(I10),FALSE) -> 0 | W16: =VLOOKUP(2,$AR$15:$BB$18,COLUMN(J10),FALSE) -> 0 | AR16: =RANK(BB16,$BB$15:$BB$18) -> 3 | AS16: 2. | AT16: Espagne | AU16: =COUNTIFS($F$13:$F$18,AT16,$H$13:$H$18,"<>")+COUNTIFS($L$13:$L$18,AT16,$J$13:$J$18,"<>") -> 0 | AV16: =SUMPRODUCT(($F$13:$F$18=AT16)*($H$13:$H$18>$J$13:$J$18)*($H$13:$H$18<>""))+SUMPRODUCT(($L$13:$L$18=AT16)*($J$13:$J$18>$H$13:$H$18)*($H$13:$H$18<>"")) -> 0 | AW16: =SUMPRODUCT(($F$13:$F$18=AT16)*($H$13:$H$18=$J$13:$J$18)*($H$13:$H$18<>""))+SUMPRODUCT(($L$13:$L$18=AT16)*($J$13:$J$18=$H$13:$H$18)*($H$13:$H$18<>"")) -> 0 | AX16: =AU16-AV16-AW16 -> 0 | AY16: =SUMIFS($H$13:$H$18,$F$13:$F$18,AT16)+SUMIFS($J$13:$J$18,$L$13:$L$18,AT16) -> 0 | AZ16: =SUMIFS($H$13:$H$18,$L$13:$L$18,AT16)+SUMIFS($J$13:$J$18,$F$13:$F$18,AT16) -> 0 | BA16: =3*AV16+AW16 -> 0 | BB16: =BA16*100000+(AY16-AZ16)*1000+AY16+(100-ROW())/100 -> 0.84
B17: 42911 | C17: 20h00 | E17: Saransk | F17: Iran | I17: - | L17: Portugal | O17: =IF(INT(VLOOKUP(3,$AR$15:$BB$18,11,0))=INT(VLOOKUP(2,$AR$15:$BB$18,11,0)),O16,3) -> 2 | P17: =VLOOKUP(3,$AR$15:$BB$18,COLUMN(C11),FALSE) -> Espagne | Q17: =VLOOKUP(3,$AR$15:$BB$18,COLUMN(D11),FALSE) -> 0 | R17: =VLOOKUP(3,$AR$15:$BB$18,COLUMN(E11),FALSE) -> 0 | S17: =VLOOKUP(3,$AR$15:$BB$18,COLUMN(F11),FALSE) -> 0 | T17: =VLOOKUP(3,$AR$15:$BB$18,COLUMN(G11),FALSE) -> 0 | U17: =VLOOKUP(3,$AR$15:$BB$18,COLUMN(H11),FALSE) -> 0 | V17: =VLOOKUP(3,$AR$15:$BB$18,COLUMN(I11),FALSE) -> 0 | W17: =VLOOKUP(3,$AR$15:$BB$18,COLUMN(J11),FALSE) -> 0 | AR17: =RANK(BB17,$BB$15:$BB$18) -> 1 | AS17: 3. | AT17: Maroc | AU17: =COUNTIFS($F$13:$F$18,AT17,$H$13:$H$18,"<>")+COUNTIFS($L$13:$L$18,AT17,$J$13:$J$18,"<>") -> 1 | AV17: =SUMPRODUCT(($F$13:$F$18=AT17)*($H$13:$H$18>$J$13:$J$18)*($H$13:$H$18<>""))+SUMPRODUCT(($L$13:$L$18=AT17)*($J$13:$J$18>$H$13:$H$18)*($H$13:$H$18<>"")) -> 1 | AW17: =SUMPRODUCT(($F$13:$F$18=AT17)*($H$13:$H$18=$J$13:$J$18)*($H$13:$H$18<>""))+SUMPRODUCT(($L$13:$L$18=AT17)*($J$13:$J$18=$H$13:$H$18)*($H$13:$H$18<>"")) -> 0 | AX17: =AU17-AV17-AW17 -> 0 | AY17: =SUMIFS($H$13:$H$18,$F$13:$F$18,AT17)+SUMIFS($J$13:$J$18,$L$13:$L$18,AT17) -> 1 | AZ17: =SUMIFS($H$13:$H$18,$L$13:$L$18,AT17)+SUMIFS($J$13:$J$18,$F$13:$F$18,AT17) -> 0 | BA17: =3*AV17+AW17 -> 3 | BB17: =BA17*100000+(AY17-AZ17)*1000+AY17+(100-ROW())/100 -> 301001.83
B18: 42911 | C18: 20h00 | E18: Kaliningrad | F18: Espagne | I18: - | L18: Maroc | O18: =IF(INT(VLOOKUP(4,$AR$15:$BB$18,11,0))=INT(VLOOKUP(3,$AR$15:$BB$18,11,0)),O17,4) -> 4 | P18: =VLOOKUP(4,$AR$15:$BB$18,COLUMN(C12),FALSE) -> Iran | Q18: =VLOOKUP(4,$AR$15:$BB$18,COLUMN(D12),FALSE) -> 1 | R18: =VLOOKUP(4,$AR$15:$BB$18,COLUMN(E12),FALSE) -> 0 | S18: =VLOOKUP(4,$AR$15:$BB$18,COLUMN(F12),FALSE) -> 0 | T18: =VLOOKUP(4,$AR$15:$BB$18,COLUMN(G12),FALSE) -> 1 | U18: =VLOOKUP(4,$AR$15:$BB$18,COLUMN(H12),FALSE) -> 0 | V18: =VLOOKUP(4,$AR$15:$BB$18,COLUMN(I12),FALSE) -> 1 | W18: =VLOOKUP(4,$AR$15:$BB$18,COLUMN(J12),FALSE) -> 0 | AR18: =RANK(BB18,$BB$15:$BB$18) -> 4 | AS18: 4. | AT18: Iran | AU18: =COUNTIFS($F$13:$F$18,AT18,$H$13:$H$18,"<>")+COUNTIFS($L$13:$L$18,AT18,$J$13:$J$18,"<>") -> 1 | AV18: =SUMPRODUCT(($F$13:$F$18=AT18)*($H$13:$H$18>$J$13:$J$18)*($H$13:$H$18<>""))+SUMPRODUCT(($L$13:$L$18=AT18)*($J$13:$J$18>$H$13:$H$18)*($H$13:$H$18<>"")) -> 0 | AW18: =SUMPRODUCT(($F$13:$F$18=AT18)*($H$13:$H$18=$J$13:$J$18)*($H$13:$H$18<>""))+SUMPRODUCT(($L$13:$L$18=AT18)*($J$13:$J$18=$H$13:$H$18)*($H$13:$H$18<>"")) -> 0 | AX18: =AU18-AV18-AW18 -> 1 | AY18: =SUMIFS($H$13:$H$18,$F$13:$F$18,AT18)+SUMIFS($J$13:$J$18,$L$13:$L$18,AT18) -> 0 | AZ18: =SUMIFS($H$13:$H$18,$L$13:$L$18,AT18)+SUMIFS($J$13:$J$18,$F$13:$F$18,AT18) -> 1 | BA18: =3*AV18+AW18 -> 0 | BB18: =BA18*100000+(AY18-AZ18)*1000+AY18+(100-ROW())/100 -> -999.18
B21: 42902 | C21: 13h00 | E21: Kazan | F21: France | I21: - | L21: Australie | O21: Groupe C | AS21: Groupe C
B22: 42902 | C22: 19h00 | E22: Saransk | F22: Pérou | I22: - | L22: Danemark | Q22: MJ | R22: MG | S22: MN | T22: MP | U22: GP | V22: GC | W22: PTS | AU22: MJ | AV22: MG | AW22: MN | AX22: MP | AY22: GP | AZ22: GC | BA22: PTS | BB22: Magic
B23: 42907 | C23: 17h00 | E23: Samara | F23: Danemak | I23: - | L23: Australie | O23: 1 | P23: =VLOOKUP(1,$AR$23:$BB$26,COLUMN(C17),FALSE) -> France | Q23: =VLOOKUP(1,$AR$23:$BB$26,COLUMN(D17),FALSE) -> 0 | R23: =VLOOKUP(1,$AR$23:$BB$26,COLUMN(E17),FALSE) -> 0 | S23: =VLOOKUP(1,$AR$23:$BB$26,COLUMN(F17),FALSE) -> 0 | T23: =VLOOKUP(1,$AR$23:$BB$26,COLUMN(G17),FALSE) -> 0 | U23: =VLOOKUP(1,$AR$23:$BB$26,COLUMN(H17),FALSE) -> 0 | V23: =VLOOKUP(1,$AR$23:$BB$26,COLUMN(I17),FALSE) -> 0 | W23: =VLOOKUP(1,$AR$23:$BB$26,COLUMN(J17),FALSE) -> 0 | AR23: =RANK(BB23,$BB$23:$BB$26) -> 1 | AS23: 1. | AT23: France | AU23: =COUNTIFS($F$21:$F$26,AT23,$H$21:$H$26,"<>")+COUNTIFS($L$21:$L$26,AT23,$J$21:$J$26,"<>") -> 0 | AV23: =SUMPRODUCT(($F$21:$F$26=AT23)*($H$21:$H$26>$J$21:$J$26)*($H$21:$H$26<>""))+SUMPRODUCT(($L$21:$L$26=AT23)*($J$21:$J$26>$H$21:$H$26)*($H$21:$H$26<>"")) -> 0 | AW23: =SUMPRODUCT(($F$21:$F$26=AT23)*($H$21:$H$26=$J$21:$J$26)*($H$21:$H$26<>""))+SUMPRODUCT(($L$21:$L$26=AT23)*($J$21:$J$26=$H$21:$H$26)*($H$21:$H$26<>"")) -> 0 | AX23: =AU23-AV23-AW23 -> 0 | AY23: =SUMIFS($H$21:$H$26,$F$21:$F$26,AT23)+SUMIFS($J$21:$J$26,$L$21:$L$26,AT23) -> 0 | AZ23: =SUMIFS($H$21:$H$26,$L$21:$L$26,AT23)+SUMIFS($J$21:$J$26,$F$21:$F$26,AT23) -> 0 | BA23: =3*AV23+AW23 -> 0 | BB23: =BA23*100000+(AY23-AZ23)*1000+AY23+(100-ROW())/100 -> 0.77
B24: 42907 | C24: 14h00 | E24: Ekaterinbourg | F24: France | I24: - | L24: Pérou | O24: =IF(INT(VLOOKUP(2,$AR$23:$BB$26,11,0))=INT(VLOOKUP(1,$AR$23:$BB$26,11,0)),O23,2) -> 1 | P24: =VLOOKUP(2,$AR$23:$BB$26,COLUMN(C18),FALSE) -> Australie | Q24: =VLOOKUP(2,$AR$23:$BB$26,COLUMN(D18),FALSE) -> 0 | R24: =VLOOKUP(2,$AR$23:$BB$26,COLUMN(E18),FALSE) -> 0 | S24: =VLOOKUP(2,$AR$23:$BB$26,COLUMN(F18),FALSE) -> 0 | T24: =VLOOKUP(2,$AR$23:$BB$26,COLUMN(G18),FALSE) -> 0 | U24: =VLOOKUP(2,$AR$23:$BB$26,COLUMN(H18),FALSE) -> 0 | V24: =VLOOKUP(2,$AR$23:$BB$26,COLUMN(I18),FALSE) -> 0 | W24: =VLOOKUP(2,$AR$23:$BB$26,COLUMN(J18),FALSE) -> 0 | AR24: =RANK(BB24,$BB$23:$BB$26) -> 2 | AS24: 2. | AT24: Australie | AU24: =COUNTIFS($F$21:$F$26,AT24,$H$21:$H$26,"<>")+COUNTIFS($L$21:$L$26,AT24,$J$21:$J$26,"<>") -> 0 | AV24: =SUMPRODUCT(($F$21:$F$26=AT24)*($H$21:$H$26>$J$21:$J$26)*($H$21:$H$26<>""))+SUMPRODUCT(($L$21:$L$26=AT24)*($J$21:$J$26>$H$21:$H$26)*($H$21:$H$26<>"")) -> 0 | AW24: =SUMPRODUCT(($F$21:$F$26=AT24)*($H$21:$H$26=$J$21:$J$26)*($H$21:$H$26<>""))+SUMPRODUCT(($L$21:$L$26=AT24)*($J$21:$J$26=$H$21:$H$26)*($H$21:$H$26<>"")) -> 0 | AX24: =AU24-AV24-AW24 -> 0 | AY24: =SUMIFS($H$21:$H$26,$F$21:$F$26,AT24)+SUMIFS($J$21:$J$26,$L$21:$L$26,AT24) -> 0 | AZ24: =SUMIFS($H$21:$H$26,$L$21:$L$26,AT24)+SUMIFS($J$21:$J$26,$F$21:$F$26,AT24) -> 0 | BA24: =3*AV24+AW24 -> 0 | BB24: =BA24*100000+(AY24-AZ24)*1000+AY24+(100-ROW())/100 -> 0.76
B25: 42912 | C25: 16h00 | E25: Moscou | F25: Danemark | I25: - | L25: France | O25: =IF(INT(VLOOKUP(3,$AR$23:$BB$26,11,0))=INT(VLOOKUP(2,$AR$23:$BB$26,11,0)),O24,3) -> 1 | P25: =VLOOKUP(3,$AR$23:$BB$26,COLUMN(C19),FALSE) -> Pérou | Q25: =VLOOKUP(3,$AR$23:$BB$26,COLUMN(D19),FALSE) -> 0 | R25: =VLOOKUP(3,$AR$23:$BB$26,COLUMN(E19),FALSE) -> 0 | S25: =VLOOKUP(3,$AR$23:$BB$26,COLUMN(F19),FALSE) -> 0 | T25: =VLOOKUP(3,$AR$23:$BB$26,COLUMN(G19),FALSE) -> 0 | U25: =VLOOKUP(3,$AR$23:$BB$26,COLUMN(H19),FALSE) -> 0 | V25: =VLOOKUP(3,$AR$23:$BB$26,COLUMN(I19),FALSE) -> 0 | W25: =VLOOKUP(3,$AR$23:$BB$26,COLUMN(J19),FALSE) -> 0 | AR25: =RANK(BB25,$BB$23:$BB$26) -> 3 | AS25: 3. | AT25: Pérou | AU25: =COUNTIFS($F$21:$F$26,AT25,$H$21:$H$26,"<>")+COUNTIFS($L$21:$L$26,AT25,$J$21:$J$26,"<>") -> 0 | AV25: =SUMPRODUCT(($F$21:$F$26=AT25)*($H$21:$H$26>$J$21:$J$26)*($H$21:$H$26<>""))+SUMPRODUCT(($L$21:$L$26=AT25)*($J$21:$J$26>$H$21:$H$26)*($H$21:$H$26<>"")) -> 0 | AW25: =SUMPRODUCT(($F$21:$F$26=AT25)*($H$21:$H$26=$J$21:$J$26)*($H$21:$H$26<>""))+SUMPRODUCT(($L$21:$L$26=AT25)*($J$21:$J$26=$H$21:$H$26)*($H$21:$H$26<>"")) -> 0 | AX25: =AU25-AV25-AW25 -> 0 | AY25: =SUMIFS($H$21:$H$26,$F$21:$F$26,AT25)+SUMIFS($J$21:$J$26,$L$21:$L$26,AT25) -> 0 | AZ25: =SUMIFS($H$21:$H$26,$L$21:$L$26,AT25)+SUMIFS($J$21:$J$26,$F$21:$F$26,AT25) -> 0 | BA25: =3*AV25+AW25 -> 0 | BB25: =BA25*100000+(AY25-AZ25)*1000+AY25+(100-ROW())/100 -> 0.75
B26: 42912 | C26: 16h00 | E26: Sotchi | F26: Australie | I26: - | L26: Pérou | O26: =IF(INT(VLOOKUP(4,$AR$23:$BB$26,11,0))=INT(VLOOKUP(3,$AR$23:$BB$26,11,0)),O25,4) -> 1 | P26: =VLOOKUP(4,$AR$23:$BB$26,COLUMN(C20),FALSE) -> Danemark | Q26: =VLOOKUP(4,$AR$23:$BB$26,COLUMN(D20),FALSE) -> 0 | R26: =VLOOKUP(4,$AR$23:$BB$26,COLUMN(E20),FALSE) -> 0 | S26: =VLOOKUP(4,$AR$23:$BB$26,COLUMN(F20),FALSE) -> 0 | T26: =VLOOKUP(4,$AR$23:$BB$26,COLUMN(G20),FALSE) -> 0 | U26: =VLOOKUP(4,$AR$23:$BB$26,COLUMN(H20),FALSE) -> 0 | V26: =VLOOKUP(4,$AR$23:$BB$26,COLUMN(I20),FALSE) -> 0 | W26: =VLOOKUP(4,$AR$23:$BB$26,COLUMN(J20),FALSE) -> 0 | AR26: =RANK(BB26,$BB$23:$BB$26) -> 4 | AS26: 4. | AT26: Danemark | AU26: =COUNTIFS($F$21:$F$26,AT26,$H$21:$H$26,"<>")+COUNTIFS($L$21:$L$26,AT26,$J$21:$J$26,"<>") -> 0 | AV26: =SUMPRODUCT(($F$21:$F$26=AT26)*($H$21:$H$26>$J$21:$J$26)*($H$21:$H$26<>""))+SUMPRODUCT(($L$21:$L$26=AT26)*($J$21:$J$26>$H$21:$H$26)*($H$21:$H$26<>"")) -> 0 | AW26: =SUMPRODUCT(($F$21:$F$26=AT26)*($H$21:$H$26=$J$21:$J$26)*($H$21:$H$26<>""))+SUMPRODUCT(($L$21:$L$26=AT26)*($J$21:$J$26=$H$21:$H$26)*($H$21:$H$26<>"")) -> 0 | AX26: =AU26-AV26-AW26 -> 0 | AY26: =SUMIFS($H$21:$H$26,$F$21:$F$26,AT26)+SUMIFS($J$21:$J$26,$L$21:$L$26,AT26) -> 0 | AZ26: =SUMIFS($H$21:$H$26,$L$21:$L$26,AT26)+SUMIFS($J$21:$J$26,$F$21:$F$26,AT26) -> 0 | BA26: =3*AV26+AW26 -> 0 | BB26: =BA26*100000+(AY26-AZ26)*1000+AY26+(100-ROW())/100 -> 0.74
B29: 42902 | C29: 16h00 | E29: Moscou | F29: Argentine | I29: - | L29: Islande | O29: Groupe D | AS29: Groupe D
B30: 42902 | C30: 21h00 | E30: Kaliningrad | F30: Croatie | I30: - | L30: Nigéria | Q30: MJ | R30: MG | S30: MN | T30: MP | U30: GP | V30: GC | W30: PTS | AU30: MJ | AV30: MG | AW30: MN | AX30: MP | AY30: GP | AZ30: GC | BA30: PTS | BB30: Magic
B31: 42907 | C31: 20h00 | E31: Nijni-Novgorod | F31: Argentine | I31: - | L31: Croatie | O31: 1 | P31: =VLOOKUP(1,$AR$31:$BB$34,COLUMN(C25),FALSE) -> Argentine | Q31: =VLOOKUP(1,$AR$31:$BB$34,COLUMN(D25),FALSE) -> 0 | R31: =VLOOKUP(1,$AR$31:$BB$34,COLUMN(E25),FALSE) -> 0 | S31: =VLOOKUP(1,$AR$31:$BB$34,COLUMN(F25),FALSE) -> 0 | T31: =VLOOKUP(1,$AR$31:$BB$34,COLUMN(G25),FALSE) -> 0 | U31: =VLOOKUP(1,$AR$31:$BB$34,COLUMN(H25),FALSE) -> 0 | V31: =VLOOKUP(1,$AR$31:$BB$34,COLUMN(I25),FALSE) -> 0 | W31: =VLOOKUP(1,$AR$31:$BB$34,COLUMN(J25),FALSE) -> 0 | AR31: =RANK(BB31,$BB$31:$BB$34) -> 1 | AS31: 1. | AT31: Argentine | AU31: =COUNTIFS($F$29:$F$34,AT31,$H$29:$H$34,"<>")+COUNTIFS($L$29:$L$34,AT31,$J$29:$J$34,"<>") -> 0 | AV31: =SUMPRODUCT(($F$29:$F$34=AT31)*($H$29:$H$34>$J$29:$J$34)*($H$29:$H$34<>""))+SUMPRODUCT(($L$29:$L$34=AT31)*($J$29:$J$34>$H$29:$H$34)*($H$29:$H$34<>"")) -> 0 | AW31: =SUMPRODUCT(($F$29:$F$34=AT31)*($H$29:$H$34=$J$29:$J$34)*($H$29:$H$34<>""))+SUMPRODUCT(($L$29:$L$34=AT31)*($J$29:$J$34=$H$29:$H$34)*($H$29:$H$34<>"")) -> 0 | AX31: =AU31-AV31-AW31 -> 0 | AY31: =SUMIFS($H$29:$H$34,$F$29:$F$34,AT31)+SUMIFS($J$29:$J$34,$L$29:$L$34,AT31) -> 0 | AZ31: =SUMIFS($H$29:$H$34,$L$29:$L$34,AT31)+SUMIFS($J$29:$J$34,$F$29:$F$34,AT31) -> 0 | BA31: =3*AV31+AW31 -> 0 | BB31: =BA31*100000+(AY31-AZ31)*1000+AY31+(100-ROW())/100 -> 0.69
B32: 42908 | C32: 17h00 | E32: Volgograd | F32: Nigéria | I32: - | L32: Islande | O32: =IF(INT(VLOOKUP(2,$AR$31:$BB$34,11,0))=INT(VLOOKUP(1,$AR$31:$BB$34,11,0)),O31,2) -> 1 | P32: =VLOOKUP(2,$AR$31:$BB$34,COLUMN(C26),FALSE) -> Islande | Q32: =VLOOKUP(2,$AR$31:$BB$34,COLUMN(D26),FALSE) -> 0 | R32: =VLOOKUP(2,$AR$31:$BB$34,COLUMN(E26),FALSE) -> 0 | S32: =VLOOKUP(2,$AR$31:$BB$34,COLUMN(F26),FALSE) -> 0 | T32: =VLOOKUP(2,$AR$31:$BB$34,COLUMN(G26),FALSE) -> 0 | U32: =VLOOKUP(2,$AR$31:$BB$34,COLUMN(H26),FALSE) -> 0 | V32: =VLOOKUP(2,$AR$31:$BB$34,COLUMN(I26),FALSE) -> 0 | W32: =VLOOKUP(2,$AR$31:$BB$34,COLUMN(J26),FALSE) -> 0 | AR32: =RANK(BB32,$BB$31:$BB$34) -> 2 | AS32: 2. | AT32: Islande | AU32: =COUNTIFS($F$29:$F$34,AT32,$H$29:$H$34,"<>")+COUNTIFS($L$29:$L$34,AT32,$J$29:$J$34,"<>") -> 0 | AV32: =SUMPRODUCT(($F$29:$F$34=AT32)*($H$29:$H$34>$J$29:$J$34)*($H$29:$H$34<>""))+SUMPRODUCT(($L$29:$L$34=AT32)*($J$29:$J$34>$H$29:$H$34)*($H$29:$H$34<>"")) -> 0 | AW32: =SUMPRODUCT(($F$29:$F$34=AT32)*($H$29:$H$34=$J$29:$J$34)*($H$29:$H$34<>""))+SUMPRODUCT(($L$29:$L$34=AT32)*($J$29:$J$34=$H$29:$H$34)*($H$29:$H$34<>"")) -> 0 | AX32: =AU32-AV32-AW32 -> 0 | AY32: =SUMIFS($H$29:$H$34,$F$29:$F$34,AT32)+SUMIFS($J$29:$J$34,$L$29:$L$34,AT32) -> 0 | AZ32: =SUMIFS($H$29:$H$34,$L$29:$L$34,AT32)+SUMIFS($J$29:$J$34,$F$29:$F$34,AT32) -> 0 | BA32: =3*AV32+AW32 -> 0 | BB32: =BA32*100000+(AY32-AZ32)*1000+AY32+(100-ROW())/100 -> 0.68
B33: 42912 | C33: 20h00 | E33: St-Petersbourg | F33: Nigéria | I33: - | L33: Argentine | O33: =IF(INT(VLOOKUP(3,$AR$31:$BB$34,11,0))=INT(VLOOKUP(2,$AR$31:$BB$34,11,0)),O32,3) -> 1 | P33: =VLOOKUP(3,$AR$31:$BB$34,COLUMN(C27),FALSE) -> Croatie | Q33: =VLOOKUP(3,$AR$31:$BB$34,COLUMN(D27),FALSE) -> 0 | R33: =VLOOKUP(3,$AR$31:$BB$34,COLUMN(E27),FALSE) -> 0 | S33: =VLOOKUP(3,$AR$31:$BB$34,COLUMN(F27),FALSE) -> 0 | T33: =VLOOKUP(3,$AR$31:$BB$34,COLUMN(G27),FALSE) -> 0 | U33: =VLOOKUP(3,$AR$31:$BB$34,COLUMN(H27),FALSE) -> 0 | V33: =VLOOKUP(3,$AR$31:$BB$34,COLUMN(I27),FALSE) -> 0 | W33: =VLOOKUP(3,$AR$31:$BB$34,COLUMN(J27),FALSE) -> 0 | AR33: =RANK(BB33,$BB$31:$BB$34) -> 3 | AS33: 3. | AT33: Croatie | AU33: =COUNTIFS($F$29:$F$34,AT33,$H$29:$H$34,"<>")+COUNTIFS($L$29:$L$34,AT33,$J$29:$J$34,"<>") -> 0 | AV33: =SUMPRODUCT(($F$29:$F$34=AT33)*($H$29:$H$34>$J$29:$J$34)*($H$29:$H$34<>""))+SUMPRODUCT(($L$29:$L$34=AT33)*($J$29:$J$34>$H$29:$H$34)*($H$29:$H$34<>"")) -> 0 | AW33: =SUMPRODUCT(($F$29:$F$34=AT33)*($H$29:$H$34=$J$29:$J$34)*($H$29:$H$34<>""))+SUMPRODUCT(($L$29:$L$34=AT33)*($J$29:$J$34=$H$29:$H$34)*($H$29:$H$34<>"")) -> 0 | AX33: =AU33-AV33-AW33 -> 0 | AY33: =SUMIFS($H$29:$H$34,$F$29:$F$34,AT33)+SUMIFS($J$29:$J$34,$L$29:$L$34,AT33) -> 0 | AZ33: =SUMIFS($H$29:$H$34,$L$29:$L$34,AT33)+SUMIFS($J$29:$J$34,$F$29:$F$34,AT33) -> 0 | BA33: =3*AV33+AW33 -> 0 | BB33: =BA33*100000+(AY33-AZ33)*1000+AY33+(100-ROW())/100 -> 0.67
B34: 42912 | C34: 20h00 | E34: Rostov | F34: Islande | I34: - | L34: Croatie | O34: =IF(INT(VLOOKUP(4,$AR$31:$BB$34,11,0))=INT(VLOOKUP(3,$AR$31:$BB$34,11,0)),O33,4) -> 1 | P34: =VLOOKUP(4,$AR$31:$BB$34,COLUMN(C28),FALSE) -> Nigéria | Q34: =VLOOKUP(4,$AR$31:$BB$34,COLUMN(D28),FALSE) -> 0 | R34: =VLOOKUP(4,$AR$31:$BB$34,COLUMN(E28),FALSE) -> 0 | S34: =VLOOKUP(4,$AR$31:$BB$34,COLUMN(F28),FALSE) -> 0 | T34: =VLOOKUP(4,$AR$31:$BB$34,COLUMN(G28),FALSE) -> 0 | U34: =VLOOKUP(4,$AR$31:$BB$34,COLUMN(H28),FALSE) -> 0 | V34: =VLOOKUP(4,$AR$31:$BB$34,COLUMN(I28),FALSE) -> 0 | W34: =VLOOKUP(4,$AR$31:$BB$34,COLUMN(J28),FALSE) -> 0 | AR34: =RANK(BB34,$BB$31:$BB$34) -> 4 | AS34: 4. | AT34: Nigéria | AU34: =COUNTIFS($F$29:$F$34,AT34,$H$29:$H$34,"<>")+COUNTIFS($L$29:$L$34,AT34,$J$29:$J$34,"<>") -> 0 | AV34: =SUMPRODUCT(($F$29:$F$34=AT34)*($H$29:$H$34>$J$29:$J$34)*($H$29:$H$34<>""))+SUMPRODUCT(($L$29:$L$34=AT34)*($J$29:$J$34>$H$29:$H$34)*($H$29:$H$34<>"")) -> 0 | AW34: =SUMPRODUCT(($F$29:$F$34=AT34)*($H$29:$H$34=$J$29:$J$34)*($H$29:$H$34<>""))+SUMPRODUCT(($L$29:$L$34=AT34)*($J$29:$J$34=$H$29:$H$34)*($H$29:$H$34<>"")) -> 0 | AX34: =AU34-AV34-AW34 -> 0 | AY34: =SUMIFS($H$29:$H$34,$F$29:$F$34,AT34)+SUMIFS($J$29:$J$34,$L$29:$L$34,AT34) -> 0 | AZ34: =SUMIFS($H$29:$H$34,$L$29:$L$34,AT34)+SUMIFS($J$29:$J$34,$F$29:$F$34,AT34) -> 0 | BA34: =3*AV34+AW34 -> 0 | BB34: =BA34*100000+(AY34-AZ34)*1000+AY34+(100-ROW())/100 -> 0.66
B37: 42903 | C37: 16h00 | E37: Samara | F37: Costa Rica | I37: - | L37: Serbie | O37: Groupe E | AS37: Groupe E
B38: 42903 | C38: 21h00 | E38: Rostov | F38: Brésil | I38: - | L38: Suisse | Q38: MJ | R38: MG | S38: MN | T38: MP | U38: GP | V38: GC | W38: PTS | AU38: MJ | AV38: MG | AW38: MN | AX38: MP | AY38: GP | AZ38: GC | BA38: PTS | BB38: Magic
B39: 42908 | C39: 14h00 | E39: St-Petersbourg | F39: Brésil | I39: - | L39: Costa Rica | O39: 1 | P39: =VLOOKUP(1,$AR$39:$BB$42,COLUMN(C33),FALSE) -> Brésil | Q39: =VLOOKUP(1,$AR$39:$BB$42,COLUMN(D33),FALSE) -> 0 | R39: =VLOOKUP(1,$AR$39:$BB$42,COLUMN(E33),FALSE) -> 0 | S39: =VLOOKUP(1,$AR$39:$BB$42,COLUMN(F33),FALSE) -> 0 | T39: =VLOOKUP(1,$AR$39:$BB$42,COLUMN(G33),FALSE) -> 0 | U39: =VLOOKUP(1,$AR$39:$BB$42,COLUMN(H33),FALSE) -> 0 | V39: =VLOOKUP(1,$AR$39:$BB$42,COLUMN(I33),FALSE) -> 0 | W39: =VLOOKUP(1,$AR$39:$BB$42,COLUMN(J33),FALSE) -> 0 | AR39: =RANK(BB39,$BB$39:$BB$42) -> 1 | AS39: 1. | AT39: Brésil | AU39: =COUNTIFS($F$37:$F$42,AT39,$H$37:$H$42,"<>")+COUNTIFS($L$37:$L$42,AT39,$J$37:$J$42,"<>") -> 0 | AV39: =SUMPRODUCT(($F$37:$F$42=AT39)*($H$37:$H$42>$J$37:$J$42)*($H$37:$H$42<>""))+SUMPRODUCT(($L$37:$L$42=AT39)*($J$37:$J$42>$H$37:$H$42)*($H$37:$H$42<>"")) -> 0 | AW39: =SUMPRODUCT(($F$37:$F$42=AT39)*($H$37:$H$42=$J$37:$J$42)*($H$37:$H$42<>""))+SUMPRODUCT(($L$37:$L$42=AT39)*($J$37:$J$42=$H$37:$H$42)*($H$37:$H$42<>"")) -> 0 | AX39: =AU39-AV39-AW39 -> 0 | AY39: =SUMIFS($H$37:$H$42,$F$37:$F$42,AT39)+SUMIFS($J$37:$J$42,$L$37:$L$42,AT39) -> 0 | AZ39: =SUMIFS($H$37:$H$42,$L$37:$L$42,AT39)+SUMIFS($J$37:$J$42,$F$37:$F$42,AT39) -> 0 | BA39: =3*AV39+AW39 -> 0 | BB39: =BA39*100000+(AY39-AZ39)*1000+AY39+(100-ROW())/100 -> 0.61
B40: 42908 | C40: 20h00 | E40: Kaliningrad | F40: Serbie | I40: - | L40: Suisse | O40: =IF(INT(VLOOKUP(2,$AR$39:$BB$42,11,0))=INT(VLOOKUP(1,$AR$39:$BB$42,11,0)),O39,2) -> 1 | P40: =VLOOKUP(2,$AR$39:$BB$42,COLUMN(C34),FALSE) -> Suisse | Q40: =VLOOKUP(2,$AR$39:$BB$42,COLUMN(D34),FALSE) -> 0 | R40: =VLOOKUP(2,$AR$39:$BB$42,COLUMN(E34),FALSE) -> 0 | S40: =VLOOKUP(2,$AR$39:$BB$42,COLUMN(F34),FALSE) -> 0 | T40: =VLOOKUP(2,$AR$39:$BB$42,COLUMN(G34),FALSE) -> 0 | U40: =VLOOKUP(2,$AR$39:$BB$42,COLUMN(H34),FALSE) -> 0 | V40: =VLOOKUP(2,$AR$39:$BB$42,COLUMN(I34),FALSE) -> 0 | W40: =VLOOKUP(2,$AR$39:$BB$42,COLUMN(J34),FALSE) -> 0 | AR40: =RANK(BB40,$BB$39:$BB$42) -> 2 | AS40: 2. | AT40: Suisse | AU40: =COUNTIFS($F$37:$F$42,AT40,$H$37:$H$42,"<>")+COUNTIFS($L$37:$L$42,AT40,$J$37:$J$42,"<>") -> 0 | AV40: =SUMPRODUCT(($F$37:$F$42=AT40)*($H$37:$H$42>$J$37:$J$42)*($H$37:$H$42<>""))+SUMPRODUCT(($L$37:$L$42=AT40)*($J$37:$J$42>$H$37:$H$42)*($H$37:$H$42<>"")) -> 0 | AW40: =SUMPRODUCT(($F$37:$F$42=AT40)*($H$37:$H$42=$J$37:$J$42)*($H$37:$H$42<>""))+SUMPRODUCT(($L$37:$L$42=AT40)*($J$37:$J$42=$H$37:$H$42)*($H$37:$H$42<>"")) -> 0 | AX40: =AU40-AV40-AW40 -> 0 | AY40: =SUMIFS($H$37:$H$42,$F$37:$F$42,AT40)+SUMIFS($J$37:$J$42,$L$37:$L$42,AT40) -> 0 | AZ40: =SUMIFS($H$37:$H$42,$L$37:$L$42,AT40)+SUMIFS($J$37:$J$42,$F$37:$F$42,AT40) -> 0 | BA40: =3*AV40+AW40 -> 0 | BB40: =BA40*100000+(AY40-AZ40)*1000+AY40+(100-ROW())/100 -> 0.6
B41: 42913 | C41: 20h00 | E41: Moscou | F41: Serbie | I41: - | L41: Brésil | O41: =IF(INT(VLOOKUP(3,$AR$39:$BB$42,11,0))=INT(VLOOKUP(2,$AR$39:$BB$42,11,0)),O40,3) -> 1 | P41: =VLOOKUP(3,$AR$39:$BB$42,COLUMN(C35),FALSE) -> Costa Rica | Q41: =VLOOKUP(3,$AR$39:$BB$42,COLUMN(D35),FALSE) -> 0 | R41: =VLOOKUP(3,$AR$39:$BB$42,COLUMN(E35),FALSE) -> 0 | S41: =VLOOKUP(3,$AR$39:$BB$42,COLUMN(F35),FALSE) -> 0 | T41: =VLOOKUP(3,$AR$39:$BB$42,COLUMN(G35),FALSE) -> 0 | U41: =VLOOKUP(3,$AR$39:$BB$42,COLUMN(H35),FALSE) -> 0 | V41: =VLOOKUP(3,$AR$39:$BB$42,COLUMN(I35),FALSE) -> 0 | W41: =VLOOKUP(3,$AR$39:$BB$42,COLUMN(J35),FALSE) -> 0 | AR41: =RANK(BB41,$BB$39:$BB$42) -> 3 | AS41: 3. | AT41: Costa Rica | AU41: =COUNTIFS($F$37:$F$42,AT41,$H$37:$H$42,"<>")+COUNTIFS($L$37:$L$42,AT41,$J$37:$J$42,"<>") -> 0 | AV41: =SUMPRODUCT(($F$37:$F$42=AT41)*($H$37:$H$42>$J$37:$J$42)*($H$37:$H$42<>""))+SUMPRODUCT(($L$37:$L$42=AT41)*($J$37:$J$42>$H$37:$H$42)*($H$37:$H$42<>"")) -> 0 | AW41: =SUMPRODUCT(($F$37:$F$42=AT41)*($H$37:$H$42=$J$37:$J$42)*($H$37:$H$42<>""))+SUMPRODUCT(($L$37:$L$42=AT41)*($J$37:$J$42=$H$37:$H$42)*($H$37:$H$42<>"")) -> 0 | AX41: =AU41-AV41-AW41 -> 0 | AY41: =SUMIFS($H$37:$H$42,$F$37:$F$42,AT41)+SUMIFS($J$37:$J$42,$L$37:$L$42,AT41) -> 0 | AZ41: =SUMIFS($H$37:$H$42,$L$37:$L$42,AT41)+SUMIFS($J$37:$J$42,$F$37:$F$42,AT41) -> 0 | BA41: =3*AV41+AW41 -> 0 | BB41: =BA41*100000+(AY41-AZ41)*1000+AY41+(100-ROW())/100 -> 0.59
B42: 42913 | C42: 20h00 | E42: Nijni-Novgorod | F42: Suisse | I42: - | L42: Costa Rica | O42: =IF(INT(VLOOKUP(4,$AR$39:$BB$42,11,0))=INT(VLOOKUP(3,$AR$39:$BB$42,11,0)),O41,4) -> 1 | P42: =VLOOKUP(4,$AR$39:$BB$42,COLUMN(C36),FALSE) -> Serbie | Q42: =VLOOKUP(4,$AR$39:$BB$42,COLUMN(D36),FALSE) -> 0 | R42: =VLOOKUP(4,$AR$39:$BB$42,COLUMN(E36),FALSE) -> 0 | S42: =VLOOKUP(4,$AR$39:$BB$42,COLUMN(F36),FALSE) -> 0 | T42: =VLOOKUP(4,$AR$39:$BB$42,COLUMN(G36),FALSE) -> 0 | U42: =VLOOKUP(4,$AR$39:$BB$42,COLUMN(H36),FALSE) -> 0 | V42: =VLOOKUP(4,$AR$39:$BB$42,COLUMN(I36),FALSE) -> 0 | W42: =VLOOKUP(4,$AR$39:$BB$42,COLUMN(J36),FALSE) -> 0 | AR42: =RANK(BB42,$BB$39:$BB$42) -> 4 | AS42: 4. | AT42: Serbie | AU42: =COUNTIFS($F$37:$F$42,AT42,$H$37:$H$42,"<>")+COUNTIFS($L$37:$L$42,AT42,$J$37:$J$42,"<>") -> 0 | AV42: =SUMPRODUCT(($F$37:$F$42=AT42)*($H$37:$H$42>$J$37:$J$42)*($H$37:$H$42<>""))+SUMPRODUCT(($L$37:$L$42=AT42)*($J$37:$J$42>$H$37:$H$42)*($H$37:$H$42<>"")) -> 0 | AW42: =SUMPRODUCT(($F$37:$F$42=AT42)*($H$37:$H$42=$J$37:$J$42)*($H$37:$H$42<>""))+SUMPRODUCT(($L$37:$L$42=AT42)*($J$37:$J$42=$H$37:$H$42)*($H$37:$H$42<>"")) -> 0 | AX42: =AU42-AV42-AW42 -> 0 | AY42: =SUMIFS($H$37:$H$42,$F$37:$F$42,AT42)+SUMIFS($J$37:$J$42,$L$37:$L$42,AT42) -> 0 | AZ42: =SUMIFS($H$37:$H$42,$L$37:$L$42,AT42)+SUMIFS($J$37:$J$42,$F$37:$F$42,AT42) -> 0 | BA42: =3*AV42+AW42 -> 0 | BB42: =BA42*100000+(AY42-AZ42)*1000+AY42+(100-ROW())/100 -> 0.58
B45: 42903 | C45: 16h00 | E45: Moscou | F45: Allemagne | I45: - | L45: Mexique | O45: Groupe F | AS45: Groupe F
B46: 42904 | C46: 15h00 | E46: Nijni-Novgorod | F46: Suède | I46: - | L46: Corée du Sud | Q46: MJ | R46: MG | S46: MN | T46: MP | U46: GP | V46: GC | W46: PTS | AU46: MJ | AV46: MG | AW46: MN | AX46: MP | AY46: GP | AZ46: GC | BA46: PTS | BB46: Magic
B47: 42909 | C47: 18h00 | E47: Rostov | F47: Corée du Sud | I47: - | L47: Mexique | O47: 1 | P47: =VLOOKUP(1,$AR$47:$BB$50,COLUMN(C41),FALSE) -> Allemagne | Q47: =VLOOKUP(1,$AR$47:$BB$50,COLUMN(D41),FALSE) -> 0 | R47: =VLOOKUP(1,$AR$47:$BB$50,COLUMN(E41),FALSE) -> 0 | S47: =VLOOKUP(1,$AR$47:$BB$50,COLUMN(F41),FALSE) -> 0 | T47: =VLOOKUP(1,$AR$47:$BB$50,COLUMN(G41),FALSE) -> 0 | U47: =VLOOKUP(1,$AR$47:$BB$50,COLUMN(H41),FALSE) -> 0 | V47: =VLOOKUP(1,$AR$47:$BB$50,COLUMN(I41),FALSE) -> 0 | W47: =VLOOKUP(1,$AR$47:$BB$50,COLUMN(J41),FALSE) -> 0 | AR47: =RANK(BB47,$BB$47:$BB$50) -> 1 | AS47: 1. | AT47: Allemagne | AU47: =COUNTIFS($F$45:$F$50,AT47,$H$45:$H$50,"<>")+COUNTIFS($L$45:$L$50,AT47,$J$45:$J$50,"<>") -> 0 | AV47: =SUMPRODUCT(($F$45:$F$50=AT47)*($H$45:$H$50>$J$45:$J$50)*($H$45:$H$50<>""))+SUMPRODUCT(($L$45:$L$50=AT47)*($J$45:$J$50>$H$45:$H$50)*($H$45:$H$50<>"")) -> 0 | AW47: =SUMPRODUCT(($F$45:$F$50=AT47)*($H$45:$H$50=$J$45:$J$50)*($H$45:$H$50<>""))+SUMPRODUCT(($L$45:$L$50=AT47)*($J$45:$J$50=$H$45:$H$50)*($H$45:$H$50<>"")) -> 0 | AX47: =AU47-AV47-AW47 -> 0 | AY47: =SUMIFS($H$45:$H$50,$F$45:$F$50,AT47)+SUMIFS($J$45:$J$50,$L$45:$L$50,AT47) -> 0 | AZ47: =SUMIFS($H$45:$H$50,$L$45:$L$50,AT47)+SUMIFS($J$45:$J$50,$F$45:$F$50,AT47) -> 0 | BA47: =3*AV47+AW47 -> 0 | BB47: =BA47*100000+(AY47-AZ47)*1000+AY47+(100-ROW())/100 -> 0.53
B48: 42909 | C48: 17h00 | E48: Sotchi | F48: Allemagne | I48: - | L48: Suède | O48: =IF(INT(VLOOKUP(2,$AR$47:$BB$50,11,0))=INT(VLOOKUP(1,$AR$47:$BB$50,11,0)),O47,2) -> 1 | P48: =VLOOKUP(2,$AR$47:$BB$50,COLUMN(C42),FALSE) -> Mexique | Q48: =VLOOKUP(2,$AR$47:$BB$50,COLUMN(D42),FALSE) -> 0 | R48: =VLOOKUP(2,$AR$47:$BB$50,COLUMN(E42),FALSE) -> 0 | S48: =VLOOKUP(2,$AR$47:$BB$50,COLUMN(F42),FALSE) -> 0 | T48: =VLOOKUP(2,$AR$47:$BB$50,COLUMN(G42),FALSE) -> 0 | U48: =VLOOKUP(2,$AR$47:$BB$50,COLUMN(H42),FALSE) -> 0 | V48: =VLOOKUP(2,$AR$47:$BB$50,COLUMN(I42),FALSE) -> 0 | W48: =VLOOKUP(2,$AR$47:$BB$50,COLUMN(J42),FALSE) -> 0 | AR48: =RANK(BB48,$BB$47:$BB$50) -> 2 | AS48: 2. | AT48: Mexique | AU48: =COUNTIFS($F$45:$F$50,AT48,$H$45:$H$50,"<>")+COUNTIFS($L$45:$L$50,AT48,$J$45:$J$50,"<>") -> 0 | AV48: =SUMPRODUCT(($F$45:$F$50=AT48)*($H$45:$H$50>$J$45:$J$50)*($H$45:$H$50<>""))+SUMPRODUCT(($L$45:$L$50=AT48)*($J$45:$J$50>$H$45:$H$50)*($H$45:$H$50<>"")) -> 0 | AW48: =SUMPRODUCT(($F$45:$F$50=AT48)*($H$45:$H$50=$J$45:$J$50)*($H$45:$H$50<>""))+SUMPRODUCT(($L$45:$L$50=AT48)*($J$45:$J$50=$H$45:$H$50)*($H$45:$H$50<>"")) -> 0 | AX48: =AU48-AV48-AW48 -> 0 | AY48: =SUMIFS($H$45:$H$50,$F$45:$F$50,AT48)+SUMIFS($J$45:$J$50,$L$45:$L$50,AT48) -> 0 | AZ48: =SUMIFS($H$45:$H$50,$L$45:$L$50,AT48)+SUMIFS($J$45:$J$50,$F$45:$F$50,AT48) -> 0 | BA48: =3*AV48+AW48 -> 0 | BB48: =BA48*100000+(AY48-AZ48)*1000+AY48+(100-ROW())/100 -> 0.52
B49: 42913 | C49: 16h00 | E49: Ekaterinbourg | F49: Mexique | I49: - | L49: Suède | O49: =IF(INT(VLOOKUP(3,$AR$47:$BB$50,11,0))=INT(VLOOKUP(2,$AR$47:$BB$50,11,0)),O48,3) -> 1 | P49: =VLOOKUP(3,$AR$47:$BB$50,COLUMN(C43),FALSE) -> Suède | Q49: =VLOOKUP(3,$AR$47:$BB$50,COLUMN(D43),FALSE) -> 0 | R49: =VLOOKUP(3,$AR$47:$BB$50,COLUMN(E43),FALSE) -> 0 | S49: =VLOOKUP(3,$AR$47:$BB$50,COLUMN(F43),FALSE) -> 0 | T49: =VLOOKUP(3,$AR$47:$BB$50,COLUMN(G43),FALSE) -> 0 | U49: =VLOOKUP(3,$AR$47:$BB$50,COLUMN(H43),FALSE) -> 0 | V49: =VLOOKUP(3,$AR$47:$BB$50,COLUMN(I43),FALSE) -> 0 | W49: =VLOOKUP(3,$AR$47:$BB$50,COLUMN(J43),FALSE) -> 0 | AR49: =RANK(BB49,$BB$47:$BB$50) -> 3 | AS49: 3. | AT49: Suède | AU49: =COUNTIFS($F$45:$F$50,AT49,$H$45:$H$50,"<>")+COUNTIFS($L$45:$L$50,AT49,$J$45:$J$50,"<>") -> 0 | AV49: =SUMPRODUCT(($F$45:$F$50=AT49)*($H$45:$H$50>$J$45:$J$50)*($H$45:$H$50<>""))+SUMPRODUCT(($L$45:$L$50=AT49)*($J$45:$J$50>$H$45:$H$50)*($H$45:$H$50<>"")) -> 0 | AW49: =SUMPRODUCT(($F$45:$F$50=AT49)*($H$45:$H$50=$J$45:$J$50)*($H$45:$H$50<>""))+SUMPRODUCT(($L$45:$L$50=AT49)*($J$45:$J$50=$H$45:$H$50)*($H$45:$H$50<>"")) -> 0 | AX49: =AU49-AV49-AW49 -> 0 | AY49: =SUMIFS($H$45:$H$50,$F$45:$F$50,AT49)+SUMIFS($J$45:$J$50,$L$45:$L$50,AT49) -> 0 | AZ49: =SUMIFS($H$45:$H$50,$L$45:$L$50,AT49)+SUMIFS($J$45:$J$50,$F$45:$F$50,AT49) -> 0 | BA49: =3*AV49+AW49 -> 0 | BB49: =BA49*100000+(AY49-AZ49)*1000+AY49+(100-ROW())/100 -> 0.51
B50: 42913 | C50: 16h00 | E50: Kazan | F50: Corée du Sud | I50: - | L50: Allemagne | O50: =IF(INT(VLOOKUP(4,$AR$47:$BB$50,11,0))=INT(VLOOKUP(3,$AR$47:$BB$50,11,0)),O49,4) -> 1 | P50: =VLOOKUP(4,$AR$47:$BB$50,COLUMN(C44),FALSE) -> Corée du Sud | Q50: =VLOOKUP(4,$AR$47:$BB$50,COLUMN(D44),FALSE) -> 0 | R50: =VLOOKUP(4,$AR$47:$BB$50,COLUMN(E44),FALSE) -> 0 | S50: =VLOOKUP(4,$AR$47:$BB$50,COLUMN(F44),FALSE) -> 0 | T50: =VLOOKUP(4,$AR$47:$BB$50,COLUMN(G44),FALSE) -> 0 | U50: =VLOOKUP(4,$AR$47:$BB$50,COLUMN(H44),FALSE) -> 0 | V50: =VLOOKUP(4,$AR$47:$BB$50,COLUMN(I44),FALSE) -> 0 | W50: =VLOOKUP(4,$AR$47:$BB$50,COLUMN(J44),FALSE) -> 0 | AR50: =RANK(BB50,$BB$47:$BB$50) -> 4 | AS50: 4. | AT50: Corée du Sud | AU50: =COUNTIFS($F$45:$F$50,AT50,$H$45:$H$50,"<>")+COUNTIFS($L$45:$L$50,AT50,$J$45:$J$50,"<>") -> 0 | AV50: =SUMPRODUCT(($F$45:$F$50=AT50)*($H$45:$H$50>$J$45:$J$50)*($H$45:$H$50<>""))+SUMPRODUCT(($L$45:$L$50=AT50)*($J$45:$J$50>$H$45:$H$50)*($H$45:$H$50<>"")) -> 0 | AW50: =SUMPRODUCT(($F$45:$F$50=AT50)*($H$45:$H$50=$J$45:$J$50)*($H$45:$H$50<>""))+SUMPRODUCT(($L$45:$L$50=AT50)*($J$45:$J$50=$H$45:$H$50)*($H$45:$H$50<>"")) -> 0 | AX50: =AU50-AV50-AW50 -> 0 | AY50: =SUMIFS($H$45:$H$50,$F$45:$F$50,AT50)+SUMIFS($J$45:$J$50,$L$45:$L$50,AT50) -> 0 | AZ50: =SUMIFS($H$45:$H$50,$L$45:$L$50,AT50)+SUMIFS($J$45:$J$50,$F$45:$F$50,AT50) -> 0 | BA50: =3*AV50+AW50 -> 0 | BB50: =BA50*100000+(AY50-AZ50)*1000+AY50+(100-ROW())/100 -> 0.5
B53: 42904 | C53: 18h00 | E53: Sotchi | F53: Belgique | I53: - | L53: Panama | O53: Groupe G | AS53: Groupe G
B54: 42904 | C54: 21h00 | E54: Volgograd | F54: Tunisie | I54: - | L54: Angleterre | Q54: MJ | R54: MG | S54: MN | T54: MP | U54: GP | V54: GC | W54: PTS | AU54: MJ | AV54: MG | AW54: MN | AX54: MP | AY54: GP | AZ54: GC | BA54: PTS | BB54: Magic
B55: 42909 | C55: 14h00 | E55: Moscou | F55: Belgique | I55: - | L55: Tunisie | O55: 1 | P55: =VLOOKUP(1,$AR$55:$BB$58,COLUMN(C49),FALSE) -> Belgique | Q55: =VLOOKUP(1,$AR$55:$BB$58,COLUMN(D49),FALSE) -> 0 | R55: =VLOOKUP(1,$AR$55:$BB$58,COLUMN(E49),FALSE) -> 0 | S55: =VLOOKUP(1,$AR$55:$BB$58,COLUMN(F49),FALSE) -> 0 | T55: =VLOOKUP(1,$AR$55:$BB$58,COLUMN(G49),FALSE) -> 0 | U55: =VLOOKUP(1,$AR$55:$BB$58,COLUMN(H49),FALSE) -> 0 | V55: =VLOOKUP(1,$AR$55:$BB$58,COLUMN(I49),FALSE) -> 0 | W55: =VLOOKUP(1,$AR$55:$BB$58,COLUMN(J49),FALSE) -> 0 | AR55: =RANK(BB55,$BB$55:$BB$58) -> 1 | AS55: 1. | AT55: Belgique | AU55: =COUNTIFS($F$53:$F$58,AT55,$H$53:$H$58,"<>")+COUNTIFS($L$53:$L$58,AT55,$J$53:$J$58,"<>") -> 0 | AV55: =SUMPRODUCT(($F$53:$F$58=AT55)*($H$53:$H$58>$J$53:$J$58)*($H$53:$H$58<>""))+SUMPRODUCT(($L$53:$L$58=AT55)*($J$53:$J$58>$H$53:$H$58)*($H$53:$H$58<>"")) -> 0 | AW55: =SUMPRODUCT(($F$53:$F$58=AT55)*($H$53:$H$58=$J$53:$J$58)*($H$53:$H$58<>""))+SUMPRODUCT(($L$53:$L$58=AT55)*($J$53:$J$58=$H$53:$H$58)*($H$53:$H$58<>"")) -> 0 | AX55: =AU55-AV55-AW55 -> 0 | AY55: =SUMIFS($H$53:$H$58,$F$53:$F$58,AT55)+SUMIFS($J$53:$J$58,$L$53:$L$58,AT55) -> 0 | AZ55: =SUMIFS($H$53:$H$58,$L$53:$L$58,AT55)+SUMIFS($J$53:$J$58,$F$53:$F$58,AT55) -> 0 | BA55: =3*AV55+AW55 -> 0 | BB55: =BA55*100000+(AY55-AZ55)*1000+AY55+(100-ROW())/100 -> 0.45
B56: 42910 | C56: 14h00 | E56: Nijni-Novgorod | F56: Angleterre | I56: - | L56: Panama | O56: =IF(INT(VLOOKUP(2,$AR$55:$BB$58,11,0))=INT(VLOOKUP(1,$AR$55:$BB$58,11,0)),O55,2) -> 1 | P56: =VLOOKUP(2,$AR$55:$BB$58,COLUMN(C50),FALSE) -> Panama | Q56: =VLOOKUP(2,$AR$55:$BB$58,COLUMN(D50),FALSE) -> 0 | R56: =VLOOKUP(2,$AR$55:$BB$58,COLUMN(E50),FALSE) -> 0 | S56: =VLOOKUP(2,$AR$55:$BB$58,COLUMN(F50),FALSE) -> 0 | T56: =VLOOKUP(2,$AR$55:$BB$58,COLUMN(G50),FALSE) -> 0 | U56: =VLOOKUP(2,$AR$55:$BB$58,COLUMN(H50),FALSE) -> 0 | V56: =VLOOKUP(2,$AR$55:$BB$58,COLUMN(I50),FALSE) -> 0 | W56: =VLOOKUP(2,$AR$55:$BB$58,COLUMN(J50),FALSE) -> 0 | AR56: =RANK(BB56,$BB$55:$BB$58) -> 2 | AS56: 2. | AT56: Panama | AU56: =COUNTIFS($F$53:$F$58,AT56,$H$53:$H$58,"<>")+COUNTIFS($L$53:$L$58,AT56,$J$53:$J$58,"<>") -> 0 | AV56: =SUMPRODUCT(($F$53:$F$58=AT56)*($H$53:$H$58>$J$53:$J$58)*($H$53:$H$58<>""))+SUMPRODUCT(($L$53:$L$58=AT56)*($J$53:$J$58>$H$53:$H$58)*($H$53:$H$58<>"")) -> 0 | AW56: =SUMPRODUCT(($F$53:$F$58=AT56)*($H$53:$H$58=$J$53:$J$58)*($H$53:$H$58<>""))+SUMPRODUCT(($L$53:$L$58=AT56)*($J$53:$J$58=$H$53:$H$58)*($H$53:$H$58<>"")) -> 0 | AX56: =AU56-AV56-AW56 -> 0 | AY56: =SUMIFS($H$53:$H$58,$F$53:$F$58,AT56)+SUMIFS($J$53:$J$58,$L$53:$L$58,AT56) -> 0 | AZ56: =SUMIFS($H$53:$H$58,$L$53:$L$58,AT56)+SUMIFS($J$53:$J$58,$F$53:$F$58,AT56) -> 0 | BA56: =3*AV56+AW56 -> 0 | BB56: =BA56*100000+(AY56-AZ56)*1000+AY56+(100-ROW())/100 -> 0.44
B57: 42914 | C57: 20h00 | E57: Saransk | F57: Panama | I57: - | L57: Tunisie | O57: =IF(INT(VLOOKUP(3,$AR$55:$BB$58,11,0))=INT(VLOOKUP(2,$AR$55:$BB$58,11,0)),O56,3) -> 1 | P57: =VLOOKUP(3,$AR$55:$BB$58,COLUMN(C51),FALSE) -> Tunisie | Q57: =VLOOKUP(3,$AR$55:$BB$58,COLUMN(D51),FALSE) -> 0 | R57: =VLOOKUP(3,$AR$55:$BB$58,COLUMN(E51),FALSE) -> 0 | S57: =VLOOKUP(3,$AR$55:$BB$58,COLUMN(F51),FALSE) -> 0 | T57: =VLOOKUP(3,$AR$55:$BB$58,COLUMN(G51),FALSE) -> 0 | U57: =VLOOKUP(3,$AR$55:$BB$58,COLUMN(H51),FALSE) -> 0 | V57: =VLOOKUP(3,$AR$55:$BB$58,COLUMN(I51),FALSE) -> 0 | W57: =VLOOKUP(3,$AR$55:$BB$58,COLUMN(J51),FALSE) -> 0 | AR57: =RANK(BB57,$BB$55:$BB$58) -> 3 | AS57: 3. | AT57: Tunisie | AU57: =COUNTIFS($F$53:$F$58,AT57,$H$53:$H$58,"<>")+COUNTIFS($L$53:$L$58,AT57,$J$53:$J$58,"<>") -> 0 | AV57: =SUMPRODUCT(($F$53:$F$58=AT57)*($H$53:$H$58>$J$53:$J$58)*($H$53:$H$58<>""))+SUMPRODUCT(($L$53:$L$58=AT57)*($J$53:$J$58>$H$53:$H$58)*($H$53:$H$58<>"")) -> 0 | AW57: =SUMPRODUCT(($F$53:$F$58=AT57)*($H$53:$H$58=$J$53:$J$58)*($H$53:$H$58<>""))+SUMPRODUCT(($L$53:$L$58=AT57)*($J$53:$J$58=$H$53:$H$58)*($H$53:$H$58<>"")) -> 0 | AX57: =AU57-AV57-AW57 -> 0 | AY57: =SUMIFS($H$53:$H$58,$F$53:$F$58,AT57)+SUMIFS($J$53:$J$58,$L$53:$L$58,AT57) -> 0 | AZ57: =SUMIFS($H$53:$H$58,$L$53:$L$58,AT57)+SUMIFS($J$53:$J$58,$F$53:$F$58,AT57) -> 0 | BA57: =3*AV57+AW57 -> 0 | BB57: =BA57*100000+(AY57-AZ57)*1000+AY57+(100-ROW())/100 -> 0.43
B58: 42914 | C58: 20h00 | E58: Kaliningrad | F58: Angleterre | I58: - | L58: Belgique | O58: =IF(INT(VLOOKUP(4,$AR$55:$BB$58,11,0))=INT(VLOOKUP(3,$AR$55:$BB$58,11,0)),O57,4) -> 1 | P58: =VLOOKUP(4,$AR$55:$BB$58,COLUMN(C52),FALSE) -> Angleterre | Q58: =VLOOKUP(4,$AR$55:$BB$58,COLUMN(D52),FALSE) -> 0 | R58: =VLOOKUP(4,$AR$55:$BB$58,COLUMN(E52),FALSE) -> 0 | S58: =VLOOKUP(4,$AR$55:$BB$58,COLUMN(F52),FALSE) -> 0 | T58: =VLOOKUP(4,$AR$55:$BB$58,COLUMN(G52),FALSE) -> 0 | U58: =VLOOKUP(4,$AR$55:$BB$58,COLUMN(H52),FALSE) -> 0 | V58: =VLOOKUP(4,$AR$55:$BB$58,COLUMN(I52),FALSE) -> 0 | W58: =VLOOKUP(4,$AR$55:$BB$58,COLUMN(J52),FALSE) -> 0 | AR58: =RANK(BB58,$BB$55:$BB$58) -> 4 | AS58: 4. | AT58: Angleterre | AU58: =COUNTIFS($F$53:$F$58,AT58,$H$53:$H$58,"<>")+COUNTIFS($L$53:$L$58,AT58,$J$53:$J$58,"<>") -> 0 | AV58: =SUMPRODUCT(($F$53:$F$58=AT58)*($H$53:$H$58>$J$53:$J$58)*($H$53:$H$58<>""))+SUMPRODUCT(($L$53:$L$58=AT58)*($J$53:$J$58>$H$53:$H$58)*($H$53:$H$58<>"")) -> 0 | AW58: =SUMPRODUCT(($F$53:$F$58=AT58)*($H$53:$H$58=$J$53:$J$58)*($H$53:$H$58<>""))+SUMPRODUCT(($L$53:$L$58=AT58)*($J$53:$J$58=$H$53:$H$58)*($H$53:$H$58<>"")) -> 0 | AX58: =AU58-AV58-AW58 -> 0 | AY58: =SUMIFS($H$53:$H$58,$F$53:$F$58,AT58)+SUMIFS($J$53:$J$58,$L$53:$L$58,AT58) -> 0 | AZ58: =SUMIFS($H$53:$H$58,$L$53:$L$58,AT58)+SUMIFS($J$53:$J$58,$F$53:$F$58,AT58) -> 0 | BA58: =3*AV58+AW58 -> 0 | BB58: =BA58*100000+(AY58-AZ58)*1000+AY58+(100-ROW())/100 -> 0.42
B61: 42905 | C61: 14h00 | E61: Saransk | F61: Colombie | I61: - | L61: Japon | O61: Groupe H | AS61: Groupe H
B62: 42905 | C62: 17h00 | E62: Moscou | F62: Pologne | I62: - | L62: Sénégal | Q62: MJ | R62: MG | S62: MN | T62: MP | U62: GP | V62: GC | W62: PTS | AU62: MJ | AV62: MG | AW62: MN | AX62: MP | AY62: GP | AZ62: GC | BA62: PTS | BB62: Magic
B63: 42910 | C63: 17h00 | E63: Ekaterinbourg | F63: Japon | I63: - | L63: Sénégal | O63: 1 | P63: =VLOOKUP(1,$AR$63:$BB$66,COLUMN(C57),FALSE) -> Pologne | Q63: =VLOOKUP(1,$AR$63:$BB$66,COLUMN(D57),FALSE) -> 0 | R63: =VLOOKUP(1,$AR$63:$BB$66,COLUMN(E57),FALSE) -> 0 | S63: =VLOOKUP(1,$AR$63:$BB$66,COLUMN(F57),FALSE) -> 0 | T63: =VLOOKUP(1,$AR$63:$BB$66,COLUMN(G57),FALSE) -> 0 | U63: =VLOOKUP(1,$AR$63:$BB$66,COLUMN(H57),FALSE) -> 0 | V63: =VLOOKUP(1,$AR$63:$BB$66,COLUMN(I57),FALSE) -> 0 | W63: =VLOOKUP(1,$AR$63:$BB$66,COLUMN(J57),FALSE) -> 0 | AR63: =RANK(BB63,$BB$63:$BB$66) -> 1 | AS63: 1. | AT63: Pologne | AU63: =COUNTIFS($F$61:$F$66,AT63,$H$61:$H$66,"<>")+COUNTIFS($L$61:$L$66,AT63,$J$61:$J$66,"<>") -> 0 | AV63: =SUMPRODUCT(($F$61:$F$66=AT63)*($H$61:$H$66>$J$61:$J$66)*($H$61:$H$66<>""))+SUMPRODUCT(($L$61:$L$66=AT63)*($J$61:$J$66>$H$61:$H$66)*($H$61:$H$66<>"")) -> 0 | AW63: =SUMPRODUCT(($F$61:$F$66=AT63)*($H$61:$H$66=$J$61:$J$66)*($H$61:$H$66<>""))+SUMPRODUCT(($L$61:$L$66=AT63)*($J$61:$J$66=$H$61:$H$66)*($H$61:$H$66<>"")) -> 0 | AX63: =AU63-AV63-AW63 -> 0 | AY63: =SUMIFS($H$61:$H$66,$F$61:$F$66,AT63)+SUMIFS($J$61:$J$66,$L$61:$L$66,AT63) -> 0 | AZ63: =SUMIFS($H$61:$H$66,$L$61:$L$66,AT63)+SUMIFS($J$61:$J$66,$F$61:$F$66,AT63) -> 0 | BA63: =3*AV63+AW63 -> 0 | BB63: =BA63*100000+(AY63-AZ63)*1000+AY63+(100-ROW())/100 -> 0.37
B64: 42910 | C64: 20h00 | E64: Kazan Arena | F64: Pologne | I64: - | L64: Colombie | O64: =IF(INT(VLOOKUP(2,$AR$63:$BB$66,11,0))=INT(VLOOKUP(1,$AR$63:$BB$66,11,0)),O63,2) -> 1 | P64: =VLOOKUP(2,$AR$63:$BB$66,COLUMN(C58),FALSE) -> Sénégal | Q64: =VLOOKUP(2,$AR$63:$BB$66,COLUMN(D58),FALSE) -> 0 | R64: =VLOOKUP(2,$AR$63:$BB$66,COLUMN(E58),FALSE) -> 0 | S64: =VLOOKUP(2,$AR$63:$BB$66,COLUMN(F58),FALSE) -> 0 | T64: =VLOOKUP(2,$AR$63:$BB$66,COLUMN(G58),FALSE) -> 0 | U64: =VLOOKUP(2,$AR$63:$BB$66,COLUMN(H58),FALSE) -> 0 | V64: =VLOOKUP(2,$AR$63:$BB$66,COLUMN(I58),FALSE) -> 0 | W64: =VLOOKUP(2,$AR$63:$BB$66,COLUMN(J58),FALSE) -> 0 | AR64: =RANK(BB64,$BB$63:$BB$66) -> 2 | AS64: 2. | AT64: Sénégal | AU64: =COUNTIFS($F$61:$F$66,AT64,$H$61:$H$66,"<>")+COUNTIFS($L$61:$L$66,AT64,$J$61:$J$66,"<>") -> 0 | AV64: =SUMPRODUCT(($F$61:$F$66=AT64)*($H$61:$H$66>$J$61:$J$66)*($H$61:$H$66<>""))+SUMPRODUCT(($L$61:$L$66=AT64)*($J$61:$J$66>$H$61:$H$66)*($H$61:$H$66<>"")) -> 0 | AW64: =SUMPRODUCT(($F$61:$F$66=AT64)*($H$61:$H$66=$J$61:$J$66)*($H$61:$H$66<>""))+SUMPRODUCT(($L$61:$L$66=AT64)*($J$61:$J$66=$H$61:$H$66)*($H$61:$H$66<>"")) -> 0 | AX64: =AU64-AV64-AW64 -> 0 | AY64: =SUMIFS($H$61:$H$66,$F$61:$F$66,AT64)+SUMIFS($J$61:$J$66,$L$61:$L$66,AT64) -> 0 | AZ64: =SUMIFS($H$61:$H$66,$L$61:$L$66,AT64)+SUMIFS($J$61:$J$66,$F$61:$F$66,AT64) -> 0 | BA64: =3*AV64+AW64 -> 0 | BB64: =BA64*100000+(AY64-AZ64)*1000+AY64+(100-ROW())/100 -> 0.36
B65: 42914 | C65: 16h00 | E65: Volgograd | F65: Japon | I65: - | L65: Pologne | O65: =IF(INT(VLOOKUP(3,$AR$63:$BB$66,11,0))=INT(VLOOKUP(2,$AR$63:$BB$66,11,0)),O64,3) -> 1 | P65: =VLOOKUP(3,$AR$63:$BB$66,COLUMN(C59),FALSE) -> Colombie | Q65: =VLOOKUP(3,$AR$63:$BB$66,COLUMN(D59),FALSE) -> 0 | R65: =VLOOKUP(3,$AR$63:$BB$66,COLUMN(E59),FALSE) -> 0 | S65: =VLOOKUP(3,$AR$63:$BB$66,COLUMN(F59),FALSE) -> 0 | T65: =VLOOKUP(3,$AR$63:$BB$66,COLUMN(G59),FALSE) -> 0 | U65: =VLOOKUP(3,$AR$63:$BB$66,COLUMN(H59),FALSE) -> 0 | V65: =VLOOKUP(3,$AR$63:$BB$66,COLUMN(I59),FALSE) -> 0 | W65: =VLOOKUP(3,$AR$63:$BB$66,COLUMN(J59),FALSE) -> 0 | AR65: =RANK(BB65,$BB$63:$BB$66) -> 3 | AS65: 3. | AT65: Colombie | AU65: =COUNTIFS($F$61:$F$66,AT65,$H$61:$H$66,"<>")+COUNTIFS($L$61:$L$66,AT65,$J$61:$J$66,"<>") -> 0 | AV65: =SUMPRODUCT(($F$61:$F$66=AT65)*($H$61:$H$66>$J$61:$J$66)*($H$61:$H$66<>""))+SUMPRODUCT(($L$61:$L$66=AT65)*($J$61:$J$66>$H$61:$H$66)*($H$61:$H$66<>"")) -> 0 | AW65: =SUMPRODUCT(($F$61:$F$66=AT65)*($H$61:$H$66=$J$61:$J$66)*($H$61:$H$66<>""))+SUMPRODUCT(($L$61:$L$66=AT65)*($J$61:$J$66=$H$61:$H$66)*($H$61:$H$66<>"")) -> 0 | AX65: =AU65-AV65-AW65 -> 0 | AY65: =SUMIFS($H$61:$H$66,$F$61:$F$66,AT65)+SUMIFS($J$61:$J$66,$L$61:$L$66,AT65) -> 0 | AZ65: =SUMIFS($H$61:$H$66,$L$61:$L$66,AT65)+SUMIFS($J$61:$J$66,$F$61:$F$66,AT65) -> 0 | BA65: =3*AV65+AW65 -> 0 | BB65: =BA65*100000+(AY65-AZ65)*1000+AY65+(100-ROW())/100 -> 0.35
B66: 42914 | C66: 16h00 | E66: Samara | F66: Sénégal | I66: - | L66: Colombie | O66: =IF(INT(VLOOKUP(4,$AR$63:$BB$66,11,0))=INT(VLOOKUP(3,$AR$63:$BB$66,11,0)),O65,4) -> 1 | P66: =VLOOKUP(4,$AR$63:$BB$66,COLUMN(C60),FALSE) -> Japon | Q66: =VLOOKUP(4,$AR$63:$BB$66,COLUMN(D60),FALSE) -> 0 | R66: =VLOOKUP(4,$AR$63:$BB$66,COLUMN(E60),FALSE) -> 0 | S66: =VLOOKUP(4,$AR$63:$BB$66,COLUMN(F60),FALSE) -> 0 | T66: =VLOOKUP(4,$AR$63:$BB$66,COLUMN(G60),FALSE) -> 0 | U66: =VLOOKUP(4,$AR$63:$BB$66,COLUMN(H60),FALSE) -> 0 | V66: =VLOOKUP(4,$AR$63:$BB$66,COLUMN(I60),FALSE) -> 0 | W66: =VLOOKUP(4,$AR$63:$BB$66,COLUMN(J60),FALSE) -> 0 | AR66: =RANK(BB66,$BB$63:$BB$66) -> 4 | AS66: 4. | AT66: Japon | AU66: =COUNTIFS($F$61:$F$66,AT66,$H$61:$H$66,"<>")+COUNTIFS($L$61:$L$66,AT66,$J$61:$J$66,"<>") -> 0 | AV66: =SUMPRODUCT(($F$61:$F$66=AT66)*($H$61:$H$66>$J$61:$J$66)*($H$61:$H$66<>""))+SUMPRODUCT(($L$61:$L$66=AT66)*($J$61:$J$66>$H$61:$H$66)*($H$61:$H$66<>"")) -> 0 | AW66: =SUMPRODUCT(($F$61:$F$66=AT66)*($H$61:$H$66=$J$61:$J$66)*($H$61:$H$66<>""))+SUMPRODUCT(($L$61:$L$66=AT66)*($J$61:$J$66=$H$61:$H$66)*($H$61:$H$66<>"")) -> 0 | AX66: =AU66-AV66-AW66 -> 0 | AY66: =SUMIFS($H$61:$H$66,$F$61:$F$66,AT66)+SUMIFS($J$61:$J$66,$L$61:$L$66,AT66) -> 0 | AZ66: =SUMIFS($H$61:$H$66,$L$61:$L$66,AT66)+SUMIFS($J$61:$J$66,$F$61:$F$66,AT66) -> 0 | BA66: =3*AV66+AW66 -> 0 | BB66: =BA66*100000+(AY66-AZ66)*1000+AY66+(100-ROW())/100 -> 0.34

Sheet Phase Finale
C6: Huitième de finale | K6: Quart de finale | S6: Demi finale | AA6: Finale | AH6: Demi finale | AP6: Quart de finale | AX6: Huitième de finale
C8: ='Phase de Groupe'!$AT$7 -> Russie | AY8: 1E
C9: 30 juin 16h00 | AY9: 2 juillet 16h00
C10: ='Phase de Groupe'!$AT$16 -> Espagne | AY10: 2F
K11: =IF(H8>H10,C8,IF(H10>H8,C10,IF(I8>I10,C8,IF(I10>I8,C10)))) -> FALSE | AQ11: =IF(AX8>AX10,AY8,IF(AX10>AX8,AY10,IF(AW8>AW10,AY8,IF(AW10>AW8,AY10)))) -> FALSE
C12: ='Phase de Groupe'!$AT$23 -> France | K12: 6 juillet 16h00 | AA12: =IF(X14>X16,S14,IF(X16>X14,S16,IF(Y14>Y16,S14,IF(Y16>Y14,S16)))) -> FALSE | AQ12: 7 juillet 16h00 | AY12: 1G
C13: 30 juin 20h00 | K13: =IF(H12>H14,C12,IF(H14>H12,C14,IF(I12>I14,C12,IF(I14>I12,C14)))) -> FALSE | AQ13: =IF(AX12>AX14,AY12,IF(AX14>AX12,AY14,IF(AW12>AW14,AY12,IF(AW14>AW12,AY14)))) -> FALSE | AY13: 2 juillet 20h00
C14: ='Phase de Groupe'!$AT$32 -> Islande | S14: =IF(P11>P13,K11,IF(P13>P11,K13,IF(Q11>Q13,K11,IF(Q13>Q11,K13)))) -> FALSE | AI14: =IF(AP11>AP13,AQ11,IF(AP13>AP11,AQ13,IF(AO11>AO13,AQ11,IF(AO13>AO11,AQ13)))) -> FALSE | AY14: 2H
S15: 10 juillet 20h00 | AA15: 15 juillet 17h00 | AI15: 11 juillet 20h00
C16: ='Phase de Groupe'!$AT$15 -> Portugal | S16: =IF(P17>P19,K17,IF(P19>P17,K19,IF(Q17>Q19,K17,IF(Q19>Q17,K19)))) -> FALSE | AI16: =IF(AP17>AP19,AQ17,IF(AP19>AP17,AQ19,IF(AO17>AO19,AQ17,IF(AO19>AO17,AQ19)))) -> FALSE | AY16: 1F
C17: 1er juillet 16h00 | K17: =IF(H16>H18,C16,IF(H18>H16,C18,IF(I16>I18,C16,IF(I18>I16,C18)))) -> FALSE | AA17: =IF(AH14>AH16,AI14,IF(AH16>AH14,AI16,IF(AG14>AG16,AI14,IF(AG16>AG14,AI16)))) -> FALSE | AQ17: =IF(AX16>AX18,AY16,IF(AX18>AX16,AY18,IF(AW16>AW18,AY16,IF(AW18>AW16,AY18)))) -> FALSE | AY17: 3 juillet 16h00
C18: ='Phase de Groupe'!$AT$8 -> Arabie Saoudite | K18: 6 juillet 20h00 | AQ18: 7 juillet 20h00 | AY18: 2E
K19: =IF(H20>H22,C20,IF(H22>H20,C22,IF(I20>I22,C20,IF(I22>I20,C22)))) -> FALSE | AQ19: =IF(AX20>AX22,AY20,IF(AX22>AX20,AY22,IF(AW20>AW22,AY20,IF(AW22>AW20,AY22)))) -> FALSE
C20: ='Phase de Groupe'!$AT$31 -> Argentine | AY20: 1H
C21: 1er juillet 20h00 | AY21: 3 juillet 20h00
C22: ='Phase de Groupe'!$AT$24 -> Australie | AY22: 2G
AA30: 3ème place
AA31: 14 juillet 16h00
AA32: =IF(X14<X16,S14,IF(X16<X14,S16,IF(Y14<Y16,S14,IF(Y16<Y14,S16)))) -> FALSE
AC34: -
AA36: =IF(AH14<AH16,AI14,IF(AH16<AH14,AI16,IF(AG14<AG16,AI14,IF(AG16<AG14,AI16)))) -> FALSE

Sheet Statistiques
D2: Buts | E2: Buts
D3: Total
D4: Buts par match
D5: 1 but marqué toutes les

Sheet Buteurs
C2: CLASSEMENT DES BUTEURS
C4: Rang | D4: Joueurs | E4: Poste | F4: Pays | G4: Buts | H4: Buts CM
C5: 1
C6: 2
C7: 3
C8: -
C9: -
C10: 6
C11: -
C12: -
C13: -
C14: -
C15: 11
C16: -
C17: -
C18: -
C19: -
C20: -
C21: -
C22: -
C23: -
C24: -
C25: -
C26: -
C27: -
... C35: -
C36: 33
C37: -
C38: -
C39: -
C40: -
C41: -
C42: -
C43: -
C44: -
C45: -
C46: -
C47: -
C48: -
... C120: -
