Workbook

Sheet experience
I1: X
A2: =RANDBETWEEN(0,2) -> 2 | C2: =IF(OR(AND(B1="X",$A2=2),AND(C1="X",$A2=1),AND(D1="X",$A2=0)),"X","") | D2: =IF(OR(AND(C1="X",$A2=2),AND(D1="X",$A2=1),AND(E1="X",$A2=0)),"X","") | E2: =IF(OR(AND(D1="X",$A2=2),AND(E1="X",$A2=1),AND(F1="X",$A2=0)),"X","") | F2: =IF(OR(AND(E1="X",$A2=2),AND(F1="X",$A2=1),AND(G1="X",$A2=0)),"X","") | G2: =IF(OR(AND(F1="X",$A2=2),AND(G1="X",$A2=1),AND(H1="X",$A2=0)),"X","") | H2: =IF(OR(AND(G1="X",$A2=2),AND(H1="X",$A2=1),AND(I1="X",$A2=0)),"X","") | I2: =IF(OR(AND(H1="X",$A2=2),AND(I1="X",$A2=1),AND(J1="X",$A2=0)),"X","") | J2: =IF(OR(AND(I1="X",$A2=2),AND(J1="X",$A2=1),AND(K1="X",$A2=0)),"X","") | ... O2: =IF(OR(AND(N1="X",$A2=2),AND(O1="X",$A2=1),AND(P1="X",$A2=0)),"X","")
A3: =RANDBETWEEN(0,2) -> 2 | C3: =IF(OR(AND(B2="X",$A3=2),AND(C2="X",$A3=1),AND(D2="X",$A3=0)),"X","") | D3: =IF(OR(AND(C2="X",$A3=2),AND(D2="X",$A3=1),AND(E2="X",$A3=0)),"X","") | E3: =IF(OR(AND(D2="X",$A3=2),AND(E2="X",$A3=1),AND(F2="X",$A3=0)),"X","") | F3: =IF(OR(AND(E2="X",$A3=2),AND(F2="X",$A3=1),AND(G2="X",$A3=0)),"X","") | G3: =IF(OR(AND(F2="X",$A3=2),AND(G2="X",$A3=1),AND(H2="X",$A3=0)),"X","") | H3: =IF(OR(AND(G2="X",$A3=2),AND(H2="X",$A3=1),AND(I2="X",$A3=0)),"X","") | I3: =IF(OR(AND(H2="X",$A3=2),AND(I2="X",$A3=1),AND(J2="X",$A3=0)),"X","") | J3: =IF(OR(AND(I2="X",$A3=2),AND(J2="X",$A3=1),AND(K2="X",$A3=0)),"X","") | ... O3: =IF(OR(AND(N2="X",$A3=2),AND(O2="X",$A3=1),AND(P2="X",$A3=0)),"X","")
A4: =RANDBETWEEN(0,2) -> 1 | C4: =IF(OR(AND(B3="X",$A4=2),AND(C3="X",$A4=1),AND(D3="X",$A4=0)),"X","") | D4: =IF(OR(AND(C3="X",$A4=2),AND(D3="X",$A4=1),AND(E3="X",$A4=0)),"X","") | E4: =IF(OR(AND(D3="X",$A4=2),AND(E3="X",$A4=1),AND(F3="X",$A4=0)),"X","") | F4: =IF(OR(AND(E3="X",$A4=2),AND(F3="X",$A4=1),AND(G3="X",$A4=0)),"X","") | G4: =IF(OR(AND(F3="X",$A4=2),AND(G3="X",$A4=1),AND(H3="X",$A4=0)),"X","") | H4: =IF(OR(AND(G3="X",$A4=2),AND(H3="X",$A4=1),AND(I3="X",$A4=0)),"X","") | I4: =IF(OR(AND(H3="X",$A4=2),AND(I3="X",$A4=1),AND(J3="X",$A4=0)),"X","") | J4: =IF(OR(AND(I3="X",$A4=2),AND(J3="X",$A4=1),AND(K3="X",$A4=0)),"X","") | ... O4: =IF(OR(AND(N3="X",$A4=2),AND(O3="X",$A4=1),AND(P3="X",$A4=0)),"X","")
A5: =RANDBETWEEN(0,2) -> 1 | C5: =IF(OR(AND(B4="X",$A5=2),AND(C4="X",$A5=1),AND(D4="X",$A5=0)),"X","") | D5: =IF(OR(AND(C4="X",$A5=2),AND(D4="X",$A5=1),AND(E4="X",$A5=0)),"X","") | E5: =IF(OR(AND(D4="X",$A5=2),AND(E4="X",$A5=1),AND(F4="X",$A5=0)),"X","") | F5: =IF(OR(AND(E4="X",$A5=2),AND(F4="X",$A5=1),AND(G4="X",$A5=0)),"X","") | G5: =IF(OR(AND(F4="X",$A5=2),AND(G4="X",$A5=1),AND(H4="X",$A5=0)),"X","") | H5: =IF(OR(AND(G4="X",$A5=2),AND(H4="X",$A5=1),AND(I4="X",$A5=0)),"X","") | I5: =IF(OR(AND(H4="X",$A5=2),AND(I4="X",$A5=1),AND(J4="X",$A5=0)),"X","") | J5: =IF(OR(AND(I4="X",$A5=2),AND(J4="X",$A5=1),AND(K4="X",$A5=0)),"X","") | ... O5: =IF(OR(AND(N4="X",$A5=2),AND(O4="X",$A5=1),AND(P4="X",$A5=0)),"X","")
A6: =RANDBETWEEN(0,2) -> 2 | C6: =IF(OR(AND(B5="X",$A6=2),AND(C5="X",$A6=1),AND(D5="X",$A6=0)),"X","") | D6: =IF(OR(AND(C5="X",$A6=2),AND(D5="X",$A6=1),AND(E5="X",$A6=0)),"X","") | E6: =IF(OR(AND(D5="X",$A6=2),AND(E5="X",$A6=1),AND(F5="X",$A6=0)),"X","") | F6: =IF(OR(AND(E5="X",$A6=2),AND(F5="X",$A6=1),AND(G5="X",$A6=0)),"X","") | G6: =IF(OR(AND(F5="X",$A6=2),AND(G5="X",$A6=1),AND(H5="X",$A6=0)),"X","") | H6: =IF(OR(AND(G5="X",$A6=2),AND(H5="X",$A6=1),AND(I5="X",$A6=0)),"X","") | I6: =IF(OR(AND(H5="X",$A6=2),AND(I5="X",$A6=1),AND(J5="X",$A6=0)),"X","") | J6: =IF(OR(AND(I5="X",$A6=2),AND(J5="X",$A6=1),AND(K5="X",$A6=0)),"X","") | ... O6: =IF(OR(AND(N5="X",$A6=2),AND(O5="X",$A6=1),AND(P5="X",$A6=0)),"X","")
A7: =RANDBETWEEN(0,2) -> 0 | C7: =IF(OR(AND(B6="X",$A7=2),AND(C6="X",$A7=1),AND(D6="X",$A7=0)),"X","") | D7: =IF(OR(AND(C6="X",$A7=2),AND(D6="X",$A7=1),AND(E6="X",$A7=0)),"X","") | E7: =IF(OR(AND(D6="X",$A7=2),AND(E6="X",$A7=1),AND(F6="X",$A7=0)),"X","") | F7: =IF(OR(AND(E6="X",$A7=2),AND(F6="X",$A7=1),AND(G6="X",$A7=0)),"X","") | G7: =IF(OR(AND(F6="X",$A7=2),AND(G6="X",$A7=1),AND(H6="X",$A7=0)),"X","") | H7: =IF(OR(AND(G6="X",$A7=2),AND(H6="X",$A7=1),AND(I6="X",$A7=0)),"X","") | I7: =IF(OR(AND(H6="X",$A7=2),AND(I6="X",$A7=1),AND(J6="X",$A7=0)),"X","") | J7: =IF(OR(AND(I6="X",$A7=2),AND(J6="X",$A7=1),AND(K6="X",$A7=0)),"X","") | ... O7: =IF(OR(AND(N6="X",$A7=2),AND(O6="X",$A7=1),AND(P6="X",$A7=0)),"X","")
C8: =IF($Q$8=1,IF(C7="X",1+C8,C8),0) -> 0 | D8: =IF($Q$8=1,IF(D7="X",1+D8,D8),0) -> 0 | E8: =IF($Q$8=1,IF(E7="X",1+E8,E8),0) -> 0 | F8: =IF($Q$8=1,IF(F7="X",1+F8,F8),0) -> 0 | G8: =IF($Q$8=1,IF(G7="X",1+G8,G8),0) -> 0 | H8: =IF($Q$8=1,IF(H7="X",1+H8,H8),0) -> 0 | I8: =IF($Q$8=1,IF(I7="X",1+I8,I8),0) -> 0 | J8: =IF($Q$8=1,IF(J7="X",1+J8,J8),0) -> 0 | ... O8: =IF($Q$8=1,IF(O7="X",1+O8,O8),0) -> 0 | P8: =SUM(C8:O8) -> 0 | Q8: 0
C9: =$P8*probabilities!A8 -> 0 | D9: =$P8*probabilities!B8 -> 0 | E9: =$P8*probabilities!C8 -> 0 | F9: =$P8*probabilities!D8 -> 0 | G9: =$P8*probabilities!E8 -> 0 | H9: =$P8*probabilities!F8 -> 0 | I9: =$P8*probabilities!G8 -> 0 | J9: =$P8*probabilities!H8 -> 0 | ... O9: =$P8*probabilities!M8 -> 0

Sheet probabilities
A1: 0 | B1: 0 | C1: 0 | D1: 0 | E1: 0 | F1: 0 | G1: 1 | H1: 0 | I1: 0 | J1: 0 | K1: 0 | L1: 0 | M1: 0
A2: =SUM(A1:B1) -> 0 | B2: =SUM(A1:C1) -> 0 | C2: =SUM(B1:D1) -> 0 | D2: =SUM(C1:E1) -> 0 | E2: =SUM(D1:F1) -> 0 | F2: =SUM(E1:G1) -> 1 | G2: =SUM(F1:H1) -> 1 | H2: =SUM(G1:I1) -> 1 | I2: =SUM(H1:J1) -> 0 | ... M2: =SUM(L1:N1) -> 0
A3: =SUM(A2:B2) -> 0 | B3: =SUM(A2:C2) -> 0 | C3: =SUM(B2:D2) -> 0 | D3: =SUM(C2:E2) -> 0 | E3: =SUM(D2:F2) -> 1 | F3: =SUM(E2:G2) -> 2 | G3: =SUM(F2:H2) -> 3 | H3: =SUM(G2:I2) -> 2 | I3: =SUM(H2:J2) -> 1 | ... M3: =SUM(L2:N2) -> 0
A4: =SUM(A3:B3) -> 0 | B4: =SUM(A3:C3) -> 0 | C4: =SUM(B3:D3) -> 0 | D4: =SUM(C3:E3) -> 1 | E4: =SUM(D3:F3) -> 3 | F4: =SUM(E3:G3) -> 6 | G4: =SUM(F3:H3) -> 7 | H4: =SUM(G3:I3) -> 6 | I4: =SUM(H3:J3) -> 3 | ... M4: =SUM(L3:N3) -> 0
A5: =SUM(A4:B4) -> 0 | B5: =SUM(A4:C4) -> 0 | C5: =SUM(B4:D4) -> 1 | D5: =SUM(C4:E4) -> 4 | E5: =SUM(D4:F4) -> 10 | F5: =SUM(E4:G4) -> 16 | G5: =SUM(F4:H4) -> 19 | H5: =SUM(G4:I4) -> 16 | I5: =SUM(H4:J4) -> 10 | ... M5: =SUM(L4:N4) -> 0
A6: =SUM(A5:B5) -> 0 | B6: =SUM(A5:C5) -> 1 | C6: =SUM(B5:D5) -> 5 | D6: =SUM(C5:E5) -> 15 | E6: =SUM(D5:F5) -> 30 | F6: =SUM(E5:G5) -> 45 | G6: =SUM(F5:H5) -> 51 | H6: =SUM(G5:I5) -> 45 | I6: =SUM(H5:J5) -> 30 | ... M6: =SUM(L5:N5) -> 0
A7: =SUM(A6:B6) -> 1 | B7: =SUM(A6:C6) -> 6 | C7: =SUM(B6:D6) -> 21 | D7: =SUM(C6:E6) -> 50 | E7: =SUM(D6:F6) -> 90 | F7: =SUM(E6:G6) -> 126 | G7: =SUM(F6:H6) -> 141 | H7: =SUM(G6:I6) -> 126 | I7: =SUM(H6:J6) -> 90 | ... M7: =SUM(L6:N6) -> 1 | N7: =SUM(A7:M7) -> 729
A8: =A7/$N7 -> 0.0013717421 | B8: =B7/$N7 -> 0.0082304527 | C8: =C7/$N7 -> 0.028806584 | D8: =D7/$N7 -> 0.068587106 | E8: =E7/$N7 -> 0.12345679 | F8: =F7/$N7 -> 0.17283951 | G8: =G7/$N7 -> 0.19341564 | H8: =H7/$N7 -> 0.17283951 | ... M8: =M7/$N7 -> 0.0013717421
