Workbook

Sheet Feuille de présence
A1: =TEXT(TODAY(),"mmmm") -> July | C1: Feuille de présence | H1: =TEXT(DATE(YEAR(TODAY()),MONTH(TODAY())-1,DAY(TODAY())),"mmmm") -> June
A2: Nom:
A3: Prénom:
A4: Jour | B4: Heure d'arrivée | C4: Heure de départ | D4: Nombre d'heure | E4: Indemnité d'entretien | F4: Repas | G4: Goûté | H4: Heure complémentaire
A5: 1 | D5: =(C5-B5) -> 0 | E5: =INDEX(Taux!$B$4:$B$13,MATCH(D5,Taux!$A$4:$A$13,1)) -> 2.66
A6: 2 | D6: =C6-B6 -> 0 | E6: =INDEX(Taux!$B$4:$B$13,MATCH(D6,Taux!$A$4:$A$13,1)) -> 2.66
A7: 3 | D7: =C7-B7 -> 0 | E7: =INDEX(Taux!$B$4:$B$13,MATCH(D7,Taux!$A$4:$A$13,1)) -> 2.66
A8: 4 | D8: =C8-B8 -> 0 | E8: =INDEX(Taux!$B$4:$B$13,MATCH(D8,Taux!$A$4:$A$13,1)) -> 2.66
A9: 5 | D9: =C9-B9 -> 0 | E9: =INDEX(Taux!$B$4:$B$13,MATCH(D9,Taux!$A$4:$A$13,1)) -> 2.66
A10: 6 | B10: 0.33333333 | C10: 0.70833333 | D10: =C10-B10 -> 0.375 | E10: =INDEX(Taux!$B$4:$B$13,MATCH(D10,Taux!$A$4:$A$13,1)) -> 3.08 | F10: 1 | G10: 1
A11: 7 | D11: =C11-B11 -> 0 | E11: =INDEX(Taux!$B$4:$B$13,MATCH(D11,Taux!$A$4:$A$13,1)) -> 2.66
A12: 8 | B12: 0.47916667 | C12: 0.70833333 | D12: =C12-B12 -> 0.22916667 | E12: =INDEX(Taux!$B$4:$B$13,MATCH(D12,Taux!$A$4:$A$13,1)) -> 2.66 | F12: 1 | G12: 1
A13: 9 | B13: 0.45833333 | C13: 0.5 | D13: =C13-B13 -> 0.041666667 | E13: =INDEX(Taux!$B$4:$B$13,MATCH(D13,Taux!$A$4:$A$13,1)) -> 2.66
A14: 10 | B14: 0.45833333 | C14: 0.5 | D14: =C14-B14 -> 0.041666667 | E14: =INDEX(Taux!$B$4:$B$13,MATCH(D14,Taux!$A$4:$A$13,1)) -> 2.66
A15: 11 | B15: 0.33333333 | C15: 0.70833333 | D15: =C15-B15 -> 0.375 | E15: =INDEX(Taux!$B$4:$B$13,MATCH(D15,Taux!$A$4:$A$13,1)) -> 3.08
A16: 12 | D16: =C16-B16 -> 0 | E16: =INDEX(Taux!$B$4:$B$13,MATCH(D16,Taux!$A$4:$A$13,1)) -> 2.66
A17: 13 | D17: =C17-B17 -> 0 | E17: =INDEX(Taux!$B$4:$B$13,MATCH(D17,Taux!$A$4:$A$13,1)) -> 2.66
A18: 14 | D18: =C18-B18 -> 0 | E18: =INDEX(Taux!$B$4:$B$13,MATCH(D18,Taux!$A$4:$A$13,1)) -> 2.66
A19: 15 | B19: 0.47916667 | C19: 0.70833333 | D19: =C19-B19 -> 0.22916667 | E19: =INDEX(Taux!$B$4:$B$13,MATCH(D19,Taux!$A$4:$A$13,1)) -> 2.66 | F19: 1 | G19: 1
A20: 16 | D20: =C20-B20 -> 0 | E20: =INDEX(Taux!$B$4:$B$13,MATCH(D20,Taux!$A$4:$A$13,1)) -> 2.66
A21: 17 | B21: 0.33333333 | C21: 0.5 | D21: =C21-B21 -> 0.16666667 | E21: =INDEX(Taux!$B$4:$B$13,MATCH(D21,Taux!$A$4:$A$13,1)) -> 2.66
A22: 18 | B22: 0.33333333 | C22: 0.75 | D22: =C22-B22 -> 0.41666667 | E22: =INDEX(Taux!$B$4:$B$13,MATCH(D22,Taux!$A$4:$A$13,1)) -> 3.42
A23: 19 | D23: =C23-B23 -> 0 | E23: =INDEX(Taux!$B$4:$B$13,MATCH(D23,Taux!$A$4:$A$13,1)) -> 2.66
A24: 20 | D24: =C24-B24 -> 0 | E24: =INDEX(Taux!$B$4:$B$13,MATCH(D24,Taux!$A$4:$A$13,1)) -> 2.66
A25: 21 | D25: =C25-B25 -> 0 | E25: =INDEX(Taux!$B$4:$B$13,MATCH(D25,Taux!$A$4:$A$13,1)) -> 2.66
A26: 22 | B26: 0.33333333 | C26: 0.70833333 | D26: =C26-B26 -> 0.375 | E26: =INDEX(Taux!$B$4:$B$13,MATCH(D26,Taux!$A$4:$A$13,1)) -> 3.08
A27: 23 | D27: =C27-B27 -> 0 | E27: =INDEX(Taux!$B$4:$B$13,MATCH(D27,Taux!$A$4:$A$13,1)) -> 2.66
A28: 24 | D28: =C28-B28 -> 0 | E28: =INDEX(Taux!$B$4:$B$13,MATCH(D28,Taux!$A$4:$A$13,1)) -> 2.66
A29: 25 | D29: =C29-B29 -> 0 | E29: =INDEX(Taux!$B$4:$B$13,MATCH(D29,Taux!$A$4:$A$13,1)) -> 2.66
A30: 26 | D30: =C30-B30 -> 0 | E30: =INDEX(Taux!$B$4:$B$13,MATCH(D30,Taux!$A$4:$A$13,1)) -> 2.66
A31: 27 | D31: =C31-B31 -> 0 | E31: =INDEX(Taux!$B$4:$B$13,MATCH(D31,Taux!$A$4:$A$13,1)) -> 2.66
A32: 28 | D32: =C32-B32 -> 0 | E32: =INDEX(Taux!$B$4:$B$13,MATCH(D32,Taux!$A$4:$A$13,1)) -> 2.66
A33: 29 | D33: =C33-B33 -> 0 | E33: =INDEX(Taux!$B$4:$B$13,MATCH(D33,Taux!$A$4:$A$13,1)) -> 2.66
A34: 30 | D34: =C34-B34 -> 0 | E34: =INDEX(Taux!$B$4:$B$13,MATCH(D34,Taux!$A$4:$A$13,1)) -> 2.66
A35: 31 | D35: =C35-B35 -> 0 | E35: =INDEX(Taux!$B$4:$B$13,MATCH(D35,Taux!$A$4:$A$13,1)) -> 2.66
A36: Totaux | D36: =SUM(D5:D35) -> 2.25 | E36: =SUM(,E5:E35)*3 -> 253.44 | F36: =SUM(,F5:F35)*3 -> 9 | G36: =SUM(,G5:G35)*1 -> 3
A37: € | D37: =SUM(D36*24*3.1) -> 167.4
A38: Salaire
A39: CP 10% hors IE/R/G

Sheet Taux
A3: IE 2019 | C3: REPAS | D3: GOÛTER
A4: 0 | B4: 2.66 | C4: 3 | D4: 1
A5: 0.33333333 | B5: 2.74
A6: 0.35416667 | B6: 2.9
A7: 0.375 | B7: 3.08
A8: 0.39583333 | B8: 3.24
A9: 0.41666667 | B9: 3.42
A10: 0.4375 | B10: 3.58
A11: 0.45833333 | B11: 3.77
A12: 0.47916667 | B12: 3.93
A13: 0.5 | B13: 4.11
