Workbook
Name diagnostic: Sheet2!$A$2:$H$2

Sheet Sheet1
J2: Diagnostic : | L2: Traitement proposé
J4: 18 | K4: Carie petite | L4: =IF(K4="","",INDEX(Sheet2!$A$11:$H$11,0,MATCH(Sheet1!K4,diagnostic,0))&" "&INDEX(Sheet2!$A$12:$H$12,0,MATCH(Sheet1!K4,diagnostic,0))&" "&INDEX(Sheet2!$A$13:$H$13,0,MATCH(Sheet1!K4,diagnostic,0))) -> Composite
J5: 17 | K5: Carie grosse | L5: =IF(K5="","",INDEX(Sheet2!$A$11:$H$11,0,MATCH(Sheet1!K5,diagnostic,0))&" "&INDEX(Sheet2!$A$12:$H$12,0,MATCH(Sheet1!K5,diagnostic,0))&" "&INDEX(Sheet2!$A$13:$H$13,0,MATCH(Sheet1!K5,diagnostic,0))) -> Onlay Couronne sur dent vivante
J6: 16 | L6: =IF(K6="","",INDEX(Sheet2!$A$11:$H$11,0,MATCH(Sheet1!K6,diagnostic,0))&" "&INDEX(Sheet2!$A$12:$H$12,0,MATCH(Sheet1!K6,diagnostic,0))&" "&INDEX(Sheet2!$A$13:$H$13,0,MATCH(Sheet1!K6,diagnostic,0)))
J7: 15 | L7: =IF(K7="","",INDEX(Sheet2!$A$11:$H$11,0,MATCH(Sheet1!K7,diagnostic,0))&" "&INDEX(Sheet2!$A$12:$H$12,0,MATCH(Sheet1!K7,diagnostic,0))&" "&INDEX(Sheet2!$A$13:$H$13,0,MATCH(Sheet1!K7,diagnostic,0)))
J8: 14 | L8: =IF(K8="","",INDEX(Sheet2!$A$11:$H$11,0,MATCH(Sheet1!K8,diagnostic,0))&" "&INDEX(Sheet2!$A$12:$H$12,0,MATCH(Sheet1!K8,diagnostic,0))&" "&INDEX(Sheet2!$A$13:$H$13,0,MATCH(Sheet1!K8,diagnostic,0)))
J9: 13 | L9: =IF(K9="","",INDEX(Sheet2!$A$11:$H$11,0,MATCH(Sheet1!K9,diagnostic,0))&" "&INDEX(Sheet2!$A$12:$H$12,0,MATCH(Sheet1!K9,diagnostic,0))&" "&INDEX(Sheet2!$A$13:$H$13,0,MATCH(Sheet1!K9,diagnostic,0)))
J10: 12 | L10: =IF(K10="","",INDEX(Sheet2!$A$11:$H$11,0,MATCH(Sheet1!K10,diagnostic,0))&" "&INDEX(Sheet2!$A$12:$H$12,0,MATCH(Sheet1!K10,diagnostic,0))&" "&INDEX(Sheet2!$A$13:$H$13,0,MATCH(Sheet1!K10,diagnostic,0)))
J11: 11 | L11: =IF(K11="","",INDEX(Sheet2!$A$11:$H$11,0,MATCH(Sheet1!K11,diagnostic,0))&" "&INDEX(Sheet2!$A$12:$H$12,0,MATCH(Sheet1!K11,diagnostic,0))&" "&INDEX(Sheet2!$A$13:$H$13,0,MATCH(Sheet1!K11,diagnostic,0)))
L12: =IF(K12="","",INDEX(Sheet2!$A$11:$H$11,0,MATCH(Sheet1!K12,diagnostic,0))&" "&INDEX(Sheet2!$A$12:$H$12,0,MATCH(Sheet1!K12,diagnostic,0))&" "&INDEX(Sheet2!$A$13:$H$13,0,MATCH(Sheet1!K12,diagnostic,0)))
J13: 21 | L13: =IF(K13="","",INDEX(Sheet2!$A$11:$H$11,0,MATCH(Sheet1!K13,diagnostic,0))&" "&INDEX(Sheet2!$A$12:$H$12,0,MATCH(Sheet1!K13,diagnostic,0))&" "&INDEX(Sheet2!$A$13:$H$13,0,MATCH(Sheet1!K13,diagnostic,0)))
J14: 22 | L14: =IF(K14="","",INDEX(Sheet2!$A$11:$H$11,0,MATCH(Sheet1!K14,diagnostic,0))&" "&INDEX(Sheet2!$A$12:$H$12,0,MATCH(Sheet1!K14,diagnostic,0))&" "&INDEX(Sheet2!$A$13:$H$13,0,MATCH(Sheet1!K14,diagnostic,0)))
J15: 23 | L15: =IF(K15="","",INDEX(Sheet2!$A$11:$H$11,0,MATCH(Sheet1!K15,diagnostic,0))&" "&INDEX(Sheet2!$A$12:$H$12,0,MATCH(Sheet1!K15,diagnostic,0))&" "&INDEX(Sheet2!$A$13:$H$13,0,MATCH(Sheet1!K15,diagnostic,0)))
J16: 24 | L16: =IF(K16="","",INDEX(Sheet2!$A$11:$H$11,0,MATCH(Sheet1!K16,diagnostic,0))&" "&INDEX(Sheet2!$A$12:$H$12,0,MATCH(Sheet1!K16,diagnostic,0))&" "&INDEX(Sheet2!$A$13:$H$13,0,MATCH(Sheet1!K16,diagnostic,0)))
J17: 25 | L17: =IF(K17="","",INDEX(Sheet2!$A$11:$H$11,0,MATCH(Sheet1!K17,diagnostic,0))&" "&INDEX(Sheet2!$A$12:$H$12,0,MATCH(Sheet1!K17,diagnostic,0))&" "&INDEX(Sheet2!$A$13:$H$13,0,MATCH(Sheet1!K17,diagnostic,0)))
J18: 26 | L18: =IF(K18="","",INDEX(Sheet2!$A$11:$H$11,0,MATCH(Sheet1!K18,diagnostic,0))&" "&INDEX(Sheet2!$A$12:$H$12,0,MATCH(Sheet1!K18,diagnostic,0))&" "&INDEX(Sheet2!$A$13:$H$13,0,MATCH(Sheet1!K18,diagnostic,0)))
J19: 27 | L19: =IF(K19="","",INDEX(Sheet2!$A$11:$H$11,0,MATCH(Sheet1!K19,diagnostic,0))&" "&INDEX(Sheet2!$A$12:$H$12,0,MATCH(Sheet1!K19,diagnostic,0))&" "&INDEX(Sheet2!$A$13:$H$13,0,MATCH(Sheet1!K19,diagnostic,0)))
J20: 28 | L20: =IF(K20="","",INDEX(Sheet2!$A$11:$H$11,0,MATCH(Sheet1!K20,diagnostic,0))&" "&INDEX(Sheet2!$A$12:$H$12,0,MATCH(Sheet1!K20,diagnostic,0))&" "&INDEX(Sheet2!$A$13:$H$13,0,MATCH(Sheet1!K20,diagnostic,0)))
L21: =IF(K21="","",INDEX(Sheet2!$A$11:$H$11,0,MATCH(Sheet1!K21,diagnostic,0))&" "&INDEX(Sheet2!$A$12:$H$12,0,MATCH(Sheet1!K21,diagnostic,0))&" "&INDEX(Sheet2!$A$13:$H$13,0,MATCH(Sheet1!K21,diagnostic,0)))
J22: 38 | L22: =IF(K22="","",INDEX(Sheet2!$A$11:$H$11,0,MATCH(Sheet1!K22,diagnostic,0))&" "&INDEX(Sheet2!$A$12:$H$12,0,MATCH(Sheet1!K22,diagnostic,0))&" "&INDEX(Sheet2!$A$13:$H$13,0,MATCH(Sheet1!K22,diagnostic,0)))
J23: 37 | L23: =IF(K23="","",INDEX(Sheet2!$A$11:$H$11,0,MATCH(Sheet1!K23,diagnostic,0))&" "&INDEX(Sheet2!$A$12:$H$12,0,MATCH(Sheet1!K23,diagnostic,0))&" "&INDEX(Sheet2!$A$13:$H$13,0,MATCH(Sheet1!K23,diagnostic,0)))
J24: 36 | L24: =IF(K24="","",INDEX(Sheet2!$A$11:$H$11,0,MATCH(Sheet1!K24,diagnostic,0))&" "&INDEX(Sheet2!$A$12:$H$12,0,MATCH(Sheet1!K24,diagnostic,0))&" "&INDEX(Sheet2!$A$13:$H$13,0,MATCH(Sheet1!K24,diagnostic,0)))
J25: 35 | L25: =IF(K25="","",INDEX(Sheet2!$A$11:$H$11,0,MATCH(Sheet1!K25,diagnostic,0))&" "&INDEX(Sheet2!$A$12:$H$12,0,MATCH(Sheet1!K25,diagnostic,0))&" "&INDEX(Sheet2!$A$13:$H$13,0,MATCH(Sheet1!K25,diagnostic,0)))
J26: 34 | L26: =IF(K26="","",INDEX(Sheet2!$A$11:$H$11,0,MATCH(Sheet1!K26,diagnostic,0))&" "&INDEX(Sheet2!$A$12:$H$12,0,MATCH(Sheet1!K26,diagnostic,0))&" "&INDEX(Sheet2!$A$13:$H$13,0,MATCH(Sheet1!K26,diagnostic,0)))
J27: 33 | L27: =IF(K27="","",INDEX(Sheet2!$A$11:$H$11,0,MATCH(Sheet1!K27,diagnostic,0))&" "&INDEX(Sheet2!$A$12:$H$12,0,MATCH(Sheet1!K27,diagnostic,0))&" "&INDEX(Sheet2!$A$13:$H$13,0,MATCH(Sheet1!K27,diagnostic,0)))
J28: 32 | L28: =IF(K28="","",INDEX(Sheet2!$A$11:$H$11,0,MATCH(Sheet1!K28,diagnostic,0))&" "&INDEX(Sheet2!$A$12:$H$12,0,MATCH(Sheet1!K28,diagnostic,0))&" "&INDEX(Sheet2!$A$13:$H$13,0,MATCH(Sheet1!K28,diagnostic,0)))
J29: 31 | L29: =IF(K29="","",INDEX(Sheet2!$A$11:$H$11,0,MATCH(Sheet1!K29,diagnostic,0))&" "&INDEX(Sheet2!$A$12:$H$12,0,MATCH(Sheet1!K29,diagnostic,0))&" "&INDEX(Sheet2!$A$13:$H$13,0,MATCH(Sheet1!K29,diagnostic,0)))
L30: =IF(K30="","",INDEX(Sheet2!$A$11:$H$11,0,MATCH(Sheet1!K30,diagnostic,0))&" "&INDEX(Sheet2!$A$12:$H$12,0,MATCH(Sheet1!K30,diagnostic,0))&" "&INDEX(Sheet2!$A$13:$H$13,0,MATCH(Sheet1!K30,diagnostic,0)))
J31: 41 | L31: =IF(K31="","",INDEX(Sheet2!$A$11:$H$11,0,MATCH(Sheet1!K31,diagnostic,0))&" "&INDEX(Sheet2!$A$12:$H$12,0,MATCH(Sheet1!K31,diagnostic,0))&" "&INDEX(Sheet2!$A$13:$H$13,0,MATCH(Sheet1!K31,diagnostic,0)))
J32: 42 | L32: =IF(K32="","",INDEX(Sheet2!$A$11:$H$11,0,MATCH(Sheet1!K32,diagnostic,0))&" "&INDEX(Sheet2!$A$12:$H$12,0,MATCH(Sheet1!K32,diagnostic,0))&" "&INDEX(Sheet2!$A$13:$H$13,0,MATCH(Sheet1!K32,diagnostic,0)))
J33: 43 | L33: =IF(K33="","",INDEX(Sheet2!$A$11:$H$11,0,MATCH(Sheet1!K33,diagnostic,0))&" "&INDEX(Sheet2!$A$12:$H$12,0,MATCH(Sheet1!K33,diagnostic,0))&" "&INDEX(Sheet2!$A$13:$H$13,0,MATCH(Sheet1!K33,diagnostic,0)))
J34: 44 | L34: =IF(K34="","",INDEX(Sheet2!$A$11:$H$11,0,MATCH(Sheet1!K34,diagnostic,0))&" "&INDEX(Sheet2!$A$12:$H$12,0,MATCH(Sheet1!K34,diagnostic,0))&" "&INDEX(Sheet2!$A$13:$H$13,0,MATCH(Sheet1!K34,diagnostic,0)))
J35: 45 | L35: =IF(K35="","",INDEX(Sheet2!$A$11:$H$11,0,MATCH(Sheet1!K35,diagnostic,0))&" "&INDEX(Sheet2!$A$12:$H$12,0,MATCH(Sheet1!K35,diagnostic,0))&" "&INDEX(Sheet2!$A$13:$H$13,0,MATCH(Sheet1!K35,diagnostic,0)))
J36: 46 | L36: =IF(K36="","",INDEX(Sheet2!$A$11:$H$11,0,MATCH(Sheet1!K36,diagnostic,0))&" "&INDEX(Sheet2!$A$12:$H$12,0,MATCH(Sheet1!K36,diagnostic,0))&" "&INDEX(Sheet2!$A$13:$H$13,0,MATCH(Sheet1!K36,diagnostic,0)))
J37: 47 | L37: =IF(K37="","",INDEX(Sheet2!$A$11:$H$11,0,MATCH(Sheet1!K37,diagnostic,0))&" "&INDEX(Sheet2!$A$12:$H$12,0,MATCH(Sheet1!K37,diagnostic,0))&" "&INDEX(Sheet2!$A$13:$H$13,0,MATCH(Sheet1!K37,diagnostic,0)))
J38: 48 | L38: =IF(K38="","",INDEX(Sheet2!$A$11:$H$11,0,MATCH(Sheet1!K38,diagnostic,0))&" "&INDEX(Sheet2!$A$12:$H$12,0,MATCH(Sheet1!K38,diagnostic,0))&" "&INDEX(Sheet2!$A$13:$H$13,0,MATCH(Sheet1!K38,diagnostic,0)))

Sheet Sheet2
A1: Diagnostic :
A2: Carie petite | B2: Carie grosse | C2: Composite ancien | D2: Pulpithe | E2: Lipoe | F2: Couronne usagé | G2: Absente | H2: Récessiojn gingivale
A10: Traitement :
A11: Composite | B11: Onlay | C11: Onlay | D11: Extraction | E11: Retraitement endodontique | F11: couronne | G11: implant | H11: régénération gingivale
B12: Couronne sur dent vivante | C12: couronne sur dent vivante | D12: Dévitalisation | E12: dévitalisation | F12: extraction
C13: dévitalisation

Sheet Sheet3
