Workbook

Sheet Table correspondance
A1: Bas | B1: Haut | C1: Solde | D1: Rubrique
A2: 10100000 | B2: 10399999 | C2: T | D2: P10100
A3: 10400000 | B3: 10499999 | C3: T | D3: P10400
A4: 10500000 | B4: 10599999 | C4: T | D4: P10500
A5: 10600000 | B5: 10799999 | C5: T | D5: P10600
A6: 10800000 | B6: 10899999 | C6: T | D6: P10100
A7: 10900000 | B7: 10999999 | C7: T | D7: A10900
A8: 11000000 | B8: 11999999 | C8: T | D8: P10600
A9: 12000000 | B9: 12999999 | C9: T | D9: P12000
A10: 13000000 | B10: 13999999 | C10: T | D10: P13000
A11: 14000000 | B11: 14499999 | C11: T | D11: P14000
A12: 14500000 | B12: 14999999 | C12: T | D12: P14500
A13: 15000000 | B13: 15199999 | C13: T | D13: P15181
... A288: 786610000 | B288: 78699999 | C288: T | D288: R78661

Sheet Table correspondance N
A1: Bas | B1: Haut | C1: si + | D1: si -
A2: 10100000 | B2: 10399999 | C2: P10100 | D2: P10100
A3: 10400000 | B3: 10499999 | C3: P10400 | D3: P10400
A4: 10500000 | B4: 10599999 | C4: P10500 | D4: P10500
A5: 10600000 | B5: 10799999 | C5: P10600 | D5: P10600
A6: 10800000 | B6: 10899999 | C6: P10100 | D6: P10100
A7: 10900000 | B7: 10999999 | C7: A10900 | D7: A10900
A8: 11000000 | B8: 11999999 | C8: P10600 | D8: P10600
A9: 12000000 | B9: 12999999 | C9: P12000 | D9: P12000
A10: 13000000 | B10: 13999999 | C10: P13000 | D10: P13000
A11: 14000000 | B11: 14499999 | C11: P14000 | D11: P14000
A12: 14500000 | B12: 14999999 | C12: P14500 | D12: P14500
A13: 15000000 | B13: 15199999 | C13: P15181 | D13: P15181
... A24: 17000000 | B24: 17999999 | C24: P17000 | D24: P17000
A25: 18000000 | B25: 19999999 | D25: A47100
A26: 20000000 | B26: 20299999 | C26: A20100 | D26: A20100
A27: 20300000 | B27: 20499999 | C27: A20300 | D27: A20300
A28: 20500000 | B28: 20599999 | C28: A20500 | D28: A20500
A29: 20600000 | B29: 20699999 | C29: A20600 | D29: A20600
A30: 20700000 | B30: 20799999 | C30: A20700 | D30: A20700
A31: 20800000 | B31: 20999999 | C31: A20800 | D31: A20800
A32: 21000000 | B32: 21199999 | C32: A21100 | D32: A21100
A33: 21200000 | B33: 21299999 | C33: A21200 | D33: A21200
A34: 21300000 | B34: 21399999 | C34: A21300 | D34: A21300
A35: 21400000 | B35: 21499999 | C35: A21400 | D35: A21400
A36: 21500000 | B36: 21799999 | C36: A21500 | D36: A21500
A37: 21800000 | B37: 22999999 | C37: A21800 | D37: A21800
... A101: 39700000 | B101: 39999999 | C101: A39700 | D101: A39700
A102: 40000000 | B102: 40399999 | D102: A46700
A103: 40400000 | B103: 40799999 | D103: A46700
A104: 40800000 | B104: 40839999 | D104: A46700
A105: 40840000 | B105: 40879999 | D105: A46700
A106: 40880000 | B106: 40899999 | D106: A46700
A107: 40900000 | B107: 40959999 | C107: A40900 | D107: A40900
A108: 40960000 | B108: 40999999 | C108: A46700 | D108: A46700
A109: 41000000 | B109: 41999999 | D109: A41100
A110: 41000000 | B110: 41899999 | C110: P46700
A111: 41900000 | B111: 41959999 | C111: P41900 | D111: P41900
A112: 41960000 | B112: 41999999 | C112: P46700
A113: 42000000 | B113: 42599999 | D113: A42100
...

Sheet Feuil2
A1: Compte | B1: Libellé
A2: A20100 | B2: Frais d'établissement
A3: A20500 | B3: Concessions, brevets et droits similaires, brevets, licences
A4: A20800 | B4: Autres immobilisations incorporelles
A5: A20900 | B5: Ecart d'acquisition
A6: A21400 | B6: Constructions sur sol d'autrui
A7: A21500 | B7: Installations techniques, matériel & outillage
A8: A21800 | B8: Autres immobilisations corporelles
A9: A26100 | B9: Titres de participation
A10: A27100 | B10: Titres immobilisés (non courants)
A11: A27500 | B11: Dépôts et cautionnements versés
A12: A28010 | B12: Amortissements des frais d'établissement
... A131: R80200 | B131: Résultat net (Part du groupe)

Sheet donnée
A1: Entite | B1: Compte | C1: Libelle | D1: Solde
A2: Société n° 1 | B2: 10130000 | C2: =CONCATENATE("Libellé compte n° ",B2) -> Libellé compte n° 10130000 | D2: -1 | E2: =INDEX('Table correspondance N'!$C$1:$D$265,SUMPRODUCT(('Table correspondance N'!$A$1:$A$265<=B2)*('Table correspondance N'!$B$1:$B$265>=B2)*ROW($A$1:$A$265)),IF(donnée!D2<0,1,2)) -> P10100
A3: Société n° 1 | B3: 10410000 | C3: =CONCATENATE("Libellé compte n° ",B3) -> Libellé compte n° 10410000 | D3: -1 | E3: =INDEX('Table correspondance N'!$C$1:$D$265,SUMPRODUCT(('Table correspondance N'!$A$1:$A$265<=B3)*('Table correspondance N'!$B$1:$B$265>=B3)*ROW($A$1:$A$265)),IF(donnée!D3<0,1,2)) -> P10400
A4: Société n° 1 | B4: 11900000 | C4: =CONCATENATE("Libellé compte n° ",B4) -> Libellé compte n° 11900000 | D4: 1 | E4: =INDEX('Table correspondance N'!$C$1:$D$265,SUMPRODUCT(('Table correspondance N'!$A$1:$A$265<=B4)*('Table correspondance N'!$B$1:$B$265>=B4)*ROW($A$1:$A$265)),IF(donnée!D4<0,1,2)) -> P10600
A5: Société n° 1 | B5: 14500000 | C5: =CONCATENATE("Libellé compte n° ",B5) -> Libellé compte n° 14500000 | D5: -1 | E5: =INDEX('Table correspondance N'!$C$1:$D$265,SUMPRODUCT(('Table correspondance N'!$A$1:$A$265<=B5)*('Table correspondance N'!$B$1:$B$265>=B5)*ROW($A$1:$A$265)),IF(donnée!D5<0,1,2)) -> P14500
A6: Société n° 1 | B6: 16310000 | C6: =CONCATENATE("Libellé compte n° ",B6) -> Libellé compte n° 16310000 | D6: -1 | E6: =INDEX('Table correspondance N'!$C$1:$D$265,SUMPRODUCT(('Table correspondance N'!$A$1:$A$265<=B6)*('Table correspondance N'!$B$1:$B$265>=B6)*ROW($A$1:$A$265)),IF(donnée!D6<0,1,2)) -> P16100
A7: Société n° 1 | B7: 16883000 | C7: =CONCATENATE("Libellé compte n° ",B7) -> Libellé compte n° 16883000 | D7: -1 | E7: =INDEX('Table correspondance N'!$C$1:$D$265,SUMPRODUCT(('Table correspondance N'!$A$1:$A$265<=B7)*('Table correspondance N'!$B$1:$B$265>=B7)*ROW($A$1:$A$265)),IF(donnée!D7<0,1,2)) -> P16880
A8: Société n° 1 | B8: 26110000 | C8: =CONCATENATE("Libellé compte n° ",B8) -> Libellé compte n° 26110000 | D8: 1 | E8: =INDEX('Table correspondance N'!$C$1:$D$265,SUMPRODUCT(('Table correspondance N'!$A$1:$A$265<=B8)*('Table correspondance N'!$B$1:$B$265>=B8)*ROW($A$1:$A$265)),IF(donnée!D8<0,1,2)) -> A26100
A9: Société n° 1 | B9: 26110001 | C9: =CONCATENATE("Libellé compte n° ",B9) -> Libellé compte n° 26110001 | D9: 1 | E9: =INDEX('Table correspondance N'!$C$1:$D$265,SUMPRODUCT(('Table correspondance N'!$A$1:$A$265<=B9)*('Table correspondance N'!$B$1:$B$265>=B9)*ROW($A$1:$A$265)),IF(donnée!D9<0,1,2)) -> A26100
A10: Société n° 1 | B10: 40100000 | C10: =CONCATENATE("Libellé compte n° ",B10) -> Libellé compte n° 40100000 | D10: -1 | E10: =INDEX('Table correspondance N'!$C$1:$D$265,SUMPRODUCT(('Table correspondance N'!$A$1:$A$265<=B10)*('Table correspondance N'!$B$1:$B$265>=B10)*ROW($A$1:$A$265)),IF(donnée!D10<0,1,2))
A11: Société n° 1 | B11: 40800000 | C11: =CONCATENATE("Libellé compte n° ",B11) -> Libellé compte n° 40800000 | D11: -1 | E11: =INDEX('Table correspondance N'!$C$1:$D$265,SUMPRODUCT(('Table correspondance N'!$A$1:$A$265<=B11)*('Table correspondance N'!$B$1:$B$265>=B11)*ROW($A$1:$A$265)),IF(donnée!D11<0,1,2))
A12: Société n° 1 | B12: 41102000 | C12: =CONCATENATE("Libellé compte n° ",B12) -> Libellé compte n° 41102000 | D12: 1 | E12: =INDEX('Table correspondance N'!$C$1:$D$265,SUMPRODUCT(('Table correspondance N'!$A$1:$A$265<=B12)*('Table correspondance N'!$B$1:$B$265>=B12)*ROW($A$1:$A$265)),IF(donnée!D12<0,1,2)) -> R69100
A13: Société n° 1 | B13: 41800009 | C13: =CONCATENATE("Libellé compte n° ",B13) -> Libellé compte n° 41800009 | D13: 1 | E13: =INDEX('Table correspondance N'!$C$1:$D$265,SUMPRODUCT(('Table correspondance N'!$A$1:$A$265<=B13)*('Table correspondance N'!$B$1:$B$265>=B13)*ROW($A$1:$A$265)),IF(donnée!D13<0,1,2)) -> R69100
... A1039: Société n° 8 | B1039: 66150000 | C1039: =CONCATENATE("Libellé compte n° ",B1039) -> Libellé compte n° 66150000 | D1039: 1 | E1039: =INDEX('Table correspondance N'!$C$1:$D$265,SUMPRODUCT(('Table correspondance N'!$A$1:$A$265<=B1039)*('Table correspondance N'!$B$1:$B$265>=B1039)*ROW($A$1:$A$265)),IF(donnée!D1039<0,1,2)) -> R66100
