Workbook

Sheet Feuil1
A1: VIA1 | B1: HILO | C1: CON1 | D1: CON2 | V1: LONG
A2: 1 | B2: =IFERROR(VLOOKUP($A2,Feuil2!$A$1:$E$14,COLUMN(B2),0),"") -> ESP36 | C2: =IFERROR(VLOOKUP($A2,Feuil2!$A$1:$E$14,COLUMN(C2),0),"") -> TSGD | D2: =IFERROR(VLOOKUP($A2,Feuil2!$A$1:$E$14,COLUMN(D2),0),"") -> LED | V2: =IFERROR(VLOOKUP($A2,Feuil2!$A$1:$E$14,COLUMN(E2),0),"") -> 0
A3: 2 | B3: =IFERROR(VLOOKUP($A3,Feuil2!$A$1:$E$14,COLUMN(B3),0),"") | C3: =IFERROR(VLOOKUP($A3,Feuil2!$A$1:$E$14,COLUMN(C3),0),"") | D3: =IFERROR(VLOOKUP($A3,Feuil2!$A$1:$E$14,COLUMN(D3),0),"") | V3: =IFERROR(VLOOKUP($A3,Feuil2!$A$1:$E$14,COLUMN(E3),0),"")
A4: 3 | B4: =IFERROR(VLOOKUP($A4,Feuil2!$A$1:$E$14,COLUMN(B4),0),"") -> XA51 | C4: =IFERROR(VLOOKUP($A4,Feuil2!$A$1:$E$14,COLUMN(C4),0),"") -> TSGD | D4: =IFERROR(VLOOKUP($A4,Feuil2!$A$1:$E$14,COLUMN(D4),0),"") -> TIB | V4: =IFERROR(VLOOKUP($A4,Feuil2!$A$1:$E$14,COLUMN(E4),0),"") -> 365
A5: 4 | B5: =IFERROR(VLOOKUP($A5,Feuil2!$A$1:$E$14,COLUMN(B5),0),"") -> PF27 | C5: =IFERROR(VLOOKUP($A5,Feuil2!$A$1:$E$14,COLUMN(C5),0),"") -> TSGD | D5: =IFERROR(VLOOKUP($A5,Feuil2!$A$1:$E$14,COLUMN(D5),0),"") -> 84J-BEL58-304*E | V5: =IFERROR(VLOOKUP($A5,Feuil2!$A$1:$E$14,COLUMN(E5),0),"") -> 455
A6: 5 | B6: =IFERROR(VLOOKUP($A6,Feuil2!$A$1:$E$14,COLUMN(B6),0),"") -> X28:1 | C6: =IFERROR(VLOOKUP($A6,Feuil2!$A$1:$E$14,COLUMN(C6),0),"") -> TSGD | D6: =IFERROR(VLOOKUP($A6,Feuil2!$A$1:$E$14,COLUMN(D6),0),"") -> 84J-GND32-303*E | V6: =IFERROR(VLOOKUP($A6,Feuil2!$A$1:$E$14,COLUMN(E6),0),"") -> 550
A7: 6 | B7: =IFERROR(VLOOKUP($A7,Feuil2!$A$1:$E$14,COLUMN(B7),0),"") | C7: =IFERROR(VLOOKUP($A7,Feuil2!$A$1:$E$14,COLUMN(C7),0),"") | D7: =IFERROR(VLOOKUP($A7,Feuil2!$A$1:$E$14,COLUMN(D7),0),"") | V7: =IFERROR(VLOOKUP($A7,Feuil2!$A$1:$E$14,COLUMN(E7),0),"")
A8: 7 | B8: =IFERROR(VLOOKUP($A8,Feuil2!$A$1:$E$14,COLUMN(B8),0),"") | C8: =IFERROR(VLOOKUP($A8,Feuil2!$A$1:$E$14,COLUMN(C8),0),"") | D8: =IFERROR(VLOOKUP($A8,Feuil2!$A$1:$E$14,COLUMN(D8),0),"") | V8: =IFERROR(VLOOKUP($A8,Feuil2!$A$1:$E$14,COLUMN(E8),0),"")
A9: 8 | B9: =IFERROR(VLOOKUP($A9,Feuil2!$A$1:$E$14,COLUMN(B9),0),"") -> PY57 | C9: =IFERROR(VLOOKUP($A9,Feuil2!$A$1:$E$14,COLUMN(C9),0),"") -> TSGD | D9: =IFERROR(VLOOKUP($A9,Feuil2!$A$1:$E$14,COLUMN(D9),0),"") -> 84J-BEL3-303*E | V9: =IFERROR(VLOOKUP($A9,Feuil2!$A$1:$E$14,COLUMN(E9),0),"") -> 335
A10: 9 | B10: =IFERROR(VLOOKUP($A10,Feuil2!$A$1:$E$14,COLUMN(B10),0),"") | C10: =IFERROR(VLOOKUP($A10,Feuil2!$A$1:$E$14,COLUMN(C10),0),"") | D10: =IFERROR(VLOOKUP($A10,Feuil2!$A$1:$E$14,COLUMN(D10),0),"") | V10: =IFERROR(VLOOKUP($A10,Feuil2!$A$1:$E$14,COLUMN(E10),0),"")
A11: 10 | B11: =IFERROR(VLOOKUP($A11,Feuil2!$A$1:$E$14,COLUMN(B11),0),"") -> P17:3 | C11: =IFERROR(VLOOKUP($A11,Feuil2!$A$1:$E$14,COLUMN(C11),0),"") -> TSGD | D11: =IFERROR(VLOOKUP($A11,Feuil2!$A$1:$E$14,COLUMN(D11),0),"") -> SDWA | V11: =IFERROR(VLOOKUP($A11,Feuil2!$A$1:$E$14,COLUMN(E11),0),"") -> 1890
A12: 11 | B12: =IFERROR(VLOOKUP($A12,Feuil2!$A$1:$E$14,COLUMN(B12),0),"") | C12: =IFERROR(VLOOKUP($A12,Feuil2!$A$1:$E$14,COLUMN(C12),0),"") | D12: =IFERROR(VLOOKUP($A12,Feuil2!$A$1:$E$14,COLUMN(D12),0),"") | V12: =IFERROR(VLOOKUP($A12,Feuil2!$A$1:$E$14,COLUMN(E12),0),"")
A13: 12 | B13: =IFERROR(VLOOKUP($A13,Feuil2!$A$1:$E$14,COLUMN(B13),0),"") | C13: =IFERROR(VLOOKUP($A13,Feuil2!$A$1:$E$14,COLUMN(C13),0),"") | D13: =IFERROR(VLOOKUP($A13,Feuil2!$A$1:$E$14,COLUMN(D13),0),"") | V13: =IFERROR(VLOOKUP($A13,Feuil2!$A$1:$E$14,COLUMN(E13),0),"")
... A33: 32 | B33: =IFERROR(VLOOKUP($A33,Feuil2!$A$1:$E$14,COLUMN(B33),0),"") | C33: =IFERROR(VLOOKUP($A33,Feuil2!$A$1:$E$14,COLUMN(C33),0),"") | D33: =IFERROR(VLOOKUP($A33,Feuil2!$A$1:$E$14,COLUMN(D33),0),"") | V33: =IFERROR(VLOOKUP($A33,Feuil2!$A$1:$E$14,COLUMN(E33),0),"")

Sheet Feuil2
A1: VIA1 | B1: HILO | C1: CON1 | D1: CON2 | E1: LONG
A2: 1 | B2: ESP36 | C2: TSGD | D2: LED | E2: 0
A3: 10 | B3: P17:3 | C3: TSGD | D3: SDWA | E3: 1890
A4: 13 | B4: PU16 | C4: TSGD | D4: SZV | E4: 360
A5: 16 | B5: XB40:3 | C5: TSGD | D5: 84J-BEL1-301*E | E5: 1115
A6: 20 | B6: Y19:3 | C6: TSGD | D6: SDWA | E6: 1895
A7: 23 | B7: YF74 | C7: TSGD | D7: HKE | E7: 1110
A8: 24 | B8: PB25:2 | C8: TSGD | D8: SSPV | E8: 720
A9: 25 | B9: PR26:2 | C9: TSGD | D9: SSPV | E9: 720
A10: 28 | B10: YA14 | C10: TSGD | D10: SZV | E10: 355
A11: 3 | B11: XA51 | C11: TSGD | D11: TIB | E11: 365
A12: 4 | B12: PF27 | C12: TSGD | D12: 84J-BEL58-304*E | E12: 455
A13: 5 | B13: X28:1 | C13: TSGD | D13: 84J-GND32-303*E | E13: 550
A14: 8 | B14: PY57 | C14: TSGD | D14: 84J-BEL3-303*E | E14: 335

Sheet Feuil3
