Workbook

Sheet Fr
A1: REGISTRE DES DÉCHETS DANGEREUX
B3: identification :
A6: Année : | B6: 2020
A7: Date de | B7: Signature ou cachet | C7: Code | D7: Description déchet | E7: Détail | F7: Quantité (2) | H7: Collecteur (3) | K7: Destination | L7: Code | M7: Code
A8: collecte | B8: du collecteur (lien) | C8: déchet (1) | D8: Description déchet | E8: Détail | F8: en kg | G8: en m3 | H8: Nom | I8: Rue + Nr | J8: CP | K8: Nom + Adresse (4) | L8: Code | M8: traitement (5)
A10: 43836 | C10: =LOOKUP(E10,Concordance!$A$2:$A$17,Concordance!$C$2:$C$17) -> 20 03 01 | D10: =LOOKUP(E10,Concordance!$A$2:$A$17,Concordance!$D$2:$D$17) -> Déchets municipaux en mélange | E10: Tout venant | F10: 109 | H10: Déchets zéro | K10: Société A | L10: =LOOKUP(M10,Concordance!$H$2:$H$29,Concordance!$I$2:$I$29) -> R05 | M10: Recyclage ou récupération d'autres matières inorganiques
A11: 43837 | C11: =LOOKUP(E11,Concordance!$A$2:$A$17,Concordance!$C$2:$C$17) -> 20 03 01 | D11: =LOOKUP(E11,Concordance!$A$2:$A$17,Concordance!$D$2:$D$17) -> Déchets municipaux en mélange | E11: Tout venant | F11: 82 | H11: Mercator | K11: Mercator | L11: =LOOKUP(M11,Concordance!$H$2:$H$29,Concordance!$I$2:$I$29) -> D01 | M11: Dépôt sur ou dans le sol (par exemple: mise en décharge, etc.)
A12: 43837 | C12: =LOOKUP(E12,Concordance!$A$2:$A$17,Concordance!$C$2:$C$17) -> 15 01 04 | D12: =LOOKUP(E12,Concordance!$A$2:$A$17,Concordance!$D$2:$D$17) -> Emballages métalliques | E12: Métal | F12: 176 | H12: Dezingue | K12: Société A | L12: =LOOKUP(M12,Concordance!$H$2:$H$29,Concordance!$I$2:$I$29) -> R08 | M12: Récupération des produits provenant des catalyseurs
A13: 43838 | C13: =LOOKUP(E13,Concordance!$A$2:$A$17,Concordance!$C$2:$C$17) -> 20 03 01 | D13: =LOOKUP(E13,Concordance!$A$2:$A$17,Concordance!$D$2:$D$17) -> Déchets municipaux en mélange | E13: Tout venant | F13: 113 | H13: Govroam | K13: Société B | L13: =LOOKUP(M13,Concordance!$H$2:$H$29,Concordance!$I$2:$I$29) -> R12 | M13: Échange de déchets en vue de les soumettre à l'une des opérations numérotées R1 à R11
A14: 43838 | C14: =LOOKUP(E14,Concordance!$A$2:$A$17,Concordance!$C$2:$C$17) -> 20 01 01 | D14: =LOOKUP(E14,Concordance!$A$2:$A$17,Concordance!$D$2:$D$17) -> Papier et carton | E14: Carton | F14: 57 | H14: Ecologique | K14: Société D | L14: =LOOKUP(M14,Concordance!$H$2:$H$29,Concordance!$I$2:$I$29) -> R01 | M14: Utilisation principale comme combustible ou autre moyen de produire de l'énergie
A15: 43839 | C15: =LOOKUP(E15,Concordance!$A$2:$A$17,Concordance!$C$2:$C$17) -> 20 03 01 | D15: =LOOKUP(E15,Concordance!$A$2:$A$17,Concordance!$D$2:$D$17) -> Déchets municipaux en mélange | E15: Tout venant | F15: 181 | H15: Mercator | K15: Société A | L15: =LOOKUP(M15,Concordance!$H$2:$H$29,Concordance!$I$2:$I$29) -> R05 | M15: Recyclage ou récupération d'autres matières inorganiques
A16: 43840 | C16: =LOOKUP(E16,Concordance!$A$2:$A$17,Concordance!$C$2:$C$17) -> 20 03 01 | D16: =LOOKUP(E16,Concordance!$A$2:$A$17,Concordance!$D$2:$D$17) -> Déchets municipaux en mélange | E16: Tout venant | F16: 107 | H16: Mercator | K16: Société A | L16: =LOOKUP(M16,Concordance!$H$2:$H$29,Concordance!$I$2:$I$29) -> R04 | M16: Recyclage ou récupération des métaux et des composés métalliques
A17: 43840 | C17: =LOOKUP(E17,Concordance!$A$2:$A$17,Concordance!$C$2:$C$17) -> 20 01 01 | D17: =LOOKUP(E17,Concordance!$A$2:$A$17,Concordance!$D$2:$D$17) -> Papier et carton | E17: Papier | F17: 115 | H17: Ecologique | K17: Ecologique | L17: =LOOKUP(M17,Concordance!$H$2:$H$29,Concordance!$I$2:$I$29) -> R12 | M17: Échange de déchets en vue de les soumettre à l'une des opérations numérotées R1 à R11
A18: 43840 | C18: =LOOKUP(E18,Concordance!$A$2:$A$17,Concordance!$C$2:$C$17) -> 15 01 04 | D18: =LOOKUP(E18,Concordance!$A$2:$A$17,Concordance!$D$2:$D$17) -> Emballages métalliques | E18: Métal | F18: 19 | H18: Dezingue | K18: Société X | L18: =LOOKUP(M18,Concordance!$H$2:$H$29,Concordance!$I$2:$I$29) -> R04 | M18: Recyclage ou récupération des métaux et des composés métalliques
A19: 43843 | C19: =LOOKUP(E19,Concordance!$A$2:$A$17,Concordance!$C$2:$C$17) -> 20 03 01 | D19: =LOOKUP(E19,Concordance!$A$2:$A$17,Concordance!$D$2:$D$17) -> Déchets municipaux en mélange | E19: Tout venant | F19: 67 | H19: Mercator | K19: Société U | L19: =LOOKUP(M19,Concordance!$H$2:$H$29,Concordance!$I$2:$I$29) -> D01 | M19: Dépôt sur ou dans le sol (par exemple: mise en décharge, etc.)
A20: 43843 | C20: =LOOKUP(E20,Concordance!$A$2:$A$17,Concordance!$C$2:$C$17) -> 20 01 01 | D20: =LOOKUP(E20,Concordance!$A$2:$A$17,Concordance!$D$2:$D$17) -> Papier et carton | E20: Papier | F20: 154 | H20: Ecologique | K20: Ecologique | L20: =LOOKUP(M20,Concordance!$H$2:$H$29,Concordance!$I$2:$I$29) -> R05 | M20: Recyclage ou récupération d'autres matières inorganiques
A21: 43844 | C21: =LOOKUP(E21,Concordance!$A$2:$A$17,Concordance!$C$2:$C$17) -> 20 03 01 | D21: =LOOKUP(E21,Concordance!$A$2:$A$17,Concordance!$D$2:$D$17) -> Déchets municipaux en mélange | E21: Tout venant | F21: 102 | H21: Mercator | K21: Mercator | L21: =LOOKUP(M21,Concordance!$H$2:$H$29,Concordance!$I$2:$I$29) -> D09 | M21: Traitement physico-chimique non spécifié ailleurs dans la présente annexe, aboutissant à des composés ou à des mélanges qui sont éliminés selon l'un des procédés numérotés D1 à D8 et D10 à D12 (par exemple: évaporation, séchage, calcination, etc.)
... A49: 43868 | C49: =LOOKUP(E49,Concordance!$A$2:$A$17,Concordance!$C$2:$C$17) -> 20 03 01 | D49: =LOOKUP(E49,Concordance!$A$2:$A$17,Concordance!$D$2:$D$17) -> Déchets municipaux en mélange | E49: PMC | F49: 18 | H49: Bac and sac | K49: Bac and Sac | L49: =LOOKUP(M49,Concordance!$H$2:$H$29,Concordance!$I$2:$I$29) -> D09 | M49: Traitement physico-chimique non spécifié ailleurs dans la présente annexe, aboutissant à des composés ou à des mélanges qui sont éliminés selon l'un des procédés numérotés D1 à D8 et D10 à D12 (par exemple: évaporation, séchage, calcination, etc.)
C50: =LOOKUP(E50,Concordance!$A$2:$A$17,Concordance!$C$2:$C$17) -> #N/A | D50: =LOOKUP(E50,Concordance!$A$2:$A$17,Concordance!$D$2:$D$17) -> #N/A | L50: =LOOKUP(M50,Concordance!$H$2:$H$29,Concordance!$I$2:$I$29) -> #N/A
C51: =LOOKUP(E51,Concordance!$A$2:$A$17,Concordance!$C$2:$C$17) -> #N/A | D51: =LOOKUP(E51,Concordance!$A$2:$A$17,Concordance!$D$2:$D$17) -> #N/A | L51: =LOOKUP(M51,Concordance!$H$2:$H$29,Concordance!$I$2:$I$29) -> #N/A
C52: =LOOKUP(E52,Concordance!$A$2:$A$17,Concordance!$C$2:$C$17) -> #N/A | D52: =LOOKUP(E52,Concordance!$A$2:$A$17,Concordance!$D$2:$D$17) -> #N/A | L52: =LOOKUP(M52,Concordance!$H$2:$H$29,Concordance!$I$2:$I$29) -> #N/A
C53: =LOOKUP(E53,Concordance!$A$2:$A$17,Concordance!$C$2:$C$17) -> #N/A | D53: =LOOKUP(E53,Concordance!$A$2:$A$17,Concordance!$D$2:$D$17) -> #N/A | L53: =LOOKUP(M53,Concordance!$H$2:$H$29,Concordance!$I$2:$I$29) -> #N/A
C54: =LOOKUP(E54,Concordance!$A$2:$A$17,Concordance!$C$2:$C$17) -> #N/A | D54: =LOOKUP(E54,Concordance!$A$2:$A$17,Concordance!$D$2:$D$17) -> #N/A | L54: =LOOKUP(M54,Concordance!$H$2:$H$29,Concordance!$I$2:$I$29) -> #N/A
C55: =LOOKUP(E55,Concordance!$A$2:$A$17,Concordance!$C$2:$C$17) -> #N/A | D55: =LOOKUP(E55,Concordance!$A$2:$A$17,Concordance!$D$2:$D$17) -> #N/A | L55: =LOOKUP(M55,Concordance!$H$2:$H$29,Concordance!$I$2:$I$29) -> #N/A
C56: =LOOKUP(E56,Concordance!$A$2:$A$17,Concordance!$C$2:$C$17) -> #N/A | D56: =LOOKUP(E56,Concordance!$A$2:$A$17,Concordance!$D$2:$D$17) -> #N/A | L56: =LOOKUP(M56,Concordance!$H$2:$H$29,Concordance!$I$2:$I$29) -> #N/A
C57: =LOOKUP(E57,Concordance!$A$2:$A$17,Concordance!$C$2:$C$17) -> #N/A | D57: =LOOKUP(E57,Concordance!$A$2:$A$17,Concordance!$D$2:$D$17) -> #N/A | L57: =LOOKUP(M57,Concordance!$H$2:$H$29,Concordance!$I$2:$I$29) -> #N/A
C58: =LOOKUP(E58,Concordance!$A$2:$A$17,Concordance!$C$2:$C$17) -> #N/A | D58: =LOOKUP(E58,Concordance!$A$2:$A$17,Concordance!$D$2:$D$17) -> #N/A | L58: =LOOKUP(M58,Concordance!$H$2:$H$29,Concordance!$I$2:$I$29) -> #N/A
C59: =LOOKUP(E59,Concordance!$A$2:$A$17,Concordance!$C$2:$C$17) -> #N/A | D59: =LOOKUP(E59,Concordance!$A$2:$A$17,Concordance!$D$2:$D$17) -> #N/A | L59: =LOOKUP(M59,Concordance!$H$2:$H$29,Concordance!$I$2:$I$29) -> #N/A
C60: =LOOKUP(E60,Concordance!$A$2:$A$17,Concordance!$C$2:$C$17) -> #N/A | D60: =LOOKUP(E60,Concordance!$A$2:$A$17,Concordance!$D$2:$D$17) -> #N/A | L60: =LOOKUP(M60,Concordance!$H$2:$H$29,Concordance!$I$2:$I$29) -> #N/A
C61: =LOOKUP(E61,Concordance!$A$2:$A$17,Concordance!$C$2:$C$17) -> #N/A | D61: =LOOKUP(E61,Concordance!$A$2:$A$17,Concordance!$D$2:$D$17) -> #N/A | L61: =LOOKUP(M61,Concordance!$H$2:$H$29,Concordance!$I$2:$I$29) -> #N/A
... C500: =LOOKUP(E500,Concordance!$A$2:$A$17,Concordance!$C$2:$C$17) -> #N/A | D500: =LOOKUP(E500,Concordance!$A$2:$A$17,Concordance!$D$2:$D$17) -> #N/A | L500: =LOOKUP(M500,Concordance!$H$2:$H$29,Concordance!$I$2:$I$29) -> #N/A
B502: Sources : | C502: Traçabilité et registre des déchets : http://www.bruxellesenvironnement.be/Templates/Professionnels/informer.aspx?id=33037
C503: (1) Voir CED (catalogue européen des déchets) = liste européenne des (codes de) déchets et déchets dangereux :
D504: http://www.ejustice.just.fgov.be/cgi_loi/change_lg.pl?language=fr&la=F&cn=2002042553&table_name=loi
D505: http://www.bruxellesenvironnement.be/uploadedFiles/Contenu_du_site/Professionnels/Themes/Les_déchets/Les_déchets_dangereux/La_liste_des_déchets_dangereux/Liste_DD_2000_FR.pdf
C506: (2) Quantité exprimée en poids (idéalement) ou en volume
C507: (3) Liste des collecteurs de déchets dangereux agréés en Région de Bruxelles-Capitale : http://app.bruxellesenvironnement.be/listes/?nr_list=CED0001
C508: (4) S'il est fait appel à un transporteur ou à un autre collecteur il convient de le spécifier pour chaque collecte
C509: (5) Liste des codes de traitement : http://www.bruxellesenvironnement.be/uploadedFiles/Contenu_du_site/Professionnels/Formulaires/Déchets/110411_FR_CODES_RD.pdf via http://www.bruxellesenvironnement.be/Templates/Professionnels/informer.aspx?id=32296
C510: = codes R- et D- conformément à l'annexe II de la Directive 2008/98/CE concernant les déchets

Sheet Nl
A1: REGISTER GEVAARLIJK AFVAL
B3: identificatie:
A6: Jaar : | B6: 2020
A7: Datum | B7: bewijs afhaling | C7: Afvalcode | D7: Beschrijving afvalstof | E7: Detail | F7: Hoeveelheid (2) | H7: Ophaler (3) | K7: Bestemming | M7: Code
A8: ophaling | B8: (link) | C8: (1) | F8: in kg | G8: in m3 | H8: Naam | I8: Straat + Nr | J8: PC | K8: Naam + Adres (4) | M8: verwerking (5)
A10: =IF(Fr!A10>0,Fr!A10,"") -> 43836 | B10: =IF(Fr!B10>0,Fr!B10,"") | C10: =IF(Fr!C10>0,Fr!C10,"") -> 20 03 01 | D10: =LOOKUP(Fr!E10,Concordance!$A$2:$A$17,Concordance!$E$2:$E$17) -> Gemengde stedelijk afval | E10: =LOOKUP(Fr!E10,Concordance!$A$2:$A$17,Concordance!$B$2:$B$17) -> Gemengde afvalstoffen | F10: =IF(Fr!F10>0,Fr!F10,"") -> 109 | G10: =IF(Fr!G10>0,Fr!G10,"") | H10: =IF(Fr!H10>0,Fr!H10,"") -> Déchets zéro | I10: =IF(Fr!I10>0,Fr!I10,"") | J10: =IF(Fr!J10>0,Fr!J10,"") | K10: =IF(Fr!K10>0,Fr!K10,"") -> Société A | L10: =IF(Fr!L10>0,Fr!L10,"") -> R05 | M10: =LOOKUP(L10,Concordance!$K$2:K$29,Concordance!$L$2:$L$29) -> Recycling/terugwinning van andere anorganische materialen
A11: =IF(Fr!A11>0,Fr!A11,"") -> 43837 | B11: =IF(Fr!B11>0,Fr!B11,"") | C11: =IF(Fr!C11>0,Fr!C11,"") -> 20 03 01 | D11: =LOOKUP(Fr!E11,Concordance!$A$2:$A$17,Concordance!$E$2:$E$17) -> Gemengde stedelijk afval | E11: =LOOKUP(Fr!E11,Concordance!$A$2:$A$17,Concordance!$B$2:$B$17) -> Gemengde afvalstoffen | F11: =IF(Fr!F11>0,Fr!F11,"") -> 82 | G11: =IF(Fr!G11>0,Fr!G11,"") | H11: =IF(Fr!H11>0,Fr!H11,"") -> Mercator | I11: =IF(Fr!I11>0,Fr!I11,"") | J11: =IF(Fr!J11>0,Fr!J11,"") | K11: =IF(Fr!K11>0,Fr!K11,"") -> Mercator | L11: =IF(Fr!L11>0,Fr!L11,"") -> D01 | M11: =LOOKUP(L11,Concordance!$K$2:K$29,Concordance!$L$2:$L$29) -> Storten op of in de bodem (bv. Op een vuilstortplaats, enz.)
A12: =IF(Fr!A12>0,Fr!A12,"") -> 43837 | B12: =IF(Fr!B12>0,Fr!B12,"") | C12: =IF(Fr!C12>0,Fr!C12,"") -> 15 01 04 | D12: =LOOKUP(Fr!E12,Concordance!$A$2:$A$17,Concordance!$E$2:$E$17) -> Metalen verpakking | E12: =LOOKUP(Fr!E12,Concordance!$A$2:$A$17,Concordance!$B$2:$B$17) -> Metaal | F12: =IF(Fr!F12>0,Fr!F12,"") -> 176 | G12: =IF(Fr!G12>0,Fr!G12,"") | H12: =IF(Fr!H12>0,Fr!H12,"") -> Dezingue | I12: =IF(Fr!I12>0,Fr!I12,"") | J12: =IF(Fr!J12>0,Fr!J12,"") | K12: =IF(Fr!K12>0,Fr!K12,"") -> Société A | L12: =IF(Fr!L12>0,Fr!L12,"") -> R08 | M12: =LOOKUP(L12,Concordance!$K$2:K$29,Concordance!$L$2:$L$29) -> Terugwinning van bestanddelen van katalysatoren
A13: =IF(Fr!A13>0,Fr!A13,"") -> 43838 | B13: =IF(Fr!B13>0,Fr!B13,"") | C13: =IF(Fr!C13>0,Fr!C13,"") -> 20 03 01 | D13: =LOOKUP(Fr!E13,Concordance!$A$2:$A$17,Concordance!$E$2:$E$17) -> Gemengde stedelijk afval | E13: =LOOKUP(Fr!E13,Concordance!$A$2:$A$17,Concordance!$B$2:$B$17) -> Gemengde afvalstoffen | F13: =IF(Fr!F13>0,Fr!F13,"") -> 113 | G13: =IF(Fr!G13>0,Fr!G13,"") | H13: =IF(Fr!H13>0,Fr!H13,"") -> Govroam | I13: =IF(Fr!I13>0,Fr!I13,"") | J13: =IF(Fr!J13>0,Fr!J13,"") | K13: =IF(Fr!K13>0,Fr!K13,"") -> Société B | L13: =IF(Fr!L13>0,Fr!L13,"") -> R12 | M13: =LOOKUP(L13,Concordance!$K$2:K$29,Concordance!$L$2:$L$29) -> Uitwisseling van afvalstoffen voor een van de onder R 1 tot en met R 11 genoemde handelingen
A14: =IF(Fr!A14>0,Fr!A14,"") -> 43838 | B14: =IF(Fr!B14>0,Fr!B14,"") | C14: =IF(Fr!C14>0,Fr!C14,"") -> 20 01 01 | D14: =LOOKUP(Fr!E14,Concordance!$A$2:$A$17,Concordance!$E$2:$E$17) -> Papier en karton | E14: =LOOKUP(Fr!E14,Concordance!$A$2:$A$17,Concordance!$B$2:$B$17) -> Karton | F14: =IF(Fr!F14>0,Fr!F14,"") -> 57 | G14: =IF(Fr!G14>0,Fr!G14,"") | H14: =IF(Fr!H14>0,Fr!H14,"") -> Ecologique | I14: =IF(Fr!I14>0,Fr!I14,"") | J14: =IF(Fr!J14>0,Fr!J14,"") | K14: =IF(Fr!K14>0,Fr!K14,"") -> Société D | L14: =IF(Fr!L14>0,Fr!L14,"") -> R01 | M14: =LOOKUP(L14,Concordance!$K$2:K$29,Concordance!$L$2:$L$29) -> Hoofdgebruik als brandstof of als ander middel voor energieopwekking
A15: =IF(Fr!A15>0,Fr!A15,"") -> 43839 | B15: =IF(Fr!B15>0,Fr!B15,"") | C15: =IF(Fr!C15>0,Fr!C15,"") -> 20 03 01 | D15: =LOOKUP(Fr!E15,Concordance!$A$2:$A$17,Concordance!$E$2:$E$17) -> Gemengde stedelijk afval | E15: =LOOKUP(Fr!E15,Concordance!$A$2:$A$17,Concordance!$B$2:$B$17) -> Gemengde afvalstoffen | F15: =IF(Fr!F15>0,Fr!F15,"") -> 181 | G15: =IF(Fr!G15>0,Fr!G15,"") | H15: =IF(Fr!H15>0,Fr!H15,"") -> Mercator | I15: =IF(Fr!I15>0,Fr!I15,"") | J15: =IF(Fr!J15>0,Fr!J15,"") | K15: =IF(Fr!K15>0,Fr!K15,"") -> Société A | L15: =IF(Fr!L15>0,Fr!L15,"") -> R05 | M15: =LOOKUP(L15,Concordance!$K$2:K$29,Concordance!$L$2:$L$29) -> Recycling/terugwinning van andere anorganische materialen
A16: =IF(Fr!A16>0,Fr!A16,"") -> 43840 | B16: =IF(Fr!B16>0,Fr!B16,"") | C16: =IF(Fr!C16>0,Fr!C16,"") -> 20 03 01 | D16: =LOOKUP(Fr!E16,Concordance!$A$2:$A$17,Concordance!$E$2:$E$17) -> Gemengde stedelijk afval | E16: =LOOKUP(Fr!E16,Concordance!$A$2:$A$17,Concordance!$B$2:$B$17) -> Gemengde afvalstoffen | F16: =IF(Fr!F16>0,Fr!F16,"") -> 107 | G16: =IF(Fr!G16>0,Fr!G16,"") | H16: =IF(Fr!H16>0,Fr!H16,"") -> Mercator | I16: =IF(Fr!I16>0,Fr!I16,"") | J16: =IF(Fr!J16>0,Fr!J16,"") | K16: =IF(Fr!K16>0,Fr!K16,"") -> Société A | L16: =IF(Fr!L16>0,Fr!L16,"") -> R04 | M16: =LOOKUP(L16,Concordance!$K$2:K$29,Concordance!$L$2:$L$29) -> Recycling/terugwinning van metalen en metaalverbindingen
A17: =IF(Fr!A17>0,Fr!A17,"") -> 43840 | B17: =IF(Fr!B17>0,Fr!B17,"") | C17: =IF(Fr!C17>0,Fr!C17,"") -> 20 01 01 | D17: =LOOKUP(Fr!E17,Concordance!$A$2:$A$17,Concordance!$E$2:$E$17) -> Papier en karton | E17: =LOOKUP(Fr!E17,Concordance!$A$2:$A$17,Concordance!$B$2:$B$17) -> Papier | F17: =IF(Fr!F17>0,Fr!F17,"") -> 115 | G17: =IF(Fr!G17>0,Fr!G17,"") | H17: =IF(Fr!H17>0,Fr!H17,"") -> Ecologique | I17: =IF(Fr!I17>0,Fr!I17,"") | J17: =IF(Fr!J17>0,Fr!J17,"") | K17: =IF(Fr!K17>0,Fr!K17,"") -> Ecologique | L17: =IF(Fr!L17>0,Fr!L17,"") -> R12 | M17: =LOOKUP(L17,Concordance!$K$2:K$29,Concordance!$L$2:$L$29) -> Uitwisseling van afvalstoffen voor een van de onder R 1 tot en met R 11 genoemde handelingen
A18: =IF(Fr!A18>0,Fr!A18,"") -> 43840 | B18: =IF(Fr!B18>0,Fr!B18,"") | C18: =IF(Fr!C18>0,Fr!C18,"") -> 15 01 04 | D18: =LOOKUP(Fr!E18,Concordance!$A$2:$A$17,Concordance!$E$2:$E$17) -> Metalen verpakking | E18: =LOOKUP(Fr!E18,Concordance!$A$2:$A$17,Concordance!$B$2:$B$17) -> Metaal | F18: =IF(Fr!F18>0,Fr!F18,"") -> 19 | G18: =IF(Fr!G18>0,Fr!G18,"") | H18: =IF(Fr!H18>0,Fr!H18,"") -> Dezingue | I18: =IF(Fr!I18>0,Fr!I18,"") | J18: =IF(Fr!J18>0,Fr!J18,"") | K18: =IF(Fr!K18>0,Fr!K18,"") -> Société X | L18: =IF(Fr!L18>0,Fr!L18,"") -> R04 | M18: =LOOKUP(L18,Concordance!$K$2:K$29,Concordance!$L$2:$L$29) -> Recycling/terugwinning van metalen en metaalverbindingen
A19: =IF(Fr!A19>0,Fr!A19,"") -> 43843 | B19: =IF(Fr!B19>0,Fr!B19,"") | C19: =IF(Fr!C19>0,Fr!C19,"") -> 20 03 01 | D19: =LOOKUP(Fr!E19,Concordance!$A$2:$A$17,Concordance!$E$2:$E$17) -> Gemengde stedelijk afval | E19: =LOOKUP(Fr!E19,Concordance!$A$2:$A$17,Concordance!$B$2:$B$17) -> Gemengde afvalstoffen | F19: =IF(Fr!F19>0,Fr!F19,"") -> 67 | G19: =IF(Fr!G19>0,Fr!G19,"") | H19: =IF(Fr!H19>0,Fr!H19,"") -> Mercator | I19: =IF(Fr!I19>0,Fr!I19,"") | J19: =IF(Fr!J19>0,Fr!J19,"") | K19: =IF(Fr!K19>0,Fr!K19,"") -> Société U | L19: =IF(Fr!L19>0,Fr!L19,"") -> D01 | M19: =LOOKUP(L19,Concordance!$K$2:K$29,Concordance!$L$2:$L$29) -> Storten op of in de bodem (bv. Op een vuilstortplaats, enz.)
A20: =IF(Fr!A20>0,Fr!A20,"") -> 43843 | B20: =IF(Fr!B20>0,Fr!B20,"") | C20: =IF(Fr!C20>0,Fr!C20,"") -> 20 01 01 | D20: =LOOKUP(Fr!E20,Concordance!$A$2:$A$17,Concordance!$E$2:$E$17) -> Papier en karton | E20: =LOOKUP(Fr!E20,Concordance!$A$2:$A$17,Concordance!$B$2:$B$17) -> Papier | F20: =IF(Fr!F20>0,Fr!F20,"") -> 154 | G20: =IF(Fr!G20>0,Fr!G20,"") | H20: =IF(Fr!H20>0,Fr!H20,"") -> Ecologique | I20: =IF(Fr!I20>0,Fr!I20,"") | J20: =IF(Fr!J20>0,Fr!J20,"") | K20: =IF(Fr!K20>0,Fr!K20,"") -> Ecologique | L20: =IF(Fr!L20>0,Fr!L20,"") -> R05 | M20: =LOOKUP(L20,Concordance!$K$2:K$29,Concordance!$L$2:$L$29) -> Recycling/terugwinning van andere anorganische materialen
A21: =IF(Fr!A21>0,Fr!A21,"") -> 43844 | B21: =IF(Fr!B21>0,Fr!B21,"") | C21: =IF(Fr!C21>0,Fr!C21,"") -> 20 03 01 | D21: =LOOKUP(Fr!E21,Concordance!$A$2:$A$17,Concordance!$E$2:$E$17) -> Gemengde stedelijk afval | E21: =LOOKUP(Fr!E21,Concordance!$A$2:$A$17,Concordance!$B$2:$B$17) -> Gemengde afvalstoffen | F21: =IF(Fr!F21>0,Fr!F21,"") -> 102 | G21: =IF(Fr!G21>0,Fr!G21,"") | H21: =IF(Fr!H21>0,Fr!H21,"") -> Mercator | I21: =IF(Fr!I21>0,Fr!I21,"") | J21: =IF(Fr!J21>0,Fr!J21,"") | K21: =IF(Fr!K21>0,Fr!K21,"") -> Mercator | L21: =IF(Fr!L21>0,Fr!L21,"") -> D09 | M21: =LOOKUP(L21,Concordance!$K$2:K$29,Concordance!$L$2:$L$29) -> Fysisch-chemische behandeling op een niet elders in deze bijlage aangegeven wijze, waardoor verbindingen of mengsels onstaan die worden verwijderd op een van de onder D 1 tot en met D 12 vermelde methoden (bv. verdampen, drogen, calcineren, enz.)
... A500: =IF(Fr!A500>0,Fr!A500,"") | B500: =IF(Fr!B500>0,Fr!B500,"") | C500: =IF(Fr!C500>0,Fr!C500,"") -> #N/A | D500: =LOOKUP(Fr!E500,Concordance!$A$2:$A$17,Concordance!$E$2:$E$17) -> #N/A | E500: =LOOKUP(Fr!E500,Concordance!$A$2:$A$17,Concordance!$B$2:$B$17) -> #N/A | F500: =IF(Fr!F500>0,Fr!F500,"") | G500: =IF(Fr!G500>0,Fr!G500,"") | H500: =IF(Fr!H500>0,Fr!H500,"") | I500: =IF(Fr!I500>0,Fr!I500,"") | J500: =IF(Fr!J500>0,Fr!J500,"") | K500: =IF(Fr!K500>0,Fr!K500,"") | L500: =IF(Fr!L500>0,Fr!L500,"") -> #N/A | M500: =LOOKUP(L500,Concordance!$K$2:K$29,Concordance!$L$2:$L$29) -> #N/A
B502: Bronnen: | C502: Traceerbaarheid en afvalregister: http://www.leefmilieubrussel.be/Templates/Professionnels/informer.aspx?id=33037
C503: (1) Zie EAC codes = Europese lijst van (de codes van) afvalstoffen en gevaarlijke afvalstoffen :
D504: http://www.ejustice.just.fgov.be/cgi_loi/change_lg.pl?language=nl&la=N&cn=2002042553&table_name=wet
C506: (2) Hoeveelheid uitgedrukt in gewicht (beter) of in volume
C507: (3) Aanwijzende lijst van erkende ophalers van Gevaarlijk Afval in het Brussels Hoofdstedelijk Gewest: http://app.leefmilieubrussel.be/lijsten/?nr_list=CED0001
C508: (4) Indien beroep gedaan wordt op een vervoerder of een andere ophaler moet dit bijkomend vermeld worden per ophaling
C509: (5) Liijst met verwerkingscodes: http://www.leefmilieubrussel.be/uploadedFiles/Contenu_du_site/Professionnels/Formulaires/Déchets/110411_NL_CODES_RD.pdf via http://www.leefmilieubrussel.be/Templates/Professionnels/informer.aspx?id=32296

Sheet Quantités 2020a
A1: collecte | B1: Jan
A3: Row Labels | B3: Sum of en kg
A4: Bac and sac | B4: 29
A5: 20 03 01 | B5: 29
A6: D02 | B6: 14
A7: R01 | B7: 15
A8: Bidouille and Co | B8: 90
A9: 20 03 01 | B9: 90
A10: D11 | B10: 14
A11: R11 | B11: 76
A12: Déchets zéro | B12: 109
A13: 20 03 01 | B13: 109
A14: R05 | B14: 109
A15: Dezingue | B15: 195
... A50: Grand Total | B50: 2770

Sheet Hoeveelheden 2020

Sheet codes déchets
A1: INDEX CATALOGUE EUROPEEN DES DECHETS
A4: Chapitres de la liste
A6: 1 | B6: Déchets provenant de l'exploration et de l'exploitation des mines et des carrières ainsi que du traitement physique et chimique des minéraux
A7: 2 | B7: Déchets provenant de l'agriculture, de l'horticulture, de l'aquaculture, de la sylviculture, de la chasse et de la pêche ainsi que de la préparation et de la transformation des aliments
A8: 3 | B8: Déchets provenant de la transformation du bois et de la production de panneaux et de meubles, de pâte à papier, de papier et de carton
A9: 4 | B9: Déchets provenant des industries du cuir, de la fourrure et du textile
A10: 5 | B10: Déchets provenant du raffinage du pétrole, de la purification du gaz naturel et du traitement pyrolytique du charbon
A11: 6 | B11: Déchets des procédés de la chimie minérale
A12: 7 | B12: Déchets des procédés de la chimie organique
A13: 8 | B13: Déchets provenant de la fabrication, de la formulation, de la distribution et de l'utilisation (FFDU) de produits de revêtement (peintures, vernis et émaux vitrifiés), mastics et encres d'impression
A14: 9 | B14: Déchets provenant de l'industrie photographique
A15: 10 | B15: Déchets provenant de procédés thermiques
A16: 11 | B16: Déchets provenant du traitement chimique de surface et du revêtement des métaux et autres matériaux, et de l'hydrométallurgie des métaux non ferreux
A17: 12 | B17: Déchets provenant de la mise en forme et du traitement physique et mécanique de surface des métaux et matières plastiques
... A25: 20 | B25: Déchets municipaux (déchets ménagers et déchets assimilés provenant des commerces, des industries et des administrations), y compris les fractions collectées séparément
A27: Liste
A29: 01 DÉCHETS PROVENANT DE L'EXPLORATION ET DE L'EXPLOITATION DES MINES ET DES CARRIÈRES AINSI QUE DU TRAITEMENT PHYSIQUE ET CHIMIQUE DES MINÉRAUX
A30: 01 01 00 | B30: déchets provenant de l'extraction des minéraux
A31: 01 01 01 | B31: déchets provenant de l'extraction des minéraux métallifères
A32: 01 01 02 | B32: déchets provenant de l'extraction des minéraux non métallifères
A33: 01 03 00 | B33: déchets provenant de la transformation physique et chimique des minéraux métallifères
A34: 01 03 04 | B34: stériles acidogènes provenant de la transformation du sulfure
A35: 01 03 05 | B35: autres stériles contenant des substances dangereuses
A36: 01 03 06 | B36: stériles autres que ceux visés aux rubriques 01 03 04 et 01 03 05
A37: 01 03 07 | B37: autres déchets contenant des substances dangereuses provenant de la transformation physique et chimique des minéraux métallifères
A38: 01 03 08 | B38: déchets de poussières et de poudres autres que ceux visés à la rubrique 01 03 07
A39: 01 03 09 | B39: boues rouges issues de la production d'alumine autres que celles visées à la rubrique 01 03 07
A40: 01 03 99 | B40: déchets non spécifiés ailleurs
A41: 01 04 00 | B41: déchets provenant de la transformation physique et chimique des minéraux non métallifères
... A56: 01 05 99 | B56: déchets non spécifiés ailleurs
A58: 02 DÉCHETS PROVENANT DE L'AGRICULTURE, DE L'HORTICULTURE, DE L'AQUACULTURE, DE LA SYLVICULTURE, DE LA CHASSE ET DE LA PÊCHE AINSI QUE DE LA PRÉPARATION ET DE LA TRANSFORMATION DES ALIMENTS
A59: 02 01 00 | B59: déchets provenant de l'agriculture, de l'horticulture, de l'aquaculture, de la sylviculture, de la chasse et de la pêche
A60: 02 01 01 | B60: boues provenant du lavage et du nettoyage
A61: 02 01 02 | B61: déchets de tissus animaux
A62: 02 01 03 | B62: déchets de tissus végétaux
A63: 02 01 04 | B63: déchets de matières plastiques (à l'exclusion des emballages)
A64: 02 01 06 | B64: fèces, urine et fumier (y compris paille souillée), effluents, collectés séparément et traités hors site
A65: 02 01 07 | B65: déchets provenant de la sylviculture
A66: 02 01 08 | B66: déchets agrochimiques contenant des substances dangereuses
A67: 02 01 09 | B67: déchets agrochimiques autres que ceux visés à la rubrique 02 01 08
...

Sheet codes afvalstoffen
A1: INDEX EUROPESE LIJST AFVALSTOFFEN
A4: Hoofdstukken van de lĳst
A6: 01 Afval van exploratie, mĳnbouw, ertsconcentratie en verdere bewerking van mineralen en steengroeven
A7: 02 Afval van de primaire productie bĳ landbouw, tuinbouw, jacht, visserĳ en aquacultuur en de voedingsbereiding en -verwerking
A8: 03 Afval van de houtverwerking en de productie van papier, karton, pulp, panelen en meubelen
A9: 04 Afval van de leer-, bont- en textielindustrie
A10: 05 Afval van petroleumraffinage, aardgaszuivering en de pyrolytische behandeling van kool
A11: 06 Afval van anorganische chemische processen
A12: 07 Afval van organische chemische processen
A13: 08 Afval van bereiding, formulering, levering en gebruik van coatings (verf, lak en email), lĳm, kit en drukinkt
A14: 09 Afval van de fotografische industrie
A15: 10 Anorganisch afval van thermische processen
... A212: 06 05 03 niet onder 06 05 02 vallend slib van afvalwaterbehandeling ter plaatse
A213: 06 06 afval van BFLG van zwavelverbindingen, chemische processen met zwavel en ontzwavelingsprocessen | T213: de la chimie du soufre et des procédés de désulfuration
A215: 06 06 02* afval dat gevaarlijke sulfiden bevat
A216: 06 06 03 niet onder 06 06 02 vallend afval dat sulfiden bevat
A217: 06 06 99 niet elders genoemd afval
A218: 06 07 afval van BFLG van halogenen en chemische processen met halogenen
A219: 06 07 01* asbesthoudend afval van elektrolyse
A220: 06 07 02* actieve kool van de chloorbereiding
A221: 06 07 03* bariumsulfaatslib dat kwik bevat
A222: 06 07 04* oplossingen en zuren, bijv. contactzuur
A223: 06 07 99 niet elders genoemd afval
A224: 06 08 afval van BFLG van silicium en siliciumderivaten
A225: 06 08 02* afval dat gevaarlijke chloorsilanen bevat
A226: 06 08 99 niet elders genoemd afval
... A1029: Ces mesures sont à instituer conformément à la procédure prévue à l'article 17 de la directive 1999/31/CE du Conseil concernant la mise en décharge des déchets et sont adoptées pour le 16 juillet 2002 au plus tard. (JO L 182 du 16.7.1999, p. 1).

Sheet codes traitement
A1: CODES ET DENOMINATION TRAITEMENT DECHETS
A4: DIRECTIVE 2008/98/CE DU PARLEMENT EUROPÉEN ET DU CONSEIL RELATIVE AUX DECHETS
A6: ANNEXE II A : OPÉRATIONS D'ÉLIMINATION
A8: D1 | B8: Dépôt sur ou dans le sol (par exemple: mise en décharge, etc.)
A9: D2 | B9: Traitement en milieu terrestre (par exemple: biodégradation de déchets liquides ou de boues dans les sols, etc.)
A10: D3 | B10: Injection en profondeur (par exemple: injection des déchets pompables dans des puits, des dômes de sel ou des failles géologiques naturelles, etc.)
A11: D4 | B11: Lagunage (par exemple: déversement de déchets liquides ou de boues dans des puits, des étangs ou des bassins, etc.)
A12: D5 | B12: Mise en décharge spécialement aménagée (par exemple: placement dans des alvéoles étanches séparées, recouvertes et isolées les unes des autres et de l'environnement, etc.)
A13: D6 | B13: Rejet dans le milieu aquatique sauf l'immersion
A14: D7 | B14: Immersion, y compris enfouissement dans le sous-sol marin
A15: D8 | B15: Traitement biologique non spécifié ailleurs dans la présente annexe, aboutissant à des composés ou à des mélanges qui sont éliminés selon l'un des procédés numérotés D1 à D7 et D9 à D12
A16: D9 | B16: Traitement physico-chimique non spécifié ailleurs dans la présente annexe, aboutissant à des composés ou à des mélanges qui sont éliminés selon l'un des procédés numérotés D1 à D8 et D10 à D12 (par exemple: évaporation, séchage, calcination, etc.)
A17: D10 | B17: Incinération à terre
A18: D11 | B18: Incinération en mer
A19: D12 | B19: Stockage permanent (par exemple: placement de conteneurs dans une mine, etc.)
... A22: D15 | B22: Stockage préalablement à l'une des opérations numérotées D1 à D14 (à l'exclusion du stockage temporaire, avant collecte, sur le site de production)
A24: ANNEXE II B : OPÉRATIONS DE VALORISATION
A26: R1 | B26: Utilisation principale comme combustible ou autre moyen de produire de l'énergie
A27: R2 | B27: Récupération ou régénération des solvants
A28: R3 | B28: Recyclage ou récupération des substances organiques qui ne sont pas utilisées comme solvants (y compris les opérations de compostage et autres transformations biologiques)
A29: R4 | B29: Recyclage ou récupération des métaux et des composés métalliques
A30: R5 | B30: Recyclage ou récupération d'autres matières inorganiques
A31: R6 | B31: Régénération des acides ou des bases
A32: R7 | B32: Récupération des produits servants à capter les polluants
A33: R8 | B33: Récupération des produits provenant des catalyseurs
A34: R9 | B34: Régénération ou autres réemplois des huiles
A35: R10 | B35: Épandage sur le sol au profit de l'agriculture ou de l'écologie
A36: R11 | B36: Utilisation de déchets résiduels obtenus à partir de l'une des opérations numérotées R1 à R10
A37: R12 | B37: Échange de déchets en vue de les soumettre à l'une des opérations numérotées R1 à R11
A38: R13 | B38: Stockage de déchets préalablement à l'une des opérations numérotées R1 à R12 (à l'exclusion du stockage temporaire, avant collecte, sur le site de production)

Sheet codes verwerking
A1: CODES VERWERKING AFVALSTOFFEN
A4: RICHTLIJN 2008/98/EG VAN HET EUROPEES PARLEMENT EN DE RAAD BETREFFENDE AFVALSTOFFEN
A6: BIJLAGE II A: VERWIJDERINGSHANDELINGEN
A8: D1 Storten op of in de bodem (bv. Op een vuilstortplaats, enz.)
A9: D2 Uitrijden (bv. biologische afbraak van vloeibaar of slibachtig afval in de bodem, enz.)
A10: D3 Injectie in de diepe ondergrond (bv. injectie van verpompbare afvalstoffen in putten, zoutkoepels of van natuurlijk gevormde holten, enz.)
A11: D4 Opslag in waterbekkens (bv. het lozen van vloeibaar of slibachtig afval in putten, vijvers of lagunen, enz.)
A12: D5 Verwijderen op speciaal ingerichte locaties (bv. in afzonderlijke beklede, afgedekte cellen die van elkaar en van de omgeving afgeschermd zijn, enz.)
A13: D6 Lozen/storten in wateren, behalve zeeën en oceanen
A14: D7 Lozen/storten in zeeën en oceanen, inclusief inbrengen in de zeebodem
A15: D8 Biologische behandeling op een niet elders in deze bijlage aangegeven wijze waardoor verbindingen of mengsels onstaan die worden verwijderd op een van de onder D 1 tot en met D 12 vermelde methoden
A16: D9 Fysisch-chemische behandeling op een niet elders in deze bijlage aangegeven wijze, waardoor verbindingen of mengsels onstaan die worden verwijderd op een van de onder D 1 tot en met D 12 vermelde methoden (bv. verdampen, drogen, calcineren, enz.)
... A38: R13 Opslag van afvalstoffen bestemd voor een van de onder R 1 tot en met R 12 genoemde handelingen (met uitsluiting van tijdelijke opslag voorafgaande aan inzameling op de plaats van productie

Sheet Concordance
A1: FR | B1: NL | C1: Code | D1: Liste | E1: Lijst | G1: Codes traitement | I1: Codes verwerking
A2: Absorbants, matériaux filtrants, chiffons d'essuyage et vêtements de protection | B2: Vallende absorbentia, filtermateriaal, poetsdoeken en beschermende kleding | C2: 15 02 03 | D2: Absorbants, matériaux filtrants, chiffons d'essuyage et vêtements de protection autres que ceux visés à la rubrique 15 02 02 | E2: Niet onder 15 02 02 vallende absorbentia, filtermateriaal, poetsdoeken en beschermende kleding | G2: D01 | H2: Dépôt sur ou dans le sol (par exemple: mise en décharge, etc.) | I2: D01 | J2: Storten op of in de bodem (bv. Op een vuilstortplaats, enz.) | K2: D01 | L2: Storten op of in de bodem (bv. Op een vuilstortplaats, enz.)
A3: Carton | B3: Karton | C3: 20 01 01 | D3: Papier et carton | E3: Papier en karton | G3: R12 | H3: Échange de déchets en vue de les soumettre à l'une des opérations numérotées R1 à R11 | I3: R12 | J3: Uitwisseling van afvalstoffen voor een van de onder R 1 tot en met R 11 genoemde handelingen | K3: D02 | L3: Uitrijden (bv. biologische afbraak van vloeibaar of slibachtig afval in de bodem, enz.)
A4: Déchets de cuisine et de cantine biodégradables | B4: Biologisch afbreekbaar keuken- en kantineafval | C4: 20 01 08 | D4: Déchets de cuisine et de cantine biodégradables | E4: Biologisch afbreekbaar keuken- en kantineafval | G4: R10 | H4: Épandage sur le sol au profit de l'agriculture ou de l'écologie | I4: R10 | J4: Uitrijden voor landbouwkundige of ecologische verbetering | K4: D03 | L4: Injectie in de diepe ondergrond (bv. injectie van verpompbare afvalstoffen in putten, zoutkoepels of van natuurlijk gevormde holten, enz.)
A5: DEEE | B5: WEEE | C5: 20 01 36 | D5: Équipements électriques et électroniques mis au rebut autres que ceux visés aux rubriques 20 01 21, 20 01 23 et 20 01 35 | E5: Niet onder 20 01 21, 20 01 23 en 20 01 35 vallende afgedankte elektrische en elektronische apparatuur | G5: D07 | H5: Immersion, y compris enfouissement dans le sous-sol marin | I5: D07 | J5: Lozen/storten in zeeën en oceanen, inclusief inbrengen in de zeebodem | K5: D04 | L5: Opslag in waterbekkens (bv. het lozen van vloeibaar of slibachtig afval in putten, vijvers of lagunen, enz.)
A6: Emballages contenant des résidus de substances dangereuses ou contaminés par de tels résidus | B6: Verpakking die resten van gevaarlijke stoffen bevat of daarmee is verontreinigd | C6: 15 01 10 | D6: Emballages contenant des résidus de substances dangereuses ou contaminés par de tels résidus | E6: Verpakking die resten van gevaarlijke stoffen bevat of daarmee is verontreinigd | G6: D10 | H6: Incinération à terre | I6: D10 | J6: Verbranding op het land | K6: D05 | L6: Verwijderen op speciaal ingerichte locaties (bv. in afzonderlijke beklede, afgedekte cellen die van elkaar en van de omgeving afgeschermd zijn, enz.)
A7: Emballages en bois | B7: Houten verpakking | C7: 15 01 03 | D7: Emballages en bois | E7: Houten verpakking | G7: D11 | H7: Incinération en mer | I7: D11 | J7: Verbranding op zee | K7: D06 | L7: Lozen/storten in wateren, behalve zeeën en oceanen
A8: Frigolite | B8: Frigoliet | C8: 20 03 07 | D8: Déchets encombrants | E8: grofvuil | G8: D03 | H8: Injection en profondeur (par exemple: injection des déchets pompables dans des puits, des dômes de sel ou des failles géologiques naturelles, etc.) | I8: D03 | J8: Injectie in de diepe ondergrond (bv. injectie van verpompbare afvalstoffen in putten, zoutkoepels of van natuurlijk gevormde holten, enz.) | K8: D07 | L8: Lozen/storten in zeeën en oceanen, inclusief inbrengen in de zeebodem
A9: Métal | B9: Metaal | C9: 15 01 04 | D9: Emballages métalliques | E9: Metalen verpakking | G9: D04 | H9: Lagunage (par exemple: déversement de déchets liquides ou de boues dans des puits, des étangs ou des bassins, etc.) | I9: D04 | J9: Opslag in waterbekkens (bv. het lozen van vloeibaar of slibachtig afval in putten, vijvers of lagunen, enz.) | K9: D08 | L9: Biologische behandeling op een niet elders in deze bijlage aangegeven wijze waardoor verbindingen of mengsels onstaan die worden verwijderd op een van de onder D 1 tot en met D 12 vermelde methoden
A10: Papier | B10: Papier | C10: 20 01 01 | D10: Papier et carton | E10: Papier en karton | G10: D05 | H10: Mise en décharge spécialement aménagée (par exemple: placement dans des alvéoles étanches séparées, recouvertes et isolées les unes des autres et de l'environnement, etc.) | I10: D05 | J10: Verwijderen op speciaal ingerichte locaties (bv. in afzonderlijke beklede, afgedekte cellen die van elkaar en van de omgeving afgeschermd zijn, enz.) | K10: D09 | L10: Fysisch-chemische behandeling op een niet elders in deze bijlage aangegeven wijze, waardoor verbindingen of mengsels onstaan die worden verwijderd op een van de onder D 1 tot en met D 12 vermelde methoden (bv. verdampen, drogen, calcineren, enz.)
A11: Peinture, encre, colles et résines | B11: Verf, inkt, lijm en hars | C11: 20 01 28 | D11: Peinture, encres, colles et résines autres que celles visées à la rubrique 20 01 27 | E11: Niet onder 20 01 27 vallende verf, inkt, lijm en hars | G11: D14 | H11: Reconditionnement préalablement à l'une des opérations numérotées D1 à D13 | I11: D14 | J11: Herverpakken voorafgaand aan een van de onder D 1 tot en met D 13 vermelde behandelingen | K11: D10 | L11: Verbranding op het land
A12: Plastique | B12: Kunstfof | C12: 15 01 02 | D12: Emballages en matières plastiques | E12: Kunststofverpakking | G12: R08 | H12: Récupération des produits provenant des catalyseurs | I12: R08 | J12: Terugwinning van bestanddelen van katalysatoren | K12: D11 | L12: Verbranding op zee
A13: PMC | B13: PMD | C13: 20 03 01 | D13: Déchets municipaux en mélange | E13: Gemengd stedelijk afval | G13: R07 | H13: Récupération des produits servants à capter les polluants | I13: R07 | J13: Terugwinnning van bestanddelen die worden gebruikt om vervuiling tegen te gaan | K13: D12 | L13: Permanente opslag (bv. plaatsen van houders in mijnen, enz.)
... A17: Verre | B17: Glas | C17: 15 01 07 | D17: Emballages en verre | E17: Glazen verpakking | G17: R03 | H17: Recyclage ou récupération des substances organiques qui ne sont pas utilisées comme solvants (y compris les opérations de compostage et autres transformations biologiques) | I17: R03 | J17: Recycling/terugwinning van organische stoffen die niet als oplosmiddel worden gebruikt (met inbegrip van compostering en andere biologische omzettingsprocessen) | K17: R01 | L17: Hoofdgebruik als brandstof of als ander middel voor energieopwekking
G18: R06 | H18: Régénération des acides ou des bases | I18: R06 | J18: Regeneratie van zuren of basen | K18: R02 | L18: Terugwinning/regeneratie van oplosmiddelen
G19: R09 | H19: Régénération ou autres réemplois des huiles | I19: R09 | J19: Herraffinage van olie en ander hergebruik van olie | K19: R03 | L19: Recycling/terugwinning van organische stoffen die niet als oplosmiddel worden gebruikt (met inbegrip van compostering en andere biologische omzettingsprocessen)
G20: D13 | H20: Regroupement préalablement à l'une des opérations numérotées D1 à D12 | I20: D13 | J20: Vermengen voorafgaand aan een van de onder D 1 tot en met D 12 vermelde handelingen | K20: R04 | L20: Recycling/terugwinning van metalen en metaalverbindingen
G21: D06 | H21: Rejet dans le milieu aquatique sauf l'immersion | I21: D06 | J21: Lozen/storten in wateren, behalve zeeën en oceanen | K21: R05 | L21: Recycling/terugwinning van andere anorganische materialen
G22: R13 | H22: Stockage de déchets préalablement à l'une des opérations numérotées R1 à R12 (à l'exclusion du stockage temporaire, avant collecte, sur le site de production) | I22: R13 | J22: Opslag van afvalstoffen bestemd voor een van de onder R 1 tot en met R 12 genoemde handelingen (met uitsluiting van tijdelijke opslag voorafgaande aan inzameling op de plaats van productie | K22: R06 | L22: Regeneratie van zuren of basen
G23: D12 | H23: Stockage permanent (par exemple: placement de conteneurs dans une mine, etc.) | I23: D12 | J23: Permanente opslag (bv. plaatsen van houders in mijnen, enz.) | K23: R07 | L23: Terugwinnning van bestanddelen die worden gebruikt om vervuiling tegen te gaan
G24: D15 | H24: Stockage préalablement à l'une des opérations numérotées D1 à D14 (à l'exclusion du stockage temporaire, avant collecte, sur le site de production) | I24: D15 | J24: Opslag in afwachting van een van de onder D 1 tot en met D 14 vermelde behandelingen (met uitsluiting van tijdelijke opslag voorafgaande aan inzameling op de plaats van productie) | K24: R08 | L24: Terugwinning van bestanddelen van katalysatoren
G25: D08 | H25: Traitement biologique non spécifié ailleurs dans la présente annexe, aboutissant à des composés ou à des mélanges qui sont éliminés selon l'un des procédés numérotés D1 à D7 et D9 à D12 | I25: D08 | J25: Biologische behandeling op een niet elders in deze bijlage aangegeven wijze waardoor verbindingen of mengsels onstaan die worden verwijderd op een van de onder D 1 tot en met D 12 vermelde methoden | K25: R09 | L25: Herraffinage van olie en ander hergebruik van olie
G26: D02 | H26: Traitement en milieu terrestre (par exemple: biodégradation de déchets liquides ou de boues dans les sols, etc.) | I26: D02 | J26: Uitrijden (bv. biologische afbraak van vloeibaar of slibachtig afval in de bodem, enz.) | K26: R10 | L26: Uitrijden voor landbouwkundige of ecologische verbetering
G27: D09 | H27: Traitement physico-chimique non spécifié ailleurs dans la présente annexe, aboutissant à des composés ou à des mélanges qui sont éliminés selon l'un des procédés numérotés D1 à D8 et D10 à D12 (par exemple: évaporation, séchage, calcination, etc.) | I27: D09 | J27: Fysisch-chemische behandeling op een niet elders in deze bijlage aangegeven wijze, waardoor verbindingen of mengsels onstaan die worden verwijderd op een van de onder D 1 tot en met D 12 vermelde methoden (bv. verdampen, drogen, calcineren, enz.) | K27: R11 | L27: Gebruik van afvalstoffen die bij een van de onder R 1 tot en met R 10 genoemde handelingen vrijgekomen
G28: R11 | H28: Utilisation de déchets résiduels obtenus à partir de l'une des opérations numérotées R1 à R10 | I28: R11 | J28: Gebruik van afvalstoffen die bij een van de onder R 1 tot en met R 10 genoemde handelingen vrijgekomen | K28: R12 | L28: Uitwisseling van afvalstoffen voor een van de onder R 1 tot en met R 11 genoemde handelingen
G29: R01 | H29: Utilisation principale comme combustible ou autre moyen de produire de l'énergie | I29: R01 | J29: Hoofdgebruik als brandstof of als ander middel voor energieopwekking | K29: R13 | L29: Opslag van afvalstoffen bestemd voor een van de onder R 1 tot en met R 12 genoemde handelingen (met uitsluiting van tijdelijke opslag voorafgaande aan inzameling op de plaats van productie
