Workbook

Sheet Feuil1
D1: Colonne1 | E1: Colonne2 | F1: Colonne3 | G1: Colonne4 | H1: Colonne5
D2: BOITE | E2: place | F2: NOM | G2: detail | H2: commande
D3: VAR-1 | E3: A1 | F3: oto1
D4: VAR-1 | E4: A2 | F4: oto2
D5: VAR-1 | E5: A3 | F5: oto3
D6: VAR-1 | E6: A4 | F6: oto4
D7: VAR-1 | E7: A5 | F7: myo1
D8: VAR-1 | E8: A6 | F8: myo2
D9: VAR-1 | E9: A7 | F9: myo3
D10: VAR-1 | E10: A8 | F10: myo4
D11: VAR-1 | E11: A9 | F11: tec1
D12: VAR-1 | E12: A10 | F12: tec2
D13: VAR-1 | E13: B1 | F13: tec3
D14: VAR-1 | E14: B2 | F14: tec4
... D110: VAR-2 | E110: B8 | F110: ltr12
D111: VAR-2 | E111: B9
D112: VAR-2 | E112: B10
D113: VAR-2 | E113: C1
D114: VAR-2 | E114: C2
D115: VAR-2 | E115: C3
D116: VAR-2 | E116: C4
D117: VAR-2 | E117: C5
D118: VAR-2 | E118: C6
D119: VAR-2 | E119: C7
D120: VAR-2 | E120: C8
D121: VAR-2 | E121: C9
D122: VAR-2 | E122: C10
... D132: VAR-2 | E132: D10

Sheet boites
A1: Var-1 | B1: 1 | C1: 2 | D1: 3 | E1: 4 | F1: 5 | G1: 6 | H1: 7 | I1: 8 | J1: 9 | K1: 10
A2: A | B2: =VLOOKUP($A2&B$1,Feuil1!$E$1:$F$92,2,FALSE) -> oto1 | C2: =VLOOKUP($A2&C$1,Feuil1!$E$1:$F$92,2,FALSE) -> oto2 | D2: =VLOOKUP($A2&D$1,Feuil1!$E$1:$F$92,2,FALSE) -> oto3 | E2: =VLOOKUP($A2&E$1,Feuil1!$E$1:$F$92,2,FALSE) -> oto4 | F2: =VLOOKUP($A2&F$1,Feuil1!$E$1:$F$92,2,FALSE) -> myo1 | G2: =VLOOKUP($A2&G$1,Feuil1!$E$1:$F$92,2,FALSE) -> myo2 | H2: =VLOOKUP($A2&H$1,Feuil1!$E$1:$F$92,2,FALSE) -> myo3 | I2: =VLOOKUP($A2&I$1,Feuil1!$E$1:$F$92,2,FALSE) -> myo4 | ... K2: =VLOOKUP($A2&K$1,Feuil1!$E$1:$F$92,2,FALSE) -> tec2
A3: B | B3: =VLOOKUP($A3&B$1,Feuil1!$E$1:$F$92,2,FALSE) -> tec3 | C3: =VLOOKUP($A3&C$1,Feuil1!$E$1:$F$92,2,FALSE) -> tec4 | D3: =VLOOKUP($A3&D$1,Feuil1!$E$1:$F$92,2,FALSE) -> tec5 | E3: =VLOOKUP($A3&E$1,Feuil1!$E$1:$F$92,2,FALSE) -> tec6 | F3: =VLOOKUP($A3&F$1,Feuil1!$E$1:$F$92,2,FALSE) -> tec7 | G3: =VLOOKUP($A3&G$1,Feuil1!$E$1:$F$92,2,FALSE) -> tec8 | H3: =VLOOKUP($A3&H$1,Feuil1!$E$1:$F$92,2,FALSE) -> tec9 | I3: =VLOOKUP($A3&I$1,Feuil1!$E$1:$F$92,2,FALSE) -> tec10 | ... K3: =VLOOKUP($A3&K$1,Feuil1!$E$1:$F$92,2,FALSE) -> tec12
A4: C | B4: =VLOOKUP($A4&B$1,Feuil1!$E$1:$F$92,2,FALSE) -> six1 | C4: =VLOOKUP($A4&C$1,Feuil1!$E$1:$F$92,2,FALSE) -> six2 | D4: =VLOOKUP($A4&D$1,Feuil1!$E$1:$F$92,2,FALSE) -> six3 | E4: =VLOOKUP($A4&E$1,Feuil1!$E$1:$F$92,2,FALSE) -> six4 | F4: =VLOOKUP($A4&F$1,Feuil1!$E$1:$F$92,2,FALSE) -> six5 | G4: =VLOOKUP($A4&G$1,Feuil1!$E$1:$F$92,2,FALSE) -> six6 | H4: =VLOOKUP($A4&H$1,Feuil1!$E$1:$F$92,2,FALSE) -> six7 | I4: =VLOOKUP($A4&I$1,Feuil1!$E$1:$F$92,2,FALSE) -> six8 | ... K4: =VLOOKUP($A4&K$1,Feuil1!$E$1:$F$92,2,FALSE) -> six10
A5: D | B5: =VLOOKUP($A5&B$1,Feuil1!$E$1:$F$92,2,FALSE) -> six11 | C5: =VLOOKUP($A5&C$1,Feuil1!$E$1:$F$92,2,FALSE) -> six12 | D5: =VLOOKUP($A5&D$1,Feuil1!$E$1:$F$92,2,FALSE) -> six13 | E5: =VLOOKUP($A5&E$1,Feuil1!$E$1:$F$92,2,FALSE) -> six14 | F5: =VLOOKUP($A5&F$1,Feuil1!$E$1:$F$92,2,FALSE) -> six15 | G5: =VLOOKUP($A5&G$1,Feuil1!$E$1:$F$92,2,FALSE) -> six16 | H5: =VLOOKUP($A5&H$1,Feuil1!$E$1:$F$92,2,FALSE) -> tpr1 | I5: =VLOOKUP($A5&I$1,Feuil1!$E$1:$F$92,2,FALSE) -> tpr2 | ... K5: =VLOOKUP($A5&K$1,Feuil1!$E$1:$F$92,2,FALSE) -> tpr4
A6: E | B6: =VLOOKUP($A6&B$1,Feuil1!$E$1:$F$92,2,FALSE) -> tpr5 | C6: =VLOOKUP($A6&C$1,Feuil1!$E$1:$F$92,2,FALSE) -> tpr6 | D6: =VLOOKUP($A6&D$1,Feuil1!$E$1:$F$92,2,FALSE) -> tpr7 | E6: =VLOOKUP($A6&E$1,Feuil1!$E$1:$F$92,2,FALSE) -> tpr8 | F6: =VLOOKUP($A6&F$1,Feuil1!$E$1:$F$92,2,FALSE) -> tpr9 | G6: =VLOOKUP($A6&G$1,Feuil1!$E$1:$F$92,2,FALSE) -> tpr10 | H6: =VLOOKUP($A6&H$1,Feuil1!$E$1:$F$92,2,FALSE) -> tpr11 | I6: =VLOOKUP($A6&I$1,Feuil1!$E$1:$F$92,2,FALSE) -> tpr12 | ... K6: =VLOOKUP($A6&K$1,Feuil1!$E$1:$F$92,2,FALSE) -> col2
A7: F | B7: =VLOOKUP($A7&B$1,Feuil1!$E$1:$F$92,2,FALSE) -> col3 | C7: =VLOOKUP($A7&C$1,Feuil1!$E$1:$F$92,2,FALSE) -> col4 | D7: =VLOOKUP($A7&D$1,Feuil1!$E$1:$F$92,2,FALSE) -> col5 | E7: =VLOOKUP($A7&E$1,Feuil1!$E$1:$F$92,2,FALSE) -> col6 | F7: =VLOOKUP($A7&F$1,Feuil1!$E$1:$F$92,2,FALSE) -> col7 | G7: =VLOOKUP($A7&G$1,Feuil1!$E$1:$F$92,2,FALSE) -> col8 | H7: =VLOOKUP($A7&H$1,Feuil1!$E$1:$F$92,2,FALSE) -> col9 | I7: =VLOOKUP($A7&I$1,Feuil1!$E$1:$F$92,2,FALSE) -> col10 | ... K7: =VLOOKUP($A7&K$1,Feuil1!$E$1:$F$92,2,FALSE) -> dsp2
A8: G | B8: =VLOOKUP($A8&B$1,Feuil1!$E$1:$F$92,2,FALSE) -> dsp3 | C8: =VLOOKUP($A8&C$1,Feuil1!$E$1:$F$92,2,FALSE) -> dsp4 | D8: =VLOOKUP($A8&D$1,Feuil1!$E$1:$F$92,2,FALSE) -> dsp5 | E8: =VLOOKUP($A8&E$1,Feuil1!$E$1:$F$92,2,FALSE) -> dsp6 | F8: =VLOOKUP($A8&F$1,Feuil1!$E$1:$F$92,2,FALSE) -> dsp7 | G8: =VLOOKUP($A8&G$1,Feuil1!$E$1:$F$92,2,FALSE) -> dsp8 | H8: =VLOOKUP($A8&H$1,Feuil1!$E$1:$F$92,2,FALSE) -> dsp9 | I8: =VLOOKUP($A8&I$1,Feuil1!$E$1:$F$92,2,FALSE) -> dsp10 | ... K8: =VLOOKUP($A8&K$1,Feuil1!$E$1:$F$92,2,FALSE) -> dsp12
A9: H | B9: =VLOOKUP($A9&B$1,Feuil1!$E$1:$F$92,2,FALSE) -> #N/A | C9: =VLOOKUP($A9&C$1,Feuil1!$E$1:$F$92,2,FALSE) -> #N/A | D9: =VLOOKUP($A9&D$1,Feuil1!$E$1:$F$92,2,FALSE) -> #N/A | E9: =VLOOKUP($A9&E$1,Feuil1!$E$1:$F$92,2,FALSE) -> #N/A | F9: =VLOOKUP($A9&F$1,Feuil1!$E$1:$F$92,2,FALSE) -> #N/A | G9: =VLOOKUP($A9&G$1,Feuil1!$E$1:$F$92,2,FALSE) -> #N/A | H9: =VLOOKUP($A9&H$1,Feuil1!$E$1:$F$92,2,FALSE) -> #N/A | I9: =VLOOKUP($A9&I$1,Feuil1!$E$1:$F$92,2,FALSE) -> #N/A | ... K9: =VLOOKUP($A9&K$1,Feuil1!$E$1:$F$92,2,FALSE) -> #N/A
A10: I | B10: =VLOOKUP($A10&B$1,Feuil1!$E$1:$F$92,2,FALSE) -> dsp13 | C10: =VLOOKUP($A10&C$1,Feuil1!$E$1:$F$92,2,FALSE) -> dsp14 | D10: =VLOOKUP($A10&D$1,Feuil1!$E$1:$F$92,2,FALSE) -> dsp15 | E10: =VLOOKUP($A10&E$1,Feuil1!$E$1:$F$92,2,FALSE) -> dsp16 | F10: =VLOOKUP($A10&F$1,Feuil1!$E$1:$F$92,2,FALSE) -> str1 | G10: =VLOOKUP($A10&G$1,Feuil1!$E$1:$F$92,2,FALSE) -> str2 | H10: =VLOOKUP($A10&H$1,Feuil1!$E$1:$F$92,2,FALSE) -> str3 | I10: =VLOOKUP($A10&I$1,Feuil1!$E$1:$F$92,2,FALSE) -> str4 | ... K10: =VLOOKUP($A10&K$1,Feuil1!$E$1:$F$92,2,FALSE) -> str6
A11: J | B11: =VLOOKUP($A11&B$1,Feuil1!$E$1:$F$92,2,FALSE) -> str7 | C11: =VLOOKUP($A11&C$1,Feuil1!$E$1:$F$92,2,FALSE) -> str8 | D11: =VLOOKUP($A11&D$1,Feuil1!$E$1:$F$92,2,FALSE) -> str9 | E11: =VLOOKUP($A11&E$1,Feuil1!$E$1:$F$92,2,FALSE) -> str10 | F11: =VLOOKUP($A11&F$1,Feuil1!$E$1:$F$92,2,FALSE) -> str11 | G11: =VLOOKUP($A11&G$1,Feuil1!$E$1:$F$92,2,FALSE) -> str12 | H11: =VLOOKUP($A11&H$1,Feuil1!$E$1:$F$92,2,FALSE) -> str13 | I11: =VLOOKUP($A11&I$1,Feuil1!$E$1:$F$92,2,FALSE) -> str14 | ... K11: =VLOOKUP($A11&K$1,Feuil1!$E$1:$F$92,2,FALSE) -> pal2
A13: VAR-2 | B13: 1 | C13: 2 | D13: 3 | E13: 4 | F13: 5 | G13: 6 | H13: 7 | I13: 8 | J13: 9 | K13: 10
A14: A | B14: =VLOOKUP($A14&B$1,Feuil1!$E$93:$F$185,2,FALSE) -> pal3 | C14: =VLOOKUP($A14&C$1,Feuil1!$E$93:$F$185,2,FALSE) -> pal4 | D14: =VLOOKUP($A14&D$1,Feuil1!$E$93:$F$185,2,FALSE) -> pal5 | E14: =VLOOKUP($A14&E$1,Feuil1!$E$93:$F$185,2,FALSE) -> pal6 | F14: =VLOOKUP($A14&F$1,Feuil1!$E$93:$F$185,2,FALSE) -> pal7 | G14: =VLOOKUP($A14&G$1,Feuil1!$E$93:$F$185,2,FALSE) -> pal8 | H14: =VLOOKUP($A14&H$1,Feuil1!$E$93:$F$185,2,FALSE) -> ltr1 | I14: =VLOOKUP($A14&I$1,Feuil1!$E$93:$F$185,2,FALSE) -> ltr2 | ... K14: =VLOOKUP($A14&K$1,Feuil1!$E$93:$F$185,2,FALSE) -> ltr4
A15: B | B15: =VLOOKUP($A15&B$1,Feuil1!$E$93:$F$185,2,FALSE) -> ltr5 | C15: =VLOOKUP($A15&C$1,Feuil1!$E$93:$F$185,2,FALSE) -> ltr6 | D15: =VLOOKUP($A15&D$1,Feuil1!$E$93:$F$185,2,FALSE) -> ltr7 | E15: =VLOOKUP($A15&E$1,Feuil1!$E$93:$F$185,2,FALSE) -> ltr8 | F15: =VLOOKUP($A15&F$1,Feuil1!$E$93:$F$185,2,FALSE) -> ltr9 | G15: =VLOOKUP($A15&G$1,Feuil1!$E$93:$F$185,2,FALSE) -> ltr10 | H15: =VLOOKUP($A15&H$1,Feuil1!$E$93:$F$185,2,FALSE) -> ltr11 | I15: =VLOOKUP($A15&I$1,Feuil1!$E$93:$F$185,2,FALSE) -> ltr12 | ... K15: =VLOOKUP($A15&K$1,Feuil1!$E$93:$F$185,2,FALSE) -> 0
A16: C | B16: =VLOOKUP($A16&B$1,Feuil1!$E$93:$F$185,2,FALSE) -> 0 | C16: =VLOOKUP($A16&C$1,Feuil1!$E$93:$F$185,2,FALSE) -> 0 | D16: =VLOOKUP($A16&D$1,Feuil1!$E$93:$F$185,2,FALSE) -> 0 | E16: =VLOOKUP($A16&E$1,Feuil1!$E$93:$F$185,2,FALSE) -> 0 | F16: =VLOOKUP($A16&F$1,Feuil1!$E$93:$F$185,2,FALSE) -> 0 | G16: =VLOOKUP($A16&G$1,Feuil1!$E$93:$F$185,2,FALSE) -> 0 | H16: =VLOOKUP($A16&H$1,Feuil1!$E$93:$F$185,2,FALSE) -> 0 | I16: =VLOOKUP($A16&I$1,Feuil1!$E$93:$F$185,2,FALSE) -> 0 | ... K16: =VLOOKUP($A16&K$1,Feuil1!$E$93:$F$185,2,FALSE) -> 0
A17: D | B17: =VLOOKUP($A17&B$1,Feuil1!$E$93:$F$185,2,FALSE) -> 0 | C17: =VLOOKUP($A17&C$1,Feuil1!$E$93:$F$185,2,FALSE) -> 0 | D17: =VLOOKUP($A17&D$1,Feuil1!$E$93:$F$185,2,FALSE) -> 0 | E17: =VLOOKUP($A17&E$1,Feuil1!$E$93:$F$185,2,FALSE) -> 0 | F17: =VLOOKUP($A17&F$1,Feuil1!$E$93:$F$185,2,FALSE) -> 0 | G17: =VLOOKUP($A17&G$1,Feuil1!$E$93:$F$185,2,FALSE) -> 0 | H17: =VLOOKUP($A17&H$1,Feuil1!$E$93:$F$185,2,FALSE) -> 0 | I17: =VLOOKUP($A17&I$1,Feuil1!$E$93:$F$185,2,FALSE) -> 0 | ... K17: =VLOOKUP($A17&K$1,Feuil1!$E$93:$F$185,2,FALSE) -> 0
A18: E | B18: =VLOOKUP($A18&B$1,Feuil1!$E$93:$F$185,2,FALSE) -> #N/A | C18: =VLOOKUP($A18&C$1,Feuil1!$E$93:$F$185,2,FALSE) -> #N/A | D18: =VLOOKUP($A18&D$1,Feuil1!$E$93:$F$185,2,FALSE) -> #N/A | E18: =VLOOKUP($A18&E$1,Feuil1!$E$93:$F$185,2,FALSE) -> #N/A | F18: =VLOOKUP($A18&F$1,Feuil1!$E$93:$F$185,2,FALSE) -> #N/A | G18: =VLOOKUP($A18&G$1,Feuil1!$E$93:$F$185,2,FALSE) -> #N/A | H18: =VLOOKUP($A18&H$1,Feuil1!$E$93:$F$185,2,FALSE) -> #N/A | I18: =VLOOKUP($A18&I$1,Feuil1!$E$93:$F$185,2,FALSE) -> #N/A | ... K18: =VLOOKUP($A18&K$1,Feuil1!$E$93:$F$185,2,FALSE) -> #N/A
A19: F | B19: =VLOOKUP($A19&B$1,Feuil1!$E$93:$F$185,2,FALSE) -> #N/A | C19: =VLOOKUP($A19&C$1,Feuil1!$E$93:$F$185,2,FALSE) -> #N/A | D19: =VLOOKUP($A19&D$1,Feuil1!$E$93:$F$185,2,FALSE) -> #N/A | E19: =VLOOKUP($A19&E$1,Feuil1!$E$93:$F$185,2,FALSE) -> #N/A | F19: =VLOOKUP($A19&F$1,Feuil1!$E$93:$F$185,2,FALSE) -> #N/A | G19: =VLOOKUP($A19&G$1,Feuil1!$E$93:$F$185,2,FALSE) -> #N/A | H19: =VLOOKUP($A19&H$1,Feuil1!$E$93:$F$185,2,FALSE) -> #N/A | I19: =VLOOKUP($A19&I$1,Feuil1!$E$93:$F$185,2,FALSE) -> #N/A | ... K19: =VLOOKUP($A19&K$1,Feuil1!$E$93:$F$185,2,FALSE) -> #N/A
A20: G | B20: =VLOOKUP($A20&B$1,Feuil1!$E$93:$F$185,2,FALSE) -> #N/A | C20: =VLOOKUP($A20&C$1,Feuil1!$E$93:$F$185,2,FALSE) -> #N/A | D20: =VLOOKUP($A20&D$1,Feuil1!$E$93:$F$185,2,FALSE) -> #N/A | E20: =VLOOKUP($A20&E$1,Feuil1!$E$93:$F$185,2,FALSE) -> #N/A | F20: =VLOOKUP($A20&F$1,Feuil1!$E$93:$F$185,2,FALSE) -> #N/A | G20: =VLOOKUP($A20&G$1,Feuil1!$E$93:$F$185,2,FALSE) -> #N/A | H20: =VLOOKUP($A20&H$1,Feuil1!$E$93:$F$185,2,FALSE) -> #N/A | I20: =VLOOKUP($A20&I$1,Feuil1!$E$93:$F$185,2,FALSE) -> #N/A | ... K20: =VLOOKUP($A20&K$1,Feuil1!$E$93:$F$185,2,FALSE) -> #N/A
A21: H | B21: =VLOOKUP($A21&B$1,Feuil1!$E$93:$F$185,2,FALSE) -> #N/A | C21: =VLOOKUP($A21&C$1,Feuil1!$E$93:$F$185,2,FALSE) -> #N/A | D21: =VLOOKUP($A21&D$1,Feuil1!$E$93:$F$185,2,FALSE) -> #N/A | E21: =VLOOKUP($A21&E$1,Feuil1!$E$93:$F$185,2,FALSE) -> #N/A | F21: =VLOOKUP($A21&F$1,Feuil1!$E$93:$F$185,2,FALSE) -> #N/A | G21: =VLOOKUP($A21&G$1,Feuil1!$E$93:$F$185,2,FALSE) -> #N/A | H21: =VLOOKUP($A21&H$1,Feuil1!$E$93:$F$185,2,FALSE) -> #N/A | I21: =VLOOKUP($A21&I$1,Feuil1!$E$93:$F$185,2,FALSE) -> #N/A | ... K21: =VLOOKUP($A21&K$1,Feuil1!$E$93:$F$185,2,FALSE) -> #N/A
A22: I | B22: =VLOOKUP($A22&B$1,Feuil1!$E$93:$F$185,2,FALSE) -> #N/A | C22: =VLOOKUP($A22&C$1,Feuil1!$E$93:$F$185,2,FALSE) -> #N/A | D22: =VLOOKUP($A22&D$1,Feuil1!$E$93:$F$185,2,FALSE) -> #N/A | E22: =VLOOKUP($A22&E$1,Feuil1!$E$93:$F$185,2,FALSE) -> #N/A | F22: =VLOOKUP($A22&F$1,Feuil1!$E$93:$F$185,2,FALSE) -> #N/A | G22: =VLOOKUP($A22&G$1,Feuil1!$E$93:$F$185,2,FALSE) -> #N/A | H22: =VLOOKUP($A22&H$1,Feuil1!$E$93:$F$185,2,FALSE) -> #N/A | I22: =VLOOKUP($A22&I$1,Feuil1!$E$93:$F$185,2,FALSE) -> #N/A | ... K22: =VLOOKUP($A22&K$1,Feuil1!$E$93:$F$185,2,FALSE) -> #N/A
A23: J | B23: =VLOOKUP($A23&B$1,Feuil1!$E$93:$F$185,2,FALSE) -> #N/A | C23: =VLOOKUP($A23&C$1,Feuil1!$E$93:$F$185,2,FALSE) -> #N/A | D23: =VLOOKUP($A23&D$1,Feuil1!$E$93:$F$185,2,FALSE) -> #N/A | E23: =VLOOKUP($A23&E$1,Feuil1!$E$93:$F$185,2,FALSE) -> #N/A | F23: =VLOOKUP($A23&F$1,Feuil1!$E$93:$F$185,2,FALSE) -> #N/A | G23: =VLOOKUP($A23&G$1,Feuil1!$E$93:$F$185,2,FALSE) -> #N/A | H23: =VLOOKUP($A23&H$1,Feuil1!$E$93:$F$185,2,FALSE) -> #N/A | I23: =VLOOKUP($A23&I$1,Feuil1!$E$93:$F$185,2,FALSE) -> #N/A | ... K23: =VLOOKUP($A23&K$1,Feuil1!$E$93:$F$185,2,FALSE) -> #N/A

Sheet Feuil3
