Workbook

Sheet Suivi
D1: BAIL | H1: EJ | K1: AE 2019 | P1: Prévisions réengagement | S1: 2020 | T1: 2021
A2: ID | B2: Service | C2: Type de Location | D2: Clause de résiliation unilatérale | E2: Durée de l'AE engagée | F2: Date de début | G2: Date de fin | H2: Type EJ | I2: Montant total EJ | J2: EJ engagé | K2: Montant prévisionnel à engager en 2019 (a) | L2: AE antérieures | M2: Régularisation AE pluriannuelle | N2: AE engagées au 31/12/2019 (b) | O2: Surplus insuffisancefin 2019 (c) = (b) - (a) | P2: Prévision de renouvellement : | Q2: Réengagement 3, 6 ou 9 ans | R2: Commentaires | S2: Au 31/12/2020 (1)=(b)*1,0174 | T2: Au 31/12/2021 (2)=(1)*1,0174
E3: Année | K3: =SUM(K5:K105) -> 1724553.1 | O3: =SUM(O5:O105) -> -192046.63 | S3: =SUM(S5:S105) -> #VALUE! | T3: =SUM(T5:T105) -> #VALUE!
B4: Formule | C4: Formule | D4: Formule | E4: Formule | F4: Formule | G4: Formule | K4: Formule 1 | N4: Formule 2 | O4: Formule 3 | S4: Formule 4 | T4: Formule 5
A5: 160040-1-LO | B5: =IF(A5="","",VLOOKUP(A5,BDD!A:E,5,FALSE)) -> Parking 1 | C5: =IF(A5="","",VLOOKUP(A5,BDD!A:C,3,FALSE)) -> PARKING | D5: =IF(A5="","",VLOOKUP(A5,BDD!A:R,18,FALSE)) -> non | E5: =IF(A5="","",VLOOKUP(A5,BDD!A:Q,17,FALSE)) -> 1 | F5: =IF(A5="","",VLOOKUP(A5,BDD!A:S,19,FALSE)) -> 43221 | G5: =IF(A5="","",VLOOKUP(A5,BDD!A:T,20,FALSE)) -> 43585 | H5: Pluriannuel | I5: 480000 | J5: 480000 | K5: =IF(J5="","",IF(H5="ANNUEL",I5,IF(AND(OR(D5="NON",D5=""),(TODAY()-G5<=365),(H5="PLURIANNUEL")),I5,IF(AND(D5="OUI",(TODAY()-G5<=365),(H5="Pluriannuel")),(I5/E5),"")))) -> 480000 | N5: =((K5+L5+M5)*0.0174) -> 8352 | O5: =N5-K5 -> -471648 | P5: NRB | Q5: 9 | S5: =IF(YEAR(G5)=$S$1-1,IF(AND(H5="annuel",D5="oui",OR(P5="TRA",P5="RB")),(N5*0.0174),IF(AND(H5="Pluriannuel",D5="oui",P5="RB"),(N5*0.0174),"")),"") | T5: =SI(U9=2020;(W9*0,0174))
A6: 160040-2-LO | B6: =IF(A6="","",VLOOKUP(A6,BDD!A:E,5,FALSE)) -> Annexe bureau 1 | C6: =IF(A6="","",VLOOKUP(A6,BDD!A:C,3,FALSE)) -> ANNEXE | D6: =IF(A6="","",VLOOKUP(A6,BDD!A:R,18,FALSE)) -> non | E6: =IF(A6="","",VLOOKUP(A6,BDD!A:Q,17,FALSE)) -> 6 | F6: =IF(A6="","",VLOOKUP(A6,BDD!A:S,19,FALSE)) -> 41671 | G6: =IF(A6="","",VLOOKUP(A6,BDD!A:T,20,FALSE)) -> 43830 | H6: annuel | I6: 22271 | J6: =I6 -> 22271 | K6: =IF(J6="","",IF(H6="ANNUEL",I6,IF(AND(OR(D6="NON",D6=""),(TODAY()-G6<=365),(H6="PLURIANNUEL")),I6,IF(AND(D6="OUI",(TODAY()-G6<=365),(H6="Pluriannuel")),(I6/E6),"")))) -> 22271 | N6: =((K6+L6+M6)*0.0174) -> 387.5154 | O6: =J6-N6 -> 21883.485 | P6: RB | Q6: 6 | S6: =IF(YEAR(G6)=$S$1-1,IF(AND(H6="annuel",D6="oui",OR(P6="TRA",P6="RB")),(N6*0.0174),IF(AND(H6="Pluriannuel",D6="oui",P6="RB"),(N6*0.0174),"")),"") | T6: =IF(E6="PREVION","",IF(E6="","",IF(I6="","",IF(E6>1,S6*1.0174,"")))) -> #VALUE!
A7: 160040-3-CI | B7: =IF(A7="","",VLOOKUP(A7,BDD!A:E,5,FALSE)) -> Annexe bureau 1 | C7: =IF(A7="","",VLOOKUP(A7,BDD!A:C,3,FALSE)) -> ANNEXE | D7: =IF(A7="","",VLOOKUP(A7,BDD!A:R,18,FALSE)) -> oui | E7: =IF(A7="","",VLOOKUP(A7,BDD!A:Q,17,FALSE)) -> 6 | F7: =IF(A7="","",VLOOKUP(A7,BDD!A:S,19,FALSE)) -> 41671 | G7: =IF(A7="","",VLOOKUP(A7,BDD!A:T,20,FALSE)) -> 43830 | H7: Pluriannuel | I7: 730000 | J7: 720000 | K7: =IF(J7="","",IF(H7="ANNUEL",I7,IF(AND(OR(D7="NON",D7=""),(TODAY()-G7<=365),(H7="PLURIANNUEL")),I7,IF(AND(D7="OUI",(TODAY()-G7<=365),(H7="Pluriannuel")),(I7/E7),"")))) -> 121666.67 | N7: 730000 | O7: =IF(K7="","",IF(K7>=0,N7-K7)) -> 608333.33 | P7: TRA | Q7: 3 | S7: =IF(YEAR(G7)=$S$1-1,IF(AND(H7="annuel",D7="oui",OR(P7="TRA",P7="RB")),(N7*0.0174),IF(AND(H7="Pluriannuel",D7="oui",P7="RB"),(N7*0.0174),"")),"") | T7: =IF(E7="PREVION","",IF(E7="","",IF(I7="","",IF(E7>1,S7*1.0174,"")))) -> #VALUE!
A8: 160040-4-LO | B8: =IF(A8="","",VLOOKUP(A8,BDD!A:E,5,FALSE)) -> Annexe bureau 2 | C8: =IF(A8="","",VLOOKUP(A8,BDD!A:C,3,FALSE)) -> ANNEXE | D8: =IF(A8="","",VLOOKUP(A8,BDD!A:R,18,FALSE)) -> non | E8: =IF(A8="","",VLOOKUP(A8,BDD!A:Q,17,FALSE)) -> 1 | F8: =IF(A8="","",VLOOKUP(A8,BDD!A:S,19,FALSE)) -> 43160 | G8: =IF(A8="","",VLOOKUP(A8,BDD!A:T,20,FALSE)) -> 43282 | H8: annuel | I8: 65000 | K8: =IF(J8="","",IF(H8="ANNUEL",I8,IF(AND(OR(D8="NON",D8=""),(TODAY()-G8<=365),(H8="PLURIANNUEL")),I8,IF(AND(D8="OUI",(TODAY()-G8<=365),(H8="Pluriannuel")),(I8/E8),"")))) | N8: 125000 | O8: =IF(K8="","",IF(K8>=0,N8-K8)) | P8: TRA | Q8: 3 | S8: =IF(YEAR(G8)=$S$1-1,IF(AND(H8="annuel",D8="oui",OR(P8="TRA",P8="RB")),(N8*0.0174),IF(AND(H8="Pluriannuel",D8="oui",P8="RB"),(N8*0.0174),"")),"") | T8: =IF(E8="PREVION","",IF(E8="","",IF(I8="","",IF(E8>1,S8*1.0174,""))))
A9: 160040-5-LO | B9: =IF(A9="","",VLOOKUP(A9,BDD!A:E,5,FALSE)) -> Annexe bureau 3 | C9: =IF(A9="","",VLOOKUP(A9,BDD!A:C,3,FALSE)) -> ANNEXE | D9: =IF(A9="","",VLOOKUP(A9,BDD!A:R,18,FALSE)) -> non | E9: =IF(A9="","",VLOOKUP(A9,BDD!A:Q,17,FALSE)) -> 1 | F9: =IF(A9="","",VLOOKUP(A9,BDD!A:S,19,FALSE)) -> 43101 | G9: =IF(A9="","",VLOOKUP(A9,BDD!A:T,20,FALSE)) -> 43465 | H9: Pluriannuel | I9: 780000 | K9: =IF(J9="","",IF(H9="ANNUEL",I9,IF(AND(OR(D9="NON",D9=""),(TODAY()-G9<=365),(H9="PLURIANNUEL")),I9,IF(AND(D9="OUI",(TODAY()-G9<=365),(H9="Pluriannuel")),(I9/E9),"")))) | O9: =IF(K9="","",IF(K9>=0,N9-K9)) | P9: TRA | Q9: 3 | S9: =IF(YEAR(G9)=$S$1-1,IF(AND(H9="annuel",D9="oui",OR(P9="TRA",P9="RB")),(N9*0.0174),IF(AND(H9="Pluriannuel",D9="oui",P9="RB"),(N9*0.0174),"")),"") | T9: =IF(E9="PREVION","",IF(E9="","",IF(I9="","",IF(E9>1,S9*1.0174,""))))
A10: 160040-6-LO | B10: =IF(A10="","",VLOOKUP(A10,BDD!A:E,5,FALSE)) -> Annexe bureau 4 | C10: =IF(A10="","",VLOOKUP(A10,BDD!A:C,3,FALSE)) -> ANNEXE | D10: =IF(A10="","",VLOOKUP(A10,BDD!A:R,18,FALSE)) -> non | E10: =IF(A10="","",VLOOKUP(A10,BDD!A:Q,17,FALSE)) -> 3 | F10: =IF(A10="","",VLOOKUP(A10,BDD!A:S,19,FALSE)) -> 42736 | G10: =IF(A10="","",VLOOKUP(A10,BDD!A:T,20,FALSE)) -> 43496 | H10: Pluriannuel | I10: 950000 | J10: 850000 | K10: =IF(J10="","",IF(H10="ANNUEL",I10,IF(AND(OR(D10="NON",D10=""),(TODAY()-G10<=365),(H10="PLURIANNUEL")),I10,IF(AND(D10="OUI",(TODAY()-G10<=365),(H10="Pluriannuel")),(I10/E10),"")))) -> 950000 | N10: 750000 | O10: =IF(K10="","",IF(K10>=0,N10-K10)) -> -200000 | P10: TRA | Q10: 6 | S10: =IF(YEAR(G10)=$S$1-1,IF(AND(H10="annuel",D10="oui",OR(P10="TRA",P10="RB")),(N10*0.0174),IF(AND(H10="Pluriannuel",D10="oui",P10="RB"),(N10*0.0174),"")),"") | T10: =IF(E10="PREVION","",IF(E10="","",IF(I10="","",IF(E10>1,S10*1.0174,"")))) -> #VALUE!
A11: 160040-7-CI | B11: =IF(A11="","",VLOOKUP(A11,BDD!A:E,5,FALSE)) -> Annexe bureau 4 | C11: =IF(A11="","",VLOOKUP(A11,BDD!A:C,3,FALSE)) -> ANNEXE | D11: =IF(A11="","",VLOOKUP(A11,BDD!A:R,18,FALSE)) -> oui | E11: =IF(A11="","",VLOOKUP(A11,BDD!A:Q,17,FALSE)) -> 3 | F11: =IF(A11="","",VLOOKUP(A11,BDD!A:S,19,FALSE)) -> 42736 | G11: =IF(A11="","",VLOOKUP(A11,BDD!A:T,20,FALSE)) -> 43496 | H11: annuel | I11: 23871 | J11: 23871 | K11: =IF(J11="","",IF(H11="ANNUEL",I11,IF(AND(OR(D11="NON",D11=""),(TODAY()-G11<=365),(H11="PLURIANNUEL")),I11,IF(AND(D11="OUI",(TODAY()-G11<=365),(H11="Pluriannuel")),(I11/E11),"")))) -> 23871 | O11: =IF(K11="","",IF(K11>=0,N11-K11)) -> -23871 | P11: NRB | Q11: 9 | S11: =IF(YEAR(G11)=$S$1-1,IF(AND(H11="annuel",D11="oui",OR(P11="TRA",P11="RB")),(N11*0.0174),IF(AND(H11="Pluriannuel",D11="oui",P11="RB"),(N11*0.0174),"")),"") | T11: =IF(E11="PREVION","",IF(E11="","",IF(I11="","",IF(E11>1,S11*1.0174,"")))) -> #VALUE!
A12: 160040-8-LO | B12: =IF(A12="","",VLOOKUP(A12,BDD!A:E,5,FALSE)) -> Bâtiment 1 | C12: =IF(A12="","",VLOOKUP(A12,BDD!A:C,3,FALSE)) -> BATIMENT | D12: =IF(A12="","",VLOOKUP(A12,BDD!A:R,18,FALSE)) -> oui | E12: =IF(A12="","",VLOOKUP(A12,BDD!A:Q,17,FALSE)) -> 9 | F12: =IF(A12="","",VLOOKUP(A12,BDD!A:S,19,FALSE)) -> 40756 | G12: =IF(A12="","",VLOOKUP(A12,BDD!A:T,20,FALSE)) -> 44043 | H12: Pluriannuel | I12: 546700 | J12: 450600 | K12: =IF(J12="","",IF(H12="ANNUEL",I12,IF(AND(OR(D12="NON",D12=""),(TODAY()-G12<=365),(H12="PLURIANNUEL")),I12,IF(AND(D12="OUI",(TODAY()-G12<=365),(H12="Pluriannuel")),(I12/E12),"")))) -> 60744.444 | O12: =IF(K12="","",IF(K12>=0,N12-K12)) -> -60744.444 | P12: RB | Q12: 3 | S12: =IF(YEAR(G12)=$S$1-1,IF(AND(H12="annuel",D12="oui",OR(P12="TRA",P12="RB")),(N12*0.0174),IF(AND(H12="Pluriannuel",D12="oui",P12="RB"),(N12*0.0174),"")),"") | T12: =IF(E12="PREVION","",IF(E12="","",IF(I12="","",IF(E12>1,S12*1.0174,"")))) -> #VALUE!
A13: 160040-9-CI | B13: =IF(A13="","",VLOOKUP(A13,BDD!A:E,5,FALSE)) -> Bâtiment 1 | C13: =IF(A13="","",VLOOKUP(A13,BDD!A:C,3,FALSE)) -> ANNEXE | D13: =IF(A13="","",VLOOKUP(A13,BDD!A:R,18,FALSE)) -> oui | E13: =IF(A13="","",VLOOKUP(A13,BDD!A:Q,17,FALSE)) -> 9 | F13: =IF(A13="","",VLOOKUP(A13,BDD!A:S,19,FALSE)) -> 40756 | G13: =IF(A13="","",VLOOKUP(A13,BDD!A:T,20,FALSE)) -> 44043 | H13: Pluriannuel | I13: 46200 | K13: =IF(J13="","",IF(H13="ANNUEL",I13,IF(AND(OR(D13="NON",D13=""),(TODAY()-G13<=365),(H13="PLURIANNUEL")),I13,IF(AND(D13="OUI",(TODAY()-G13<=365),(H13="Pluriannuel")),(I13/E13),"")))) | O13: =IF(K13="","",IF(K13>=0,N13-K13)) | P13: TRA | Q13: 3 | S13: =IF(YEAR(G13)=$S$1-1,IF(AND(H13="annuel",D13="oui",OR(P13="TRA",P13="RB")),(N13*0.0174),IF(AND(H13="Pluriannuel",D13="oui",P13="RB"),(N13*0.0174),"")),"") | T13: =IF(E13="PREVION","",IF(E13="","",IF(I13="","",IF(E13>1,S13*1.0174,"")))) -> #VALUE!
A14: 160040-10-LO | B14: =IF(A14="","",VLOOKUP(A14,BDD!A:E,5,FALSE)) -> Bâtiment 2 | C14: =IF(A14="","",VLOOKUP(A14,BDD!A:C,3,FALSE)) -> BATIMENT | D14: =IF(A14="","",VLOOKUP(A14,BDD!A:R,18,FALSE)) -> oui | E14: =IF(A14="","",VLOOKUP(A14,BDD!A:Q,17,FALSE)) -> 9 | F14: =IF(A14="","",VLOOKUP(A14,BDD!A:S,19,FALSE)) -> 40756 | G14: =IF(A14="","",VLOOKUP(A14,BDD!A:T,20,FALSE)) -> 44043 | H14: Pluriannuel | I14: 435000 | K14: =IF(J14="","",IF(H14="ANNUEL",I14,IF(AND(OR(D14="NON",D14=""),(TODAY()-G14<=365),(H14="PLURIANNUEL")),I14,IF(AND(D14="OUI",(TODAY()-G14<=365),(H14="Pluriannuel")),(I14/E14),"")))) | O14: =IF(K14="","",IF(K14>=0,N14-K14)) | S14: =IF(YEAR(G14)=$S$1-1,IF(AND(H14="annuel",D14="oui",OR(P14="TRA",P14="RB")),(N14*0.0174),IF(AND(H14="Pluriannuel",D14="oui",P14="RB"),(N14*0.0174),"")),"") | T14: =IF(E14="PREVION","",IF(E14="","",IF(I14="","",IF(E14>1,S14*1.0174,"")))) -> #VALUE!
A15: 160040-11-CI | B15: =IF(A15="","",VLOOKUP(A15,BDD!A:E,5,FALSE)) -> Bâtiment 2 | C15: =IF(A15="","",VLOOKUP(A15,BDD!A:C,3,FALSE)) -> BATIMENT | D15: =IF(A15="","",VLOOKUP(A15,BDD!A:R,18,FALSE)) -> non | E15: =IF(A15="","",VLOOKUP(A15,BDD!A:Q,17,FALSE)) -> 9 | F15: =IF(A15="","",VLOOKUP(A15,BDD!A:S,19,FALSE)) -> 40756 | G15: =IF(A15="","",VLOOKUP(A15,BDD!A:T,20,FALSE)) -> 44043 | H15: Pluriannuel | I15: 5000 | K15: =IF(J15="","",IF(H15="ANNUEL",I15,IF(AND(OR(D15="NON",D15=""),(TODAY()-G15<=365),(H15="PLURIANNUEL")),I15,IF(AND(D15="OUI",(TODAY()-G15<=365),(H15="Pluriannuel")),(I15/E15),"")))) | O15: =IF(K15="","",IF(K15>=0,N15-K15)) | S15: =IF(YEAR(G15)=$S$1-1,IF(AND(H15="annuel",D15="oui",OR(P15="TRA",P15="RB")),(N15*0.0174),IF(AND(H15="Pluriannuel",D15="oui",P15="RB"),(N15*0.0174),"")),"") | T15: =IF(E15="PREVION","",IF(E15="","",IF(I15="","",IF(E15>1,S15*1.0174,"")))) -> #VALUE!
A16: 160040-12-CI | B16: =IF(A16="","",VLOOKUP(A16,BDD!A:E,5,FALSE)) -> Bâtiment 2 | C16: =IF(A16="","",VLOOKUP(A16,BDD!A:C,3,FALSE)) -> BATIMENT | D16: =IF(A16="","",VLOOKUP(A16,BDD!A:R,18,FALSE)) -> 0 | E16: =IF(A16="","",VLOOKUP(A16,BDD!A:Q,17,FALSE)) -> 9 | F16: =IF(A16="","",VLOOKUP(A16,BDD!A:S,19,FALSE)) -> 40179 | G16: =IF(A16="","",VLOOKUP(A16,BDD!A:T,20,FALSE)) -> 43465 | H16: Pluriannuel | I16: 9500 | K16: =IF(J16="","",IF(H16="ANNUEL",I16,IF(AND(OR(D16="NON",D16=""),(TODAY()-G16<=365),(H16="PLURIANNUEL")),I16,IF(AND(D16="OUI",(TODAY()-G16<=365),(H16="Pluriannuel")),(I16/E16),"")))) | O16: =IF(K16="","",IF(K16>=0,N16-K16)) | S16: =IF(YEAR(G16)=$S$1-1,IF(AND(H16="annuel",D16="oui",OR(P16="TRA",P16="RB")),(N16*0.0174),IF(AND(H16="Pluriannuel",D16="oui",P16="RB"),(N16*0.0174),"")),"") | T16: =IF(E16="PREVION","",IF(E16="","",IF(I16="","",IF(E16>1,S16*1.0174,"")))) -> #VALUE!
A17: 160040-13-LO | B17: =IF(A17="","",VLOOKUP(A17,BDD!A:E,5,FALSE)) -> Parking 2 | C17: =IF(A17="","",VLOOKUP(A17,BDD!A:C,3,FALSE)) -> PARKING | D17: =IF(A17="","",VLOOKUP(A17,BDD!A:R,18,FALSE)) -> non | E17: =IF(A17="","",VLOOKUP(A17,BDD!A:Q,17,FALSE)) -> 1 | F17: =IF(A17="","",VLOOKUP(A17,BDD!A:S,19,FALSE)) -> 43101 | G17: =IF(A17="","",VLOOKUP(A17,BDD!A:T,20,FALSE)) -> 43830 | H17: annuel | I17: 66000 | J17: 66000 | K17: =IF(J17="","",IF(H17="ANNUEL",I17,IF(AND(OR(D17="NON",D17=""),(TODAY()-G17<=365),(H17="PLURIANNUEL")),I17,IF(AND(D17="OUI",(TODAY()-G17<=365),(H17="Pluriannuel")),(I17/E17),"")))) -> 66000 | O17: =IF(K17="","",IF(K17>=0,N17-K17)) -> -66000 | S17: =IF(YEAR(G17)=$S$1-1,IF(AND(H17="annuel",D17="oui",OR(P17="TRA",P17="RB")),(N17*0.0174),IF(AND(H17="Pluriannuel",D17="oui",P17="RB"),(N17*0.0174),"")),"") | T17: =IF(E17="PREVION","",IF(E17="","",IF(I17="","",IF(E17>1,S17*1.0174,""))))
A18: 160040-14-LO | B18: =IF(A18="","",VLOOKUP(A18,BDD!A:E,5,FALSE)) -> Parking 3 | C18: =IF(A18="","",VLOOKUP(A18,BDD!A:C,3,FALSE)) -> PARKING | D18: =IF(A18="","",VLOOKUP(A18,BDD!A:R,18,FALSE)) -> non | E18: =IF(A18="","",VLOOKUP(A18,BDD!A:Q,17,FALSE)) -> 1 | F18: =IF(A18="","",VLOOKUP(A18,BDD!A:S,19,FALSE)) -> 43116 | G18: =IF(A18="","",VLOOKUP(A18,BDD!A:T,20,FALSE)) -> 43480 | H18: annuel | K18: =IF(J18="","",IF(H18="ANNUEL",I18,IF(AND(OR(D18="NON",D18=""),(TODAY()-G18<=365),(H18="PLURIANNUEL")),I18,IF(AND(D18="OUI",(TODAY()-G18<=365),(H18="Pluriannuel")),(I18/E18),"")))) | O18: =IF(K18="","",IF(K18>=0,N18-K18)) | S18: =IF(YEAR(G18)=$S$1-1,IF(AND(H18="annuel",D18="oui",OR(P18="TRA",P18="RB")),(N18*0.0174),IF(AND(H18="Pluriannuel",D18="oui",P18="RB"),(N18*0.0174),"")),"") | T18: =IF(E18="PREVION","",IF(E18="","",IF(I18="","",IF(E18>1,S18*1.0174,""))))
A19: 160040-15-LO | B19: =IF(A19="","",VLOOKUP(A19,BDD!A:E,5,FALSE)) -> Parking 4 | C19: =IF(A19="","",VLOOKUP(A19,BDD!A:C,3,FALSE)) -> PARKING | D19: =IF(A19="","",VLOOKUP(A19,BDD!A:R,18,FALSE)) -> non | E19: =IF(A19="","",VLOOKUP(A19,BDD!A:Q,17,FALSE)) -> 1 | F19: =IF(A19="","",VLOOKUP(A19,BDD!A:S,19,FALSE)) -> 43132 | G19: =IF(A19="","",VLOOKUP(A19,BDD!A:T,20,FALSE)) -> 43496 | H19: annuel | K19: =IF(J19="","",IF(H19="ANNUEL",I19,IF(AND(OR(D19="NON",D19=""),(TODAY()-G19<=365),(H19="PLURIANNUEL")),I19,IF(AND(D19="OUI",(TODAY()-G19<=365),(H19="Pluriannuel")),(I19/E19),"")))) | O19: =IF(K19="","",IF(K19>=0,N19-K19)) | S19: =IF(YEAR(G19)=$S$1-1,IF(AND(H19="annuel",D19="oui",OR(P19="TRA",P19="RB")),(N19*0.0174),IF(AND(H19="Pluriannuel",D19="oui",P19="RB"),(N19*0.0174),"")),"") | T19: =IF(E19="PREVION","",IF(E19="","",IF(I19="","",IF(E19>1,S19*1.0174,""))))
A20: 160040-16-LO | B20: =IF(A20="","",VLOOKUP(A20,BDD!A:E,5,FALSE)) -> Parking 5 | C20: =IF(A20="","",VLOOKUP(A20,BDD!A:C,3,FALSE)) -> PARKING | D20: =IF(A20="","",VLOOKUP(A20,BDD!A:R,18,FALSE)) -> non | E20: =IF(A20="","",VLOOKUP(A20,BDD!A:Q,17,FALSE)) -> 1 | F20: =IF(A20="","",VLOOKUP(A20,BDD!A:S,19,FALSE)) -> 43191 | G20: =IF(A20="","",VLOOKUP(A20,BDD!A:T,20,FALSE)) -> 43555 | H20: annuel | K20: =IF(J20="","",IF(H20="ANNUEL",I20,IF(AND(OR(D20="NON",D20=""),(TODAY()-G20<=365),(H20="PLURIANNUEL")),I20,IF(AND(D20="OUI",(TODAY()-G20<=365),(H20="Pluriannuel")),(I20/E20),"")))) | O20: =IF(K20="","",IF(K20>=0,N20-K20)) | S20: =IF(YEAR(G20)=$S$1-1,IF(AND(H20="annuel",D20="oui",OR(P20="TRA",P20="RB")),(N20*0.0174),IF(AND(H20="Pluriannuel",D20="oui",P20="RB"),(N20*0.0174),"")),"") | T20: =IF(E20="PREVION","",IF(E20="","",IF(I20="","",IF(E20>1,S20*1.0174,""))))
A21: 160040-17-LO | B21: =IF(A21="","",VLOOKUP(A21,BDD!A:E,5,FALSE)) -> Parking 6 | C21: =IF(A21="","",VLOOKUP(A21,BDD!A:C,3,FALSE)) -> PARKING | D21: =IF(A21="","",VLOOKUP(A21,BDD!A:R,18,FALSE)) -> non | E21: =IF(A21="","",VLOOKUP(A21,BDD!A:Q,17,FALSE)) -> 1 | F21: =IF(A21="","",VLOOKUP(A21,BDD!A:S,19,FALSE)) -> 43040 | G21: =IF(A21="","",VLOOKUP(A21,BDD!A:T,20,FALSE)) -> 43221 | H21: annuel | K21: =IF(J21="","",IF(H21="ANNUEL",I21,IF(AND(OR(D21="NON",D21=""),(TODAY()-G21<=365),(H21="PLURIANNUEL")),I21,IF(AND(D21="OUI",(TODAY()-G21<=365),(H21="Pluriannuel")),(I21/E21),"")))) | O21: =IF(K21="","",IF(K21>=0,N21-K21)) | S21: =IF(YEAR(G21)=$S$1-1,IF(AND(H21="annuel",D21="oui",OR(P21="TRA",P21="RB")),(N21*0.0174),IF(AND(H21="Pluriannuel",D21="oui",P21="RB"),(N21*0.0174),"")),"") | T21: =IF(E21="PREVION","",IF(E21="","",IF(I21="","",IF(E21>1,S21*1.0174,""))))
A22: 160040-18-LO | B22: =IF(A22="","",VLOOKUP(A22,BDD!A:E,5,FALSE)) -> Parking 7 | C22: =IF(A22="","",VLOOKUP(A22,BDD!A:C,3,FALSE)) -> PARKING | D22: =IF(A22="","",VLOOKUP(A22,BDD!A:R,18,FALSE)) -> non | E22: =IF(A22="","",VLOOKUP(A22,BDD!A:Q,17,FALSE)) -> 1 | F22: =IF(A22="","",VLOOKUP(A22,BDD!A:S,19,FALSE)) -> 43040 | G22: =IF(A22="","",VLOOKUP(A22,BDD!A:T,20,FALSE)) -> 43221 | H22: annuel | K22: =IF(J22="","",IF(H22="ANNUEL",I22,IF(AND(OR(D22="NON",D22=""),(TODAY()-G22<=365),(H22="PLURIANNUEL")),I22,IF(AND(D22="OUI",(TODAY()-G22<=365),(H22="Pluriannuel")),(I22/E22),"")))) | O22: =IF(K22="","",IF(K22>=0,N22-K22)) | S22: =IF(YEAR(G22)=$S$1-1,IF(AND(H22="annuel",D22="oui",OR(P22="TRA",P22="RB")),(N22*0.0174),IF(AND(H22="Pluriannuel",D22="oui",P22="RB"),(N22*0.0174),"")),"") | T22: =IF(E22="PREVION","",IF(E22="","",IF(I22="","",IF(E22>1,S22*1.0174,""))))
A23: 160040-19-LO | B23: =IF(A23="","",VLOOKUP(A23,BDD!A:E,5,FALSE)) -> Bureau 1 | C23: =IF(A23="","",VLOOKUP(A23,BDD!A:C,3,FALSE)) -> BUREAUX | D23: =IF(A23="","",VLOOKUP(A23,BDD!A:R,18,FALSE)) -> oui | E23: =IF(A23="","",VLOOKUP(A23,BDD!A:Q,17,FALSE)) -> PBR | F23: =IF(A23="","",VLOOKUP(A23,BDD!A:S,19,FALSE)) -> 40087 | G23: =IF(A23="","",VLOOKUP(A23,BDD!A:T,20,FALSE)) -> 31/09/2018 | H23: Pluriannuel | K23: =IF(J23="","",IF(H23="ANNUEL",I23,IF(AND(OR(D23="NON",D23=""),(TODAY()-G23<=365),(H23="PLURIANNUEL")),I23,IF(AND(D23="OUI",(TODAY()-G23<=365),(H23="Pluriannuel")),(I23/E23),"")))) | O23: =IF(K23="","",IF(K23>=0,N23-K23)) | S23: =IF(YEAR(G23)=$S$1-1,IF(AND(H23="annuel",D23="oui",OR(P23="TRA",P23="RB")),(N23*0.0174),IF(AND(H23="Pluriannuel",D23="oui",P23="RB"),(N23*0.0174),"")),"") -> #VALUE! | T23: =IF(E23="PREVION","",IF(E23="","",IF(I23="","",IF(E23>1,S23*1.0174,""))))
A24: 160040-20-CI | B24: =IF(A24="","",VLOOKUP(A24,BDD!A:E,5,FALSE)) -> Bureau 1 | C24: =IF(A24="","",VLOOKUP(A24,BDD!A:C,3,FALSE)) -> BUREAUX | D24: =IF(A24="","",VLOOKUP(A24,BDD!A:R,18,FALSE)) -> oui | E24: =IF(A24="","",VLOOKUP(A24,BDD!A:Q,17,FALSE)) -> PBR | F24: =IF(A24="","",VLOOKUP(A24,BDD!A:S,19,FALSE)) -> 40087 | G24: =IF(A24="","",VLOOKUP(A24,BDD!A:T,20,FALSE)) -> 31/09/2018 | H24: Pluriannuel | K24: =IF(J24="","",IF(H24="ANNUEL",I24,IF(AND(OR(D24="NON",D24=""),(TODAY()-G24<=365),(H24="PLURIANNUEL")),I24,IF(AND(D24="OUI",(TODAY()-G24<=365),(H24="Pluriannuel")),(I24/E24),"")))) | O24: =IF(K24="","",IF(K24>=0,N24-K24)) | S24: =IF(YEAR(G24)=$S$1-1,IF(AND(H24="annuel",D24="oui",OR(P24="TRA",P24="RB")),(N24*0.0174),IF(AND(H24="Pluriannuel",D24="oui",P24="RB"),(N24*0.0174),"")),"") -> #VALUE! | T24: =IF(E24="PREVION","",IF(E24="","",IF(I24="","",IF(E24>1,S24*1.0174,""))))
B25: =IF(A25="","",VLOOKUP(A25,BDD!A:E,5,FALSE)) | C25: =IF(A25="","",VLOOKUP(A25,BDD!A:C,3,FALSE)) | D25: =IF(A25="","",VLOOKUP(A25,BDD!A:R,18,FALSE)) | E25: =IF(A25="","",VLOOKUP(A25,BDD!A:Q,17,FALSE)) | F25: =IF(A25="","",VLOOKUP(A25,BDD!A:S,19,FALSE)) | G25: =IF(A25="","",VLOOKUP(A25,BDD!A:T,20,FALSE)) | K25: =IF(J25="","",IF(H25="ANNUEL",I25,IF(AND(OR(D25="NON",D25=""),(TODAY()-G25<=365),(H25="PLURIANNUEL")),I25,IF(AND(D25="OUI",(TODAY()-G25<=365),(H25="Pluriannuel")),(I25/E25),"")))) | O25: =IF(K25="","",IF(K25>=0,N25-K25)) | S25: =IF(YEAR(G25)=$S$1-1,IF(AND(H25="annuel",D25="oui",OR(P25="TRA",P25="RB")),(N25*0.0174),IF(AND(H25="Pluriannuel",D25="oui",P25="RB"),(N25*0.0174),"")),"") -> #VALUE! | T25: =IF(E25="PREVION","",IF(E25="","",IF(I25="","",IF(E25>1,S25*1.0174,""))))
B26: =IF(A26="","",VLOOKUP(A26,BDD!A:E,5,FALSE)) | C26: =IF(A26="","",VLOOKUP(A26,BDD!A:C,3,FALSE)) | D26: =IF(A26="","",VLOOKUP(A26,BDD!A:R,18,FALSE)) | E26: =IF(A26="","",VLOOKUP(A26,BDD!A:Q,17,FALSE)) | F26: =IF(A26="","",VLOOKUP(A26,BDD!A:S,19,FALSE)) | G26: =IF(A26="","",VLOOKUP(A26,BDD!A:T,20,FALSE)) | K26: =IF(J26="","",IF(H26="ANNUEL",I26,IF(AND(OR(D26="NON",D26=""),(TODAY()-G26<=365),(H26="PLURIANNUEL")),I26,IF(AND(D26="OUI",(TODAY()-G26<=365),(H26="Pluriannuel")),(I26/E26),"")))) | O26: =IF(K26="","",IF(K26>=0,N26-K26)) | S26: =IF(YEAR(G26)=$S$1-1,IF(AND(H26="annuel",D26="oui",OR(P26="TRA",P26="RB")),(N26*0.0174),IF(AND(H26="Pluriannuel",D26="oui",P26="RB"),(N26*0.0174),"")),"") -> #VALUE! | T26: =IF(E26="PREVION","",IF(E26="","",IF(I26="","",IF(E26>1,S26*1.0174,""))))
B27: =IF(A27="","",VLOOKUP(A27,BDD!A:E,5,FALSE)) | C27: =IF(A27="","",VLOOKUP(A27,BDD!A:C,3,FALSE)) | D27: =IF(A27="","",VLOOKUP(A27,BDD!A:R,18,FALSE)) | E27: =IF(A27="","",VLOOKUP(A27,BDD!A:Q,17,FALSE)) | F27: =IF(A27="","",VLOOKUP(A27,BDD!A:S,19,FALSE)) | G27: =IF(A27="","",VLOOKUP(A27,BDD!A:T,20,FALSE)) | K27: =IF(J27="","",IF(H27="ANNUEL",I27,IF(AND(OR(D27="NON",D27=""),(TODAY()-G27<=365),(H27="PLURIANNUEL")),I27,IF(AND(D27="OUI",(TODAY()-G27<=365),(H27="Pluriannuel")),(I27/E27),"")))) | O27: =IF(K27="","",IF(K27>=0,N27-K27)) | S27: =IF(YEAR(G27)=$S$1-1,IF(AND(H27="annuel",D27="oui",OR(P27="TRA",P27="RB")),(N27*0.0174),IF(AND(H27="Pluriannuel",D27="oui",P27="RB"),(N27*0.0174),"")),"") -> #VALUE! | T27: =IF(E27="PREVION","",IF(E27="","",IF(I27="","",IF(E27>1,S27*1.0174,""))))
B28: =IF(A28="","",VLOOKUP(A28,BDD!A:E,5,FALSE)) | C28: =IF(A28="","",VLOOKUP(A28,BDD!A:C,3,FALSE)) | D28: =IF(A28="","",VLOOKUP(A28,BDD!A:R,18,FALSE)) | E28: =IF(A28="","",VLOOKUP(A28,BDD!A:Q,17,FALSE)) | F28: =IF(A28="","",VLOOKUP(A28,BDD!A:S,19,FALSE)) | G28: =IF(A28="","",VLOOKUP(A28,BDD!A:T,20,FALSE)) | K28: =IF(J28="","",IF(H28="ANNUEL",I28,IF(AND(OR(D28="NON",D28=""),(TODAY()-G28<=365),(H28="PLURIANNUEL")),I28,IF(AND(D28="OUI",(TODAY()-G28<=365),(H28="Pluriannuel")),(I28/E28),"")))) | O28: =IF(K28="","",IF(K28>=0,N28-K28)) | S28: =IF(YEAR(G28)=$S$1-1,IF(AND(H28="annuel",D28="oui",OR(P28="TRA",P28="RB")),(N28*0.0174),IF(AND(H28="Pluriannuel",D28="oui",P28="RB"),(N28*0.0174),"")),"") -> #VALUE! | T28: =IF(E28="PREVION","",IF(E28="","",IF(I28="","",IF(E28>1,S28*1.0174,""))))
B29: =IF(A29="","",VLOOKUP(A29,BDD!A:E,5,FALSE)) | C29: =IF(A29="","",VLOOKUP(A29,BDD!A:C,3,FALSE)) | D29: =IF(A29="","",VLOOKUP(A29,BDD!A:R,18,FALSE)) | E29: =IF(A29="","",VLOOKUP(A29,BDD!A:Q,17,FALSE)) | F29: =IF(A29="","",VLOOKUP(A29,BDD!A:S,19,FALSE)) | G29: =IF(A29="","",VLOOKUP(A29,BDD!A:T,20,FALSE)) | K29: =IF(J29="","",IF(H29="ANNUEL",I29,IF(AND(OR(D29="NON",D29=""),(TODAY()-G29<=365),(H29="PLURIANNUEL")),I29,IF(AND(D29="OUI",(TODAY()-G29<=365),(H29="Pluriannuel")),(I29/E29),"")))) | O29: =IF(K29="","",IF(K29>=0,N29-K29)) | S29: =IF(YEAR(G29)=$S$1-1,IF(AND(H29="annuel",D29="oui",OR(P29="TRA",P29="RB")),(N29*0.0174),IF(AND(H29="Pluriannuel",D29="oui",P29="RB"),(N29*0.0174),"")),"") -> #VALUE! | T29: =IF(E29="PREVION","",IF(E29="","",IF(I29="","",IF(E29>1,S29*1.0174,""))))
B30: =IF(A30="","",VLOOKUP(A30,BDD!A:E,5,FALSE)) | C30: =IF(A30="","",VLOOKUP(A30,BDD!A:C,3,FALSE)) | D30: =IF(A30="","",VLOOKUP(A30,BDD!A:R,18,FALSE)) | E30: =IF(A30="","",VLOOKUP(A30,BDD!A:Q,17,FALSE)) | F30: =IF(A30="","",VLOOKUP(A30,BDD!A:S,19,FALSE)) | G30: =IF(A30="","",VLOOKUP(A30,BDD!A:T,20,FALSE)) | K30: =IF(J30="","",IF(H30="ANNUEL",I30,IF(AND(OR(D30="NON",D30=""),(TODAY()-G30<=365),(H30="PLURIANNUEL")),I30,IF(AND(D30="OUI",(TODAY()-G30<=365),(H30="Pluriannuel")),(I30/E30),"")))) | O30: =IF(K30="","",IF(K30>=0,N30-K30)) | S30: =IF(YEAR(G30)=$S$1-1,IF(AND(H30="annuel",D30="oui",OR(P30="TRA",P30="RB")),(N30*0.0174),IF(AND(H30="Pluriannuel",D30="oui",P30="RB"),(N30*0.0174),"")),"") -> #VALUE! | T30: =IF(E30="PREVION","",IF(E30="","",IF(I30="","",IF(E30>1,S30*1.0174,""))))
B31: =IF(A31="","",VLOOKUP(A31,BDD!A:E,5,FALSE)) | C31: =IF(A31="","",VLOOKUP(A31,BDD!A:C,3,FALSE)) | D31: =IF(A31="","",VLOOKUP(A31,BDD!A:R,18,FALSE)) | E31: =IF(A31="","",VLOOKUP(A31,BDD!A:Q,17,FALSE)) | F31: =IF(A31="","",VLOOKUP(A31,BDD!A:S,19,FALSE)) | G31: =IF(A31="","",VLOOKUP(A31,BDD!A:T,20,FALSE)) | K31: =IF(J31="","",IF(H31="ANNUEL",I31,IF(AND(OR(D31="NON",D31=""),(TODAY()-G31<=365),(H31="PLURIANNUEL")),I31,IF(AND(D31="OUI",(TODAY()-G31<=365),(H31="Pluriannuel")),(I31/E31),"")))) | O31: =IF(K31="","",IF(K31>=0,N31-K31)) | S31: =IF(YEAR(G31)=$S$1-1,IF(AND(H31="annuel",D31="oui",OR(P31="TRA",P31="RB")),(N31*0.0174),IF(AND(H31="Pluriannuel",D31="oui",P31="RB"),(N31*0.0174),"")),"") -> #VALUE! | T31: =IF(E31="PREVION","",IF(E31="","",IF(I31="","",IF(E31>1,S31*1.0174,""))))
B32: =IF(A32="","",VLOOKUP(A32,BDD!A:E,5,FALSE)) | C32: =IF(A32="","",VLOOKUP(A32,BDD!A:C,3,FALSE)) | D32: =IF(A32="","",VLOOKUP(A32,BDD!A:R,18,FALSE)) | E32: =IF(A32="","",VLOOKUP(A32,BDD!A:Q,17,FALSE)) | F32: =IF(A32="","",VLOOKUP(A32,BDD!A:S,19,FALSE)) | G32: =IF(A32="","",VLOOKUP(A32,BDD!A:T,20,FALSE)) | K32: =IF(J32="","",IF(H32="ANNUEL",I32,IF(AND(OR(D32="NON",D32=""),(TODAY()-G32<=365),(H32="PLURIANNUEL")),I32,IF(AND(D32="OUI",(TODAY()-G32<=365),(H32="Pluriannuel")),(I32/E32),"")))) | O32: =IF(K32="","",IF(K32>=0,N32-K32)) | S32: =IF(YEAR(G32)=$S$1-1,IF(AND(H32="annuel",D32="oui",OR(P32="TRA",P32="RB")),(N32*0.0174),IF(AND(H32="Pluriannuel",D32="oui",P32="RB"),(N32*0.0174),"")),"") -> #VALUE! | T32: =IF(E32="PREVION","",IF(E32="","",IF(I32="","",IF(E32>1,S32*1.0174,""))))
B33: =IF(A33="","",VLOOKUP(A33,BDD!A:E,5,FALSE)) | C33: =IF(A33="","",VLOOKUP(A33,BDD!A:C,3,FALSE)) | D33: =IF(A33="","",VLOOKUP(A33,BDD!A:R,18,FALSE)) | E33: =IF(A33="","",VLOOKUP(A33,BDD!A:Q,17,FALSE)) | F33: =IF(A33="","",VLOOKUP(A33,BDD!A:S,19,FALSE)) | G33: =IF(A33="","",VLOOKUP(A33,BDD!A:T,20,FALSE)) | K33: =IF(J33="","",IF(H33="ANNUEL",I33,IF(AND(OR(D33="NON",D33=""),(TODAY()-G33<=365),(H33="PLURIANNUEL")),I33,IF(AND(D33="OUI",(TODAY()-G33<=365),(H33="Pluriannuel")),(I33/E33),"")))) | O33: =IF(K33="","",IF(K33>=0,N33-K33)) | S33: =IF(YEAR(G33)=$S$1-1,IF(AND(H33="annuel",D33="oui",OR(P33="TRA",P33="RB")),(N33*0.0174),IF(AND(H33="Pluriannuel",D33="oui",P33="RB"),(N33*0.0174),"")),"") -> #VALUE! | T33: =IF(E33="PREVION","",IF(E33="","",IF(I33="","",IF(E33>1,S33*1.0174,""))))
B34: =IF(A34="","",VLOOKUP(A34,BDD!A:E,5,FALSE)) | C34: =IF(A34="","",VLOOKUP(A34,BDD!A:C,3,FALSE)) | D34: =IF(A34="","",VLOOKUP(A34,BDD!A:R,18,FALSE)) | E34: =IF(A34="","",VLOOKUP(A34,BDD!A:Q,17,FALSE)) | F34: =IF(A34="","",VLOOKUP(A34,BDD!A:S,19,FALSE)) | G34: =IF(A34="","",VLOOKUP(A34,BDD!A:T,20,FALSE)) | K34: =IF(J34="","",IF(H34="ANNUEL",I34,IF(AND(OR(D34="NON",D34=""),(TODAY()-G34<=365),(H34="PLURIANNUEL")),I34,IF(AND(D34="OUI",(TODAY()-G34<=365),(H34="Pluriannuel")),(I34/E34),"")))) | O34: =IF(K34="","",IF(K34>=0,N34-K34)) | S34: =IF(YEAR(G34)=$S$1-1,IF(AND(H34="annuel",D34="oui",OR(P34="TRA",P34="RB")),(N34*0.0174),IF(AND(H34="Pluriannuel",D34="oui",P34="RB"),(N34*0.0174),"")),"") -> #VALUE! | T34: =IF(E34="PREVION","",IF(E34="","",IF(I34="","",IF(E34>1,S34*1.0174,""))))
B35: =IF(A35="","",VLOOKUP(A35,BDD!A:E,5,FALSE)) | C35: =IF(A35="","",VLOOKUP(A35,BDD!A:C,3,FALSE)) | D35: =IF(A35="","",VLOOKUP(A35,BDD!A:R,18,FALSE)) | E35: =IF(A35="","",VLOOKUP(A35,BDD!A:Q,17,FALSE)) | F35: =IF(A35="","",VLOOKUP(A35,BDD!A:S,19,FALSE)) | G35: =IF(A35="","",VLOOKUP(A35,BDD!A:T,20,FALSE)) | K35: =IF(J35="","",IF(H35="ANNUEL",I35,IF(AND(OR(D35="NON",D35=""),(TODAY()-G35<=365),(H35="PLURIANNUEL")),I35,IF(AND(D35="OUI",(TODAY()-G35<=365),(H35="Pluriannuel")),(I35/E35),"")))) | O35: =IF(K35="","",IF(K35>=0,N35-K35)) | S35: =IF(YEAR(G35)=$S$1-1,IF(AND(H35="annuel",D35="oui",OR(P35="TRA",P35="RB")),(N35*0.0174),IF(AND(H35="Pluriannuel",D35="oui",P35="RB"),(N35*0.0174),"")),"") -> #VALUE! | T35: =IF(E35="PREVION","",IF(E35="","",IF(I35="","",IF(E35>1,S35*1.0174,""))))
B36: =IF(A36="","",VLOOKUP(A36,BDD!A:E,5,FALSE)) | C36: =IF(A36="","",VLOOKUP(A36,BDD!A:C,3,FALSE)) | D36: =IF(A36="","",VLOOKUP(A36,BDD!A:R,18,FALSE)) | E36: =IF(A36="","",VLOOKUP(A36,BDD!A:Q,17,FALSE)) | F36: =IF(A36="","",VLOOKUP(A36,BDD!A:S,19,FALSE)) | G36: =IF(A36="","",VLOOKUP(A36,BDD!A:T,20,FALSE)) | K36: =IF(J36="","",IF(H36="ANNUEL",I36,IF(AND(OR(D36="NON",D36=""),(TODAY()-G36<=365),(H36="PLURIANNUEL")),I36,IF(AND(D36="OUI",(TODAY()-G36<=365),(H36="Pluriannuel")),(I36/E36),"")))) | O36: =IF(K36="","",IF(K36>=0,N36-K36)) | S36: =IF(YEAR(G36)=$S$1-1,IF(AND(H36="annuel",D36="oui",OR(P36="TRA",P36="RB")),(N36*0.0174),IF(AND(H36="Pluriannuel",D36="oui",P36="RB"),(N36*0.0174),"")),"") -> #VALUE! | T36: =IF(E36="PREVION","",IF(E36="","",IF(I36="","",IF(E36>1,S36*1.0174,""))))
... B103: =IF(A103="","",VLOOKUP(A103,BDD!A:E,5,FALSE)) | C103: =IF(A103="","",VLOOKUP(A103,BDD!A:C,3,FALSE)) | D103: =IF(A103="","",VLOOKUP(A103,BDD!A:R,18,FALSE)) | E103: =IF(A103="","",VLOOKUP(A103,BDD!A:Q,17,FALSE)) | F103: =IF(A103="","",VLOOKUP(A103,BDD!A:S,19,FALSE)) | G103: =IF(A103="","",VLOOKUP(A103,BDD!A:T,20,FALSE)) | K103: =IF(J103="","",IF(H103="ANNUEL",I103,IF(AND(OR(D103="NON",D103=""),(TODAY()-G103<=365),(H103="PLURIANNUEL")),I103,IF(AND(D103="OUI",(TODAY()-G103<=365),(H103="Pluriannuel")),(I103/E103),"")))) | O103: =IF(K103="","",IF(K103>=0,N103-K103)) | S103: =IF(YEAR(G103)=$S$1-1,IF(AND(H103="annuel",D103="oui",OR(P103="TRA",P103="RB")),(N103*0.0174),IF(AND(H103="Pluriannuel",D103="oui",P103="RB"),(N103*0.0174),"")),"") -> #VALUE! | T103: =IF(E103="PREVION","",IF(E103="","",IF(I103="","",IF(E103>1,S103*1.0174,""))))
B104: =IF(A104="","",VLOOKUP(A104,BDD!A:E,5,FALSE)) | C104: =IF(A104="","",VLOOKUP(A104,BDD!A:C,3,FALSE)) | D104: =IF(A104="","",VLOOKUP(A104,BDD!A:R,18,FALSE)) | E104: =IF(A104="","",VLOOKUP(A104,BDD!A:Q,17,FALSE)) | F104: =IF(A104="","",VLOOKUP(A104,BDD!A:S,19,FALSE)) | G104: =IF(A104="","",VLOOKUP(A104,BDD!A:T,20,FALSE)) | K104: =IF(J104="","",IF(H104="ANNUEL",I104,IF(AND(OR(D104="NON",D104=""),(TODAY()-G104<=365),(H104="PLURIANNUEL")),I104,IF(AND(D104="OUI",(TODAY()-G104<=365),(H104="Pluriannuel")),(I104/E104),"")))) | M104: =IF(K104="","",IF(E104="","",IF(H104="ANNUEL","",IF(E104="PREVISION","",(J104/E104)*1.0174-(J104/E104))))) | O104: =IF(K104="","",IF(K104>=0,N104-K104)) | S104: =IF(YEAR(G104)=$S$1-1,IF(AND(H104="annuel",D104="oui",OR(P104="TRA",P104="RB")),(N104*0.0174),IF(AND(H104="Pluriannuel",D104="oui",P104="RB"),(N104*0.0174),"")),"") -> #VALUE! | T104: =IF(E104="PREVION","",IF(E104="","",IF(I104="","",IF(E104>1,S104*1.0174,""))))
B105: =IF(A105="","",VLOOKUP(A105,BDD!A:E,5,FALSE)) | C105: =IF(A105="","",VLOOKUP(A105,BDD!A:C,3,FALSE)) | D105: =IF(A105="","",VLOOKUP(A105,BDD!A:R,18,FALSE)) | E105: =IF(A105="","",VLOOKUP(A105,BDD!A:Q,17,FALSE)) | F105: =IF(A105="","",VLOOKUP(A105,BDD!A:S,19,FALSE)) | G105: =IF(A105="","",VLOOKUP(A105,BDD!A:T,20,FALSE)) | K105: =IF(J105="","",IF(H105="ANNUEL",I105,IF(AND(OR(D105="NON",D105=""),(TODAY()-G105<=365),(H105="PLURIANNUEL")),I105,IF(AND(D105="OUI",(TODAY()-G105<=365),(H105="Pluriannuel")),(I105/E105),"")))) | M105: =IF(K105="","",IF(E105="","",IF(H105="ANNUEL","",IF(E105="PREVISION","",(J105/E105)*1.0174-(J105/E105))))) | O105: =IF(K105="","",IF(K105>=0,N105-K105)) | S105: =IF(YEAR(G105)=$S$1-1,IF(AND(H105="annuel",D105="oui",OR(P105="TRA",P105="RB")),(N105*0.0174),IF(AND(H105="Pluriannuel",D105="oui",P105="RB"),(N105*0.0174),"")),"") -> #VALUE! | T105: =IF(E105="PREVION","",IF(E105="","",IF(I105="","",IF(E105>1,S105*1.0174,""))))

Sheet BDD
A1: ID générique | B1: BOP | C1: Type | D1: Code BAT/TER C-REFX | E1: Service | F1: Adresse | G1: Ville | H1: Département | I1: Code C. Fournisseur | J1: Société | K1: O. Budgét | L1: O. budg | M1: Activité | N1: Dom. Fonct. | O1: Centre de coût | P1: N° EJ | Q1: Durée AE (année) | R1: clause résiliation unilatérale | S1: Début | T1: Fin
A2: Formule
A3: =CONCATENATE(D3,"-",L3) -> 160040-1-LO | B3: SO | C3: PARKING | D3: 160040-1 | E3: Parking 1 | F3: 36 bis Cours Washington | J3: PARTENORD HABITAT | L3: LO | P3: 2000239524 | Q3: 1 | R3: non | S3: 43221 | T3: 43585
A4: =CONCATENATE(D4,"-",L4) -> 160040-2-LO | B4: SO | C4: ANNEXE | D4: 160040-2 | E4: Annexe bureau 1 | F4: 14 avenue du Sablar | J4: PARTENORD HABITAT | L4: LO | P4: 2000242891 | Q4: 6 | R4: non | S4: 41671 | T4: 43830
A5: =CONCATENATE(D5,"-",L5) -> 160040-3-CI | B5: SO | C5: ANNEXE | D5: 160040-3 | E5: Annexe bureau 1 | F5: 14 avenue du Sablar | L5: CI | P5: 2000242891 | Q5: 6 | R5: oui | S5: 41671 | T5: 43830
A6: =CONCATENATE(D6,"-",L6) -> 160040-4-LO | B6: SO | C6: ANNEXE | D6: 160040-4 | E6: Annexe bureau 2 | F6: 1 Boulevard de la République | J6: Société IED Investissement et Diversification | L6: LO | P6: 2000239164 | Q6: 1 | R6: non | S6: 43160 | T6: 43282
A7: =CONCATENATE(D7,"-",L7) -> 160040-5-LO | B7: SO | C7: ANNEXE | D7: 160040-5 | E7: Annexe bureau 3 | F7: 11 pl R. Princeteau | J7: Société IED Investissement et Diversification | L7: LO | P7: 2000239168 | Q7: 1 | R7: non | S7: 43101 | T7: 43465
A8: =CONCATENATE(D8,"-",L8) -> 160040-6-LO | B8: SO | C8: ANNEXE | D8: 160040-6 | E8: Annexe bureau 4 | F8: 260 Bd de la République Centre Adm * | L8: LO | P8: 2000240343 | Q8: 3 | R8: non | S8: 42736 | T8: 43496
A9: =CONCATENATE(D9,"-",L9) -> 160040-7-CI | B9: SO | C9: ANNEXE | D9: 160040-7 | E9: Annexe bureau 4 | F9: 260 Bd de la République Centre Adm * | L9: CI | P9: 2000240343 | Q9: 3 | R9: oui | S9: 42736 | T9: 43496
A10: =CONCATENATE(D10,"-",L10) -> 160040-8-LO | B10: SO | C10: BATIMENT | D10: 160040-8 | E10: Bâtiment 1 | F10: 74 rue Georges Bonnac Les jardins de Gambetta Tour 4 1er ét | J10: France DOMAINE | L10: LO | P10: 2000239085 | Q10: 9 | R10: oui | S10: 40756 | T10: 44043
A11: =CONCATENATE(D11,"-",L11) -> 160040-9-CI | B11: SO | C11: ANNEXE | D11: 160040-9 | E11: Bâtiment 1 | F11: 74 rue Georges Bonnac Les jardins de Gambetta Tour 4 1er ét | L11: CI | P11: 2000239085 | Q11: 9 | R11: oui | S11: 40756 | T11: 44043
A12: =CONCATENATE(D12,"-",L12) -> 160040-10-LO | B12: SO | C12: BATIMENT | D12: 160040-10 | E12: Bâtiment 2 | F12: 74 rue Georges Bonnac Les jardins de Gambetta Tour 4 1er ét | L12: LO | P12: 2000239080 | Q12: 9 | R12: oui | S12: 40756 | T12: 44043
A13: =CONCATENATE(D13,"-",L13) -> 160040-11-CI | B13: SO | C13: BATIMENT | D13: 160040-11 | E13: Bâtiment 2 | F13: 74 rue Georges Bonnac Les jardins de Gambetta Tour 4 1er ét | L13: CI | P13: 2000239080 | Q13: 9 | R13: non | S13: 40756 | T13: 44043
A14: =CONCATENATE(D14,"-",L14) -> 160040-12-CI | B14: SO | C14: BATIMENT | D14: 160040-12 | E14: Bâtiment 2 | F14: 46 rue Victor Hugo | L14: CI | P14: 2000236720 | Q14: 9 | S14: 40179 | T14: 43465
A15: =CONCATENATE(D15,"-",L15) -> 160040-13-LO | B15: SO | C15: PARKING | D15: 160040-13 | E15: Parking 2 | F15: 1 bis rue J.R. Dandicolle 105 rue de Belleville | L15: LO | P15: 2000239083 | Q15: 1 | R15: non | S15: 43101 | T15: 43830
A16: =CONCATENATE(D16,"-",L16) -> 160040-14-LO | B16: SO | C16: PARKING | D16: 160040-14 | E16: Parking 3 | F16: 74 rue Georges Bonnac Les jardins de Gambetta | L16: LO | P16: 2000239081 | Q16: 1 | R16: non | S16: 43116 | T16: 43480
A17: =CONCATENATE(D17,"-",L17) -> 160040-15-LO | B17: SO | C17: PARKING | D17: 160040-15 | E17: Parking 4 | F17: 74 rue Georges Bonnac Les jardins de Gambetta | J17: S. IMMOBILIER | L17: LO | P17: 2000238929 | Q17: 1 | R17: non | S17: 43132 | T17: 43496
A18: =CONCATENATE(D18,"-",L18) -> 160040-16-LO | B18: SO | C18: PARKING | D18: 160040-16 | E18: Parking 5 | F18: 74 rue Georges Bonnac Les jardins de Gambetta | J18: S. IMMOBILIER | L18: LO | P18: 2000238928 | Q18: 1 | R18: non | S18: 43191 | T18: 43555
A19: =CONCATENATE(D19,"-",L19) -> 160040-17-LO | B19: SO | C19: PARKING | D19: 160040-17 | E19: Parking 6 | F19: 74 rue Georges Bonnac Les jardins de Gambetta | L19: LO | P19: 2000239084 | Q19: 1 | R19: non | S19: 43040 | T19: 43221
A20: =CONCATENATE(D20,"-",L20) -> 160040-18-LO | B20: SO | C20: PARKING | D20: 160040-18 | E20: Parking 7 | F20: 74 rue Georges Bonnac Les jardins de Gambetta | L20: LO | P20: 2000239082 | Q20: 1 | R20: non | S20: 43040 | T20: 43221
A21: =CONCATENATE(D21,"-",L21) -> 160040-19-LO | B21: SO | C21: BUREAUX | D21: 160040-19 | E21: Bureau 1 | F21: 19 Bd Victor Hugo (bureaux) | L21: LO | P21: 2000239687 | Q21: PBR | R21: oui | S21: 40087 | T21: 31/09/2018
A22: =CONCATENATE(D22,"-",L22) -> 160040-20-CI | B22: SO | C22: BUREAUX | D22: 160040-20 | E22: Bureau 1 | F22: 19 Bd Victor Hugo (bureaux) | J22: SLI SAGM | L22: CI | P22: 2000239687 | Q22: PBR | R22: oui | S22: 40087 | T22: 31/09/2018
