Workbook

Sheet C1 2024-2025
A1: UEFA CHAMPIONS LEAGUE 2024-2025
A3: PHASE DE LIGUE: | T3: PHASE FINALE :
A5: Journée 1 | F5: CLASSEMENT | H5: journée | J5: 8 | T5: Barrages | V5: Huitièmes de Finale | X5: Quarts de Finale | Z5: Demi-Finales | AB5: Finale: | AF5: Finale: | AH5: Demi-Finales | AJ5: Quarts de Finale: | AL5: Huitièmes de Finale: | AN5: Barrages:
F6: Rang | H6: Points | I6: Buts pour | J6: Buts contre | K6: Diff. | M6: Rang | O6: Points | P6: Buts pour | Q6: Buts contre | R6: Diff.
A7: YOUNG BOYS BERNE | B7: 0 | C7: ASTON VILLA | D7: 3 | F7: 1 | G7: =INDEX(calcul!$A$2:$I$37,MATCH('C1 2024-2025'!$F7,calcul!$K$2:$K$37,0),1) -> LIVERPOOL | H7: =INDEX(calcul!$A$2:$I$37,MATCH('C1 2024-2025'!$F7,calcul!$K$2:$K$37,0),9) -> 12 | I7: =INDEX(calcul!$A$2:$I$37,MATCH('C1 2024-2025'!$F7,calcul!$K$2:$K$37,0),6) -> 10 | J7: =INDEX(calcul!$A$2:$I$37,MATCH('C1 2024-2025'!$F7,calcul!$K$2:$K$37,0),7) -> 1 | K7: =INDEX(calcul!$A$2:$I$37,MATCH($F7,calcul!$K$2:$K$37,0),8) -> 9 | M7: 19 | N7: =INDEX(calcul!$A$2:$I$37,MATCH('C1 2024-2025'!$M7,calcul!$K$2:$K$37,0),1) -> BENFICA | O7: =INDEX(calcul!$A$2:$I$37,MATCH('C1 2024-2025'!$M7,calcul!$K$2:$K$37,0),9) -> 6 | P7: =INDEX(calcul!$A$2:$I$37,MATCH('C1 2024-2025'!$M7,calcul!$K$2:$K$37,0),6) -> 7 | Q7: =INDEX(calcul!$A$2:$I$37,MATCH('C1 2024-2025'!$M7,calcul!$K$2:$K$37,0),7) -> 5 | R7: =INDEX(calcul!$A$2:$I$37,MATCH($M7,calcul!$K$2:$K$37,0),8) -> 2 | T7: =N8 -> AC MILAN | AN7: =N10 -> CLUB BRUGES
A8: JUVENTUS TURIN | B8: 3 | C8: PSV EINDHOVEN | D8: 1 | F8: 2 | G8: =INDEX(calcul!$A$2:$I$37,MATCH('C1 2024-2025'!F8,calcul!$K$2:$K$37,0),1) -> SPORTING PORTUGAL | H8: =INDEX(calcul!$A$2:$I$37,MATCH('C1 2024-2025'!$F8,calcul!$K$2:$K$37,0),9) -> 10 | I8: =INDEX(calcul!$A$2:$I$37,MATCH('C1 2024-2025'!$F8,calcul!$K$2:$K$37,0),6) -> 9 | J8: =INDEX(calcul!$A$2:$I$37,MATCH('C1 2024-2025'!$F8,calcul!$K$2:$K$37,0),7) -> 2 | K8: =INDEX(calcul!$A$2:$I$37,MATCH($F8,calcul!$K$2:$K$37,0),8) -> 7 | M8: 20 | N8: =INDEX(calcul!$A$2:$I$37,MATCH('C1 2024-2025'!$M8,calcul!$K$2:$K$37,0),1) -> AC MILAN | O8: =INDEX(calcul!$A$2:$I$37,MATCH('C1 2024-2025'!$M8,calcul!$K$2:$K$37,0),9) -> 6 | P8: =INDEX(calcul!$A$2:$I$37,MATCH('C1 2024-2025'!$M8,calcul!$K$2:$K$37,0),6) -> 7 | Q8: =INDEX(calcul!$A$2:$I$37,MATCH('C1 2024-2025'!$M8,calcul!$K$2:$K$37,0),7) -> 6 | R8: =INDEX(calcul!$A$2:$I$37,MATCH($M8,calcul!$K$2:$K$37,0),8) -> 1 | V8: =IF(U7>U9,T7,IF(U7<U9,T9,"")) | AL8: =IF(AM7>AM9,AN7,IF(AM7<AM9,AN9,""))
A9: AC MILAN | B9: 1 | C9: LIVERPOOL | D9: 3 | F9: 3 | G9: =INDEX(calcul!$A$2:$I$37,MATCH('C1 2024-2025'!F9,calcul!$K$2:$K$37,0),1) -> MONACO | H9: =INDEX(calcul!$A$2:$I$37,MATCH('C1 2024-2025'!$F9,calcul!$K$2:$K$37,0),9) -> 10 | I9: =INDEX(calcul!$A$2:$I$37,MATCH('C1 2024-2025'!$F9,calcul!$K$2:$K$37,0),6) -> 10 | J9: =INDEX(calcul!$A$2:$I$37,MATCH('C1 2024-2025'!$F9,calcul!$K$2:$K$37,0),7) -> 4 | K9: =INDEX(calcul!$A$2:$I$37,MATCH($F9,calcul!$K$2:$K$37,0),8) -> 6 | M9: 21 | N9: =INDEX(calcul!$A$2:$I$37,MATCH('C1 2024-2025'!$M9,calcul!$K$2:$K$37,0),1) -> FEYENOORD ROTTERDAM | O9: =INDEX(calcul!$A$2:$I$37,MATCH('C1 2024-2025'!$M9,calcul!$K$2:$K$37,0),9) -> 6 | P9: =INDEX(calcul!$A$2:$I$37,MATCH('C1 2024-2025'!$M9,calcul!$K$2:$K$37,0),6) -> 7 | Q9: =INDEX(calcul!$A$2:$I$37,MATCH('C1 2024-2025'!$M9,calcul!$K$2:$K$37,0),7) -> 10 | R9: =INDEX(calcul!$A$2:$I$37,MATCH($M9,calcul!$K$2:$K$37,0),8) -> -3 | T9: =G19 -> BAYER LEVERKUSEN | X9: =IF(W8>W10,V8,IF(W8<W10,V10,"")) | AJ9: =IF(AK8>AK10,AL8,IF(AK8<AK10,AL10,"")) | AN9: =G17 -> JUVENTUS TURIN
A10: BAYERN MUNICH | B10: 9 | C10: DINAMO ZAGREB | D10: 2 | F10: 4 | G10: =INDEX(calcul!$A$2:$I$37,MATCH('C1 2024-2025'!F10,calcul!$K$2:$K$37,0),1) -> BREST | H10: =INDEX(calcul!$A$2:$I$37,MATCH('C1 2024-2025'!$F10,calcul!$K$2:$K$37,0),9) -> 10 | I10: =INDEX(calcul!$A$2:$I$37,MATCH('C1 2024-2025'!$F10,calcul!$K$2:$K$37,0),6) -> 9 | J10: =INDEX(calcul!$A$2:$I$37,MATCH('C1 2024-2025'!$F10,calcul!$K$2:$K$37,0),7) -> 3 | K10: =INDEX(calcul!$A$2:$I$37,MATCH($F10,calcul!$K$2:$K$37,0),8) -> 6 | M10: 22 | N10: =INDEX(calcul!$A$2:$I$37,MATCH('C1 2024-2025'!$M10,calcul!$K$2:$K$37,0),1) -> CLUB BRUGES | O10: =INDEX(calcul!$A$2:$I$37,MATCH('C1 2024-2025'!$M10,calcul!$K$2:$K$37,0),9) -> 6 | P10: =INDEX(calcul!$A$2:$I$37,MATCH('C1 2024-2025'!$M10,calcul!$K$2:$K$37,0),6) -> 3 | Q10: =INDEX(calcul!$A$2:$I$37,MATCH('C1 2024-2025'!$M10,calcul!$K$2:$K$37,0),7) -> 6 | R10: =INDEX(calcul!$A$2:$I$37,MATCH($M10,calcul!$K$2:$K$37,0),8) -> -3 | V10: =G11 -> INTER MILAN | AL10: =G12 -> FC BARCELONE
A11: REAL MADRID | B11: 3 | C11: VFB STUTTGART | D11: 1 | F11: 5 | G11: =INDEX(calcul!$A$2:$I$37,MATCH('C1 2024-2025'!F11,calcul!$K$2:$K$37,0),1) -> INTER MILAN | H11: =INDEX(calcul!$A$2:$I$37,MATCH('C1 2024-2025'!$F11,calcul!$K$2:$K$37,0),9) -> 10 | I11: =INDEX(calcul!$A$2:$I$37,MATCH('C1 2024-2025'!$F11,calcul!$K$2:$K$37,0),6) -> 6 | J11: =INDEX(calcul!$A$2:$I$37,MATCH('C1 2024-2025'!$F11,calcul!$K$2:$K$37,0),7) -> 0 | K11: =INDEX(calcul!$A$2:$I$37,MATCH($F11,calcul!$K$2:$K$37,0),8) -> 6 | M11: 23 | N11: =INDEX(calcul!$A$2:$I$37,MATCH('C1 2024-2025'!$M11,calcul!$K$2:$K$37,0),1) -> ATLETICO MADRID | O11: =INDEX(calcul!$A$2:$I$37,MATCH('C1 2024-2025'!$M11,calcul!$K$2:$K$37,0),9) -> 6 | P11: =INDEX(calcul!$A$2:$I$37,MATCH('C1 2024-2025'!$M11,calcul!$K$2:$K$37,0),6) -> 5 | Q11: =INDEX(calcul!$A$2:$I$37,MATCH('C1 2024-2025'!$M11,calcul!$K$2:$K$37,0),7) -> 9 | R11: =INDEX(calcul!$A$2:$I$37,MATCH($M11,calcul!$K$2:$K$37,0),8) -> -4 | Z11: =IF(Y9>Y14,X9,IF(Y9<Y14,X14,"")) | AH11: =IF(AI9>AI14,AJ9,IF(AI9<AI14,AJ14,""))
A12: SPORTING PORTUGAL | B12: 2 | C12: LILLE | D12: 0 | F12: 6 | G12: =INDEX(calcul!$A$2:$I$37,MATCH('C1 2024-2025'!F12,calcul!$K$2:$K$37,0),1) -> FC BARCELONE | H12: =INDEX(calcul!$A$2:$I$37,MATCH('C1 2024-2025'!$F12,calcul!$K$2:$K$37,0),9) -> 9 | I12: =INDEX(calcul!$A$2:$I$37,MATCH('C1 2024-2025'!$F12,calcul!$K$2:$K$37,0),6) -> 15 | J12: =INDEX(calcul!$A$2:$I$37,MATCH('C1 2024-2025'!$F12,calcul!$K$2:$K$37,0),7) -> 5 | K12: =INDEX(calcul!$A$2:$I$37,MATCH($F12,calcul!$K$2:$K$37,0),8) -> 10 | M12: 24 | N12: =INDEX(calcul!$A$2:$I$37,MATCH('C1 2024-2025'!$M12,calcul!$K$2:$K$37,0),1) -> PSV EINDHOVEN | O12: =INDEX(calcul!$A$2:$I$37,MATCH('C1 2024-2025'!$M12,calcul!$K$2:$K$37,0),9) -> 5 | P12: =INDEX(calcul!$A$2:$I$37,MATCH('C1 2024-2025'!$M12,calcul!$K$2:$K$37,0),6) -> 7 | Q12: =INDEX(calcul!$A$2:$I$37,MATCH('C1 2024-2025'!$M12,calcul!$K$2:$K$37,0),7) -> 5 | R12: =INDEX(calcul!$A$2:$I$37,MATCH($M12,calcul!$K$2:$K$37,0),8) -> 2 | T12: =N9 -> FEYENOORD ROTTERDAM | AN12: =N7 -> BENFICA
A13: SPARTA PRAGUE | B13: 3 | C13: RB SALZBOURG | D13: 0 | F13: 7 | G13: =INDEX(calcul!$A$2:$I$37,MATCH('C1 2024-2025'!F13,calcul!$K$2:$K$37,0),1) -> BORUSSIA DORTMUND | H13: =INDEX(calcul!$A$2:$I$37,MATCH('C1 2024-2025'!$F13,calcul!$K$2:$K$37,0),9) -> 9 | I13: =INDEX(calcul!$A$2:$I$37,MATCH('C1 2024-2025'!$F13,calcul!$K$2:$K$37,0),6) -> 13 | J13: =INDEX(calcul!$A$2:$I$37,MATCH('C1 2024-2025'!$F13,calcul!$K$2:$K$37,0),7) -> 6 | K13: =INDEX(calcul!$A$2:$I$37,MATCH($F13,calcul!$K$2:$K$37,0),8) -> 7 | M13: 25 | N13: =INDEX(calcul!$A$2:$I$37,MATCH('C1 2024-2025'!$M13,calcul!$K$2:$K$37,0),1) -> PARIS SG | O13: =INDEX(calcul!$A$2:$I$37,MATCH('C1 2024-2025'!$M13,calcul!$K$2:$K$37,0),9) -> 4 | P13: =INDEX(calcul!$A$2:$I$37,MATCH('C1 2024-2025'!$M13,calcul!$K$2:$K$37,0),6) -> 3 | Q13: =INDEX(calcul!$A$2:$I$37,MATCH('C1 2024-2025'!$M13,calcul!$K$2:$K$37,0),7) -> 5 | R13: =INDEX(calcul!$A$2:$I$37,MATCH($M13,calcul!$K$2:$K$37,0),8) -> -2 | V13: =IF(U12>U14,T12,IF(U12<U14,T14,"")) | AL13: =IF(AM12>AM14,AN12,IF(AM12<AM14,AN14,""))
A14: BOLOGNE | B14: 0 | C14: SHAKHTAR DONETSK | D14: 0 | F14: 8 | G14: =INDEX(calcul!$A$2:$I$37,MATCH('C1 2024-2025'!F14,calcul!$K$2:$K$37,0),1) -> ASTON VILLA | H14: =INDEX(calcul!$A$2:$I$37,MATCH('C1 2024-2025'!$F14,calcul!$K$2:$K$37,0),9) -> 9 | I14: =INDEX(calcul!$A$2:$I$37,MATCH('C1 2024-2025'!$F14,calcul!$K$2:$K$37,0),6) -> 6 | J14: =INDEX(calcul!$A$2:$I$37,MATCH('C1 2024-2025'!$F14,calcul!$K$2:$K$37,0),7) -> 1 | K14: =INDEX(calcul!$A$2:$I$37,MATCH($F14,calcul!$K$2:$K$37,0),8) -> 5 | M14: 26 | N14: =INDEX(calcul!$A$2:$I$37,MATCH('C1 2024-2025'!$M14,calcul!$K$2:$K$37,0),1) -> SPARTA PRAGUE | O14: =INDEX(calcul!$A$2:$I$37,MATCH('C1 2024-2025'!$M14,calcul!$K$2:$K$37,0),9) -> 4 | P14: =INDEX(calcul!$A$2:$I$37,MATCH('C1 2024-2025'!$M14,calcul!$K$2:$K$37,0),6) -> 5 | Q14: =INDEX(calcul!$A$2:$I$37,MATCH('C1 2024-2025'!$M14,calcul!$K$2:$K$37,0),7) -> 8 | R14: =INDEX(calcul!$A$2:$I$37,MATCH($M14,calcul!$K$2:$K$37,0),8) -> -3 | T14: =G18 -> ARSENAL | X14: =IF(W13>W15,V13,IF(W13<W15,V15,"")) | AJ14: =IF(AK13>AK15,AL13,IF(AK13<AK15,AL15,"")) | AN14: =G20 -> LILLE
A15: CELTIC GLASGOW | B15: 5 | C15: SLOVAN BRATISLAVA | D15: 1 | F15: 9 | G15: =INDEX(calcul!$A$2:$I$37,MATCH('C1 2024-2025'!F15,calcul!$K$2:$K$37,0),1) -> ATALANTA BERGAME | H15: =INDEX(calcul!$A$2:$I$37,MATCH('C1 2024-2025'!$F15,calcul!$K$2:$K$37,0),9) -> 8 | I15: =INDEX(calcul!$A$2:$I$37,MATCH('C1 2024-2025'!$F15,calcul!$K$2:$K$37,0),6) -> 5 | J15: =INDEX(calcul!$A$2:$I$37,MATCH('C1 2024-2025'!$F15,calcul!$K$2:$K$37,0),7) -> 0 | K15: =INDEX(calcul!$A$2:$I$37,MATCH($F15,calcul!$K$2:$K$37,0),8) -> 5 | M15: 27 | N15: =INDEX(calcul!$A$2:$I$37,MATCH('C1 2024-2025'!$M15,calcul!$K$2:$K$37,0),1) -> VFB STUTTGART | O15: =INDEX(calcul!$A$2:$I$37,MATCH('C1 2024-2025'!$M15,calcul!$K$2:$K$37,0),9) -> 4 | P15: =INDEX(calcul!$A$2:$I$37,MATCH('C1 2024-2025'!$M15,calcul!$K$2:$K$37,0),6) -> 3 | Q15: =INDEX(calcul!$A$2:$I$37,MATCH('C1 2024-2025'!$M15,calcul!$K$2:$K$37,0),7) -> 6 | R15: =INDEX(calcul!$A$2:$I$37,MATCH($M15,calcul!$K$2:$K$37,0),8) -> -3 | V15: =G10 -> BREST | AD15: Vainqueur: | AL15: =G9 -> MONACO
A16: CLUB BRUGES | B16: 0 | C16: BORUSSIA DORTMUND | D16: 3 | F16: 10 | G16: =INDEX(calcul!$A$2:$I$37,MATCH('C1 2024-2025'!F16,calcul!$K$2:$K$37,0),1) -> MANCHESTER CITY | H16: =INDEX(calcul!$A$2:$I$37,MATCH('C1 2024-2025'!$F16,calcul!$K$2:$K$37,0),9) -> 7 | I16: =INDEX(calcul!$A$2:$I$37,MATCH('C1 2024-2025'!$F16,calcul!$K$2:$K$37,0),6) -> 10 | J16: =INDEX(calcul!$A$2:$I$37,MATCH('C1 2024-2025'!$F16,calcul!$K$2:$K$37,0),7) -> 4 | K16: =INDEX(calcul!$A$2:$I$37,MATCH($F16,calcul!$K$2:$K$37,0),8) -> 6 | M16: 28 | N16: =INDEX(calcul!$A$2:$I$37,MATCH('C1 2024-2025'!$M16,calcul!$K$2:$K$37,0),1) -> SHAKHTAR DONETSK | O16: =INDEX(calcul!$A$2:$I$37,MATCH('C1 2024-2025'!$M16,calcul!$K$2:$K$37,0),9) -> 4 | P16: =INDEX(calcul!$A$2:$I$37,MATCH('C1 2024-2025'!$M16,calcul!$K$2:$K$37,0),6) -> 2 | Q16: =INDEX(calcul!$A$2:$I$37,MATCH('C1 2024-2025'!$M16,calcul!$K$2:$K$37,0),7) -> 5 | R16: =INDEX(calcul!$A$2:$I$37,MATCH($M16,calcul!$K$2:$K$37,0),8) -> -3 | AB16: =IF(AA11>AA21,Z11,IF(AA11<AA21,Z21,"")) | AD16: =IF(AC16>AE16,AB16,IF(AC16<AE16,AF16,"")) | AF16: =IF(AG11>AG21,AH11,IF(AG11<AG21,AH21,""))
A17: MANCHESTER CITY | B17: 0 | C17: INTER MILAN | D17: 0 | F17: 11 | G17: =INDEX(calcul!$A$2:$I$37,MATCH('C1 2024-2025'!F17,calcul!$K$2:$K$37,0),1) -> JUVENTUS TURIN | H17: =INDEX(calcul!$A$2:$I$37,MATCH('C1 2024-2025'!$F17,calcul!$K$2:$K$37,0),9) -> 7 | I17: =INDEX(calcul!$A$2:$I$37,MATCH('C1 2024-2025'!$F17,calcul!$K$2:$K$37,0),6) -> 7 | J17: =INDEX(calcul!$A$2:$I$37,MATCH('C1 2024-2025'!$F17,calcul!$K$2:$K$37,0),7) -> 5 | K17: =INDEX(calcul!$A$2:$I$37,MATCH($F17,calcul!$K$2:$K$37,0),8) -> 2 | M17: 29 | N17: =INDEX(calcul!$A$2:$I$37,MATCH('C1 2024-2025'!$M17,calcul!$K$2:$K$37,0),1) -> GERONE | O17: =INDEX(calcul!$A$2:$I$37,MATCH('C1 2024-2025'!$M17,calcul!$K$2:$K$37,0),9) -> 3 | P17: =INDEX(calcul!$A$2:$I$37,MATCH('C1 2024-2025'!$M17,calcul!$K$2:$K$37,0),6) -> 4 | Q17: =INDEX(calcul!$A$2:$I$37,MATCH('C1 2024-2025'!$M17,calcul!$K$2:$K$37,0),7) -> 8 | R17: =INDEX(calcul!$A$2:$I$37,MATCH($M17,calcul!$K$2:$K$37,0),8) -> -4 | T17: =N12 -> PSV EINDHOVEN | AN17: =N11 -> ATLETICO MADRID
A18: PARIS SG | B18: 1 | C18: GERONE | D18: 0 | F18: 12 | G18: =INDEX(calcul!$A$2:$I$37,MATCH('C1 2024-2025'!F18,calcul!$K$2:$K$37,0),1) -> ARSENAL | H18: =INDEX(calcul!$A$2:$I$37,MATCH('C1 2024-2025'!$F18,calcul!$K$2:$K$37,0),9) -> 7 | I18: =INDEX(calcul!$A$2:$I$37,MATCH('C1 2024-2025'!$F18,calcul!$K$2:$K$37,0),6) -> 3 | J18: =INDEX(calcul!$A$2:$I$37,MATCH('C1 2024-2025'!$F18,calcul!$K$2:$K$37,0),7) -> 1 | K18: =INDEX(calcul!$A$2:$I$37,MATCH($F18,calcul!$K$2:$K$37,0),8) -> 2 | M18: 30 | N18: =INDEX(calcul!$A$2:$I$37,MATCH('C1 2024-2025'!$M18,calcul!$K$2:$K$37,0),1) -> RB SALZBOURG | O18: =INDEX(calcul!$A$2:$I$37,MATCH('C1 2024-2025'!$M18,calcul!$K$2:$K$37,0),9) -> 3 | P18: =INDEX(calcul!$A$2:$I$37,MATCH('C1 2024-2025'!$M18,calcul!$K$2:$K$37,0),6) -> 3 | Q18: =INDEX(calcul!$A$2:$I$37,MATCH('C1 2024-2025'!$M18,calcul!$K$2:$K$37,0),7) -> 10 | R18: =INDEX(calcul!$A$2:$I$37,MATCH($M18,calcul!$K$2:$K$37,0),8) -> -7 | V18: =IF(U17>U19,T17,IF(U17<U19,T19,"")) | AL18: =IF(AM17>AM19,AN17,IF(AM17<AM19,AN19,""))
A19: FEYENOORD ROTTERDAM | B19: 0 | C19: BAYER LEVERKUSEN | D19: 4 | F19: 13 | G19: =INDEX(calcul!$A$2:$I$37,MATCH('C1 2024-2025'!F19,calcul!$K$2:$K$37,0),1) -> BAYER LEVERKUSEN | H19: =INDEX(calcul!$A$2:$I$37,MATCH('C1 2024-2025'!$F19,calcul!$K$2:$K$37,0),9) -> 7 | I19: =INDEX(calcul!$A$2:$I$37,MATCH('C1 2024-2025'!$F19,calcul!$K$2:$K$37,0),6) -> 6 | J19: =INDEX(calcul!$A$2:$I$37,MATCH('C1 2024-2025'!$F19,calcul!$K$2:$K$37,0),7) -> 5 | K19: =INDEX(calcul!$A$2:$I$37,MATCH($F19,calcul!$K$2:$K$37,0),8) -> 1 | M19: 31 | N19: =INDEX(calcul!$A$2:$I$37,MATCH('C1 2024-2025'!$M19,calcul!$K$2:$K$37,0),1) -> BOLOGNE | O19: =INDEX(calcul!$A$2:$I$37,MATCH('C1 2024-2025'!$M19,calcul!$K$2:$K$37,0),9) -> 1 | P19: =INDEX(calcul!$A$2:$I$37,MATCH('C1 2024-2025'!$M19,calcul!$K$2:$K$37,0),6) -> 0 | Q19: =INDEX(calcul!$A$2:$I$37,MATCH('C1 2024-2025'!$M19,calcul!$K$2:$K$37,0),7) -> 5 | R19: =INDEX(calcul!$A$2:$I$37,MATCH($M19,calcul!$K$2:$K$37,0),8) -> -5 | T19: =G15 -> ATALANTA BERGAME | X19: =IF(W18>W20,V18,IF(W18<W20,V20,"")) | AJ19: =IF(AK18>AK20,AL18,IF(AK18<AK20,AL20,"")) | AN19: =G16 -> MANCHESTER CITY
A20: ETOILE ROUGE BELGRADE | B20: 1 | C20: BENFICA | D20: 2 | F20: 14 | G20: =INDEX(calcul!$A$2:$I$37,MATCH('C1 2024-2025'!F20,calcul!$K$2:$K$37,0),1) -> LILLE | H20: =INDEX(calcul!$A$2:$I$37,MATCH('C1 2024-2025'!$F20,calcul!$K$2:$K$37,0),9) -> 7 | I20: =INDEX(calcul!$A$2:$I$37,MATCH('C1 2024-2025'!$F20,calcul!$K$2:$K$37,0),6) -> 5 | J20: =INDEX(calcul!$A$2:$I$37,MATCH('C1 2024-2025'!$F20,calcul!$K$2:$K$37,0),7) -> 4 | K20: =INDEX(calcul!$A$2:$I$37,MATCH($F20,calcul!$K$2:$K$37,0),8) -> 1 | M20: 32 | N20: =INDEX(calcul!$A$2:$I$37,MATCH('C1 2024-2025'!$M20,calcul!$K$2:$K$37,0),1) -> RB LEIPZIG | O20: =INDEX(calcul!$A$2:$I$37,MATCH('C1 2024-2025'!$M20,calcul!$K$2:$K$37,0),9) -> 0 | P20: =INDEX(calcul!$A$2:$I$37,MATCH('C1 2024-2025'!$M20,calcul!$K$2:$K$37,0),6) -> 4 | Q20: =INDEX(calcul!$A$2:$I$37,MATCH('C1 2024-2025'!$M20,calcul!$K$2:$K$37,0),7) -> 9 | R20: =INDEX(calcul!$A$2:$I$37,MATCH($M20,calcul!$K$2:$K$37,0),8) -> -5 | V20: =G14 -> ASTON VILLA | AL20: =G13 -> BORUSSIA DORTMUND
A21: MONACO | B21: 2 | C21: FC BARCELONE | D21: 1 | F21: 15 | G21: =INDEX(calcul!$A$2:$I$37,MATCH('C1 2024-2025'!F21,calcul!$K$2:$K$37,0),1) -> CELTIC GLASGOW | H21: =INDEX(calcul!$A$2:$I$37,MATCH('C1 2024-2025'!$F21,calcul!$K$2:$K$37,0),9) -> 7 | I21: =INDEX(calcul!$A$2:$I$37,MATCH('C1 2024-2025'!$F21,calcul!$K$2:$K$37,0),6) -> 9 | J21: =INDEX(calcul!$A$2:$I$37,MATCH('C1 2024-2025'!$F21,calcul!$K$2:$K$37,0),7) -> 9 | K21: =INDEX(calcul!$A$2:$I$37,MATCH($F21,calcul!$K$2:$K$37,0),8) -> 0 | M21: 33 | N21: =INDEX(calcul!$A$2:$I$37,MATCH('C1 2024-2025'!$M21,calcul!$K$2:$K$37,0),1) -> STURM GRAZ | O21: =INDEX(calcul!$A$2:$I$37,MATCH('C1 2024-2025'!$M21,calcul!$K$2:$K$37,0),9) -> 0 | P21: =INDEX(calcul!$A$2:$I$37,MATCH('C1 2024-2025'!$M21,calcul!$K$2:$K$37,0),6) -> 1 | Q21: =INDEX(calcul!$A$2:$I$37,MATCH('C1 2024-2025'!$M21,calcul!$K$2:$K$37,0),7) -> 6 | R21: =INDEX(calcul!$A$2:$I$37,MATCH($M21,calcul!$K$2:$K$37,0),8) -> -5 | Z21: =IF(Y19>Y24,X19,IF(Y19<Y24,X24,"")) | AH21: =IF(AI19>AI24,AJ19,IF(AI19<AI24,AJ24,""))
A22: ATALANTA BERGAME | B22: 0 | C22: ARSENAL | D22: 0 | F22: 16 | G22: =INDEX(calcul!$A$2:$I$37,MATCH('C1 2024-2025'!F22,calcul!$K$2:$K$37,0),1) -> DINAMO ZAGREB | H22: =INDEX(calcul!$A$2:$I$37,MATCH('C1 2024-2025'!$F22,calcul!$K$2:$K$37,0),9) -> 7 | I22: =INDEX(calcul!$A$2:$I$37,MATCH('C1 2024-2025'!$F22,calcul!$K$2:$K$37,0),6) -> 10 | J22: =INDEX(calcul!$A$2:$I$37,MATCH('C1 2024-2025'!$F22,calcul!$K$2:$K$37,0),7) -> 12 | K22: =INDEX(calcul!$A$2:$I$37,MATCH($F22,calcul!$K$2:$K$37,0),8) -> -2 | M22: 34 | N22: =INDEX(calcul!$A$2:$I$37,MATCH('C1 2024-2025'!$M22,calcul!$K$2:$K$37,0),1) -> YOUNG BOYS BERNE | O22: =INDEX(calcul!$A$2:$I$37,MATCH('C1 2024-2025'!$M22,calcul!$K$2:$K$37,0),9) -> 0 | P22: =INDEX(calcul!$A$2:$I$37,MATCH('C1 2024-2025'!$M22,calcul!$K$2:$K$37,0),6) -> 1 | Q22: =INDEX(calcul!$A$2:$I$37,MATCH('C1 2024-2025'!$M22,calcul!$K$2:$K$37,0),7) -> 11 | R22: =INDEX(calcul!$A$2:$I$37,MATCH($M22,calcul!$K$2:$K$37,0),8) -> -10 | T22: =G23 -> BAYERN MUNICH | AN22: =G24 -> REAL MADRID
A23: ATLETICO MADRID | B23: 2 | C23: RB LEIPZIG | D23: 1 | F23: 17 | G23: =INDEX(calcul!$A$2:$I$37,MATCH('C1 2024-2025'!F23,calcul!$K$2:$K$37,0),1) -> BAYERN MUNICH | H23: =INDEX(calcul!$A$2:$I$37,MATCH('C1 2024-2025'!$F23,calcul!$K$2:$K$37,0),9) -> 6 | I23: =INDEX(calcul!$A$2:$I$37,MATCH('C1 2024-2025'!$F23,calcul!$K$2:$K$37,0),6) -> 11 | J23: =INDEX(calcul!$A$2:$I$37,MATCH('C1 2024-2025'!$F23,calcul!$K$2:$K$37,0),7) -> 7 | K23: =INDEX(calcul!$A$2:$I$37,MATCH($F23,calcul!$K$2:$K$37,0),8) -> 4 | M23: 35 | N23: =INDEX(calcul!$A$2:$I$37,MATCH('C1 2024-2025'!$M23,calcul!$K$2:$K$37,0),1) -> ETOILE ROUGE BELGRADE | O23: =INDEX(calcul!$A$2:$I$37,MATCH('C1 2024-2025'!$M23,calcul!$K$2:$K$37,0),9) -> 0 | P23: =INDEX(calcul!$A$2:$I$37,MATCH('C1 2024-2025'!$M23,calcul!$K$2:$K$37,0),6) -> 4 | Q23: =INDEX(calcul!$A$2:$I$37,MATCH('C1 2024-2025'!$M23,calcul!$K$2:$K$37,0),7) -> 16 | R23: =INDEX(calcul!$A$2:$I$37,MATCH($M23,calcul!$K$2:$K$37,0),8) -> -12 | V23: =IF(U22>U24,T22,IF(U22<U24,T24,"")) | AL23: =IF(AM22>AM24,AN22,IF(AM22<AM24,AN24,""))
A24: BREST | B24: 2 | C24: STURM GRAZ | D24: 1 | F24: 18 | G24: =INDEX(calcul!$A$2:$I$37,MATCH('C1 2024-2025'!F24,calcul!$K$2:$K$37,0),1) -> REAL MADRID | H24: =INDEX(calcul!$A$2:$I$37,MATCH('C1 2024-2025'!$F24,calcul!$K$2:$K$37,0),9) -> 6 | I24: =INDEX(calcul!$A$2:$I$37,MATCH('C1 2024-2025'!$F24,calcul!$K$2:$K$37,0),6) -> 9 | J24: =INDEX(calcul!$A$2:$I$37,MATCH('C1 2024-2025'!$F24,calcul!$K$2:$K$37,0),7) -> 7 | K24: =INDEX(calcul!$A$2:$I$37,MATCH($F24,calcul!$K$2:$K$37,0),8) -> 2 | M24: 36 | N24: =INDEX(calcul!$A$2:$I$37,MATCH('C1 2024-2025'!$M24,calcul!$K$2:$K$37,0),1) -> SLOVAN BRATISLAVA | O24: =INDEX(calcul!$A$2:$I$37,MATCH('C1 2024-2025'!$M24,calcul!$K$2:$K$37,0),9) -> 0 | P24: =INDEX(calcul!$A$2:$I$37,MATCH('C1 2024-2025'!$M24,calcul!$K$2:$K$37,0),6) -> 2 | Q24: =INDEX(calcul!$A$2:$I$37,MATCH('C1 2024-2025'!$M24,calcul!$K$2:$K$37,0),7) -> 15 | R24: =INDEX(calcul!$A$2:$I$37,MATCH($M24,calcul!$K$2:$K$37,0),8) -> -13 | T24: =G22 -> DINAMO ZAGREB | X24: =IF(W23>W25,V23,IF(W23<W25,V25,"")) | AJ24: =IF(AK23>AK25,AL23,IF(AK23<AK25,AL25,"")) | AN24: =G21 -> CELTIC GLASGOW
V25: =G7 -> LIVERPOOL | AL25: =G8 -> SPORTING PORTUGAL
A26: Journée 2
A28: RB SALZBOURG | B28: 0 | C28: BREST | D28: 4
A29: VFB STUTTGART | B29: 1 | C29: SPARTA PRAGUE | D29: 1
A30: ARSENAL | B30: 2 | C30: PARIS SG | D30: 0
A31: BAYER LEVERKUSEN | B31: 1 | C31: AC MILAN | D31: 0
A32: BORUSSIA DORTMUND | B32: 7 | C32: CELTIC GLASGOW | D32: 1
A33: FC BARCELONE | B33: 5 | C33: YOUNG BOYS BERNE | D33: 0
A34: INTER MILAN | B34: 4 | C34: ETOILE ROUGE BELGRADE | D34: 0
A35: PSV EINDHOVEN | B35: 1 | C35: SPORTING PORTUGAL | D35: 1
A36: SLOVAN BRATISLAVA | B36: 0 | C36: MANCHESTER CITY | D36: 4
A37: SHAKHTAR DONETSK | B37: 0 | C37: ATALANTA BERGAME | D37: 3
A38: GERONE | B38: 2 | C38: FEYENOORD ROTTERDAM | D38: 3
A39: ASTON VILLA | B39: 1 | C39: BAYERN MUNICH | D39: 0
... A45: BENFICA | B45: 4 | C45: ATLETICO MADRID | D45: 0
A47: Journée 3
A49: AC MILAN | B49: 3 | C49: CLUB BRUGES | D49: 1
A50: MONACO | B50: 5 | C50: ETOILE ROUGE BELGRADE | D50: 1
...

Sheet calcul
B1: joués | C1: G | D1: N | E1: P | F1: BP | G1: BC | H1: DB | I1: PTS | J1: magic | K1: rang
A2: ='C1 2024-2025'!A7 -> YOUNG BOYS BERNE | B2: {=SUMPRODUCT((OFFSET('C1 2024-2025'!$A$5,0,1,2+('C1 2024-2025'!$J$5)*21,1)<>"")*(OFFSET('C1 2024-2025'!$A$5,0,0,2+('C1 2024-2025'!$J$5)*21,1)=A2)*1)+SUMPRODUCT((OFFSET('C1 2024-2025'!$A$5,0,1,2+('C1 2024-2025'!$J$5)*21,1)<>"")*(OFFSET('C1 2024-2025'!$A$5,0,2,2+('C1 2024-2025'!$J$5)*21,1)=A2)*1)} -> 4 | C2: {=SUMPRODUCT((OFFSET('C1 2024-2025'!$A$5,0,1,2+('C1 2024-2025'!$J$5)*21,1)<>"")*(OFFSET('C1 2024-2025'!$A$5,0,1,2+('C1 2024-2025'!$J$5)*21,1)>OFFSET('C1 2024-2025'!$A$5,0,3,2+('C1 2024-2025'!$J$5)*21,1))*(OFFSET('C1 2024-2025'!$A$5,0,0,2+('C1 2024-2025'!$J$5)*21,1)=A2)*1)+SUMPRODUCT((OFFSET('C1 2024-2025'!$A$5,0,1,2+('C1 2024-2025'!$J$5)*21,1)<OFFSET('C1 2024-2025'!$A$5,0,3,2+('C1 2024-2025'!$J$5)*21,1))*(OFFSET('C1 2024-2025'!$A$5,0,2,2+('C1 2024-2025'!$J$5)*21,1)=A2)*1)} -> 0 | D2: {=SUMPRODUCT((OFFSET('C1 2024-2025'!$A$5,0,1,2+('C1 2024-2025'!$J$5)*21,1)<>"")*(OFFSET('C1 2024-2025'!$A$5,0,1,2+('C1 2024-2025'!$J$5)*21,1)=OFFSET('C1 2024-2025'!$A$5,0,3,2+('C1 2024-2025'!$J$5)*21,1))*(OFFSET('C1 2024-2025'!$A$5,0,0,2+('C1 2024-2025'!$J$5)*21,1)=A2)*1)+SUMPRODUCT((OFFSET('C1 2024-2025'!$A$5,0,1,2+('C1 2024-2025'!$J$5)*21,1)<>"")*(OFFSET('C1 2024-2025'!$A$5,0,1,2+('C1 2024-2025'!$J$5)*21,1)=OFFSET('C1 2024-2025'!$A$5,0,3,2+('C1 2024-2025'!$J$5)*21,1))*(OFFSET('C1 2024-2025'!$A$5,0,2,2+('C1 2024-2025'!$J$5)*21,1)=A2)*1)} -> 0 | E2: =B2-C2-D2 -> 4 | F2: {=SUMPRODUCT((OFFSET('C1 2024-2025'!$A$5,0,1,2+('C1 2024-2025'!$J$5)*21,1)<>"")*(OFFSET('C1 2024-2025'!$A$5,0,1,2+('C1 2024-2025'!$J$5)*21,1))*(OFFSET('C1 2024-2025'!$A$5,0,0,2+('C1 2024-2025'!$J$5)*21,2)=A2))+SUMPRODUCT((OFFSET('C1 2024-2025'!$A$5,0,1,2+('C1 2024-2025'!$J$5)*21,1)<>"")*(OFFSET('C1 2024-2025'!$A$5,0,3,2+('C1 2024-2025'!$J$5)*21,1))*(OFFSET('C1 2024-2025'!$A$5,0,2,2+('C1 2024-2025'!$J$5)*21,1)=A2))} -> 1 | G2: {=SUMPRODUCT((OFFSET('C1 2024-2025'!$A$5,0,1,2+('C1 2024-2025'!$J$5)*21,1)<>"")*(OFFSET('C1 2024-2025'!$A$5,0,1,2+('C1 2024-2025'!$J$5)*21,1))*(OFFSET('C1 2024-2025'!$A$5,0,2,2+('C1 2024-2025'!$J$5)*21,2)=A2))+SUMPRODUCT((OFFSET('C1 2024-2025'!$A$5,0,1,2+('C1 2024-2025'!$J$5)*21,1)<>"")*(OFFSET('C1 2024-2025'!$A$5,0,3,2+('C1 2024-2025'!$J$5)*21,1))*(OFFSET('C1 2024-2025'!$A$5,0,0,2+('C1 2024-2025'!$J$5)*21,1)=A2))} -> 11 | H2: =F2-G2 -> -10 | I2: =C2*3+D2 -> 0 | J2: =I2*10000+H2*100+F2+(40-ROW())/100 -> -998.62 | K2: =RANK(J2,$J$2:$J$37) -> 34
A3: ='C1 2024-2025'!A8 -> JUVENTUS TURIN | B3: {=SUMPRODUCT((OFFSET('C1 2024-2025'!$A$5,0,1,2+('C1 2024-2025'!$J$5)*21,1)<>"")*(OFFSET('C1 2024-2025'!$A$5,0,0,2+('C1 2024-2025'!$J$5)*21,1)=A3)*1)+SUMPRODUCT((OFFSET('C1 2024-2025'!$A$5,0,1,2+('C1 2024-2025'!$J$5)*21,1)<>"")*(OFFSET('C1 2024-2025'!$A$5,0,2,2+('C1 2024-2025'!$J$5)*21,1)=A3)*1)} -> 4 | C3: {=SUMPRODUCT((OFFSET('C1 2024-2025'!$A$5,0,1,2+('C1 2024-2025'!$J$5)*21,1)<>"")*(OFFSET('C1 2024-2025'!$A$5,0,1,2+('C1 2024-2025'!$J$5)*21,1)>OFFSET('C1 2024-2025'!$A$5,0,3,2+('C1 2024-2025'!$J$5)*21,1))*(OFFSET('C1 2024-2025'!$A$5,0,0,2+('C1 2024-2025'!$J$5)*21,1)=A3)*1)+SUMPRODUCT((OFFSET('C1 2024-2025'!$A$5,0,1,2+('C1 2024-2025'!$J$5)*21,1)<OFFSET('C1 2024-2025'!$A$5,0,3,2+('C1 2024-2025'!$J$5)*21,1))*(OFFSET('C1 2024-2025'!$A$5,0,2,2+('C1 2024-2025'!$J$5)*21,1)=A3)*1)} -> 2 | D3: {=SUMPRODUCT((OFFSET('C1 2024-2025'!$A$5,0,1,2+('C1 2024-2025'!$J$5)*21,1)<>"")*(OFFSET('C1 2024-2025'!$A$5,0,1,2+('C1 2024-2025'!$J$5)*21,1)=OFFSET('C1 2024-2025'!$A$5,0,3,2+('C1 2024-2025'!$J$5)*21,1))*(OFFSET('C1 2024-2025'!$A$5,0,0,2+('C1 2024-2025'!$J$5)*21,1)=A3)*1)+SUMPRODUCT((OFFSET('C1 2024-2025'!$A$5,0,1,2+('C1 2024-2025'!$J$5)*21,1)<>"")*(OFFSET('C1 2024-2025'!$A$5,0,1,2+('C1 2024-2025'!$J$5)*21,1)=OFFSET('C1 2024-2025'!$A$5,0,3,2+('C1 2024-2025'!$J$5)*21,1))*(OFFSET('C1 2024-2025'!$A$5,0,2,2+('C1 2024-2025'!$J$5)*21,1)=A3)*1)} -> 1 | E3: =B3-C3-D3 -> 1 | F3: {=SUMPRODUCT((OFFSET('C1 2024-2025'!$A$5,0,1,2+('C1 2024-2025'!$J$5)*21,1)<>"")*(OFFSET('C1 2024-2025'!$A$5,0,1,2+('C1 2024-2025'!$J$5)*21,1))*(OFFSET('C1 2024-2025'!$A$5,0,0,2+('C1 2024-2025'!$J$5)*21,2)=A3))+SUMPRODUCT((OFFSET('C1 2024-2025'!$A$5,0,1,2+('C1 2024-2025'!$J$5)*21,1)<>"")*(OFFSET('C1 2024-2025'!$A$5,0,3,2+('C1 2024-2025'!$J$5)*21,1))*(OFFSET('C1 2024-2025'!$A$5,0,2,2+('C1 2024-2025'!$J$5)*21,1)=A3))} -> 7 | G3: {=SUMPRODUCT((OFFSET('C1 2024-2025'!$A$5,0,1,2+('C1 2024-2025'!$J$5)*21,1)<>"")*(OFFSET('C1 2024-2025'!$A$5,0,1,2+('C1 2024-2025'!$J$5)*21,1))*(OFFSET('C1 2024-2025'!$A$5,0,2,2+('C1 2024-2025'!$J$5)*21,2)=A3))+SUMPRODUCT((OFFSET('C1 2024-2025'!$A$5,0,1,2+('C1 2024-2025'!$J$5)*21,1)<>"")*(OFFSET('C1 2024-2025'!$A$5,0,3,2+('C1 2024-2025'!$J$5)*21,1))*(OFFSET('C1 2024-2025'!$A$5,0,0,2+('C1 2024-2025'!$J$5)*21,1)=A3))} -> 5 | H3: =F3-G3 -> 2 | I3: =C3*3+D3 -> 7 | J3: =I3*10000+H3*100+F3+(40-ROW())/100 -> 70207.37 | K3: =RANK(J3,$J$2:$J$37) -> 11
A4: ='C1 2024-2025'!A9 -> AC MILAN | B4: {=SUMPRODUCT((OFFSET('C1 2024-2025'!$A$5,0,1,2+('C1 2024-2025'!$J$5)*21,1)<>"")*(OFFSET('C1 2024-2025'!$A$5,0,0,2+('C1 2024-2025'!$J$5)*21,1)=A4)*1)+SUMPRODUCT((OFFSET('C1 2024-2025'!$A$5,0,1,2+('C1 2024-2025'!$J$5)*21,1)<>"")*(OFFSET('C1 2024-2025'!$A$5,0,2,2+('C1 2024-2025'!$J$5)*21,1)=A4)*1)} -> 4 | C4: {=SUMPRODUCT((OFFSET('C1 2024-2025'!$A$5,0,1,2+('C1 2024-2025'!$J$5)*21,1)<>"")*(OFFSET('C1 2024-2025'!$A$5,0,1,2+('C1 2024-2025'!$J$5)*21,1)>OFFSET('C1 2024-2025'!$A$5,0,3,2+('C1 2024-2025'!$J$5)*21,1))*(OFFSET('C1 2024-2025'!$A$5,0,0,2+('C1 2024-2025'!$J$5)*21,1)=A4)*1)+SUMPRODUCT((OFFSET('C1 2024-2025'!$A$5,0,1,2+('C1 2024-2025'!$J$5)*21,1)<OFFSET('C1 2024-2025'!$A$5,0,3,2+('C1 2024-2025'!$J$5)*21,1))*(OFFSET('C1 2024-2025'!$A$5,0,2,2+('C1 2024-2025'!$J$5)*21,1)=A4)*1)} -> 2 | D4: {=SUMPRODUCT((OFFSET('C1 2024-2025'!$A$5,0,1,2+('C1 2024-2025'!$J$5)*21,1)<>"")*(OFFSET('C1 2024-2025'!$A$5,0,1,2+('C1 2024-2025'!$J$5)*21,1)=OFFSET('C1 2024-2025'!$A$5,0,3,2+('C1 2024-2025'!$J$5)*21,1))*(OFFSET('C1 2024-2025'!$A$5,0,0,2+('C1 2024-2025'!$J$5)*21,1)=A4)*1)+SUMPRODUCT((OFFSET('C1 2024-2025'!$A$5,0,1,2+('C1 2024-2025'!$J$5)*21,1)<>"")*(OFFSET('C1 2024-2025'!$A$5,0,1,2+('C1 2024-2025'!$J$5)*21,1)=OFFSET('C1 2024-2025'!$A$5,0,3,2+('C1 2024-2025'!$J$5)*21,1))*(OFFSET('C1 2024-2025'!$A$5,0,2,2+('C1 2024-2025'!$J$5)*21,1)=A4)*1)} -> 0 | E4: =B4-C4-D4 -> 2 | F4: {=SUMPRODUCT((OFFSET('C1 2024-2025'!$A$5,0,1,2+('C1 2024-2025'!$J$5)*21,1)<>"")*(OFFSET('C1 2024-2025'!$A$5,0,1,2+('C1 2024-2025'!$J$5)*21,1))*(OFFSET('C1 2024-2025'!$A$5,0,0,2+('C1 2024-2025'!$J$5)*21,2)=A4))+SUMPRODUCT((OFFSET('C1 2024-2025'!$A$5,0,1,2+('C1 2024-2025'!$J$5)*21,1)<>"")*(OFFSET('C1 2024-2025'!$A$5,0,3,2+('C1 2024-2025'!$J$5)*21,1))*(OFFSET('C1 2024-2025'!$A$5,0,2,2+('C1 2024-2025'!$J$5)*21,1)=A4))} -> 7 | G4: {=SUMPRODUCT((OFFSET('C1 2024-2025'!$A$5,0,1,2+('C1 2024-2025'!$J$5)*21,1)<>"")*(OFFSET('C1 2024-2025'!$A$5,0,1,2+('C1 2024-2025'!$J$5)*21,1))*(OFFSET('C1 2024-2025'!$A$5,0,2,2+('C1 2024-2025'!$J$5)*21,2)=A4))+SUMPRODUCT((OFFSET('C1 2024-2025'!$A$5,0,1,2+('C1 2024-2025'!$J$5)*21,1)<>"")*(OFFSET('C1 2024-2025'!$A$5,0,3,2+('C1 2024-2025'!$J$5)*21,1))*(OFFSET('C1 2024-2025'!$A$5,0,0,2+('C1 2024-2025'!$J$5)*21,1)=A4))} -> 6 | H4: =F4-G4 -> 1 | I4: =C4*3+D4 -> 6 | J4: =I4*10000+H4*100+F4+(40-ROW())/100 -> 60107.36 | K4: =RANK(J4,$J$2:$J$37) -> 20
A5: ='C1 2024-2025'!A10 -> BAYERN MUNICH | B5: {=SUMPRODUCT((OFFSET('C1 2024-2025'!$A$5,0,1,2+('C1 2024-2025'!$J$5)*21,1)<>"")*(OFFSET('C1 2024-2025'!$A$5,0,0,2+('C1 2024-2025'!$J$5)*21,1)=A5)*1)+SUMPRODUCT((OFFSET('C1 2024-2025'!$A$5,0,1,2+('C1 2024-2025'!$J$5)*21,1)<>"")*(OFFSET('C1 2024-2025'!$A$5,0,2,2+('C1 2024-2025'!$J$5)*21,1)=A5)*1)} -> 4 | C5: {=SUMPRODUCT((OFFSET('C1 2024-2025'!$A$5,0,1,2+('C1 2024-2025'!$J$5)*21,1)<>"")*(OFFSET('C1 2024-2025'!$A$5,0,1,2+('C1 2024-2025'!$J$5)*21,1)>OFFSET('C1 2024-2025'!$A$5,0,3,2+('C1 2024-2025'!$J$5)*21,1))*(OFFSET('C1 2024-2025'!$A$5,0,0,2+('C1 2024-2025'!$J$5)*21,1)=A5)*1)+SUMPRODUCT((OFFSET('C1 2024-2025'!$A$5,0,1,2+('C1 2024-2025'!$J$5)*21,1)<OFFSET('C1 2024-2025'!$A$5,0,3,2+('C1 2024-2025'!$J$5)*21,1))*(OFFSET('C1 2024-2025'!$A$5,0,2,2+('C1 2024-2025'!$J$5)*21,1)=A5)*1)} -> 2 | D5: {=SUMPRODUCT((OFFSET('C1 2024-2025'!$A$5,0,1,2+('C1 2024-2025'!$J$5)*21,1)<>"")*(OFFSET('C1 2024-2025'!$A$5,0,1,2+('C1 2024-2025'!$J$5)*21,1)=OFFSET('C1 2024-2025'!$A$5,0,3,2+('C1 2024-2025'!$J$5)*21,1))*(OFFSET('C1 2024-2025'!$A$5,0,0,2+('C1 2024-2025'!$J$5)*21,1)=A5)*1)+SUMPRODUCT((OFFSET('C1 2024-2025'!$A$5,0,1,2+('C1 2024-2025'!$J$5)*21,1)<>"")*(OFFSET('C1 2024-2025'!$A$5,0,1,2+('C1 2024-2025'!$J$5)*21,1)=OFFSET('C1 2024-2025'!$A$5,0,3,2+('C1 2024-2025'!$J$5)*21,1))*(OFFSET('C1 2024-2025'!$A$5,0,2,2+('C1 2024-2025'!$J$5)*21,1)=A5)*1)} -> 0 | E5: =B5-C5-D5 -> 2 | F5: {=SUMPRODUCT((OFFSET('C1 2024-2025'!$A$5,0,1,2+('C1 2024-2025'!$J$5)*21,1)<>"")*(OFFSET('C1 2024-2025'!$A$5,0,1,2+('C1 2024-2025'!$J$5)*21,1))*(OFFSET('C1 2024-2025'!$A$5,0,0,2+('C1 2024-2025'!$J$5)*21,2)=A5))+SUMPRODUCT((OFFSET('C1 2024-2025'!$A$5,0,1,2+('C1 2024-2025'!$J$5)*21,1)<>"")*(OFFSET('C1 2024-2025'!$A$5,0,3,2+('C1 2024-2025'!$J$5)*21,1))*(OFFSET('C1 2024-2025'!$A$5,0,2,2+('C1 2024-2025'!$J$5)*21,1)=A5))} -> 11 | G5: {=SUMPRODUCT((OFFSET('C1 2024-2025'!$A$5,0,1,2+('C1 2024-2025'!$J$5)*21,1)<>"")*(OFFSET('C1 2024-2025'!$A$5,0,1,2+('C1 2024-2025'!$J$5)*21,1))*(OFFSET('C1 2024-2025'!$A$5,0,2,2+('C1 2024-2025'!$J$5)*21,2)=A5))+SUMPRODUCT((OFFSET('C1 2024-2025'!$A$5,0,1,2+('C1 2024-2025'!$J$5)*21,1)<>"")*(OFFSET('C1 2024-2025'!$A$5,0,3,2+('C1 2024-2025'!$J$5)*21,1))*(OFFSET('C1 2024-2025'!$A$5,0,0,2+('C1 2024-2025'!$J$5)*21,1)=A5))} -> 7 | H5: =F5-G5 -> 4 | I5: =C5*3+D5 -> 6 | J5: =I5*10000+H5*100+F5+(40-ROW())/100 -> 60411.35 | K5: =RANK(J5,$J$2:$J$37) -> 17
A6: ='C1 2024-2025'!A11 -> REAL MADRID | B6: {=SUMPRODUCT((OFFSET('C1 2024-2025'!$A$5,0,1,2+('C1 2024-2025'!$J$5)*21,1)<>"")*(OFFSET('C1 2024-2025'!$A$5,0,0,2+('C1 2024-2025'!$J$5)*21,1)=A6)*1)+SUMPRODUCT((OFFSET('C1 2024-2025'!$A$5,0,1,2+('C1 2024-2025'!$J$5)*21,1)<>"")*(OFFSET('C1 2024-2025'!$A$5,0,2,2+('C1 2024-2025'!$J$5)*21,1)=A6)*1)} -> 4 | C6: {=SUMPRODUCT((OFFSET('C1 2024-2025'!$A$5,0,1,2+('C1 2024-2025'!$J$5)*21,1)<>"")*(OFFSET('C1 2024-2025'!$A$5,0,1,2+('C1 2024-2025'!$J$5)*21,1)>OFFSET('C1 2024-2025'!$A$5,0,3,2+('C1 2024-2025'!$J$5)*21,1))*(OFFSET('C1 2024-2025'!$A$5,0,0,2+('C1 2024-2025'!$J$5)*21,1)=A6)*1)+SUMPRODUCT((OFFSET('C1 2024-2025'!$A$5,0,1,2+('C1 2024-2025'!$J$5)*21,1)<OFFSET('C1 2024-2025'!$A$5,0,3,2+('C1 2024-2025'!$J$5)*21,1))*(OFFSET('C1 2024-2025'!$A$5,0,2,2+('C1 2024-2025'!$J$5)*21,1)=A6)*1)} -> 2 | D6: {=SUMPRODUCT((OFFSET('C1 2024-2025'!$A$5,0,1,2+('C1 2024-2025'!$J$5)*21,1)<>"")*(OFFSET('C1 2024-2025'!$A$5,0,1,2+('C1 2024-2025'!$J$5)*21,1)=OFFSET('C1 2024-2025'!$A$5,0,3,2+('C1 2024-2025'!$J$5)*21,1))*(OFFSET('C1 2024-2025'!$A$5,0,0,2+('C1 2024-2025'!$J$5)*21,1)=A6)*1)+SUMPRODUCT((OFFSET('C1 2024-2025'!$A$5,0,1,2+('C1 2024-2025'!$J$5)*21,1)<>"")*(OFFSET('C1 2024-2025'!$A$5,0,1,2+('C1 2024-2025'!$J$5)*21,1)=OFFSET('C1 2024-2025'!$A$5,0,3,2+('C1 2024-2025'!$J$5)*21,1))*(OFFSET('C1 2024-2025'!$A$5,0,2,2+('C1 2024-2025'!$J$5)*21,1)=A6)*1)} -> 0 | E6: =B6-C6-D6 -> 2 | F6: {=SUMPRODUCT((OFFSET('C1 2024-2025'!$A$5,0,1,2+('C1 2024-2025'!$J$5)*21,1)<>"")*(OFFSET('C1 2024-2025'!$A$5,0,1,2+('C1 2024-2025'!$J$5)*21,1))*(OFFSET('C1 2024-2025'!$A$5,0,0,2+('C1 2024-2025'!$J$5)*21,2)=A6))+SUMPRODUCT((OFFSET('C1 2024-2025'!$A$5,0,1,2+('C1 2024-2025'!$J$5)*21,1)<>"")*(OFFSET('C1 2024-2025'!$A$5,0,3,2+('C1 2024-2025'!$J$5)*21,1))*(OFFSET('C1 2024-2025'!$A$5,0,2,2+('C1 2024-2025'!$J$5)*21,1)=A6))} -> 9 | G6: {=SUMPRODUCT((OFFSET('C1 2024-2025'!$A$5,0,1,2+('C1 2024-2025'!$J$5)*21,1)<>"")*(OFFSET('C1 2024-2025'!$A$5,0,1,2+('C1 2024-2025'!$J$5)*21,1))*(OFFSET('C1 2024-2025'!$A$5,0,2,2+('C1 2024-2025'!$J$5)*21,2)=A6))+SUMPRODUCT((OFFSET('C1 2024-2025'!$A$5,0,1,2+('C1 2024-2025'!$J$5)*21,1)<>"")*(OFFSET('C1 2024-2025'!$A$5,0,3,2+('C1 2024-2025'!$J$5)*21,1))*(OFFSET('C1 2024-2025'!$A$5,0,0,2+('C1 2024-2025'!$J$5)*21,1)=A6))} -> 7 | H6: =F6-G6 -> 2 | I6: =C6*3+D6 -> 6 | J6: =I6*10000+H6*100+F6+(40-ROW())/100 -> 60209.34 | K6: =RANK(J6,$J$2:$J$37) -> 18
A7: ='C1 2024-2025'!A12 -> SPORTING PORTUGAL | B7: {=SUMPRODUCT((OFFSET('C1 2024-2025'!$A$5,0,1,2+('C1 2024-2025'!$J$5)*21,1)<>"")*(OFFSET('C1 2024-2025'!$A$5,0,0,2+('C1 2024-2025'!$J$5)*21,1)=A7)*1)+SUMPRODUCT((OFFSET('C1 2024-2025'!$A$5,0,1,2+('C1 2024-2025'!$J$5)*21,1)<>"")*(OFFSET('C1 2024-2025'!$A$5,0,2,2+('C1 2024-2025'!$J$5)*21,1)=A7)*1)} -> 4 | C7: {=SUMPRODUCT((OFFSET('C1 2024-2025'!$A$5,0,1,2+('C1 2024-2025'!$J$5)*21,1)<>"")*(OFFSET('C1 2024-2025'!$A$5,0,1,2+('C1 2024-2025'!$J$5)*21,1)>OFFSET('C1 2024-2025'!$A$5,0,3,2+('C1 2024-2025'!$J$5)*21,1))*(OFFSET('C1 2024-2025'!$A$5,0,0,2+('C1 2024-2025'!$J$5)*21,1)=A7)*1)+SUMPRODUCT((OFFSET('C1 2024-2025'!$A$5,0,1,2+('C1 2024-2025'!$J$5)*21,1)<OFFSET('C1 2024-2025'!$A$5,0,3,2+('C1 2024-2025'!$J$5)*21,1))*(OFFSET('C1 2024-2025'!$A$5,0,2,2+('C1 2024-2025'!$J$5)*21,1)=A7)*1)} -> 3 | D7: {=SUMPRODUCT((OFFSET('C1 2024-2025'!$A$5,0,1,2+('C1 2024-2025'!$J$5)*21,1)<>"")*(OFFSET('C1 2024-2025'!$A$5,0,1,2+('C1 2024-2025'!$J$5)*21,1)=OFFSET('C1 2024-2025'!$A$5,0,3,2+('C1 2024-2025'!$J$5)*21,1))*(OFFSET('C1 2024-2025'!$A$5,0,0,2+('C1 2024-2025'!$J$5)*21,1)=A7)*1)+SUMPRODUCT((OFFSET('C1 2024-2025'!$A$5,0,1,2+('C1 2024-2025'!$J$5)*21,1)<>"")*(OFFSET('C1 2024-2025'!$A$5,0,1,2+('C1 2024-2025'!$J$5)*21,1)=OFFSET('C1 2024-2025'!$A$5,0,3,2+('C1 2024-2025'!$J$5)*21,1))*(OFFSET('C1 2024-2025'!$A$5,0,2,2+('C1 2024-2025'!$J$5)*21,1)=A7)*1)} -> 1 | E7: =B7-C7-D7 -> 0 | F7: {=SUMPRODUCT((OFFSET('C1 2024-2025'!$A$5,0,1,2+('C1 2024-2025'!$J$5)*21,1)<>"")*(OFFSET('C1 2024-2025'!$A$5,0,1,2+('C1 2024-2025'!$J$5)*21,1))*(OFFSET('C1 2024-2025'!$A$5,0,0,2+('C1 2024-2025'!$J$5)*21,2)=A7))+SUMPRODUCT((OFFSET('C1 2024-2025'!$A$5,0,1,2+('C1 2024-2025'!$J$5)*21,1)<>"")*(OFFSET('C1 2024-2025'!$A$5,0,3,2+('C1 2024-2025'!$J$5)*21,1))*(OFFSET('C1 2024-2025'!$A$5,0,2,2+('C1 2024-2025'!$J$5)*21,1)=A7))} -> 9 | G7: {=SUMPRODUCT((OFFSET('C1 2024-2025'!$A$5,0,1,2+('C1 2024-2025'!$J$5)*21,1)<>"")*(OFFSET('C1 2024-2025'!$A$5,0,1,2+('C1 2024-2025'!$J$5)*21,1))*(OFFSET('C1 2024-2025'!$A$5,0,2,2+('C1 2024-2025'!$J$5)*21,2)=A7))+SUMPRODUCT((OFFSET('C1 2024-2025'!$A$5,0,1,2+('C1 2024-2025'!$J$5)*21,1)<>"")*(OFFSET('C1 2024-2025'!$A$5,0,3,2+('C1 2024-2025'!$J$5)*21,1))*(OFFSET('C1 2024-2025'!$A$5,0,0,2+('C1 2024-2025'!$J$5)*21,1)=A7))} -> 2 | H7: =F7-G7 -> 7 | I7: =C7*3+D7 -> 10 | J7: =I7*10000+H7*100+F7+(40-ROW())/100 -> 100709.33 | K7: =RANK(J7,$J$2:$J$37) -> 2
A8: ='C1 2024-2025'!A13 -> SPARTA PRAGUE | B8: {=SUMPRODUCT((OFFSET('C1 2024-2025'!$A$5,0,1,2+('C1 2024-2025'!$J$5)*21,1)<>"")*(OFFSET('C1 2024-2025'!$A$5,0,0,2+('C1 2024-2025'!$J$5)*21,1)=A8)*1)+SUMPRODUCT((OFFSET('C1 2024-2025'!$A$5,0,1,2+('C1 2024-2025'!$J$5)*21,1)<>"")*(OFFSET('C1 2024-2025'!$A$5,0,2,2+('C1 2024-2025'!$J$5)*21,1)=A8)*1)} -> 4 | C8: {=SUMPRODUCT((OFFSET('C1 2024-2025'!$A$5,0,1,2+('C1 2024-2025'!$J$5)*21,1)<>"")*(OFFSET('C1 2024-2025'!$A$5,0,1,2+('C1 2024-2025'!$J$5)*21,1)>OFFSET('C1 2024-2025'!$A$5,0,3,2+('C1 2024-2025'!$J$5)*21,1))*(OFFSET('C1 2024-2025'!$A$5,0,0,2+('C1 2024-2025'!$J$5)*21,1)=A8)*1)+SUMPRODUCT((OFFSET('C1 2024-2025'!$A$5,0,1,2+('C1 2024-2025'!$J$5)*21,1)<OFFSET('C1 2024-2025'!$A$5,0,3,2+('C1 2024-2025'!$J$5)*21,1))*(OFFSET('C1 2024-2025'!$A$5,0,2,2+('C1 2024-2025'!$J$5)*21,1)=A8)*1)} -> 1 | D8: {=SUMPRODUCT((OFFSET('C1 2024-2025'!$A$5,0,1,2+('C1 2024-2025'!$J$5)*21,1)<>"")*(OFFSET('C1 2024-2025'!$A$5,0,1,2+('C1 2024-2025'!$J$5)*21,1)=OFFSET('C1 2024-2025'!$A$5,0,3,2+('C1 2024-2025'!$J$5)*21,1))*(OFFSET('C1 2024-2025'!$A$5,0,0,2+('C1 2024-2025'!$J$5)*21,1)=A8)*1)+SUMPRODUCT((OFFSET('C1 2024-2025'!$A$5,0,1,2+('C1 2024-2025'!$J$5)*21,1)<>"")*(OFFSET('C1 2024-2025'!$A$5,0,1,2+('C1 2024-2025'!$J$5)*21,1)=OFFSET('C1 2024-2025'!$A$5,0,3,2+('C1 2024-2025'!$J$5)*21,1))*(OFFSET('C1 2024-2025'!$A$5,0,2,2+('C1 2024-2025'!$J$5)*21,1)=A8)*1)} -> 1 | E8: =B8-C8-D8 -> 2 | F8: {=SUMPRODUCT((OFFSET('C1 2024-2025'!$A$5,0,1,2+('C1 2024-2025'!$J$5)*21,1)<>"")*(OFFSET('C1 2024-2025'!$A$5,0,1,2+('C1 2024-2025'!$J$5)*21,1))*(OFFSET('C1 2024-2025'!$A$5,0,0,2+('C1 2024-2025'!$J$5)*21,2)=A8))+SUMPRODUCT((OFFSET('C1 2024-2025'!$A$5,0,1,2+('C1 2024-2025'!$J$5)*21,1)<>"")*(OFFSET('C1 2024-2025'!$A$5,0,3,2+('C1 2024-2025'!$J$5)*21,1))*(OFFSET('C1 2024-2025'!$A$5,0,2,2+('C1 2024-2025'!$J$5)*21,1)=A8))} -> 5 | G8: {=SUMPRODUCT((OFFSET('C1 2024-2025'!$A$5,0,1,2+('C1 2024-2025'!$J$5)*21,1)<>"")*(OFFSET('C1 2024-2025'!$A$5,0,1,2+('C1 2024-2025'!$J$5)*21,1))*(OFFSET('C1 2024-2025'!$A$5,0,2,2+('C1 2024-2025'!$J$5)*21,2)=A8))+SUMPRODUCT((OFFSET('C1 2024-2025'!$A$5,0,1,2+('C1 2024-2025'!$J$5)*21,1)<>"")*(OFFSET('C1 2024-2025'!$A$5,0,3,2+('C1 2024-2025'!$J$5)*21,1))*(OFFSET('C1 2024-2025'!$A$5,0,0,2+('C1 2024-2025'!$J$5)*21,1)=A8))} -> 8 | H8: =F8-G8 -> -3 | I8: =C8*3+D8 -> 4 | J8: =I8*10000+H8*100+F8+(40-ROW())/100 -> 39705.32 | K8: =RANK(J8,$J$2:$J$37) -> 26
A9: ='C1 2024-2025'!A14 -> BOLOGNE | B9: {=SUMPRODUCT((OFFSET('C1 2024-2025'!$A$5,0,1,2+('C1 2024-2025'!$J$5)*21,1)<>"")*(OFFSET('C1 2024-2025'!$A$5,0,0,2+('C1 2024-2025'!$J$5)*21,1)=A9)*1)+SUMPRODUCT((OFFSET('C1 2024-2025'!$A$5,0,1,2+('C1 2024-2025'!$J$5)*21,1)<>"")*(OFFSET('C1 2024-2025'!$A$5,0,2,2+('C1 2024-2025'!$J$5)*21,1)=A9)*1)} -> 4 | C9: {=SUMPRODUCT((OFFSET('C1 2024-2025'!$A$5,0,1,2+('C1 2024-2025'!$J$5)*21,1)<>"")*(OFFSET('C1 2024-2025'!$A$5,0,1,2+('C1 2024-2025'!$J$5)*21,1)>OFFSET('C1 2024-2025'!$A$5,0,3,2+('C1 2024-2025'!$J$5)*21,1))*(OFFSET('C1 2024-2025'!$A$5,0,0,2+('C1 2024-2025'!$J$5)*21,1)=A9)*1)+SUMPRODUCT((OFFSET('C1 2024-2025'!$A$5,0,1,2+('C1 2024-2025'!$J$5)*21,1)<OFFSET('C1 2024-2025'!$A$5,0,3,2+('C1 2024-2025'!$J$5)*21,1))*(OFFSET('C1 2024-2025'!$A$5,0,2,2+('C1 2024-2025'!$J$5)*21,1)=A9)*1)} -> 0 | D9: {=SUMPRODUCT((OFFSET('C1 2024-2025'!$A$5,0,1,2+('C1 2024-2025'!$J$5)*21,1)<>"")*(OFFSET('C1 2024-2025'!$A$5,0,1,2+('C1 2024-2025'!$J$5)*21,1)=OFFSET('C1 2024-2025'!$A$5,0,3,2+('C1 2024-2025'!$J$5)*21,1))*(OFFSET('C1 2024-2025'!$A$5,0,0,2+('C1 2024-2025'!$J$5)*21,1)=A9)*1)+SUMPRODUCT((OFFSET('C1 2024-2025'!$A$5,0,1,2+('C1 2024-2025'!$J$5)*21,1)<>"")*(OFFSET('C1 2024-2025'!$A$5,0,1,2+('C1 2024-2025'!$J$5)*21,1)=OFFSET('C1 2024-2025'!$A$5,0,3,2+('C1 2024-2025'!$J$5)*21,1))*(OFFSET('C1 2024-2025'!$A$5,0,2,2+('C1 2024-2025'!$J$5)*21,1)=A9)*1)} -> 1 | E9: =B9-C9-D9 -> 3 | F9: {=SUMPRODUCT((OFFSET('C1 2024-2025'!$A$5,0,1,2+('C1 2024-2025'!$J$5)*21,1)<>"")*(OFFSET('C1 2024-2025'!$A$5,0,1,2+('C1 2024-2025'!$J$5)*21,1))*(OFFSET('C1 2024-2025'!$A$5,0,0,2+('C1 2024-2025'!$J$5)*21,2)=A9))+SUMPRODUCT((OFFSET('C1 2024-2025'!$A$5,0,1,2+('C1 2024-2025'!$J$5)*21,1)<>"")*(OFFSET('C1 2024-2025'!$A$5,0,3,2+('C1 2024-2025'!$J$5)*21,1))*(OFFSET('C1 2024-2025'!$A$5,0,2,2+('C1 2024-2025'!$J$5)*21,1)=A9))} -> 0 | G9: {=SUMPRODUCT((OFFSET('C1 2024-2025'!$A$5,0,1,2+('C1 2024-2025'!$J$5)*21,1)<>"")*(OFFSET('C1 2024-2025'!$A$5,0,1,2+('C1 2024-2025'!$J$5)*21,1))*(OFFSET('C1 2024-2025'!$A$5,0,2,2+('C1 2024-2025'!$J$5)*21,2)=A9))+SUMPRODUCT((OFFSET('C1 2024-2025'!$A$5,0,1,2+('C1 2024-2025'!$J$5)*21,1)<>"")*(OFFSET('C1 2024-2025'!$A$5,0,3,2+('C1 2024-2025'!$J$5)*21,1))*(OFFSET('C1 2024-2025'!$A$5,0,0,2+('C1 2024-2025'!$J$5)*21,1)=A9))} -> 5 | H9: =F9-G9 -> -5 | I9: =C9*3+D9 -> 1 | J9: =I9*10000+H9*100+F9+(40-ROW())/100 -> 9500.31 | K9: =RANK(J9,$J$2:$J$37) -> 31
A10: ='C1 2024-2025'!A15 -> CELTIC GLASGOW | B10: {=SUMPRODUCT((OFFSET('C1 2024-2025'!$A$5,0,1,2+('C1 2024-2025'!$J$5)*21,1)<>"")*(OFFSET('C1 2024-2025'!$A$5,0,0,2+('C1 2024-2025'!$J$5)*21,1)=A10)*1)+SUMPRODUCT((OFFSET('C1 2024-2025'!$A$5,0,1,2+('C1 2024-2025'!$J$5)*21,1)<>"")*(OFFSET('C1 2024-2025'!$A$5,0,2,2+('C1 2024-2025'!$J$5)*21,1)=A10)*1)} -> 4 | C10: {=SUMPRODUCT((OFFSET('C1 2024-2025'!$A$5,0,1,2+('C1 2024-2025'!$J$5)*21,1)<>"")*(OFFSET('C1 2024-2025'!$A$5,0,1,2+('C1 2024-2025'!$J$5)*21,1)>OFFSET('C1 2024-2025'!$A$5,0,3,2+('C1 2024-2025'!$J$5)*21,1))*(OFFSET('C1 2024-2025'!$A$5,0,0,2+('C1 2024-2025'!$J$5)*21,1)=A10)*1)+SUMPRODUCT((OFFSET('C1 2024-2025'!$A$5,0,1,2+('C1 2024-2025'!$J$5)*21,1)<OFFSET('C1 2024-2025'!$A$5,0,3,2+('C1 2024-2025'!$J$5)*21,1))*(OFFSET('C1 2024-2025'!$A$5,0,2,2+('C1 2024-2025'!$J$5)*21,1)=A10)*1)} -> 2 | D10: {=SUMPRODUCT((OFFSET('C1 2024-2025'!$A$5,0,1,2+('C1 2024-2025'!$J$5)*21,1)<>"")*(OFFSET('C1 2024-2025'!$A$5,0,1,2+('C1 2024-2025'!$J$5)*21,1)=OFFSET('C1 2024-2025'!$A$5,0,3,2+('C1 2024-2025'!$J$5)*21,1))*(OFFSET('C1 2024-2025'!$A$5,0,0,2+('C1 2024-2025'!$J$5)*21,1)=A10)*1)+SUMPRODUCT((OFFSET('C1 2024-2025'!$A$5,0,1,2+('C1 2024-2025'!$J$5)*21,1)<>"")*(OFFSET('C1 2024-2025'!$A$5,0,1,2+('C1 2024-2025'!$J$5)*21,1)=OFFSET('C1 2024-2025'!$A$5,0,3,2+('C1 2024-2025'!$J$5)*21,1))*(OFFSET('C1 2024-2025'!$A$5,0,2,2+('C1 2024-2025'!$J$5)*21,1)=A10)*1)} -> 1 | E10: =B10-C10-D10 -> 1 | F10: {=SUMPRODUCT((OFFSET('C1 2024-2025'!$A$5,0,1,2+('C1 2024-2025'!$J$5)*21,1)<>"")*(OFFSET('C1 2024-2025'!$A$5,0,1,2+('C1 2024-2025'!$J$5)*21,1))*(OFFSET('C1 2024-2025'!$A$5,0,0,2+('C1 2024-2025'!$J$5)*21,2)=A10))+SUMPRODUCT((OFFSET('C1 2024-2025'!$A$5,0,1,2+('C1 2024-2025'!$J$5)*21,1)<>"")*(OFFSET('C1 2024-2025'!$A$5,0,3,2+('C1 2024-2025'!$J$5)*21,1))*(OFFSET('C1 2024-2025'!$A$5,0,2,2+('C1 2024-2025'!$J$5)*21,1)=A10))} -> 9 | G10: {=SUMPRODUCT((OFFSET('C1 2024-2025'!$A$5,0,1,2+('C1 2024-2025'!$J$5)*21,1)<>"")*(OFFSET('C1 2024-2025'!$A$5,0,1,2+('C1 2024-2025'!$J$5)*21,1))*(OFFSET('C1 2024-2025'!$A$5,0,2,2+('C1 2024-2025'!$J$5)*21,2)=A10))+SUMPRODUCT((OFFSET('C1 2024-2025'!$A$5,0,1,2+('C1 2024-2025'!$J$5)*21,1)<>"")*(OFFSET('C1 2024-2025'!$A$5,0,3,2+('C1 2024-2025'!$J$5)*21,1))*(OFFSET('C1 2024-2025'!$A$5,0,0,2+('C1 2024-2025'!$J$5)*21,1)=A10))} -> 9 | H10: =F10-G10 -> 0 | I10: =C10*3+D10 -> 7 | J10: =I10*10000+H10*100+F10+(40-ROW())/100 -> 70009.3 | K10: =RANK(J10,$J$2:$J$37) -> 15
A11: ='C1 2024-2025'!A16 -> CLUB BRUGES | B11: {=SUMPRODUCT((OFFSET('C1 2024-2025'!$A$5,0,1,2+('C1 2024-2025'!$J$5)*21,1)<>"")*(OFFSET('C1 2024-2025'!$A$5,0,0,2+('C1 2024-2025'!$J$5)*21,1)=A11)*1)+SUMPRODUCT((OFFSET('C1 2024-2025'!$A$5,0,1,2+('C1 2024-2025'!$J$5)*21,1)<>"")*(OFFSET('C1 2024-2025'!$A$5,0,2,2+('C1 2024-2025'!$J$5)*21,1)=A11)*1)} -> 4 | C11: {=SUMPRODUCT((OFFSET('C1 2024-2025'!$A$5,0,1,2+('C1 2024-2025'!$J$5)*21,1)<>"")*(OFFSET('C1 2024-2025'!$A$5,0,1,2+('C1 2024-2025'!$J$5)*21,1)>OFFSET('C1 2024-2025'!$A$5,0,3,2+('C1 2024-2025'!$J$5)*21,1))*(OFFSET('C1 2024-2025'!$A$5,0,0,2+('C1 2024-2025'!$J$5)*21,1)=A11)*1)+SUMPRODUCT((OFFSET('C1 2024-2025'!$A$5,0,1,2+('C1 2024-2025'!$J$5)*21,1)<OFFSET('C1 2024-2025'!$A$5,0,3,2+('C1 2024-2025'!$J$5)*21,1))*(OFFSET('C1 2024-2025'!$A$5,0,2,2+('C1 2024-2025'!$J$5)*21,1)=A11)*1)} -> 2 | D11: {=SUMPRODUCT((OFFSET('C1 2024-2025'!$A$5,0,1,2+('C1 2024-2025'!$J$5)*21,1)<>"")*(OFFSET('C1 2024-2025'!$A$5,0,1,2+('C1 2024-2025'!$J$5)*21,1)=OFFSET('C1 2024-2025'!$A$5,0,3,2+('C1 2024-2025'!$J$5)*21,1))*(OFFSET('C1 2024-2025'!$A$5,0,0,2+('C1 2024-2025'!$J$5)*21,1)=A11)*1)+SUMPRODUCT((OFFSET('C1 2024-2025'!$A$5,0,1,2+('C1 2024-2025'!$J$5)*21,1)<>"")*(OFFSET('C1 2024-2025'!$A$5,0,1,2+('C1 2024-2025'!$J$5)*21,1)=OFFSET('C1 2024-2025'!$A$5,0,3,2+('C1 2024-2025'!$J$5)*21,1))*(OFFSET('C1 2024-2025'!$A$5,0,2,2+('C1 2024-2025'!$J$5)*21,1)=A11)*1)} -> 0 | E11: =B11-C11-D11 -> 2 | F11: {=SUMPRODUCT((OFFSET('C1 2024-2025'!$A$5,0,1,2+('C1 2024-2025'!$J$5)*21,1)<>"")*(OFFSET('C1 2024-2025'!$A$5,0,1,2+('C1 2024-2025'!$J$5)*21,1))*(OFFSET('C1 2024-2025'!$A$5,0,0,2+('C1 2024-2025'!$J$5)*21,2)=A11))+SUMPRODUCT((OFFSET('C1 2024-2025'!$A$5,0,1,2+('C1 2024-2025'!$J$5)*21,1)<>"")*(OFFSET('C1 2024-2025'!$A$5,0,3,2+('C1 2024-2025'!$J$5)*21,1))*(OFFSET('C1 2024-2025'!$A$5,0,2,2+('C1 2024-2025'!$J$5)*21,1)=A11))} -> 3 | G11: {=SUMPRODUCT((OFFSET('C1 2024-2025'!$A$5,0,1,2+('C1 2024-2025'!$J$5)*21,1)<>"")*(OFFSET('C1 2024-2025'!$A$5,0,1,2+('C1 2024-2025'!$J$5)*21,1))*(OFFSET('C1 2024-2025'!$A$5,0,2,2+('C1 2024-2025'!$J$5)*21,2)=A11))+SUMPRODUCT((OFFSET('C1 2024-2025'!$A$5,0,1,2+('C1 2024-2025'!$J$5)*21,1)<>"")*(OFFSET('C1 2024-2025'!$A$5,0,3,2+('C1 2024-2025'!$J$5)*21,1))*(OFFSET('C1 2024-2025'!$A$5,0,0,2+('C1 2024-2025'!$J$5)*21,1)=A11))} -> 6 | H11: =F11-G11 -> -3 | I11: =C11*3+D11 -> 6 | J11: =I11*10000+H11*100+F11+(40-ROW())/100 -> 59703.29 | K11: =RANK(J11,$J$2:$J$37) -> 22
A12: ='C1 2024-2025'!A17 -> MANCHESTER CITY | B12: {=SUMPRODUCT((OFFSET('C1 2024-2025'!$A$5,0,1,2+('C1 2024-2025'!$J$5)*21,1)<>"")*(OFFSET('C1 2024-2025'!$A$5,0,0,2+('C1 2024-2025'!$J$5)*21,1)=A12)*1)+SUMPRODUCT((OFFSET('C1 2024-2025'!$A$5,0,1,2+('C1 2024-2025'!$J$5)*21,1)<>"")*(OFFSET('C1 2024-2025'!$A$5,0,2,2+('C1 2024-2025'!$J$5)*21,1)=A12)*1)} -> 4 | C12: {=SUMPRODUCT((OFFSET('C1 2024-2025'!$A$5,0,1,2+('C1 2024-2025'!$J$5)*21,1)<>"")*(OFFSET('C1 2024-2025'!$A$5,0,1,2+('C1 2024-2025'!$J$5)*21,1)>OFFSET('C1 2024-2025'!$A$5,0,3,2+('C1 2024-2025'!$J$5)*21,1))*(OFFSET('C1 2024-2025'!$A$5,0,0,2+('C1 2024-2025'!$J$5)*21,1)=A12)*1)+SUMPRODUCT((OFFSET('C1 2024-2025'!$A$5,0,1,2+('C1 2024-2025'!$J$5)*21,1)<OFFSET('C1 2024-2025'!$A$5,0,3,2+('C1 2024-2025'!$J$5)*21,1))*(OFFSET('C1 2024-2025'!$A$5,0,2,2+('C1 2024-2025'!$J$5)*21,1)=A12)*1)} -> 2 | D12: {=SUMPRODUCT((OFFSET('C1 2024-2025'!$A$5,0,1,2+('C1 2024-2025'!$J$5)*21,1)<>"")*(OFFSET('C1 2024-2025'!$A$5,0,1,2+('C1 2024-2025'!$J$5)*21,1)=OFFSET('C1 2024-2025'!$A$5,0,3,2+('C1 2024-2025'!$J$5)*21,1))*(OFFSET('C1 2024-2025'!$A$5,0,0,2+('C1 2024-2025'!$J$5)*21,1)=A12)*1)+SUMPRODUCT((OFFSET('C1 2024-2025'!$A$5,0,1,2+('C1 2024-2025'!$J$5)*21,1)<>"")*(OFFSET('C1 2024-2025'!$A$5,0,1,2+('C1 2024-2025'!$J$5)*21,1)=OFFSET('C1 2024-2025'!$A$5,0,3,2+('C1 2024-2025'!$J$5)*21,1))*(OFFSET('C1 2024-2025'!$A$5,0,2,2+('C1 2024-2025'!$J$5)*21,1)=A12)*1)} -> 1 | E12: =B12-C12-D12 -> 1 | F12: {=SUMPRODUCT((OFFSET('C1 2024-2025'!$A$5,0,1,2+('C1 2024-2025'!$J$5)*21,1)<>"")*(OFFSET('C1 2024-2025'!$A$5,0,1,2+('C1 2024-2025'!$J$5)*21,1))*(OFFSET('C1 2024-2025'!$A$5,0,0,2+('C1 2024-2025'!$J$5)*21,2)=A12))+SUMPRODUCT((OFFSET('C1 2024-2025'!$A$5,0,1,2+('C1 2024-2025'!$J$5)*21,1)<>"")*(OFFSET('C1 2024-2025'!$A$5,0,3,2+('C1 2024-2025'!$J$5)*21,1))*(OFFSET('C1 2024-2025'!$A$5,0,2,2+('C1 2024-2025'!$J$5)*21,1)=A12))} -> 10 | G12: {=SUMPRODUCT((OFFSET('C1 2024-2025'!$A$5,0,1,2+('C1 2024-2025'!$J$5)*21,1)<>"")*(OFFSET('C1 2024-2025'!$A$5,0,1,2+('C1 2024-2025'!$J$5)*21,1))*(OFFSET('C1 2024-2025'!$A$5,0,2,2+('C1 2024-2025'!$J$5)*21,2)=A12))+SUMPRODUCT((OFFSET('C1 2024-2025'!$A$5,0,1,2+('C1 2024-2025'!$J$5)*21,1)<>"")*(OFFSET('C1 2024-2025'!$A$5,0,3,2+('C1 2024-2025'!$J$5)*21,1))*(OFFSET('C1 2024-2025'!$A$5,0,0,2+('C1 2024-2025'!$J$5)*21,1)=A12))} -> 4 | H12: =F12-G12 -> 6 | I12: =C12*3+D12 -> 7 | J12: =I12*10000+H12*100+F12+(40-ROW())/100 -> 70610.28 | K12: =RANK(J12,$J$2:$J$37) -> 10
A13: ='C1 2024-2025'!A18 -> PARIS SG | B13: {=SUMPRODUCT((OFFSET('C1 2024-2025'!$A$5,0,1,2+('C1 2024-2025'!$J$5)*21,1)<>"")*(OFFSET('C1 2024-2025'!$A$5,0,0,2+('C1 2024-2025'!$J$5)*21,1)=A13)*1)+SUMPRODUCT((OFFSET('C1 2024-2025'!$A$5,0,1,2+('C1 2024-2025'!$J$5)*21,1)<>"")*(OFFSET('C1 2024-2025'!$A$5,0,2,2+('C1 2024-2025'!$J$5)*21,1)=A13)*1)} -> 4 | C13: {=SUMPRODUCT((OFFSET('C1 2024-2025'!$A$5,0,1,2+('C1 2024-2025'!$J$5)*21,1)<>"")*(OFFSET('C1 2024-2025'!$A$5,0,1,2+('C1 2024-2025'!$J$5)*21,1)>OFFSET('C1 2024-2025'!$A$5,0,3,2+('C1 2024-2025'!$J$5)*21,1))*(OFFSET('C1 2024-2025'!$A$5,0,0,2+('C1 2024-2025'!$J$5)*21,1)=A13)*1)+SUMPRODUCT((OFFSET('C1 2024-2025'!$A$5,0,1,2+('C1 2024-2025'!$J$5)*21,1)<OFFSET('C1 2024-2025'!$A$5,0,3,2+('C1 2024-2025'!$J$5)*21,1))*(OFFSET('C1 2024-2025'!$A$5,0,2,2+('C1 2024-2025'!$J$5)*21,1)=A13)*1)} -> 1 | D13: {=SUMPRODUCT((OFFSET('C1 2024-2025'!$A$5,0,1,2+('C1 2024-2025'!$J$5)*21,1)<>"")*(OFFSET('C1 2024-2025'!$A$5,0,1,2+('C1 2024-2025'!$J$5)*21,1)=OFFSET('C1 2024-2025'!$A$5,0,3,2+('C1 2024-2025'!$J$5)*21,1))*(OFFSET('C1 2024-2025'!$A$5,0,0,2+('C1 2024-2025'!$J$5)*21,1)=A13)*1)+SUMPRODUCT((OFFSET('C1 2024-2025'!$A$5,0,1,2+('C1 2024-2025'!$J$5)*21,1)<>"")*(OFFSET('C1 2024-2025'!$A$5,0,1,2+('C1 2024-2025'!$J$5)*21,1)=OFFSET('C1 2024-2025'!$A$5,0,3,2+('C1 2024-2025'!$J$5)*21,1))*(OFFSET('C1 2024-2025'!$A$5,0,2,2+('C1 2024-2025'!$J$5)*21,1)=A13)*1)} -> 1 | E13: =B13-C13-D13 -> 2 | F13: {=SUMPRODUCT((OFFSET('C1 2024-2025'!$A$5,0,1,2+('C1 2024-2025'!$J$5)*21,1)<>"")*(OFFSET('C1 2024-2025'!$A$5,0,1,2+('C1 2024-2025'!$J$5)*21,1))*(OFFSET('C1 2024-2025'!$A$5,0,0,2+('C1 2024-2025'!$J$5)*21,2)=A13))+SUMPRODUCT((OFFSET('C1 2024-2025'!$A$5,0,1,2+('C1 2024-2025'!$J$5)*21,1)<>"")*(OFFSET('C1 2024-2025'!$A$5,0,3,2+('C1 2024-2025'!$J$5)*21,1))*(OFFSET('C1 2024-2025'!$A$5,0,2,2+('C1 2024-2025'!$J$5)*21,1)=A13))} -> 3 | G13: {=SUMPRODUCT((OFFSET('C1 2024-2025'!$A$5,0,1,2+('C1 2024-2025'!$J$5)*21,1)<>"")*(OFFSET('C1 2024-2025'!$A$5,0,1,2+('C1 2024-2025'!$J$5)*21,1))*(OFFSET('C1 2024-2025'!$A$5,0,2,2+('C1 2024-2025'!$J$5)*21,2)=A13))+SUMPRODUCT((OFFSET('C1 2024-2025'!$A$5,0,1,2+('C1 2024-2025'!$J$5)*21,1)<>"")*(OFFSET('C1 2024-2025'!$A$5,0,3,2+('C1 2024-2025'!$J$5)*21,1))*(OFFSET('C1 2024-2025'!$A$5,0,0,2+('C1 2024-2025'!$J$5)*21,1)=A13))} -> 5 | H13: =F13-G13 -> -2 | I13: =C13*3+D13 -> 4 | J13: =I13*10000+H13*100+F13+(40-ROW())/100 -> 39803.27 | K13: =RANK(J13,$J$2:$J$37) -> 25
... A19: ='C1 2024-2025'!A24 -> BREST | B19: {=SUMPRODUCT((OFFSET('C1 2024-2025'!$A$5,0,1,2+('C1 2024-2025'!$J$5)*21,1)<>"")*(OFFSET('C1 2024-2025'!$A$5,0,0,2+('C1 2024-2025'!$J$5)*21,1)=A19)*1)+SUMPRODUCT((OFFSET('C1 2024-2025'!$A$5,0,1,2+('C1 2024-2025'!$J$5)*21,1)<>"")*(OFFSET('C1 2024-2025'!$A$5,0,2,2+('C1 2024-2025'!$J$5)*21,1)=A19)*1)} -> 4 | C19: {=SUMPRODUCT((OFFSET('C1 2024-2025'!$A$5,0,1,2+('C1 2024-2025'!$J$5)*21,1)<>"")*(OFFSET('C1 2024-2025'!$A$5,0,1,2+('C1 2024-2025'!$J$5)*21,1)>OFFSET('C1 2024-2025'!$A$5,0,3,2+('C1 2024-2025'!$J$5)*21,1))*(OFFSET('C1 2024-2025'!$A$5,0,0,2+('C1 2024-2025'!$J$5)*21,1)=A19)*1)+SUMPRODUCT((OFFSET('C1 2024-2025'!$A$5,0,1,2+('C1 2024-2025'!$J$5)*21,1)<OFFSET('C1 2024-2025'!$A$5,0,3,2+('C1 2024-2025'!$J$5)*21,1))*(OFFSET('C1 2024-2025'!$A$5,0,2,2+('C1 2024-2025'!$J$5)*21,1)=A19)*1)} -> 3 | D19: {=SUMPRODUCT((OFFSET('C1 2024-2025'!$A$5,0,1,2+('C1 2024-2025'!$J$5)*21,1)<>"")*(OFFSET('C1 2024-2025'!$A$5,0,1,2+('C1 2024-2025'!$J$5)*21,1)=OFFSET('C1 2024-2025'!$A$5,0,3,2+('C1 2024-2025'!$J$5)*21,1))*(OFFSET('C1 2024-2025'!$A$5,0,0,2+('C1 2024-2025'!$J$5)*21,1)=A19)*1)+SUMPRODUCT((OFFSET('C1 2024-2025'!$A$5,0,1,2+('C1 2024-2025'!$J$5)*21,1)<>"")*(OFFSET('C1 2024-2025'!$A$5,0,1,2+('C1 2024-2025'!$J$5)*21,1)=OFFSET('C1 2024-2025'!$A$5,0,3,2+('C1 2024-2025'!$J$5)*21,1))*(OFFSET('C1 2024-2025'!$A$5,0,2,2+('C1 2024-2025'!$J$5)*21,1)=A19)*1)} -> 1 | E19: =B19-C19-D19 -> 0 | F19: {=SUMPRODUCT((OFFSET('C1 2024-2025'!$A$5,0,1,2+('C1 2024-2025'!$J$5)*21,1)<>"")*(OFFSET('C1 2024-2025'!$A$5,0,1,2+('C1 2024-2025'!$J$5)*21,1))*(OFFSET('C1 2024-2025'!$A$5,0,0,2+('C1 2024-2025'!$J$5)*21,2)=A19))+SUMPRODUCT((OFFSET('C1 2024-2025'!$A$5,0,1,2+('C1 2024-2025'!$J$5)*21,1)<>"")*(OFFSET('C1 2024-2025'!$A$5,0,3,2+('C1 2024-2025'!$J$5)*21,1))*(OFFSET('C1 2024-2025'!$A$5,0,2,2+('C1 2024-2025'!$J$5)*21,1)=A19))} -> 9 | G19: {=SUMPRODUCT((OFFSET('C1 2024-2025'!$A$5,0,1,2+('C1 2024-2025'!$J$5)*21,1)<>"")*(OFFSET('C1 2024-2025'!$A$5,0,1,2+('C1 2024-2025'!$J$5)*21,1))*(OFFSET('C1 2024-2025'!$A$5,0,2,2+('C1 2024-2025'!$J$5)*21,2)=A19))+SUMPRODUCT((OFFSET('C1 2024-2025'!$A$5,0,1,2+('C1 2024-2025'!$J$5)*21,1)<>"")*(OFFSET('C1 2024-2025'!$A$5,0,3,2+('C1 2024-2025'!$J$5)*21,1))*(OFFSET('C1 2024-2025'!$A$5,0,0,2+('C1 2024-2025'!$J$5)*21,1)=A19))} -> 3 | H19: =F19-G19 -> 6 | I19: =C19*3+D19 -> 10 | J19: =I19*10000+H19*100+F19+(40-ROW())/100 -> 100609.21 | K19: =RANK(J19,$J$2:$J$37) -> 4
A20: ='C1 2024-2025'!C7 -> ASTON VILLA | B20: {=SUMPRODUCT((OFFSET('C1 2024-2025'!$A$5,0,1,2+('C1 2024-2025'!$J$5)*21,1)<>"")*(OFFSET('C1 2024-2025'!$A$5,0,0,2+('C1 2024-2025'!$J$5)*21,1)=A20)*1)+SUMPRODUCT((OFFSET('C1 2024-2025'!$A$5,0,1,2+('C1 2024-2025'!$J$5)*21,1)<>"")*(OFFSET('C1 2024-2025'!$A$5,0,2,2+('C1 2024-2025'!$J$5)*21,1)=A20)*1)} -> 4 | C20: {=SUMPRODUCT((OFFSET('C1 2024-2025'!$A$5,0,1,2+('C1 2024-2025'!$J$5)*21,1)<>"")*(OFFSET('C1 2024-2025'!$A$5,0,1,2+('C1 2024-2025'!$J$5)*21,1)>OFFSET('C1 2024-2025'!$A$5,0,3,2+('C1 2024-2025'!$J$5)*21,1))*(OFFSET('C1 2024-2025'!$A$5,0,0,2+('C1 2024-2025'!$J$5)*21,1)=A20)*1)+SUMPRODUCT((OFFSET('C1 2024-2025'!$A$5,0,1,2+('C1 2024-2025'!$J$5)*21,1)<OFFSET('C1 2024-2025'!$A$5,0,3,2+('C1 2024-2025'!$J$5)*21,1))*(OFFSET('C1 2024-2025'!$A$5,0,2,2+('C1 2024-2025'!$J$5)*21,1)=A20)*1)} -> 3 | D20: {=SUMPRODUCT((OFFSET('C1 2024-2025'!$A$5,0,1,2+('C1 2024-2025'!$J$5)*21,1)<>"")*(OFFSET('C1 2024-2025'!$A$5,0,1,2+('C1 2024-2025'!$J$5)*21,1)=OFFSET('C1 2024-2025'!$A$5,0,3,2+('C1 2024-2025'!$J$5)*21,1))*(OFFSET('C1 2024-2025'!$A$5,0,0,2+('C1 2024-2025'!$J$5)*21,1)=A20)*1)+SUMPRODUCT((OFFSET('C1 2024-2025'!$A$5,0,1,2+('C1 2024-2025'!$J$5)*21,1)<>"")*(OFFSET('C1 2024-2025'!$A$5,0,1,2+('C1 2024-2025'!$J$5)*21,1)=OFFSET('C1 2024-2025'!$A$5,0,3,2+('C1 2024-2025'!$J$5)*21,1))*(OFFSET('C1 2024-2025'!$A$5,0,2,2+('C1 2024-2025'!$J$5)*21,1)=A20)*1)} -> 0 | E20: =B20-C20-D20 -> 1 | F20: {=SUMPRODUCT((OFFSET('C1 2024-2025'!$A$5,0,1,2+('C1 2024-2025'!$J$5)*21,1)<>"")*(OFFSET('C1 2024-2025'!$A$5,0,1,2+('C1 2024-2025'!$J$5)*21,1))*(OFFSET('C1 2024-2025'!$A$5,0,0,2+('C1 2024-2025'!$J$5)*21,2)=A20))+SUMPRODUCT((OFFSET('C1 2024-2025'!$A$5,0,1,2+('C1 2024-2025'!$J$5)*21,1)<>"")*(OFFSET('C1 2024-2025'!$A$5,0,3,2+('C1 2024-2025'!$J$5)*21,1))*(OFFSET('C1 2024-2025'!$A$5,0,2,2+('C1 2024-2025'!$J$5)*21,1)=A20))} -> 6 | G20: {=SUMPRODUCT((OFFSET('C1 2024-2025'!$A$5,0,1,2+('C1 2024-2025'!$J$5)*21,1)<>"")*(OFFSET('C1 2024-2025'!$A$5,0,1,2+('C1 2024-2025'!$J$5)*21,1))*(OFFSET('C1 2024-2025'!$A$5,0,2,2+('C1 2024-2025'!$J$5)*21,2)=A20))+SUMPRODUCT((OFFSET('C1 2024-2025'!$A$5,0,1,2+('C1 2024-2025'!$J$5)*21,1)<>"")*(OFFSET('C1 2024-2025'!$A$5,0,3,2+('C1 2024-2025'!$J$5)*21,1))*(OFFSET('C1 2024-2025'!$A$5,0,0,2+('C1 2024-2025'!$J$5)*21,1)=A20))} -> 1 | H20: =F20-G20 -> 5 | I20: =C20*3+D20 -> 9 | J20: =I20*10000+H20*100+F20+(40-ROW())/100 -> 90506.2 | K20: =RANK(J20,$J$2:$J$37) -> 8
A21: ='C1 2024-2025'!C8 -> PSV EINDHOVEN | B21: {=SUMPRODUCT((OFFSET('C1 2024-2025'!$A$5,0,1,2+('C1 2024-2025'!$J$5)*21,1)<>"")*(OFFSET('C1 2024-2025'!$A$5,0,0,2+('C1 2024-2025'!$J$5)*21,1)=A21)*1)+SUMPRODUCT((OFFSET('C1 2024-2025'!$A$5,0,1,2+('C1 2024-2025'!$J$5)*21,1)<>"")*(OFFSET('C1 2024-2025'!$A$5,0,2,2+('C1 2024-2025'!$J$5)*21,1)=A21)*1)} -> 4 | C21: {=SUMPRODUCT((OFFSET('C1 2024-2025'!$A$5,0,1,2+('C1 2024-2025'!$J$5)*21,1)<>"")*(OFFSET('C1 2024-2025'!$A$5,0,1,2+('C1 2024-2025'!$J$5)*21,1)>OFFSET('C1 2024-2025'!$A$5,0,3,2+('C1 2024-2025'!$J$5)*21,1))*(OFFSET('C1 2024-2025'!$A$5,0,0,2+('C1 2024-2025'!$J$5)*21,1)=A21)*1)+SUMPRODUCT((OFFSET('C1 2024-2025'!$A$5,0,1,2+('C1 2024-2025'!$J$5)*21,1)<OFFSET('C1 2024-2025'!$A$5,0,3,2+('C1 2024-2025'!$J$5)*21,1))*(OFFSET('C1 2024-2025'!$A$5,0,2,2+('C1 2024-2025'!$J$5)*21,1)=A21)*1)} -> 1 | D21: {=SUMPRODUCT((OFFSET('C1 2024-2025'!$A$5,0,1,2+('C1 2024-2025'!$J$5)*21,1)<>"")*(OFFSET('C1 2024-2025'!$A$5,0,1,2+('C1 2024-2025'!$J$5)*21,1)=OFFSET('C1 2024-2025'!$A$5,0,3,2+('C1 2024-2025'!$J$5)*21,1))*(OFFSET('C1 2024-2025'!$A$5,0,0,2+('C1 2024-2025'!$J$5)*21,1)=A21)*1)+SUMPRODUCT((OFFSET('C1 2024-2025'!$A$5,0,1,2+('C1 2024-2025'!$J$5)*21,1)<>"")*(OFFSET('C1 2024-2025'!$A$5,0,1,2+('C1 2024-2025'!$J$5)*21,1)=OFFSET('C1 2024-2025'!$A$5,0,3,2+('C1 2024-2025'!$J$5)*21,1))*(OFFSET('C1 2024-2025'!$A$5,0,2,2+('C1 2024-2025'!$J$5)*21,1)=A21)*1)} -> 2 | E21: =B21-C21-D21 -> 1 | F21: {=SUMPRODUCT((OFFSET('C1 2024-2025'!$A$5,0,1,2+('C1 2024-2025'!$J$5)*21,1)<>"")*(OFFSET('C1 2024-2025'!$A$5,0,1,2+('C1 2024-2025'!$J$5)*21,1))*(OFFSET('C1 2024-2025'!$A$5,0,0,2+('C1 2024-2025'!$J$5)*21,2)=A21))+SUMPRODUCT((OFFSET('C1 2024-2025'!$A$5,0,1,2+('C1 2024-2025'!$J$5)*21,1)<>"")*(OFFSET('C1 2024-2025'!$A$5,0,3,2+('C1 2024-2025'!$J$5)*21,1))*(OFFSET('C1 2024-2025'!$A$5,0,2,2+('C1 2024-2025'!$J$5)*21,1)=A21))} -> 7 | G21: {=SUMPRODUCT((OFFSET('C1 2024-2025'!$A$5,0,1,2+('C1 2024-2025'!$J$5)*21,1)<>"")*(OFFSET('C1 2024-2025'!$A$5,0,1,2+('C1 2024-2025'!$J$5)*21,1))*(OFFSET('C1 2024-2025'!$A$5,0,2,2+('C1 2024-2025'!$J$5)*21,2)=A21))+SUMPRODUCT((OFFSET('C1 2024-2025'!$A$5,0,1,2+('C1 2024-2025'!$J$5)*21,1)<>"")*(OFFSET('C1 2024-2025'!$A$5,0,3,2+('C1 2024-2025'!$J$5)*21,1))*(OFFSET('C1 2024-2025'!$A$5,0,0,2+('C1 2024-2025'!$J$5)*21,1)=A21))} -> 5 | H21: =F21-G21 -> 2 | I21: =C21*3+D21 -> 5 | J21: =I21*10000+H21*100+F21+(40-ROW())/100 -> 50207.19 | K21: =RANK(J21,$J$2:$J$37) -> 24
A22: ='C1 2024-2025'!C9 -> LIVERPOOL | B22: {=SUMPRODUCT((OFFSET('C1 2024-2025'!$A$5,0,1,2+('C1 2024-2025'!$J$5)*21,1)<>"")*(OFFSET('C1 2024-2025'!$A$5,0,0,2+('C1 2024-2025'!$J$5)*21,1)=A22)*1)+SUMPRODUCT((OFFSET('C1 2024-2025'!$A$5,0,1,2+('C1 2024-2025'!$J$5)*21,1)<>"")*(OFFSET('C1 2024-2025'!$A$5,0,2,2+('C1 2024-2025'!$J$5)*21,1)=A22)*1)} -> 4 | C22: {=SUMPRODUCT((OFFSET('C1 2024-2025'!$A$5,0,1,2+('C1 2024-2025'!$J$5)*21,1)<>"")*(OFFSET('C1 2024-2025'!$A$5,0,1,2+('C1 2024-2025'!$J$5)*21,1)>OFFSET('C1 2024-2025'!$A$5,0,3,2+('C1 2024-2025'!$J$5)*21,1))*(OFFSET('C1 2024-2025'!$A$5,0,0,2+('C1 2024-2025'!$J$5)*21,1)=A22)*1)+SUMPRODUCT((OFFSET('C1 2024-2025'!$A$5,0,1,2+('C1 2024-2025'!$J$5)*21,1)<OFFSET('C1 2024-2025'!$A$5,0,3,2+('C1 2024-2025'!$J$5)*21,1))*(OFFSET('C1 2024-2025'!$A$5,0,2,2+('C1 2024-2025'!$J$5)*21,1)=A22)*1)} -> 4 | D22: {=SUMPRODUCT((OFFSET('C1 2024-2025'!$A$5,0,1,2+('C1 2024-2025'!$J$5)*21,1)<>"")*(OFFSET('C1 2024-2025'!$A$5,0,1,2+('C1 2024-2025'!$J$5)*21,1)=OFFSET('C1 2024-2025'!$A$5,0,3,2+('C1 2024-2025'!$J$5)*21,1))*(OFFSET('C1 2024-2025'!$A$5,0,0,2+('C1 2024-2025'!$J$5)*21,1)=A22)*1)+SUMPRODUCT((OFFSET('C1 2024-2025'!$A$5,0,1,2+('C1 2024-2025'!$J$5)*21,1)<>"")*(OFFSET('C1 2024-2025'!$A$5,0,1,2+('C1 2024-2025'!$J$5)*21,1)=OFFSET('C1 2024-2025'!$A$5,0,3,2+('C1 2024-2025'!$J$5)*21,1))*(OFFSET('C1 2024-2025'!$A$5,0,2,2+('C1 2024-2025'!$J$5)*21,1)=A22)*1)} -> 0 | E22: =B22-C22-D22 -> 0 | F22: {=SUMPRODUCT((OFFSET('C1 2024-2025'!$A$5,0,1,2+('C1 2024-2025'!$J$5)*21,1)<>"")*(OFFSET('C1 2024-2025'!$A$5,0,1,2+('C1 2024-2025'!$J$5)*21,1))*(OFFSET('C1 2024-2025'!$A$5,0,0,2+('C1 2024-2025'!$J$5)*21,2)=A22))+SUMPRODUCT((OFFSET('C1 2024-2025'!$A$5,0,1,2+('C1 2024-2025'!$J$5)*21,1)<>"")*(OFFSET('C1 2024-2025'!$A$5,0,3,2+('C1 2024-2025'!$J$5)*21,1))*(OFFSET('C1 2024-2025'!$A$5,0,2,2+('C1 2024-2025'!$J$5)*21,1)=A22))} -> 10 | G22: {=SUMPRODUCT((OFFSET('C1 2024-2025'!$A$5,0,1,2+('C1 2024-2025'!$J$5)*21,1)<>"")*(OFFSET('C1 2024-2025'!$A$5,0,1,2+('C1 2024-2025'!$J$5)*21,1))*(OFFSET('C1 2024-2025'!$A$5,0,2,2+('C1 2024-2025'!$J$5)*21,2)=A22))+SUMPRODUCT((OFFSET('C1 2024-2025'!$A$5,0,1,2+('C1 2024-2025'!$J$5)*21,1)<>"")*(OFFSET('C1 2024-2025'!$A$5,0,3,2+('C1 2024-2025'!$J$5)*21,1))*(OFFSET('C1 2024-2025'!$A$5,0,0,2+('C1 2024-2025'!$J$5)*21,1)=A22))} -> 1 | H22: =F22-G22 -> 9 | I22: =C22*3+D22 -> 12 | J22: =I22*10000+H22*100+F22+(40-ROW())/100 -> 120910.18 | K22: =RANK(J22,$J$2:$J$37) -> 1
