Workbook

Sheet Courses
A2: nom | B2: arrivée course 1 | C2: arrivée course 2 | D2: arrivée course 3 | E2: arrivée course 4 | F2: arrivée course 5 | G2: arrivée course 6 | H2: arrivée course 7 | I2: arrivée course 8 | J2: arrivée course 9 | K2: arrivée course 10 | L2: arrivée course 11 | M2: arrivée course 12 | N2: arrivée course 13 | O2: arrivée course 14 | P2: arrivée course 15 | Q2: arrivée course 16 | R2: arrivée course 17 | S2: arrivée course 18 | T2: arrivée course 19 | U2: arrivée course 20 | V2: points | W2: classement général | X2: magic | Z2: rang | AA2: nom | AB2: points
A3: joueur 1 | B3: 1 | C3: 2 | V3: {=SUMPRODUCT(IFERROR(INDEX(Table1[points],MATCH(Courses!$B$3:$T$22,Table1[position],0)),0)*(A3=Courses!$A$3:$A$22))} -> 43 | W3: =RANK(V3,$V$3:$V$22,0) -> 1 | X3: =W3+ROW()/100 -> 1.03 | Z3: =RANK(AB3,$AB$3:$AB$22) -> 1 | AA3: {=INDEX($A$3:$A$22,MATCH(ROW()-MATCH("nom",AA:AA,0),RANK($X$3:$X$22,$X$3:$X$22,1),0))} -> joueur 1 | AB3: =INDEX($V$3:$V$22,MATCH(AA3,$A$3:$A$22,0)) -> 43
A4: joueur 2 | B4: 3 | V4: {=SUMPRODUCT(IFERROR(INDEX(Table1[points],MATCH(Courses!$B$3:$T$22,Table1[position],0)),0)*(A4=Courses!$A$3:$A$22))} -> 15 | W4: =RANK(V4,$V$3:$V$22,0) -> 5 | X4: =W4+ROW()/100 -> 5.04 | Z4: =RANK(AB4,$AB$3:$AB$22) -> 2 | AA4: {=INDEX($A$3:$A$22,MATCH(ROW()-MATCH("nom",AA:AA,0),RANK($X$3:$X$22,$X$3:$X$22,1),0))} -> joueur 8 | AB4: =INDEX($V$3:$V$22,MATCH(AA4,$A$3:$A$22,0)) -> 25
A5: joueur 3 | B5: 5 | C5: 6 | V5: {=SUMPRODUCT(IFERROR(INDEX(Table1[points],MATCH(Courses!$B$3:$T$22,Table1[position],0)),0)*(A5=Courses!$A$3:$A$22))} -> 18 | W5: =RANK(V5,$V$3:$V$22,0) -> 3 | X5: =W5+ROW()/100 -> 3.05 | Z5: =RANK(AB5,$AB$3:$AB$22) -> 3 | AA5: {=INDEX($A$3:$A$22,MATCH(ROW()-MATCH("nom",AA:AA,0),RANK($X$3:$X$22,$X$3:$X$22,1),0))} -> joueur 3 | AB5: =INDEX($V$3:$V$22,MATCH(AA5,$A$3:$A$22,0)) -> 18
A6: joueur 4 | B6: 7 | C6: 8 | V6: {=SUMPRODUCT(IFERROR(INDEX(Table1[points],MATCH(Courses!$B$3:$T$22,Table1[position],0)),0)*(A6=Courses!$A$3:$A$22))} -> 10 | W6: =RANK(V6,$V$3:$V$22,0) -> 9 | X6: =W6+ROW()/100 -> 9.06 | Z6: =RANK(AB6,$AB$3:$AB$22) -> 3 | AA6: {=INDEX($A$3:$A$22,MATCH(ROW()-MATCH("nom",AA:AA,0),RANK($X$3:$X$22,$X$3:$X$22,1),0))} -> joueur 12 | AB6: =INDEX($V$3:$V$22,MATCH(AA6,$A$3:$A$22,0)) -> 18
A7: joueur 5 | B7: 9 | C7: 9 | V7: {=SUMPRODUCT(IFERROR(INDEX(Table1[points],MATCH(Courses!$B$3:$T$22,Table1[position],0)),0)*(A7=Courses!$A$3:$A$22))} -> 4 | W7: =RANK(V7,$V$3:$V$22,0) -> 14 | X7: =W7+ROW()/100 -> 14.07 | Z7: =RANK(AB7,$AB$3:$AB$22) -> 5 | AA7: {=INDEX($A$3:$A$22,MATCH(ROW()-MATCH("nom",AA:AA,0),RANK($X$3:$X$22,$X$3:$X$22,1),0))} -> joueur 2 | AB7: =INDEX($V$3:$V$22,MATCH(AA7,$A$3:$A$22,0)) -> 15
A8: joueur 6 | B8: 11 | C8: 12 | V8: {=SUMPRODUCT(IFERROR(INDEX(Table1[points],MATCH(Courses!$B$3:$T$22,Table1[position],0)),0)*(A8=Courses!$A$3:$A$22))} -> 0 | W8: =RANK(V8,$V$3:$V$22,0) -> 16 | X8: =W8+ROW()/100 -> 16.08 | Z8: =RANK(AB8,$AB$3:$AB$22) -> 5 | AA8: {=INDEX($A$3:$A$22,MATCH(ROW()-MATCH("nom",AA:AA,0),RANK($X$3:$X$22,$X$3:$X$22,1),0))} -> joueur 9 | AB8: =INDEX($V$3:$V$22,MATCH(AA8,$A$3:$A$22,0)) -> 15
A9: joueur 7 | B9: 13 | C9: 11 | V9: {=SUMPRODUCT(IFERROR(INDEX(Table1[points],MATCH(Courses!$B$3:$T$22,Table1[position],0)),0)*(A9=Courses!$A$3:$A$22))} -> 0 | W9: =RANK(V9,$V$3:$V$22,0) -> 16 | X9: =W9+ROW()/100 -> 16.09 | Z9: =RANK(AB9,$AB$3:$AB$22) -> 7 | AA9: {=INDEX($A$3:$A$22,MATCH(ROW()-MATCH("nom",AA:AA,0),RANK($X$3:$X$22,$X$3:$X$22,1),0))} -> joueur 10 | AB9: =INDEX($V$3:$V$22,MATCH(AA9,$A$3:$A$22,0)) -> 12
A10: joueur 8 | B10: 15 | C10: 1 | V10: {=SUMPRODUCT(IFERROR(INDEX(Table1[points],MATCH(Courses!$B$3:$T$22,Table1[position],0)),0)*(A10=Courses!$A$3:$A$22))} -> 25 | W10: =RANK(V10,$V$3:$V$22,0) -> 2 | X10: =W10+ROW()/100 -> 2.1 | Z10: =RANK(AB10,$AB$3:$AB$22) -> 7 | AA10: {=INDEX($A$3:$A$22,MATCH(ROW()-MATCH("nom",AA:AA,0),RANK($X$3:$X$22,$X$3:$X$22,1),0))} -> joueur 13 | AB10: =INDEX($V$3:$V$22,MATCH(AA10,$A$3:$A$22,0)) -> 12
A11: joueur 9 | B11: 20 | C11: 3 | V11: {=SUMPRODUCT(IFERROR(INDEX(Table1[points],MATCH(Courses!$B$3:$T$22,Table1[position],0)),0)*(A11=Courses!$A$3:$A$22))} -> 15 | W11: =RANK(V11,$V$3:$V$22,0) -> 5 | X11: =W11+ROW()/100 -> 5.11 | Z11: =RANK(AB11,$AB$3:$AB$22) -> 9 | AA11: {=INDEX($A$3:$A$22,MATCH(ROW()-MATCH("nom",AA:AA,0),RANK($X$3:$X$22,$X$3:$X$22,1),0))} -> joueur 4 | AB11: =INDEX($V$3:$V$22,MATCH(AA11,$A$3:$A$22,0)) -> 10
A12: joueur 10 | B12: 17 | C12: 4 | V12: {=SUMPRODUCT(IFERROR(INDEX(Table1[points],MATCH(Courses!$B$3:$T$22,Table1[position],0)),0)*(A12=Courses!$A$3:$A$22))} -> 12 | W12: =RANK(V12,$V$3:$V$22,0) -> 7 | X12: =W12+ROW()/100 -> 7.12 | Z12: =RANK(AB12,$AB$3:$AB$22) -> 9 | AA12: {=INDEX($A$3:$A$22,MATCH(ROW()-MATCH("nom",AA:AA,0),RANK($X$3:$X$22,$X$3:$X$22,1),0))} -> joueur 20 | AB12: =INDEX($V$3:$V$22,MATCH(AA12,$A$3:$A$22,0)) -> 10
A13: joueur 11 | B13: 19 | C13: 7 | V13: {=SUMPRODUCT(IFERROR(INDEX(Table1[points],MATCH(Courses!$B$3:$T$22,Table1[position],0)),0)*(A13=Courses!$A$3:$A$22))} -> 6 | W13: =RANK(V13,$V$3:$V$22,0) -> 12 | X13: =W13+ROW()/100 -> 12.13 | Z13: =RANK(AB13,$AB$3:$AB$22) -> 11 | AA13: {=INDEX($A$3:$A$22,MATCH(ROW()-MATCH("nom",AA:AA,0),RANK($X$3:$X$22,$X$3:$X$22,1),0))} -> joueur 14 | AB13: =INDEX($V$3:$V$22,MATCH(AA13,$A$3:$A$22,0)) -> 8
A14: joueur 12 | B14: 2 | V14: {=SUMPRODUCT(IFERROR(INDEX(Table1[points],MATCH(Courses!$B$3:$T$22,Table1[position],0)),0)*(A14=Courses!$A$3:$A$22))} -> 18 | W14: =RANK(V14,$V$3:$V$22,0) -> 3 | X14: =W14+ROW()/100 -> 3.14 | Z14: =RANK(AB14,$AB$3:$AB$22) -> 12 | AA14: {=INDEX($A$3:$A$22,MATCH(ROW()-MATCH("nom",AA:AA,0),RANK($X$3:$X$22,$X$3:$X$22,1),0))} -> joueur 11 | AB14: =INDEX($V$3:$V$22,MATCH(AA14,$A$3:$A$22,0)) -> 6
A15: joueur 13 | B15: 4 | V15: {=SUMPRODUCT(IFERROR(INDEX(Table1[points],MATCH(Courses!$B$3:$T$22,Table1[position],0)),0)*(A15=Courses!$A$3:$A$22))} -> 12 | W15: =RANK(V15,$V$3:$V$22,0) -> 7 | X15: =W15+ROW()/100 -> 7.15 | Z15: =RANK(AB15,$AB$3:$AB$22) -> 13 | AA15: {=INDEX($A$3:$A$22,MATCH(ROW()-MATCH("nom",AA:AA,0),RANK($X$3:$X$22,$X$3:$X$22,1),0))} -> joueur 15 | AB15: =INDEX($V$3:$V$22,MATCH(AA15,$A$3:$A$22,0)) -> 5
A16: joueur 14 | B16: 6 | V16: {=SUMPRODUCT(IFERROR(INDEX(Table1[points],MATCH(Courses!$B$3:$T$22,Table1[position],0)),0)*(A16=Courses!$A$3:$A$22))} -> 8 | W16: =RANK(V16,$V$3:$V$22,0) -> 11 | X16: =W16+ROW()/100 -> 11.16 | Z16: =RANK(AB16,$AB$3:$AB$22) -> 14 | AA16: {=INDEX($A$3:$A$22,MATCH(ROW()-MATCH("nom",AA:AA,0),RANK($X$3:$X$22,$X$3:$X$22,1),0))} -> joueur 5 | AB16: =INDEX($V$3:$V$22,MATCH(AA16,$A$3:$A$22,0)) -> 4
A17: joueur 15 | B17: 8 | C17: 10 | V17: {=SUMPRODUCT(IFERROR(INDEX(Table1[points],MATCH(Courses!$B$3:$T$22,Table1[position],0)),0)*(A17=Courses!$A$3:$A$22))} -> 5 | W17: =RANK(V17,$V$3:$V$22,0) -> 13 | X17: =W17+ROW()/100 -> 13.17 | Z17: =RANK(AB17,$AB$3:$AB$22) -> 15 | AA17: {=INDEX($A$3:$A$22,MATCH(ROW()-MATCH("nom",AA:AA,0),RANK($X$3:$X$22,$X$3:$X$22,1),0))} -> joueur 16 | AB17: =INDEX($V$3:$V$22,MATCH(AA17,$A$3:$A$22,0)) -> 1
A18: joueur 16 | B18: 10 | V18: {=SUMPRODUCT(IFERROR(INDEX(Table1[points],MATCH(Courses!$B$3:$T$22,Table1[position],0)),0)*(A18=Courses!$A$3:$A$22))} -> 1 | W18: =RANK(V18,$V$3:$V$22,0) -> 15 | X18: =W18+ROW()/100 -> 15.18 | Z18: =RANK(AB18,$AB$3:$AB$22) -> 16 | AA18: {=INDEX($A$3:$A$22,MATCH(ROW()-MATCH("nom",AA:AA,0),RANK($X$3:$X$22,$X$3:$X$22,1),0))} -> joueur 6 | AB18: =INDEX($V$3:$V$22,MATCH(AA18,$A$3:$A$22,0)) -> 0
A19: joueur 17 | B19: 12 | C19: 13 | V19: {=SUMPRODUCT(IFERROR(INDEX(Table1[points],MATCH(Courses!$B$3:$T$22,Table1[position],0)),0)*(A19=Courses!$A$3:$A$22))} -> 0 | W19: =RANK(V19,$V$3:$V$22,0) -> 16 | X19: =W19+ROW()/100 -> 16.19 | Z19: =RANK(AB19,$AB$3:$AB$22) -> 16 | AA19: {=INDEX($A$3:$A$22,MATCH(ROW()-MATCH("nom",AA:AA,0),RANK($X$3:$X$22,$X$3:$X$22,1),0))} -> joueur 7 | AB19: =INDEX($V$3:$V$22,MATCH(AA19,$A$3:$A$22,0)) -> 0
A20: joueur 18 | B20: 14 | V20: {=SUMPRODUCT(IFERROR(INDEX(Table1[points],MATCH(Courses!$B$3:$T$22,Table1[position],0)),0)*(A20=Courses!$A$3:$A$22))} -> 0 | W20: =RANK(V20,$V$3:$V$22,0) -> 16 | X20: =W20+ROW()/100 -> 16.2 | Z20: =RANK(AB20,$AB$3:$AB$22) -> 16 | AA20: {=INDEX($A$3:$A$22,MATCH(ROW()-MATCH("nom",AA:AA,0),RANK($X$3:$X$22,$X$3:$X$22,1),0))} -> joueur 17 | AB20: =INDEX($V$3:$V$22,MATCH(AA20,$A$3:$A$22,0)) -> 0
A21: joueur 19 | B21: 16 | C21: 14 | V21: {=SUMPRODUCT(IFERROR(INDEX(Table1[points],MATCH(Courses!$B$3:$T$22,Table1[position],0)),0)*(A21=Courses!$A$3:$A$22))} -> 0 | W21: =RANK(V21,$V$3:$V$22,0) -> 16 | X21: =W21+ROW()/100 -> 16.21 | Z21: =RANK(AB21,$AB$3:$AB$22) -> 16 | AA21: {=INDEX($A$3:$A$22,MATCH(ROW()-MATCH("nom",AA:AA,0),RANK($X$3:$X$22,$X$3:$X$22,1),0))} -> joueur 18 | AB21: =INDEX($V$3:$V$22,MATCH(AA21,$A$3:$A$22,0)) -> 0
A22: joueur 20 | B22: 18 | C22: 5 | V22: {=SUMPRODUCT(IFERROR(INDEX(Table1[points],MATCH(Courses!$B$3:$T$22,Table1[position],0)),0)*(A22=Courses!$A$3:$A$22))} -> 10 | W22: =RANK(V22,$V$3:$V$22,0) -> 9 | X22: =W22+ROW()/100 -> 9.22 | Z22: =RANK(AB22,$AB$3:$AB$22) -> 16 | AA22: {=INDEX($A$3:$A$22,MATCH(ROW()-MATCH("nom",AA:AA,0),RANK($X$3:$X$22,$X$3:$X$22,1),0))} -> joueur 19 | AB22: =INDEX($V$3:$V$22,MATCH(AA22,$A$3:$A$22,0)) -> 0

Sheet parametres
A1: position | B1: points
A2: 1 | B2: 25
A3: 2 | B3: 18
A4: 3 | B4: 15
A5: 4 | B5: 12
A6: 5 | B6: 10
A7: 6 | B7: 8
A8: 7 | B8: 6
A9: 8 | B9: 4
A10: 9 | B10: 2
A11: 10 | B11: 1
