Workbook

Sheet EQUIPES
B3: CATEGORIE 1
B4: A1
B5: A2
B6: A3
B7: A4
B8: A5
B10: CATEGORIE 1
B11: B1
B12: B2
B13: B3
B14: B4
B15: B5
... B29: D5

Sheet CATEGORIE1-POULES
A1: CATEGORIE 1 | D1: POULE A | G1: POULE A | I1: CLASSEMENT POULE A | U1: CLASSEMENT POULE A
A3: Heure | B3: Terrain | C3: Equipes | D3: Bts | E3: Bts | F3: Equipes | I3: Equipes | J3: Rang | K3: Pts | L3: J | M3: G | N3: N | O3: P | P3: B + | Q3: B - | R3: Diff | T3: Rang | U3: Equipes | AA3: Rang | AB3: Pts | AC3: J | AD3: G | AE3: N | AF3: P | AG3: B + | AH3: B - | AI3: Diff | AJ3: % | AK3: % | AL3: Pts | AM3: Pts | AN3: J | AO3: J | AP3: G | AQ3: G | AR3: N | AS3: N | AT3: P | AU3: P | AV3: B+ | AW3: B+ | AX3: B- | AY3: B- | AZ3: Equipes | BA3: % | BB3: rang
A4: 1 | B4: T1 | C4: =U4 -> A1 | F4: =U5 -> A2 | I4: =VLOOKUP(S4,T4:Z8,2,0) -> A1 | J4: =IF(BA4=BA3,BB3,BB4) -> 1 | K4: =VLOOKUP(I4,U4:AI8,8,0) -> 0 | L4: =VLOOKUP(I4,U4:AI8,9,0) -> 0 | M4: =VLOOKUP(I4,U4:AI8,10,0) -> 0 | N4: =VLOOKUP(I4,U4:AI8,11,0) -> 0 | O4: =VLOOKUP(I4,U4:AI8,12,0) -> 0 | P4: =VLOOKUP(I4,U4:AI8,13,0) -> 0 | Q4: =VLOOKUP(I4,U4:AI8,14,0) -> 0 | R4: =VLOOKUP(I4,U4:AI8,15,0) -> 0 | S4: 1 | T4: =AA4 -> 1 | U4: =EQUIPES!B4 -> A1 | AA4: =RANK(AK4,AK4:AK8) -> 1 | AB4: =SUMPRODUCT((C4:C9=U4)*(AL4:AL9))+SUMPRODUCT((F4:F9=U4)*(AM4:AM9)) -> 0 | AC4: =SUMPRODUCT((C4:C9=U4)*(AN4:AN9))+SUMPRODUCT((F4:F9=U4)*(AO4:AO9)) -> 0 | AD4: =SUMPRODUCT((C4:C9=U4)*(AP4:AP9))+SUMPRODUCT((F4:F9=U4)*(AQ4:AQ9)) -> 0 | AE4: =SUMPRODUCT((C4:C9=U4)*(AR4:AR9))+SUMPRODUCT((F4:F9=U4)*(AS4:AS9)) -> 0 | AF4: =SUMPRODUCT((C4:C9=U4)*(AT4:AT9))+SUMPRODUCT((F4:F9=U4)*(AU4:AU9)) -> 0 | AG4: =SUMPRODUCT((C4:C9=U4)*(AV4:AV9))+SUMPRODUCT((F4:F9=U4)*(AW4:AW9)) -> 0 | AH4: =SUMPRODUCT((C4:C9=U4)*(AX4:AX9))+SUMPRODUCT((F4:F9=U4)*(AY4:AY9)) -> 0 | AI4: =AG4-AH4 -> 0 | AJ4: =SUM(AB4*1000+(AI4)/10+(AG4)/100) -> 0 | AK4: =AJ4+0.00004 -> 4e-05 | AL4: =IF(D4="",0,IF(D4>E4,3,IF(D4=E4,1,IF(D4<E4,0)))) -> 0 | AM4: =IF(E4="",0,IF(E4>D4,3,IF(E4=D4,1,IF(E4<D4,0)))) -> 0 | AN4: =IF(D4="",0,1) -> 0 | AO4: =IF(E4="",0,1) -> 0 | AP4: =IF(D4<>"",IF(D4>E4,1)) -> FALSE | AQ4: =IF(E4<>"",IF(E4>D4,1)) -> FALSE | AR4: =IF(D4<>"",IF(D4=E4,1)) -> FALSE | AS4: =IF(E4<>"",IF(E4=D4,1)) -> FALSE | AT4: =IF(D4<>"",IF(D4<E4,1)) -> FALSE | AU4: =IF(E4<>"",IF(E4<D4,1)) -> FALSE | AV4: =D4 -> 0 | AW4: =E4 -> 0 | AX4: =E4 -> 0 | AY4: =D4 -> 0 | AZ4: =VLOOKUP(S4,T4:Z8,2,0) -> A1 | BA4: =VLOOKUP(AZ4,U4:AI8,8,0) -> 0 | BB4: =RANK(BA4,BA4:BA8) -> 1
A5: =A4 -> 1 | B5: =B4 -> T1 | C5: =U6 -> A3 | F5: =U7 -> A4 | I5: =VLOOKUP(S5,T4:Z8,2,0) -> A2 | J5: =IF(BA5=BA4,BB4,BB5) -> 1 | K5: =VLOOKUP(I5,U4:AI8,8,0) -> 0 | L5: =VLOOKUP(I5,U4:AI8,9,0) -> 0 | M5: =VLOOKUP(I5,U4:AI8,10,0) -> 0 | N5: =VLOOKUP(I5,U4:AI8,11,0) -> 0 | O5: =VLOOKUP(I5,U4:AI8,12,0) -> 0 | P5: =VLOOKUP(I5,U4:AI8,13,0) -> 0 | Q5: =VLOOKUP(I5,U4:AI8,14,0) -> 0 | R5: =VLOOKUP(I5,U4:AI8,15,0) -> 0 | S5: 2 | T5: =AA5 -> 2 | U5: =EQUIPES!B5 -> A2 | AA5: =RANK(AK5,AK4:AK8) -> 2 | AB5: =SUMPRODUCT((C4:C9=U5)*(AL4:AL9))+SUMPRODUCT((F4:F9=U5)*(AM4:AM9)) -> 0 | AC5: =SUMPRODUCT((C4:C9=U5)*(AN4:AN9))+SUMPRODUCT((F4:F9=U5)*(AO4:AO9)) -> 0 | AD5: =SUMPRODUCT((C4:C9=U5)*(AP4:AP9))+SUMPRODUCT((F4:F9=U5)*(AQ4:AQ9)) -> 0 | AE5: =SUMPRODUCT((C4:C9=U5)*(AR4:AR9))+SUMPRODUCT((F4:F9=U5)*(AS4:AS9)) -> 0 | AF5: =SUMPRODUCT((C4:C9=U5)*(AT4:AT9))+SUMPRODUCT((F4:F9=U5)*(AU4:AU9)) -> 0 | AG5: =SUMPRODUCT((C4:C9=U5)*(AV4:AV9))+SUMPRODUCT((F4:F9=U5)*(AW4:AW9)) -> 0 | AH5: =SUMPRODUCT((C4:C9=U5)*(AX4:AX9))+SUMPRODUCT((F4:F9=U5)*(AY4:AY9)) -> 0 | AI5: =AG5-AH5 -> 0 | AJ5: =SUM(AB5*1000+(AI5)/10+(AG5)/100) -> 0 | AK5: =AJ5+0.00003 -> 3e-05 | AL5: =IF(D5="",0,IF(D5>E5,3,IF(D5=E5,1,IF(D5<E5,0)))) -> 0 | AM5: =IF(E5="",0,IF(E5>D5,3,IF(E5=D5,1,IF(E5<D5,0)))) -> 0 | AN5: =IF(D5="",0,1) -> 0 | AO5: =IF(E5="",0,1) -> 0 | AP5: =IF(D5<>"",IF(D5>E5,1)) -> FALSE | AQ5: =IF(E5<>"",IF(E5>D5,1)) -> FALSE | AR5: =IF(D5<>"",IF(D5=E5,1)) -> FALSE | AS5: =IF(E5<>"",IF(E5=D5,1)) -> FALSE | AT5: =IF(D5<>"",IF(D5<E5,1)) -> FALSE | AU5: =IF(E5<>"",IF(E5<D5,1)) -> FALSE | AV5: =D5 -> 0 | AW5: =E5 -> 0 | AX5: =E5 -> 0 | AY5: =D5 -> 0 | AZ5: =VLOOKUP(S5,T4:Z8,2,0) -> A2 | BA5: =VLOOKUP(AZ5,U4:AI8,8,0) -> 0 | BB5: =RANK(BA5,BA4:BA8) -> 1
A6: 3 | B6: T2 | C6: =U8 -> A5 | F6: =U4 -> A1 | I6: =VLOOKUP(S6,T4:Z8,2,0) -> A3 | J6: =IF(BA6=BA5,BB5,BB6) -> 1 | K6: =VLOOKUP(I6,U4:AI8,8,0) -> 0 | L6: =VLOOKUP(I6,U4:AI8,9,0) -> 0 | M6: =VLOOKUP(I6,U4:AI8,10,0) -> 0 | N6: =VLOOKUP(I6,U4:AI8,11,0) -> 0 | O6: =VLOOKUP(I6,U4:AI8,12,0) -> 0 | P6: =VLOOKUP(I6,U4:AI8,13,0) -> 0 | Q6: =VLOOKUP(I6,U4:AI8,14,0) -> 0 | R6: =VLOOKUP(I6,U4:AI8,15,0) -> 0 | S6: 3 | T6: =AA6 -> 3 | U6: =EQUIPES!B6 -> A3 | AA6: =RANK(AK6,AK4:AK8) -> 3 | AB6: =SUMPRODUCT((C4:C9=U6)*(AL4:AL9))+SUMPRODUCT((F4:F9=U6)*(AM4:AM9)) -> 0 | AC6: =SUMPRODUCT((C4:C9=U6)*(AN4:AN9))+SUMPRODUCT((F4:F9=U6)*(AO4:AO9)) -> 0 | AD6: =SUMPRODUCT((C4:C9=U6)*(AP4:AP9))+SUMPRODUCT((F4:F9=U6)*(AQ4:AQ9)) -> 0 | AE6: =SUMPRODUCT((C4:C9=U6)*(AR4:AR9))+SUMPRODUCT((F4:F9=U6)*(AS4:AS9)) -> 0 | AF6: =SUMPRODUCT((C4:C9=U6)*(AT4:AT9))+SUMPRODUCT((F4:F9=U6)*(AU4:AU9)) -> 0 | AG6: =SUMPRODUCT((C4:C9=U6)*(AV4:AV9))+SUMPRODUCT((F4:F9=U6)*(AW4:AW9)) -> 0 | AH6: =SUMPRODUCT((C4:C9=U6)*(AX4:AX9))+SUMPRODUCT((F4:F9=U6)*(AY4:AY9)) -> 0 | AI6: =AG6-AH6 -> 0 | AJ6: =SUM(AB6*1000+(AI6)/10+(AG6)/100) -> 0 | AK6: =AJ6+0.00002 -> 2e-05 | AL6: =IF(D6="",0,IF(D6>E6,3,IF(D6=E6,1,IF(D6<E6,0)))) -> 0 | AM6: =IF(E6="",0,IF(E6>D6,3,IF(E6=D6,1,IF(E6<D6,0)))) -> 0 | AN6: =IF(D6="",0,1) -> 0 | AO6: =IF(E6="",0,1) -> 0 | AP6: =IF(D6<>"",IF(D6>E6,1)) -> FALSE | AQ6: =IF(E6<>"",IF(E6>D6,1)) -> FALSE | AR6: =IF(D6<>"",IF(D6=E6,1)) -> FALSE | AS6: =IF(E6<>"",IF(E6=D6,1)) -> FALSE | AT6: =IF(D6<>"",IF(D6<E6,1)) -> FALSE | AU6: =IF(E6<>"",IF(E6<D6,1)) -> FALSE | AV6: =D6 -> 0 | AW6: =E6 -> 0 | AX6: =E6 -> 0 | AY6: =D6 -> 0 | AZ6: =VLOOKUP(S6,T4:Z8,2,0) -> A3 | BA6: =VLOOKUP(AZ6,U4:AI8,8,0) -> 0 | BB6: =RANK(BA6,BA4:BA8) -> 1
A7: =A6 -> 3 | B7: =B6 -> T2 | C7: =U5 -> A2 | F7: =U6 -> A3 | I7: =VLOOKUP(S7,T4:Z8,2,0) -> A4 | J7: =IF(BA7=BA6,BB6,BB7) -> 1 | K7: =VLOOKUP(I7,U4:AI8,8,0) -> 0 | L7: =VLOOKUP(I7,U4:AI8,9,0) -> 0 | M7: =VLOOKUP(I7,U4:AI8,10,0) -> 0 | N7: =VLOOKUP(I7,U4:AI8,11,0) -> 0 | O7: =VLOOKUP(I7,U4:AI8,12,0) -> 0 | P7: =VLOOKUP(I7,U4:AI8,13,0) -> 0 | Q7: =VLOOKUP(I7,U4:AI8,14,0) -> 0 | R7: =VLOOKUP(I7,U4:AI8,15,0) -> 0 | S7: 4 | T7: =AA7 -> 4 | U7: =EQUIPES!B7 -> A4 | AA7: =RANK(AK7,AK4:AK8) -> 4 | AB7: =SUMPRODUCT((C4:C9=U7)*(AL4:AL9))+SUMPRODUCT((F4:F9=U7)*(AM4:AM9)) -> 0 | AC7: =SUMPRODUCT((C4:C9=U7)*(AN4:AN9))+SUMPRODUCT((F4:F9=U7)*(AO4:AO9)) -> 0 | AD7: =SUMPRODUCT((C4:C9=U7)*(AP4:AP9))+SUMPRODUCT((F4:F9=U7)*(AQ4:AQ9)) -> 0 | AE7: =SUMPRODUCT((C4:C9=U7)*(AR4:AR9))+SUMPRODUCT((F4:F9=U7)*(AS4:AS9)) -> 0 | AF7: =SUMPRODUCT((C4:C9=U7)*(AT4:AT9))+SUMPRODUCT((F4:F9=U7)*(AU4:AU9)) -> 0 | AG7: =SUMPRODUCT((C4:C9=U7)*(AV4:AV9))+SUMPRODUCT((F4:F9=U7)*(AW4:AW9)) -> 0 | AH7: =SUMPRODUCT((C4:C9=U7)*(AX4:AX9))+SUMPRODUCT((F4:F9=U7)*(AY4:AY9)) -> 0 | AI7: =AG7-AH7 -> 0 | AJ7: =SUM(AB7*1000+(AI7)/10+(AG7)/100) -> 0 | AK7: =AJ7+0.00001 -> 1e-05 | AL7: =IF(D7="",0,IF(D7>E7,3,IF(D7=E7,1,IF(D7<E7,0)))) -> 0 | AM7: =IF(E7="",0,IF(E7>D7,3,IF(E7=D7,1,IF(E7<D7,0)))) -> 0 | AN7: =IF(D7="",0,1) -> 0 | AO7: =IF(E7="",0,1) -> 0 | AP7: =IF(D7<>"",IF(D7>E7,1)) -> FALSE | AQ7: =IF(E7<>"",IF(E7>D7,1)) -> FALSE | AR7: =IF(D7<>"",IF(D7=E7,1)) -> FALSE | AS7: =IF(E7<>"",IF(E7=D7,1)) -> FALSE | AT7: =IF(D7<>"",IF(D7<E7,1)) -> FALSE | AU7: =IF(E7<>"",IF(E7<D7,1)) -> FALSE | AV7: =D7 -> 0 | AW7: =E7 -> 0 | AX7: =E7 -> 0 | AY7: =D7 -> 0 | AZ7: =VLOOKUP(S7,T4:Z8,2,0) -> A4 | BA7: =VLOOKUP(AZ7,U4:AI8,8,0) -> 0 | BB7: =RANK(BA7,BA4:BA8) -> 1
A8: 5 | B8: T1 | C8: =U7 -> A4 | F8: =U8 -> A5 | I8: =VLOOKUP(S8,T4:Z8,2,0) -> A5 | J8: =IF(BA8=BA7,BB7,BB8) -> 1 | K8: =VLOOKUP(I8,U4:AI8,8,0) -> 0 | L8: =VLOOKUP(I8,U5:AI8,9,0) -> 0 | M8: =VLOOKUP(I8,U4:AI8,10,0) -> 0 | N8: =VLOOKUP(I8,U4:AI8,11,0) -> 0 | O8: =VLOOKUP(I8,U4:AI8,12,0) -> 0 | P8: =VLOOKUP(I8,U4:AI8,13,0) -> 0 | Q8: =VLOOKUP(I8,U4:AI8,14,0) -> 0 | R8: =VLOOKUP(I8,U4:AI8,15,0) -> 0 | S8: 5 | T8: =AA8 -> 5 | U8: =EQUIPES!B8 -> A5 | AA8: =RANK(AK8,AK4:AK8) -> 5 | AB8: =SUMPRODUCT((C5:C10=U8)*(AL5:AL10))+SUMPRODUCT((F5:F10=U8)*(AM5:AM10)) -> 0 | AC8: =SUMPRODUCT((C5:C10=U8)*(AN5:AN10))+SUMPRODUCT((F5:F10=U8)*(AO5:AO10)) -> 0 | AD8: =SUMPRODUCT((C5:C10=U8)*(AP5:AP10))+SUMPRODUCT((F5:F10=U8)*(AQ5:AQ10)) -> 0 | AE8: =SUMPRODUCT((C5:C10=U8)*(AR5:AR10))+SUMPRODUCT((F5:F10=U8)*(AS5:AS10)) -> 0 | AF8: =SUMPRODUCT((C5:C10=U8)*(AT5:AT10))+SUMPRODUCT((F5:F10=U8)*(AU5:AU10)) -> 0 | AG8: =SUMPRODUCT((C5:C10=U8)*(AV5:AV10))+SUMPRODUCT((F5:F10=U8)*(AW5:AW10)) -> 0 | AH8: =SUMPRODUCT((C5:C10=U8)*(AX5:AX10))+SUMPRODUCT((F5:F10=U8)*(AY5:AY10)) -> 0 | AI8: =AG8-AH8 -> 0 | AJ8: =SUM(AB8*1000+(AI8)/10+(AG8)/100) -> 0 | AK8: =AJ8 -> 0 | AL8: =IF(D8="",0,IF(D8>E8,3,IF(D8=E8,1,IF(D8<E8,0)))) -> 0 | AM8: =IF(E8="",0,IF(E8>D8,3,IF(E8=D8,1,IF(E8<D8,0)))) -> 0 | AN8: =IF(D8="",0,1) -> 0 | AO8: =IF(E8="",0,1) -> 0 | AP8: =IF(D8<>"",IF(D8>E8,1)) -> FALSE | AQ8: =IF(E8<>"",IF(E8>D8,1)) -> FALSE | AR8: =IF(D8<>"",IF(D8=E8,1)) -> FALSE | AS8: =IF(E8<>"",IF(E8=D8,1)) -> FALSE | AT8: =IF(D8<>"",IF(D8<E8,1)) -> FALSE | AU8: =IF(E8<>"",IF(E8<D8,1)) -> FALSE | AV8: =D8 -> 0 | AW8: =E8 -> 0 | AX8: =E8 -> 0 | AY8: =D8 -> 0 | AZ8: =VLOOKUP(S8,T4:Z8,2,0) -> A5 | BA8: =VLOOKUP(AZ8,U4:AI8,8,0) -> 0 | BB8: =RANK(BA8,BA4:BA8) -> 1
A9: =A8 -> 5 | B9: =B8 -> T1 | C9: =U4 -> A1 | F9: =U6 -> A3 | AL9: =IF(D9="",0,IF(D9>E9,3,IF(D9=E9,1,IF(D9<E9,0)))) -> 0 | AM9: =IF(E9="",0,IF(E9>D9,3,IF(E9=D9,1,IF(E9<D9,0)))) -> 0 | AN9: =IF(D9="",0,1) -> 0 | AO9: =IF(E9="",0,1) -> 0 | AP9: =IF(D9<>"",IF(D9>E9,1)) -> FALSE | AQ9: =IF(E9<>"",IF(E9>D9,1)) -> FALSE | AR9: =IF(D9<>"",IF(D9=E9,1)) -> FALSE | AS9: =IF(E9<>"",IF(E9=D9,1)) -> FALSE | AT9: =IF(D9<>"",IF(D9<E9,1)) -> FALSE | AU9: =IF(E9<>"",IF(E9<D9,1)) -> FALSE | AV9: =D9 -> 0 | AW9: =E9 -> 0 | AX9: =E9 -> 0 | AY9: =D9 -> 0
A10: 7 | B10: T2 | C10: =U5 -> A2 | F10: =U7 -> A4 | AL10: =IF(D10="",0,IF(D10>E10,3,IF(D10=E10,1,IF(D10<E10,0)))) -> 0 | AM10: =IF(E10="",0,IF(E10>D10,3,IF(E10=D10,1,IF(E10<D10,0)))) -> 0 | AN10: =IF(D10="",0,1) -> 0 | AO10: =IF(E10="",0,1) -> 0 | AP10: =IF(D10<>"",IF(D10>E10,1)) -> FALSE | AQ10: =IF(E10<>"",IF(E10>D10,1)) -> FALSE | AR10: =IF(D10<>"",IF(D10=E10,1)) -> FALSE | AS10: =IF(E10<>"",IF(E10=D10,1)) -> FALSE | AT10: =IF(D10<>"",IF(D10<E10,1)) -> FALSE | AU10: =IF(E10<>"",IF(E10<D10,1)) -> FALSE | AV10: =D10 -> 0 | AW10: =E10 -> 0 | AX10: =E10 -> 0 | AY10: =D10 -> 0
A11: =A10 -> 7 | B11: =B10 -> T2 | C11: =U8 -> A5 | F11: =U6 -> A3 | AL11: =IF(D11="",0,IF(D11>E11,3,IF(D11=E11,1,IF(D11<E11,0)))) -> 0 | AM11: =IF(E11="",0,IF(E11>D11,3,IF(E11=D11,1,IF(E11<D11,0)))) -> 0 | AN11: =IF(D11="",0,1) -> 0 | AO11: =IF(E11="",0,1) -> 0 | AP11: =IF(D11<>"",IF(D11>E11,1)) -> FALSE | AQ11: =IF(E11<>"",IF(E11>D11,1)) -> FALSE | AR11: =IF(D11<>"",IF(D11=E11,1)) -> FALSE | AS11: =IF(E11<>"",IF(E11=D11,1)) -> FALSE | AT11: =IF(D11<>"",IF(D11<E11,1)) -> FALSE | AU11: =IF(E11<>"",IF(E11<D11,1)) -> FALSE | AV11: =D11 -> 0 | AW11: =E11 -> 0 | AX11: =E11 -> 0 | AY11: =D11 -> 0
A12: 9 | B12: T1 | C12: =U4 -> A1 | F12: =U7 -> A4 | AL12: =IF(D12="",0,IF(D12>E12,3,IF(D12=E12,1,IF(D12<E12,0)))) -> 0 | AM12: =IF(E12="",0,IF(E12>D12,3,IF(E12=D12,1,IF(E12<D12,0)))) -> 0 | AN12: =IF(D12="",0,1) -> 0 | AO12: =IF(E12="",0,1) -> 0 | AP12: =IF(D12<>"",IF(D12>E12,1)) -> FALSE | AQ12: =IF(E12<>"",IF(E12>D12,1)) -> FALSE | AR12: =IF(D12<>"",IF(D12=E12,1)) -> FALSE | AS12: =IF(E12<>"",IF(E12=D12,1)) -> FALSE | AT12: =IF(D12<>"",IF(D12<E12,1)) -> FALSE | AU12: =IF(E12<>"",IF(E12<D12,1)) -> FALSE | AV12: =D12 -> 0 | AW12: =E12 -> 0 | AX12: =E12 -> 0 | AY12: =D12 -> 0
A13: =A12 -> 9 | B13: =B12 -> T1 | C13: =U5 -> A2 | F13: =U8 -> A5 | AL13: =IF(D13="",0,IF(D13>E13,3,IF(D13=E13,1,IF(D13<E13,0)))) -> 0 | AM13: =IF(E13="",0,IF(E13>D13,3,IF(E13=D13,1,IF(E13<D13,0)))) -> 0 | AN13: =IF(D13="",0,1) -> 0 | AO13: =IF(E13="",0,1) -> 0 | AP13: =IF(D13<>"",IF(D13>E13,1)) -> FALSE | AQ13: =IF(E13<>"",IF(E13>D13,1)) -> FALSE | AR13: =IF(D13<>"",IF(D13=E13,1)) -> FALSE | AS13: =IF(E13<>"",IF(E13=D13,1)) -> FALSE | AT13: =IF(D13<>"",IF(D13<E13,1)) -> FALSE | AU13: =IF(E13<>"",IF(E13<D13,1)) -> FALSE | AV13: =D13 -> 0 | AW13: =E13 -> 0 | AX13: =E13 -> 0 | AY13: =D13 -> 0
A16: CATEGORIE 1 | D16: POULE B | G16: POULE B | I16: CLASSEMENT POULE B | U16: CLASSEMENT POULE B
A18: Heure | B18: Terrain | C18: Equipes | D18: Bts | E18: Bts | F18: Equipes | I18: Equipes | J18: Rang | K18: Pts | L18: J | M18: G | N18: N | O18: P | P18: B + | Q18: B - | R18: Diff | T18: Rang | U18: Equipes | AA18: Rang | AB18: Pts | AC18: J | AD18: G | AE18: N | AF18: P | AG18: B + | AH18: B - | AI18: Diff | AJ18: % | AK18: % | AL18: Pts | AM18: Pts | AN18: J | AO18: J | AP18: G | AQ18: G | AR18: N | AS18: N | AT18: P | AU18: P | AV18: B+ | AW18: B+ | AX18: B- | AY18: B- | AZ18: Equipes | BA18: % | BB18: R
A19: =A4 -> 1 | B19: =B4 -> T1 | C19: =U19 -> B1 | F19: =U20 -> B2 | I19: =VLOOKUP(S19,T19:Z22,2,0) -> B1 | J19: 1 | K19: =VLOOKUP(I19,U19:AI22,8,0) -> 0 | L19: =VLOOKUP(I19,U19:AI22,9,0) -> 0 | M19: =VLOOKUP(I19,U19:AI22,10,0) -> 0 | N19: =VLOOKUP(I19,U19:AI22,11,0) -> 0 | O19: =VLOOKUP(I19,U19:AI22,12,0) -> 0 | P19: =VLOOKUP(I19,U19:AI22,13,0) -> 0 | Q19: =VLOOKUP(I19,U19:AI22,14,0) -> 0 | R19: =VLOOKUP(I19,U19:AI22,15,0) -> 0 | S19: 1 | T19: =AA19 -> 1 | U19: =EQUIPES!B11 -> B1 | AA19: =RANK(AK19,AK$19:AK$23) -> 1 | AB19: =SUMPRODUCT((C19:C24=U19)*(AL19:AL24))+SUMPRODUCT((F19:F24=U19)*(AM19:AM24)) -> 0 | AC19: =SUMPRODUCT((C19:C24=U19)*(AN19:AN24))+SUMPRODUCT((F19:F24=U19)*(AO19:AO24)) -> 0 | AD19: =SUMPRODUCT((C19:C24=U19)*(AP19:AP24))+SUMPRODUCT((F19:F24=U19)*(AQ19:AQ24)) -> 0 | AE19: =SUMPRODUCT((C19:C24=U19)*(AR19:AR24))+SUMPRODUCT((F19:F24=U19)*(AS19:AS24)) -> 0 | AF19: =SUMPRODUCT((C19:C24=U19)*(AT19:AT24))+SUMPRODUCT((F19:F24=U19)*(AU19:AU24)) -> 0 | AG19: =SUMPRODUCT((C19:C24=U19)*(AV19:AV24))+SUMPRODUCT((F19:F24=U19)*(AW19:AW24)) -> 0 | AH19: =SUMPRODUCT((C19:C24=U19)*(AX19:AX24))+SUMPRODUCT((F19:F24=U19)*(AY19:AY24)) -> 0 | AI19: =AG19-AH19 -> 0 | AJ19: =SUM(AB19*1000+(AI19)/10+(AG19)/100) -> 0 | AK19: =AJ19+0.00004 -> 4e-05 | AL19: =IF(D19="",0,IF(D19>E19,3,IF(D19=E19,1,IF(D19<E19,0)))) -> 0 | AM19: =IF(E19="",0,IF(E19>D19,3,IF(E19=D19,1,IF(E19<D19,0)))) -> 0 | AN19: =IF(D19="",0,1) -> 0 | AO19: =IF(E19="",0,1) -> 0 | AP19: =IF(D19<>"",IF(D19>E19,1)) -> FALSE | AQ19: =IF(E19<>"",IF(E19>D19,1)) -> FALSE | AR19: =IF(D19<>"",IF(D19=E19,1)) -> FALSE | AS19: =IF(E19<>"",IF(E19=D19,1)) -> FALSE | AT19: =IF(D19<>"",IF(D19<E19,1)) -> FALSE | AU19: =IF(E19<>"",IF(E19<D19,1)) -> FALSE | AV19: =D19 -> 0 | AW19: =E19 -> 0 | AX19: =E19 -> 0 | AY19: =D19 -> 0 | AZ19: =VLOOKUP(S19,T19:Z22,2,0) -> B1 | BA19: =VLOOKUP(AZ19,U$19:AI$23,8,0) -> 0 | BB19: =RANK(BA19,BA19:BA23) -> 1
A20: =A4 -> 1 | B20: =B4 -> T1 | C20: =U21 -> B3 | F20: =U22 -> B4 | I20: =VLOOKUP(S20,T19:Z22,2,0) -> B2 | J20: =IF(BA20=BA19,BB19,BB20) -> 1 | K20: =VLOOKUP(I20,U19:AI22,8,0) -> 0 | L20: =VLOOKUP(I20,U19:AI22,9,0) -> 0 | M20: =VLOOKUP(I20,U19:AI22,10,0) -> 0 | N20: =VLOOKUP(I20,U19:AI22,11,0) -> 0 | O20: =VLOOKUP(I20,U19:AI22,12,0) -> 0 | P20: =VLOOKUP(I20,U19:AI22,13,0) -> 0 | Q20: =VLOOKUP(I20,U19:AI22,14,0) -> 0 | R20: =VLOOKUP(I20,U19:AI22,15,0) -> 0 | S20: 2 | T20: =AA20 -> 2 | U20: =EQUIPES!B12 -> B2 | AA20: =RANK(AK20,AK$19:AK$23) -> 2 | AB20: =SUMPRODUCT((C19:C24=U20)*(AL19:AL24))+SUMPRODUCT((F19:F24=U20)*(AM19:AM24)) -> 0 | AC20: =SUMPRODUCT((C19:C24=U20)*(AN19:AN24))+SUMPRODUCT((F19:F24=U20)*(AO19:AO24)) -> 0 | AD20: =SUMPRODUCT((C19:C24=U20)*(AP19:AP24))+SUMPRODUCT((F19:F24=U20)*(AQ19:AQ24)) -> 0 | AE20: =SUMPRODUCT((C19:C24=U20)*(AR19:AR24))+SUMPRODUCT((F19:F24=U20)*(AS19:AS24)) -> 0 | AF20: =SUMPRODUCT((C19:C24=U20)*(AT19:AT24))+SUMPRODUCT((F19:F24=U20)*(AU19:AU24)) -> 0 | AG20: =SUMPRODUCT((C19:C24=U20)*(AV19:AV24))+SUMPRODUCT((F19:F24=U20)*(AW19:AW24)) -> 0 | AH20: =SUMPRODUCT((C19:C24=U20)*(AX19:AX24))+SUMPRODUCT((F19:F24=U20)*(AY19:AY24)) -> 0 | AI20: =AG20-AH20 -> 0 | AJ20: =SUM(AB20*1000+(AI20)/10+(AG20)/100) -> 0 | AK20: =AJ20+0.00003 -> 3e-05 | AL20: =IF(D20="",0,IF(D20>E20,3,IF(D20=E20,1,IF(D20<E20,0)))) -> 0 | AM20: =IF(E20="",0,IF(E20>D20,3,IF(E20=D20,1,IF(E20<D20,0)))) -> 0 | AN20: =IF(D20="",0,1) -> 0 | AO20: =IF(E20="",0,1) -> 0 | AP20: =IF(D20<>"",IF(D20>E20,1)) -> FALSE | AQ20: =IF(E20<>"",IF(E20>D20,1)) -> FALSE | AR20: =IF(D20<>"",IF(D20=E20,1)) -> FALSE | AS20: =IF(E20<>"",IF(E20=D20,1)) -> FALSE | AT20: =IF(D20<>"",IF(D20<E20,1)) -> FALSE | AU20: =IF(E20<>"",IF(E20<D20,1)) -> FALSE | AV20: =D20 -> 0 | AW20: =E20 -> 0 | AX20: =E20 -> 0 | AY20: =D20 -> 0 | AZ20: =VLOOKUP(S20,T19:Z22,2,0) -> B2 | BA20: =VLOOKUP(AZ20,U$19:AI$23,8,0) -> 0 | BB20: =RANK(BA20,BA19:BA23) -> 1
A21: =A6 -> 3 | B21: =B6 -> T2 | C21: =U19 -> B1 | F21: =U21 -> B3 | I21: =VLOOKUP(S21,T19:Z22,2,0) -> B3 | J21: =IF(BA21=BA20,BB20,BB21) -> 1 | K21: =VLOOKUP(I21,U19:AI22,8,0) -> 0 | L21: =VLOOKUP(I21,U19:AI22,9,0) -> 0 | M21: =VLOOKUP(I21,U19:AI22,10,0) -> 0 | N21: =VLOOKUP(I21,U19:AI22,11,0) -> 0 | O21: =VLOOKUP(I21,U19:AI22,12,0) -> 0 | P21: =VLOOKUP(I21,U19:AI22,13,0) -> 0 | Q21: =VLOOKUP(I21,U19:AI22,14,0) -> 0 | R21: =VLOOKUP(I21,U19:AI22,15,0) -> 0 | S21: 3 | T21: =AA21 -> 3 | U21: =EQUIPES!B13 -> B3 | AA21: =RANK(AK21,AK$19:AK$23) -> 3 | AB21: =SUMPRODUCT((C19:C24=U21)*(AL19:AL24))+SUMPRODUCT((F19:F24=U21)*(AM19:AM24)) -> 0 | AC21: =SUMPRODUCT((C19:C24=U21)*(AN19:AN24))+SUMPRODUCT((F19:F24=U21)*(AO19:AO24)) -> 0 | AD21: =SUMPRODUCT((C19:C24=U21)*(AP19:AP24))+SUMPRODUCT((F19:F24=U21)*(AQ19:AQ24)) -> 0 | AE21: =SUMPRODUCT((C19:C24=U21)*(AR19:AR24))+SUMPRODUCT((F19:F24=U21)*(AS19:AS24)) -> 0 | AF21: =SUMPRODUCT((C19:C24=U21)*(AT19:AT24))+SUMPRODUCT((F19:F24=U21)*(AU19:AU24)) -> 0 | AG21: =SUMPRODUCT((C19:C24=U21)*(AV19:AV24))+SUMPRODUCT((F19:F24=U21)*(AW19:AW24)) -> 0 | AH21: =SUMPRODUCT((C19:C24=U21)*(AX19:AX24))+SUMPRODUCT((F19:F24=U21)*(AY19:AY24)) -> 0 | AI21: =AG21-AH21 -> 0 | AJ21: =SUM(AB21*1000+(AI21)/10+(AG21)/100) -> 0 | AK21: =AJ21+0.00002 -> 2e-05 | AL21: =IF(D21="",0,IF(D21>E21,3,IF(D21=E21,1,IF(D21<E21,0)))) -> 0 | AM21: =IF(E21="",0,IF(E21>D21,3,IF(E21=D21,1,IF(E21<D21,0)))) -> 0 | AN21: =IF(D21="",0,1) -> 0 | AO21: =IF(E21="",0,1) -> 0 | AP21: =IF(D21<>"",IF(D21>E21,1)) -> FALSE | AQ21: =IF(E21<>"",IF(E21>D21,1)) -> FALSE | AR21: =IF(D21<>"",IF(D21=E21,1)) -> FALSE | AS21: =IF(E21<>"",IF(E21=D21,1)) -> FALSE | AT21: =IF(D21<>"",IF(D21<E21,1)) -> FALSE | AU21: =IF(E21<>"",IF(E21<D21,1)) -> FALSE | AV21: =D21 -> 0 | AW21: =E21 -> 0 | AX21: =E21 -> 0 | AY21: =D21 -> 0 | AZ21: =VLOOKUP(S21,T19:Z22,2,0) -> B3 | BA21: =VLOOKUP(AZ21,U$19:AI$23,8,0) -> 0 | BB21: =RANK(BA21,BA19:BA23) -> 1
A22: =A6 -> 3 | B22: =B6 -> T2 | C22: =U20 -> B2 | F22: =U23 -> B5 | I22: =VLOOKUP(S22,T19:Z22,2,0) -> B4 | J22: =IF(BA22=BA21,BB21,BB22) -> 1 | K22: =VLOOKUP(I22,U19:AI22,8,0) -> 0 | L22: =VLOOKUP(I22,U19:AI22,9,0) -> 0 | M22: =VLOOKUP(I22,U19:AI22,10,0) -> 0 | N22: =VLOOKUP(I22,U19:AI22,11,0) -> 0 | O22: =VLOOKUP(I22,U19:AI22,12,0) -> 0 | P22: =VLOOKUP(I22,U19:AI22,13,0) -> 0 | Q22: =VLOOKUP(I22,U19:AI22,14,0) -> 0 | R22: =VLOOKUP(I22,U19:AI22,15,0) -> 0 | S22: 4 | T22: =AA22 -> 4 | U22: =EQUIPES!B14 -> B4 | AA22: =RANK(AK22,AK$19:AK$23) -> 4 | AB22: =SUMPRODUCT((C19:C24=U22)*(AL19:AL24))+SUMPRODUCT((F19:F24=U22)*(AM19:AM24)) -> 0 | AC22: =SUMPRODUCT((C19:C24=U22)*(AN19:AN24))+SUMPRODUCT((F19:F24=U22)*(AO19:AO24)) -> 0 | AD22: =SUMPRODUCT((C19:C24=U22)*(AP19:AP24))+SUMPRODUCT((F19:F24=U22)*(AQ19:AQ24)) -> 0 | AE22: =SUMPRODUCT((C19:C24=U22)*(AR19:AR24))+SUMPRODUCT((F19:F24=U22)*(AS19:AS24)) -> 0 | AF22: =SUMPRODUCT((C19:C24=U22)*(AT19:AT24))+SUMPRODUCT((F19:F24=U22)*(AU19:AU24)) -> 0 | AG22: =SUMPRODUCT((C19:C24=U22)*(AV19:AV24))+SUMPRODUCT((F19:F24=U22)*(AW19:AW24)) -> 0 | AH22: =SUMPRODUCT((C19:C24=U22)*(AX19:AX24))+SUMPRODUCT((F19:F24=U22)*(AY19:AY24)) -> 0 | AI22: =AG22-AH22 -> 0 | AJ22: =SUM(AB22*1000+(AI22)/10+(AG22)/100) -> 0 | AK22: =AJ22+0.00001 -> 1e-05 | AL22: =IF(D22="",0,IF(D22>E22,3,IF(D22=E22,1,IF(D22<E22,0)))) -> 0 | AM22: =IF(E22="",0,IF(E22>D22,3,IF(E22=D22,1,IF(E22<D22,0)))) -> 0 | AN22: =IF(D22="",0,1) -> 0 | AO22: =IF(E22="",0,1) -> 0 | AP22: =IF(D22<>"",IF(D22>E22,1)) -> FALSE | AQ22: =IF(E22<>"",IF(E22>D22,1)) -> FALSE | AR22: =IF(D22<>"",IF(D22=E22,1)) -> FALSE | AS22: =IF(E22<>"",IF(E22=D22,1)) -> FALSE | AT22: =IF(D22<>"",IF(D22<E22,1)) -> FALSE | AU22: =IF(E22<>"",IF(E22<D22,1)) -> FALSE | AV22: =D22 -> 0 | AW22: =E22 -> 0 | AX22: =E22 -> 0 | AY22: =D22 -> 0 | AZ22: =VLOOKUP(S22,T19:Z22,2,0) -> B4 | BA22: =VLOOKUP(AZ22,U$19:AI$23,8,0) -> 0 | BB22: =RANK(BA22,BA19:BA23) -> 1
A23: =A8 -> 5 | B23: =B8 -> T1 | C23: =U19 -> B1 | F23: =U22 -> B4 | I23: =VLOOKUP(S23,T19:Z23,2,0) -> B5 | J23: =IF(BA23=BA22,BB22,BB23) -> 1 | K23: =VLOOKUP(I23,U19:AI23,8,0) -> 0 | L23: =VLOOKUP(I23,U20:AI23,9,0) -> 0 | M23: =VLOOKUP(I23,U19:AI23,10,0) -> 0 | N23: =VLOOKUP(I23,U19:AI23,11,0) -> 0 | O23: =VLOOKUP(I23,U19:AI23,12,0) -> 0 | P23: =VLOOKUP(I23,U19:AI23,13,0) -> 0 | Q23: =VLOOKUP(I23,U19:AI23,14,0) -> 0 | R23: =VLOOKUP(I23,U19:AI23,15,0) -> 0 | S23: 5 | T23: 5 | U23: =EQUIPES!B15 -> B5 | AA23: =RANK(AK23,AK$19:AK$23) -> 5 | AB23: =SUMPRODUCT((C20:C25=U23)*(AL20:AL25))+SUMPRODUCT((F20:F25=U23)*(AM20:AM25)) -> 0 | AC23: =SUMPRODUCT((C20:C25=U23)*(AN20:AN25))+SUMPRODUCT((F20:F25=U23)*(AO20:AO25)) -> 0 | AD23: =SUMPRODUCT((C20:C25=U23)*(AP20:AP25))+SUMPRODUCT((F20:F25=U23)*(AQ20:AQ25)) -> 0 | AE23: =SUMPRODUCT((C20:C25=U23)*(AR20:AR25))+SUMPRODUCT((F20:F25=U23)*(AS20:AS25)) -> 0 | AF23: =SUMPRODUCT((C20:C25=U23)*(AT20:AT25))+SUMPRODUCT((F20:F25=U23)*(AU20:AU25)) -> 0 | AG23: =SUMPRODUCT((C20:C25=U23)*(AV20:AV25))+SUMPRODUCT((F20:F25=U23)*(AW20:AW25)) -> 0 | AH23: =SUMPRODUCT((C20:C25=U23)*(AX20:AX25))+SUMPRODUCT((F20:F25=U23)*(AY20:AY25)) -> 0 | AI23: =AG23-AH23 -> 0 | AJ23: =SUM(AB23*1000+(AI23)/10+(AG23)/100) -> 0 | AK23: =AJ23+0 -> 0 | AL23: =IF(D23="",0,IF(D23>E23,3,IF(D23=E23,1,IF(D23<E23,0)))) -> 0 | AM23: =IF(E23="",0,IF(E23>D23,3,IF(E23=D23,1,IF(E23<D23,0)))) -> 0 | AN23: =IF(D23="",0,1) -> 0 | AO23: =IF(E23="",0,1) -> 0 | AP23: =IF(D23<>"",IF(D23>E23,1)) -> FALSE | AQ23: =IF(E23<>"",IF(E23>D23,1)) -> FALSE | AR23: =IF(D23<>"",IF(D23=E23,1)) -> FALSE | AS23: =IF(E23<>"",IF(E23=D23,1)) -> FALSE | AT23: =IF(D23<>"",IF(D23<E23,1)) -> FALSE | AU23: =IF(E23<>"",IF(E23<D23,1)) -> FALSE | AV23: =D23 -> 0 | AW23: =E23 -> 0 | AX23: =E23 -> 0 | AY23: =D23 -> 0 | AZ23: =VLOOKUP(S23,T19:Z23,2,0) -> B5 | BA23: =VLOOKUP(AZ23,U$19:AI$23,8,0) -> 0 | BB23: =RANK(BA23,BA19:BA23) -> 1
A24: =A8 -> 5 | B24: =B8 -> T1 | C24: =U21 -> B3 | F24: =U23 -> B5 | AL24: =IF(D24="",0,IF(D24>E24,3,IF(D24=E24,1,IF(D24<E24,0)))) -> 0 | AM24: =IF(E24="",0,IF(E24>D24,3,IF(E24=D24,1,IF(E24<D24,0)))) -> 0 | AN24: =IF(D24="",0,1) -> 0 | AO24: =IF(E24="",0,1) -> 0 | AP24: =IF(D24<>"",IF(D24>E24,1)) -> FALSE | AQ24: =IF(E24<>"",IF(E24>D24,1)) -> FALSE | AR24: =IF(D24<>"",IF(D24=E24,1)) -> FALSE | AS24: =IF(E24<>"",IF(E24=D24,1)) -> FALSE | AT24: =IF(D24<>"",IF(D24<E24,1)) -> FALSE | AU24: =IF(E24<>"",IF(E24<D24,1)) -> FALSE | AV24: =D24 -> 0 | AW24: =E24 -> 0 | AX24: =E24 -> 0 | AY24: =D24 -> 0
A25: =A10 -> 7 | B25: =B10 -> T2 | C25: =U19 -> B1 | F25: =U23 -> B5 | AL25: =IF(D25="",0,IF(D25>E25,3,IF(D25=E25,1,IF(D25<E25,0)))) -> 0 | AM25: =IF(E25="",0,IF(E25>D25,3,IF(E25=D25,1,IF(E25<D25,0)))) -> 0 | AN25: =IF(D25="",0,1) -> 0 | AO25: =IF(E25="",0,1) -> 0 | AP25: =IF(D25<>"",IF(D25>E25,1)) -> FALSE | AQ25: =IF(E25<>"",IF(E25>D25,1)) -> FALSE | AR25: =IF(D25<>"",IF(D25=E25,1)) -> FALSE | AS25: =IF(E25<>"",IF(E25=D25,1)) -> FALSE | AT25: =IF(D25<>"",IF(D25<E25,1)) -> FALSE | AU25: =IF(E25<>"",IF(E25<D25,1)) -> FALSE | AV25: =D25 -> 0 | AW25: =E25 -> 0 | AX25: =E25 -> 0 | AY25: =D25 -> 0
A26: =A10 -> 7 | B26: =B10 -> T2 | C26: =U20 -> B2 | F26: =U22 -> B4 | AL26: =IF(D26="",0,IF(D26>E26,3,IF(D26=E26,1,IF(D26<E26,0)))) -> 0 | AM26: =IF(E26="",0,IF(E26>D26,3,IF(E26=D26,1,IF(E26<D26,0)))) -> 0 | AN26: =IF(D26="",0,1) -> 0 | AO26: =IF(E26="",0,1) -> 0 | AP26: =IF(D26<>"",IF(D26>E26,1)) -> FALSE | AQ26: =IF(E26<>"",IF(E26>D26,1)) -> FALSE | AR26: =IF(D26<>"",IF(D26=E26,1)) -> FALSE | AS26: =IF(E26<>"",IF(E26=D26,1)) -> FALSE | AT26: =IF(D26<>"",IF(D26<E26,1)) -> FALSE | AU26: =IF(E26<>"",IF(E26<D26,1)) -> FALSE | AV26: =D26 -> 0 | AW26: =E26 -> 0 | AX26: =E26 -> 0 | AY26: =D26 -> 0
A27: =A12 -> 9 | B27: =B12 -> T1 | C27: =U20 -> B2 | F27: =U21 -> B3 | AL27: =IF(D27="",0,IF(D27>E27,3,IF(D27=E27,1,IF(D27<E27,0)))) -> 0 | AM27: =IF(E27="",0,IF(E27>D27,3,IF(E27=D27,1,IF(E27<D27,0)))) -> 0 | AN27: =IF(D27="",0,1) -> 0 | AO27: =IF(E27="",0,1) -> 0 | AP27: =IF(D27<>"",IF(D27>E27,1)) -> FALSE | AQ27: =IF(E27<>"",IF(E27>D27,1)) -> FALSE | AR27: =IF(D27<>"",IF(D27=E27,1)) -> FALSE | AS27: =IF(E27<>"",IF(E27=D27,1)) -> FALSE | AT27: =IF(D27<>"",IF(D27<E27,1)) -> FALSE | AU27: =IF(E27<>"",IF(E27<D27,1)) -> FALSE | AV27: =D27 -> 0 | AW27: =E27 -> 0 | AX27: =E27 -> 0 | AY27: =D27 -> 0
A28: =A12 -> 9 | B28: =B12 -> T1 | C28: =U23 -> B5 | F28: =U22 -> B4 | AL28: =IF(D28="",0,IF(D28>E28,3,IF(D28=E28,1,IF(D28<E28,0)))) -> 0 | AM28: =IF(E28="",0,IF(E28>D28,3,IF(E28=D28,1,IF(E28<D28,0)))) -> 0 | AN28: =IF(D28="",0,1) -> 0 | AO28: =IF(E28="",0,1) -> 0 | AP28: =IF(D28<>"",IF(D28>E28,1)) -> FALSE | AQ28: =IF(E28<>"",IF(E28>D28,1)) -> FALSE | AR28: =IF(D28<>"",IF(D28=E28,1)) -> FALSE | AS28: =IF(E28<>"",IF(E28=D28,1)) -> FALSE | AT28: =IF(D28<>"",IF(D28<E28,1)) -> FALSE | AU28: =IF(E28<>"",IF(E28<D28,1)) -> FALSE | AV28: =D28 -> 0 | AW28: =E28 -> 0 | AX28: =E28 -> 0 | AY28: =D28 -> 0
A31: CATEGORIE 1 | D31: POULE C | G31: POULE C | I31: CLASSEMENT POULE C | U31: CLASSEMENT POULE C
A33: Heure | B33: Terrain | C33: Equipes | D33: Bts | E33: Bts | F33: Equipes | I33: Equipes | J33: Rang | K33: Pts | L33: J | M33: G | N33: N | O33: P | P33: B + | Q33: B - | R33: Diff | T33: Rang | U33: Equipes | AA33: Rang | AB33: Pts | AC33: J | AD33: G | AE33: N | AF33: P | AG33: B + | AH33: B - | AI33: Diff | AJ33: % | AK33: % | AL33: Pts | AM33: Pts | AN33: J | AO33: J | AP33: G | AQ33: G | AR33: N | AS33: N | AT33: P | AU33: P | AV33: B+ | AW33: B+ | AX33: B- | AY33: B- | AZ33: Equipes | BA33: % | BB33: R
A34: 2 | B34: T3 | C34: =U34 -> C1 | F34: =U35 -> C2 | I34: =VLOOKUP(S34,T34:Z38,2,0) -> C1 | J34: =IF(BA34=BA33,BB33,BB34) -> 1 | K34: =VLOOKUP(I34,U34:AI38,8,0) -> 0 | L34: =VLOOKUP(I34,U34:AI38,9,0) -> 0 | M34: =VLOOKUP(I34,U34:AI38,10,0) -> 0 | N34: =VLOOKUP(I34,U34:AI38,11,0) -> 0 | O34: =VLOOKUP(I34,U34:AI38,12,0) -> 0 | P34: =VLOOKUP(I34,U34:AI38,13,0) -> 0 | Q34: =VLOOKUP(I34,U34:AI38,14,0) -> 0 | R34: =VLOOKUP(I34,U34:AI38,15,0) -> 0 | S34: 1 | T34: =AA34 -> 1 | U34: =EQUIPES!B18 -> C1 | AA34: =RANK(AK34,AK34:AK38) -> 1 | AB34: =SUMPRODUCT((C34:C39=U34)*(AL34:AL39))+SUMPRODUCT((F34:F39=U34)*(AM34:AM39)) -> 0 | AC34: =SUMPRODUCT((C34:C39=U34)*(AN34:AN39))+SUMPRODUCT((F34:F39=U34)*(AO34:AO39)) -> 0 | AD34: =SUMPRODUCT((C34:C39=U34)*(AP34:AP39))+SUMPRODUCT((F34:F39=U34)*(AQ34:AQ39)) -> 0 | AE34: =SUMPRODUCT((C34:C39=U34)*(AR34:AR39))+SUMPRODUCT((F34:F39=U34)*(AS34:AS39)) -> 0 | AF34: =SUMPRODUCT((C34:C39=U34)*(AT34:AT39))+SUMPRODUCT((F34:F39=U34)*(AU34:AU39)) -> 0 | AG34: =SUMPRODUCT((C34:C39=U34)*(AV34:AV39))+SUMPRODUCT((F34:F39=U34)*(AW34:AW39)) -> 0 | AH34: =SUMPRODUCT((C34:C39=U34)*(AX34:AX39))+SUMPRODUCT((F34:F39=U34)*(AY34:AY39)) -> 0 | AI34: =AG34-AH34 -> 0 | AJ34: =SUM(AB34*1000+(AI34)/10+(AG34)/100) -> 0 | AK34: =AJ34+0.00004 -> 4e-05 | AL34: =IF(D34="",0,IF(D34>E34,3,IF(D34=E34,1,IF(D34<E34,0)))) -> 0 | AM34: =IF(E34="",0,IF(E34>D34,3,IF(E34=D34,1,IF(E34<D34,0)))) -> 0 | AN34: =IF(D34="",0,1) -> 0 | AO34: =IF(E34="",0,1) -> 0 | AP34: =IF(D34<>"",IF(D34>E34,1)) -> FALSE | AQ34: =IF(E34<>"",IF(E34>D34,1)) -> FALSE | AR34: =IF(D34<>"",IF(D34=E34,1)) -> FALSE | AS34: =IF(E34<>"",IF(E34=D34,1)) -> FALSE | AT34: =IF(D34<>"",IF(D34<E34,1)) -> FALSE | AU34: =IF(E34<>"",IF(E34<D34,1)) -> FALSE | AV34: =D34 -> 0 | AW34: =E34 -> 0 | AX34: =E34 -> 0 | AY34: =D34 -> 0 | AZ34: =VLOOKUP(S34,T34:Z37,2,0) -> C1 | BA34: =VLOOKUP(AZ34,U$34:AI$38,8,0) -> 0 | BB34: =RANK(BA34,BA$34:BA$38) -> 1
A35: =A34 -> 2 | B35: =B34 -> T3 | C35: =U36 -> C3 | F35: =U37 -> C4 | I35: =VLOOKUP(S35,T34:Z38,2,0) -> C2 | J35: =IF(BA35=BA34,BB34,BB35) -> 1 | K35: =VLOOKUP(I35,U34:AI38,8,0) -> 0 | L35: =VLOOKUP(I35,U34:AI38,9,0) -> 0 | M35: =VLOOKUP(I35,U34:AI38,10,0) -> 0 | N35: =VLOOKUP(I35,U34:AI38,11,0) -> 0 | O35: =VLOOKUP(I35,U34:AI38,12,0) -> 0 | P35: =VLOOKUP(I35,U34:AI38,13,0) -> 0 | Q35: =VLOOKUP(I35,U34:AI38,14,0) -> 0 | R35: =VLOOKUP(I35,U34:AI38,15,0) -> 0 | S35: 2 | T35: =AA35 -> 2 | U35: =EQUIPES!B19 -> C2 | AA35: =RANK(AK35,AK34:AK38) -> 2 | AB35: =SUMPRODUCT((C34:C39=U35)*(AL34:AL39))+SUMPRODUCT((F34:F39=U35)*(AM34:AM39)) -> 0 | AC35: =SUMPRODUCT((C34:C39=U35)*(AN34:AN39))+SUMPRODUCT((F34:F39=U35)*(AO34:AO39)) -> 0 | AD35: =SUMPRODUCT((C34:C39=U35)*(AP34:AP39))+SUMPRODUCT((F34:F39=U35)*(AQ34:AQ39)) -> 0 | AE35: =SUMPRODUCT((C34:C39=U35)*(AR34:AR39))+SUMPRODUCT((F34:F39=U35)*(AS34:AS39)) -> 0 | AF35: =SUMPRODUCT((C34:C39=U35)*(AT34:AT39))+SUMPRODUCT((F34:F39=U35)*(AU34:AU39)) -> 0 | AG35: =SUMPRODUCT((C34:C39=U35)*(AV34:AV39))+SUMPRODUCT((F34:F39=U35)*(AW34:AW39)) -> 0 | AH35: =SUMPRODUCT((C34:C39=U35)*(AX34:AX39))+SUMPRODUCT((F34:F39=U35)*(AY34:AY39)) -> 0 | AI35: =AG35-AH35 -> 0 | AJ35: =SUM(AB35*1000+(AI35)/10+(AG35)/100) -> 0 | AK35: =AJ35+0.00003 -> 3e-05 | AL35: =IF(D35="",0,IF(D35>E35,3,IF(D35=E35,1,IF(D35<E35,0)))) -> 0 | AM35: =IF(E35="",0,IF(E35>D35,3,IF(E35=D35,1,IF(E35<D35,0)))) -> 0 | AN35: =IF(D35="",0,1) -> 0 | AO35: =IF(E35="",0,1) -> 0 | AP35: =IF(D35<>"",IF(D35>E35,1)) -> FALSE | AQ35: =IF(E35<>"",IF(E35>D35,1)) -> FALSE | AR35: =IF(D35<>"",IF(D35=E35,1)) -> FALSE | AS35: =IF(E35<>"",IF(E35=D35,1)) -> FALSE | AT35: =IF(D35<>"",IF(D35<E35,1)) -> FALSE | AU35: =IF(E35<>"",IF(E35<D35,1)) -> FALSE | AV35: =D35 -> 0 | AW35: =E35 -> 0 | AX35: =E35 -> 0 | AY35: =D35 -> 0 | AZ35: =VLOOKUP(S35,T34:Z37,2,0) -> C2 | BA35: =VLOOKUP(AZ35,U$34:AI$38,8,0) -> 0 | BB35: =RANK(BA35,BA$34:BA$38) -> 1
A36: 4 | B36: T4 | C36: =U34 -> C1 | F36: =U36 -> C3 | I36: =VLOOKUP(S36,T34:Z38,2,0) -> C3 | J36: =IF(BA36=BA35,BB35,BB36) -> 1 | K36: =VLOOKUP(I36,U34:AI38,8,0) -> 0 | L36: =VLOOKUP(I36,U34:AI38,9,0) -> 0 | M36: =VLOOKUP(I36,U34:AI38,10,0) -> 0 | N36: =VLOOKUP(I36,U34:AI38,11,0) -> 0 | O36: =VLOOKUP(I36,U34:AI38,12,0) -> 0 | P36: =VLOOKUP(I36,U34:AI38,13,0) -> 0 | Q36: =VLOOKUP(I36,U34:AI38,14,0) -> 0 | R36: =VLOOKUP(I36,U34:AI38,15,0) -> 0 | S36: 3 | T36: =AA36 -> 3 | U36: =EQUIPES!B20 -> C3 | AA36: =RANK(AK36,AK34:AK38) -> 3 | AB36: =SUMPRODUCT((C34:C39=U36)*(AL34:AL39))+SUMPRODUCT((F34:F39=U36)*(AM34:AM39)) -> 0 | AC36: =SUMPRODUCT((C34:C39=U36)*(AN34:AN39))+SUMPRODUCT((F34:F39=U36)*(AO34:AO39)) -> 0 | AD36: =SUMPRODUCT((C34:C39=U36)*(AP34:AP39))+SUMPRODUCT((F34:F39=U36)*(AQ34:AQ39)) -> 0 | AE36: =SUMPRODUCT((C34:C39=U36)*(AR34:AR39))+SUMPRODUCT((F34:F39=U36)*(AS34:AS39)) -> 0 | AF36: =SUMPRODUCT((C34:C39=U36)*(AT34:AT39))+SUMPRODUCT((F34:F39=U36)*(AU34:AU39)) -> 0 | AG36: =SUMPRODUCT((C34:C39=U36)*(AV34:AV39))+SUMPRODUCT((F34:F39=U36)*(AW34:AW39)) -> 0 | AH36: =SUMPRODUCT((C34:C39=U36)*(AX34:AX39))+SUMPRODUCT((F34:F39=U36)*(AY34:AY39)) -> 0 | AI36: =AG36-AH36 -> 0 | AJ36: =SUM(AB36*1000+(AI36)/10+(AG36)/100) -> 0 | AK36: =AJ36+0.00002 -> 2e-05 | AL36: =IF(D36="",0,IF(D36>E36,3,IF(D36=E36,1,IF(D36<E36,0)))) -> 0 | AM36: =IF(E36="",0,IF(E36>D36,3,IF(E36=D36,1,IF(E36<D36,0)))) -> 0 | AN36: =IF(D36="",0,1) -> 0 | AO36: =IF(E36="",0,1) -> 0 | AP36: =IF(D36<>"",IF(D36>E36,1)) -> FALSE | AQ36: =IF(E36<>"",IF(E36>D36,1)) -> FALSE | AR36: =IF(D36<>"",IF(D36=E36,1)) -> FALSE | AS36: =IF(E36<>"",IF(E36=D36,1)) -> FALSE | AT36: =IF(D36<>"",IF(D36<E36,1)) -> FALSE | AU36: =IF(E36<>"",IF(E36<D36,1)) -> FALSE | AV36: =D36 -> 0 | AW36: =E36 -> 0 | AX36: =E36 -> 0 | AY36: =D36 -> 0 | AZ36: =VLOOKUP(S36,T34:Z37,2,0) -> C3 | BA36: =VLOOKUP(AZ36,U$34:AI$38,8,0) -> 0 | BB36: =RANK(BA36,BA$34:BA$38) -> 1
A37: =A36 -> 4 | B37: =B36 -> T4 | C37: =U35 -> C2 | F37: =U38 -> C5 | I37: =VLOOKUP(S37,T34:Z38,2,0) -> C4 | J37: =IF(BA37=BA36,BB36,BB37) -> 1 | K37: =VLOOKUP(I37,U34:AI38,8,0) -> 0 | L37: =VLOOKUP(I37,U34:AI38,9,0) -> 0 | M37: =VLOOKUP(I37,U34:AI38,10,0) -> 0 | N37: =VLOOKUP(I37,U34:AI38,11,0) -> 0 | O37: =VLOOKUP(I37,U34:AI38,12,0) -> 0 | P37: =VLOOKUP(I37,U34:AI38,13,0) -> 0 | Q37: =VLOOKUP(I37,U34:AI38,14,0) -> 0 | R37: =VLOOKUP(I37,U34:AI38,15,0) -> 0 | S37: 4 | T37: =AA37 -> 4 | U37: =EQUIPES!B21 -> C4 | AA37: =RANK(AK37,AK34:AK38) -> 4 | AB37: =SUMPRODUCT((C34:C39=U37)*(AL34:AL39))+SUMPRODUCT((F34:F39=U37)*(AM34:AM39)) -> 0 | AC37: =SUMPRODUCT((C34:C39=U37)*(AN34:AN39))+SUMPRODUCT((F34:F39=U37)*(AO34:AO39)) -> 0 | AD37: =SUMPRODUCT((C34:C39=U37)*(AP34:AP39))+SUMPRODUCT((F34:F39=U37)*(AQ34:AQ39)) -> 0 | AE37: =SUMPRODUCT((C34:C39=U37)*(AR34:AR39))+SUMPRODUCT((F34:F39=U37)*(AS34:AS39)) -> 0 | AF37: =SUMPRODUCT((C34:C39=U37)*(AT34:AT39))+SUMPRODUCT((F34:F39=U37)*(AU34:AU39)) -> 0 | AG37: =SUMPRODUCT((C34:C39=U37)*(AV34:AV39))+SUMPRODUCT((F34:F39=U37)*(AW34:AW39)) -> 0 | AH37: =SUMPRODUCT((C34:C39=U37)*(AX34:AX39))+SUMPRODUCT((F34:F39=U37)*(AY34:AY39)) -> 0 | AI37: =AG37-AH37 -> 0 | AJ37: =SUM(AB37*1000+(AI37)/10+(AG37)/100) -> 0 | AK37: =AJ37+0.00001 -> 1e-05 | AL37: =IF(D37="",0,IF(D37>E37,3,IF(D37=E37,1,IF(D37<E37,0)))) -> 0 | AM37: =IF(E37="",0,IF(E37>D37,3,IF(E37=D37,1,IF(E37<D37,0)))) -> 0 | AN37: =IF(D37="",0,1) -> 0 | AO37: =IF(E37="",0,1) -> 0 | AP37: =IF(D37<>"",IF(D37>E37,1)) -> FALSE | AQ37: =IF(E37<>"",IF(E37>D37,1)) -> FALSE | AR37: =IF(D37<>"",IF(D37=E37,1)) -> FALSE | AS37: =IF(E37<>"",IF(E37=D37,1)) -> FALSE | AT37: =IF(D37<>"",IF(D37<E37,1)) -> FALSE | AU37: =IF(E37<>"",IF(E37<D37,1)) -> FALSE | AV37: =D37 -> 0 | AW37: =E37 -> 0 | AX37: =E37 -> 0 | AY37: =D37 -> 0 | AZ37: =VLOOKUP(S37,T34:Z37,2,0) -> C4 | BA37: =VLOOKUP(AZ37,U$34:AI$38,8,0) -> 0 | BB37: =RANK(BA37,BA$34:BA$38) -> 1
A38: 6 | B38: T3 | C38: =U34 -> C1 | F38: =U37 -> C4 | I38: =VLOOKUP(S38,T34:Z38,2,0) -> C5 | J38: =IF(BA38=BA37,BB37,BB38) -> 1 | K38: =VLOOKUP(I38,U34:AI38,8,0) -> 0 | L38: =VLOOKUP(I38,U35:AI38,9,0) -> 0 | M38: =VLOOKUP(I38,U34:AI38,10,0) -> 0 | N38: =VLOOKUP(I38,U34:AI38,11,0) -> 0 | O38: =VLOOKUP(I38,U34:AI38,12,0) -> 0 | P38: =VLOOKUP(I38,U34:AI38,13,0) -> 0 | Q38: =VLOOKUP(I38,U34:AI38,14,0) -> 0 | R38: =VLOOKUP(I38,U34:AI38,15,0) -> 0 | S38: 5 | T38: 5 | U38: =EQUIPES!B22 -> C5 | AA38: =RANK(AK38,AK34:AK38) -> 5 | AB38: =SUMPRODUCT((C35:C40=U38)*(AL35:AL40))+SUMPRODUCT((F35:F40=U38)*(AM35:AM40)) -> 0 | AC38: =SUMPRODUCT((C35:C40=U38)*(AN35:AN40))+SUMPRODUCT((F35:F40=U38)*(AO35:AO40)) -> 0 | AD38: =SUMPRODUCT((C35:C40=U38)*(AP35:AP40))+SUMPRODUCT((F35:F40=U38)*(AQ35:AQ40)) -> 0 | AE38: =SUMPRODUCT((C35:C40=U38)*(AR35:AR40))+SUMPRODUCT((F35:F40=U38)*(AS35:AS40)) -> 0 | AF38: =SUMPRODUCT((C35:C40=U38)*(AT35:AT40))+SUMPRODUCT((F35:F40=U38)*(AU35:AU40)) -> 0 | AG38: =SUMPRODUCT((C35:C40=U38)*(AV35:AV40))+SUMPRODUCT((F35:F40=U38)*(AW35:AW40)) -> 0 | AH38: =SUMPRODUCT((C35:C40=U38)*(AX35:AX40))+SUMPRODUCT((F35:F40=U38)*(AY35:AY40)) -> 0 | AI38: =AG38-AH38 -> 0 | AJ38: =SUM(AB38*1000+(AI38)/10+(AG38)/100) -> 0 | AK38: =AJ38+0 -> 0 | AL38: =IF(D38="",0,IF(D38>E38,3,IF(D38=E38,1,IF(D38<E38,0)))) -> 0 | AM38: =IF(E38="",0,IF(E38>D38,3,IF(E38=D38,1,IF(E38<D38,0)))) -> 0 | AN38: =IF(D38="",0,1) -> 0 | AO38: =IF(E38="",0,1) -> 0 | AP38: =IF(D38<>"",IF(D38>E38,1)) -> FALSE | AQ38: =IF(E38<>"",IF(E38>D38,1)) -> FALSE | AR38: =IF(D38<>"",IF(D38=E38,1)) -> FALSE | AS38: =IF(E38<>"",IF(E38=D38,1)) -> FALSE | AT38: =IF(D38<>"",IF(D38<E38,1)) -> FALSE | AU38: =IF(E38<>"",IF(E38<D38,1)) -> FALSE | AV38: =D38 -> 0 | AW38: =E38 -> 0 | AX38: =E38 -> 0 | AY38: =D38 -> 0 | AZ38: =VLOOKUP(S38,T34:Z38,2,0) -> C5 | BA38: =VLOOKUP(AZ38,U$34:AI$38,8,0) -> 0 | BB38: =RANK(BA38,BA$34:BA$38) -> 1
A39: =A38 -> 6 | B39: =B38 -> T3 | C39: =U36 -> C3 | F39: =U38 -> C5
A40: 8 | B40: T4 | C40: =U34 -> C1 | F40: =U38 -> C5
A41: =A40 -> 8 | B41: =B40 -> T4 | C41: =U35 -> C2 | F41: =U37 -> C4
A42: 10 | B42: T3 | C42: =U35 -> C2 | F42: =U36 -> C3
A43: =A42 -> 10 | B43: =B42 -> T3 | C43: =U38 -> C5 | F43: =U37 -> C4
A46: CATEGORIE 1 | D46: POULE D | G46: POULE D | I46: CLASSEMENT POULE D | U46: CLASSEMENT POULE D
A48: Heure | B48: Terrain | C48: Equipes | D48: Bts | E48: Bts | F48: Equipes | I48: Equipes | J48: Rang | K48: Pts | L48: J | M48: G | N48: N | O48: P | P48: B + | Q48: B - | R48: Diff | T48: Rang | U48: Equipes | AA48: Rang | AB48: Pts | AC48: J | AD48: G | AE48: N | AF48: P | AG48: B + | AH48: B - | AI48: Diff | AJ48: % | AK48: % | AL48: Pts | AM48: Pts | AN48: J | AO48: J | AP48: G | AQ48: G | AR48: N | AS48: N | AT48: P | AU48: P | AV48: B+ | AW48: B+ | AX48: B- | AY48: B- | AZ48: Equipes | BA48: % | BB48: R
A49: =A34 -> 2 | B49: =B34 -> T3 | C49: =U49 -> D1 | F49: =U50 -> D2 | I49: =VLOOKUP(S49,T49:Z52,2,0) -> D1 | J49: 1 | K49: =VLOOKUP(I49,U49:AI52,8,0) -> 0 | L49: =VLOOKUP(I49,U49:AI52,9,0) -> 0 | M49: =VLOOKUP(I49,U49:AI52,10,0) -> 0 | N49: =VLOOKUP(I49,U49:AI52,11,0) -> 0 | O49: =VLOOKUP(I49,U49:AI52,12,0) -> 0 | P49: =VLOOKUP(I49,U49:AI52,13,0) -> 0 | Q49: =VLOOKUP(I49,U49:AI52,14,0) -> 0 | R49: =VLOOKUP(I49,U49:AI52,15,0) -> 0 | S49: 1 | T49: =AA49 -> 1 | U49: =EQUIPES!B25 -> D1 | AA49: =RANK(AK49,AK49:AK52) -> 1 | AB49: =SUMPRODUCT((C49:C54=U49)*(AL49:AL54))+SUMPRODUCT((F49:F54=U49)*(AM49:AM54)) -> 0 | AC49: =SUMPRODUCT((C49:C54=U49)*(AN49:AN54))+SUMPRODUCT((F49:F54=U49)*(AO49:AO54)) -> 0 | AD49: =SUMPRODUCT((C49:C54=U49)*(AP49:AP54))+SUMPRODUCT((F49:F54=U49)*(AQ49:AQ54)) -> 0 | AE49: =SUMPRODUCT((C49:C54=U49)*(AR49:AR54))+SUMPRODUCT((F49:F54=U49)*(AS49:AS54)) -> 0 | AF49: =SUMPRODUCT((C49:C54=U49)*(AT49:AT54))+SUMPRODUCT((F49:F54=U49)*(AU49:AU54)) -> 0 | AG49: =SUMPRODUCT((C49:C54=U49)*(AV49:AV54))+SUMPRODUCT((F49:F54=U49)*(AW49:AW54)) -> 0 | AH49: =SUMPRODUCT((C49:C54=U49)*(AX49:AX54))+SUMPRODUCT((F49:F54=U49)*(AY49:AY54)) -> 0 | AI49: =AG49-AH49 -> 0 | AJ49: =SUM(AB49*1000+(AI49)/10+(AG49)/100) -> 0 | AK49: =AJ49+0.00004 -> 4e-05 | AL49: =IF(D49="",0,IF(D49>E49,3,IF(D49=E49,1,IF(D49<E49,0)))) -> 0 | AM49: =IF(E49="",0,IF(E49>D49,3,IF(E49=D49,1,IF(E49<D49,0)))) -> 0 | AN49: =IF(D49="",0,1) -> 0 | AO49: =IF(E49="",0,1) -> 0 | AP49: =IF(D49<>"",IF(D49>E49,1)) -> FALSE | AQ49: =IF(E49<>"",IF(E49>D49,1)) -> FALSE | AR49: =IF(D49<>"",IF(D49=E49,1)) -> FALSE | AS49: =IF(E49<>"",IF(E49=D49,1)) -> FALSE | AT49: =IF(D49<>"",IF(D49<E49,1)) -> FALSE | AU49: =IF(E49<>"",IF(E49<D49,1)) -> FALSE | AV49: =D49 -> 0 | AW49: =E49 -> 0 | AX49: =E49 -> 0 | AY49: =D49 -> 0 | AZ49: =VLOOKUP(S49,T49:Z52,2,0) -> D1 | BA49: =VLOOKUP(AZ49,U$49:AI$53,8,0) -> 0 | BB49: =RANK(BA49,BA49:BA53) -> 1
A50: =A34 -> 2 | B50: =B34 -> T3 | C50: =U51 -> D3 | F50: =U52 -> D4 | I50: =VLOOKUP(S50,T49:Z52,2,0) -> D2 | J50: =IF(BA50=BA49,BB49,BB50) -> 1 | K50: =VLOOKUP(I50,U49:AI52,8,0) -> 0 | L50: =VLOOKUP(I50,U49:AI52,9,0) -> 0 | M50: =VLOOKUP(I50,U49:AI52,10,0) -> 0 | N50: =VLOOKUP(I50,U49:AI52,11,0) -> 0 | O50: =VLOOKUP(I50,U49:AI52,12,0) -> 0 | P50: =VLOOKUP(I50,U49:AI52,13,0) -> 0 | Q50: =VLOOKUP(I50,U49:AI52,14,0) -> 0 | R50: =VLOOKUP(I50,U49:AI52,15,0) -> 0 | S50: 2 | T50: =AA50 -> 2 | U50: =EQUIPES!B26 -> D2 | AA50: =RANK(AK50,AK49:AK52) -> 2 | AB50: =SUMPRODUCT((C49:C54=U50)*(AL49:AL54))+SUMPRODUCT((F49:F54=U50)*(AM49:AM54)) -> 0 | AC50: =SUMPRODUCT((C49:C54=U50)*(AN49:AN54))+SUMPRODUCT((F49:F54=U50)*(AO49:AO54)) -> 0 | AD50: =SUMPRODUCT((C49:C54=U50)*(AP49:AP54))+SUMPRODUCT((F49:F54=U50)*(AQ49:AQ54)) -> 0 | AE50: =SUMPRODUCT((C49:C54=U50)*(AR49:AR54))+SUMPRODUCT((F49:F54=U50)*(AS49:AS54)) -> 0 | AF50: =SUMPRODUCT((C49:C54=U50)*(AT49:AT54))+SUMPRODUCT((F49:F54=U50)*(AU49:AU54)) -> 0 | AG50: =SUMPRODUCT((C49:C54=U50)*(AV49:AV54))+SUMPRODUCT((F49:F54=U50)*(AW49:AW54)) -> 0 | AH50: =SUMPRODUCT((C49:C54=U50)*(AX49:AX54))+SUMPRODUCT((F49:F54=U50)*(AY49:AY54)) -> 0 | AI50: =AG50-AH50 -> 0 | AJ50: =SUM(AB50*1000+(AI50)/10+(AG50)/100) -> 0 | AK50: =AJ50+0.00003 -> 3e-05 | AL50: =IF(D50="",0,IF(D50>E50,3,IF(D50=E50,1,IF(D50<E50,0)))) -> 0 | AM50: =IF(E50="",0,IF(E50>D50,3,IF(E50=D50,1,IF(E50<D50,0)))) -> 0 | AN50: =IF(D50="",0,1) -> 0 | AO50: =IF(E50="",0,1) -> 0 | AP50: =IF(D50<>"",IF(D50>E50,1)) -> FALSE | AQ50: =IF(E50<>"",IF(E50>D50,1)) -> FALSE | AR50: =IF(D50<>"",IF(D50=E50,1)) -> FALSE | AS50: =IF(E50<>"",IF(E50=D50,1)) -> FALSE | AT50: =IF(D50<>"",IF(D50<E50,1)) -> FALSE | AU50: =IF(E50<>"",IF(E50<D50,1)) -> FALSE | AV50: =D50 -> 0 | AW50: =E50 -> 0 | AX50: =E50 -> 0 | AY50: =D50 -> 0 | AZ50: =VLOOKUP(S50,T49:Z52,2,0) -> D2 | BA50: =VLOOKUP(AZ50,U$49:AI$53,8,0) -> 0 | BB50: =RANK(BA50,BA49:BA53) -> 1
A51: =A36 -> 4 | B51: =B36 -> T4 | C51: =U49 -> D1 | F51: =U51 -> D3 | I51: =VLOOKUP(S51,T49:Z52,2,0) -> D3 | J51: =IF(BA51=BA50,BB50,BB51) -> 1 | K51: =VLOOKUP(I51,U49:AI52,8,0) -> 0 | L51: =VLOOKUP(I51,U49:AI52,9,0) -> 0 | M51: =VLOOKUP(I51,U49:AI52,10,0) -> 0 | N51: =VLOOKUP(I51,U49:AI52,11,0) -> 0 | O51: =VLOOKUP(I51,U49:AI52,12,0) -> 0 | P51: =VLOOKUP(I51,U49:AI52,13,0) -> 0 | Q51: =VLOOKUP(I51,U49:AI52,14,0) -> 0 | R51: =VLOOKUP(I51,U49:AI52,15,0) -> 0 | S51: 3 | T51: =AA51 -> 3 | U51: =EQUIPES!B27 -> D3 | AA51: =RANK(AK51,AK49:AK52) -> 3 | AB51: =SUMPRODUCT((C49:C54=U51)*(AL49:AL54))+SUMPRODUCT((F49:F54=U51)*(AM49:AM54)) -> 0 | AC51: =SUMPRODUCT((C49:C54=U51)*(AN49:AN54))+SUMPRODUCT((F49:F54=U51)*(AO49:AO54)) -> 0 | AD51: =SUMPRODUCT((C49:C54=U51)*(AP49:AP54))+SUMPRODUCT((F49:F54=U51)*(AQ49:AQ54)) -> 0 | AE51: =SUMPRODUCT((C49:C54=U51)*(AR49:AR54))+SUMPRODUCT((F49:F54=U51)*(AS49:AS54)) -> 0 | AF51: =SUMPRODUCT((C49:C54=U51)*(AT49:AT54))+SUMPRODUCT((F49:F54=U51)*(AU49:AU54)) -> 0 | AG51: =SUMPRODUCT((C49:C54=U51)*(AV49:AV54))+SUMPRODUCT((F49:F54=U51)*(AW49:AW54)) -> 0 | AH51: =SUMPRODUCT((C49:C54=U51)*(AX49:AX54))+SUMPRODUCT((F49:F54=U51)*(AY49:AY54)) -> 0 | AI51: =AG51-AH51 -> 0 | AJ51: =SUM(AB51*1000+(AI51)/10+(AG51)/100) -> 0 | AK51: =AJ51+0.00002 -> 2e-05 | AL51: =IF(D51="",0,IF(D51>E51,3,IF(D51=E51,1,IF(D51<E51,0)))) -> 0 | AM51: =IF(E51="",0,IF(E51>D51,3,IF(E51=D51,1,IF(E51<D51,0)))) -> 0 | AN51: =IF(D51="",0,1) -> 0 | AO51: =IF(E51="",0,1) -> 0 | AP51: =IF(D51<>"",IF(D51>E51,1)) -> FALSE | AQ51: =IF(E51<>"",IF(E51>D51,1)) -> FALSE | AR51: =IF(D51<>"",IF(D51=E51,1)) -> FALSE | AS51: =IF(E51<>"",IF(E51=D51,1)) -> FALSE | AT51: =IF(D51<>"",IF(D51<E51,1)) -> FALSE | AU51: =IF(E51<>"",IF(E51<D51,1)) -> FALSE | AV51: =D51 -> 0 | AW51: =E51 -> 0 | AX51: =E51 -> 0 | AY51: =D51 -> 0 | AZ51: =VLOOKUP(S51,T49:Z52,2,0) -> D3 | BA51: =VLOOKUP(AZ51,U$49:AI$53,8,0) -> 0 | BB51: =RANK(BA51,BA49:BA53) -> 1
A52: =A36 -> 4 | B52: =B36 -> T4 | C52: =U50 -> D2 | F52: =U53 -> D5 | I52: =VLOOKUP(S52,T49:Z52,2,0) -> D4 | J52: =IF(BA52=BA51,BB51,BB52) -> 1 | K52: =VLOOKUP(I52,U49:AI52,8,0) -> 0 | L52: =VLOOKUP(I52,U49:AI52,9,0) -> 0 | M52: =VLOOKUP(I52,U49:AI52,10,0) -> 0 | N52: =VLOOKUP(I52,U49:AI52,11,0) -> 0 | O52: =VLOOKUP(I52,U49:AI52,12,0) -> 0 | P52: =VLOOKUP(I52,U49:AI52,13,0) -> 0 | Q52: =VLOOKUP(I52,U49:AI52,14,0) -> 0 | R52: =VLOOKUP(I52,U49:AI52,15,0) -> 0 | S52: 4 | T52: =AA52 -> 4 | U52: =EQUIPES!B28 -> D4 | AA52: =RANK(AK52,AK49:AK52) -> 4 | AB52: =SUMPRODUCT((C49:C54=U52)*(AL49:AL54))+SUMPRODUCT((F49:F54=U52)*(AM49:AM54)) -> 0 | AC52: =SUMPRODUCT((C49:C54=U52)*(AN49:AN54))+SUMPRODUCT((F49:F54=U52)*(AO49:AO54)) -> 0 | AD52: =SUMPRODUCT((C49:C54=U52)*(AP49:AP54))+SUMPRODUCT((F49:F54=U52)*(AQ49:AQ54)) -> 0 | AE52: =SUMPRODUCT((C49:C54=U52)*(AR49:AR54))+SUMPRODUCT((F49:F54=U52)*(AS49:AS54)) -> 0 | AF52: =SUMPRODUCT((C49:C54=U52)*(AT49:AT54))+SUMPRODUCT((F49:F54=U52)*(AU49:AU54)) -> 0 | AG52: =SUMPRODUCT((C49:C54=U52)*(AV49:AV54))+SUMPRODUCT((F49:F54=U52)*(AW49:AW54)) -> 0 | AH52: =SUMPRODUCT((C49:C54=U52)*(AX49:AX54))+SUMPRODUCT((F49:F54=U52)*(AY49:AY54)) -> 0 | AI52: =AG52-AH52 -> 0 | AJ52: =SUM(AB52*1000+(AI52)/10+(AG52)/100) -> 0 | AK52: =AJ52+0.00001 -> 1e-05 | AL52: =IF(D52="",0,IF(D52>E52,3,IF(D52=E52,1,IF(D52<E52,0)))) -> 0 | AM52: =IF(E52="",0,IF(E52>D52,3,IF(E52=D52,1,IF(E52<D52,0)))) -> 0 | AN52: =IF(D52="",0,1) -> 0 | AO52: =IF(E52="",0,1) -> 0 | AP52: =IF(D52<>"",IF(D52>E52,1)) -> FALSE | AQ52: =IF(E52<>"",IF(E52>D52,1)) -> FALSE | AR52: =IF(D52<>"",IF(D52=E52,1)) -> FALSE | AS52: =IF(E52<>"",IF(E52=D52,1)) -> FALSE | AT52: =IF(D52<>"",IF(D52<E52,1)) -> FALSE | AU52: =IF(E52<>"",IF(E52<D52,1)) -> FALSE | AV52: =D52 -> 0 | AW52: =E52 -> 0 | AX52: =E52 -> 0 | AY52: =D52 -> 0 | AZ52: =VLOOKUP(S52,T49:Z52,2,0) -> D4 | BA52: =VLOOKUP(AZ52,U$49:AI$53,8,0) -> 0 | BB52: =RANK(BA52,BA49:BA53) -> 1
A53: =A38 -> 6 | B53: =B38 -> T3 | C53: =U49 -> D1 | F53: =U52 -> D4 | I53: =VLOOKUP(S53,T49:Z53,2,0) -> D5 | J53: =IF(BA53=BA52,BB52,BB53) -> 1 | K53: =VLOOKUP(I53,U49:AI53,8,0) -> 0 | L53: =VLOOKUP(I53,U50:AI53,9,0) -> 0 | M53: =VLOOKUP(I53,U49:AI53,10,0) -> 0 | N53: =VLOOKUP(I53,U49:AI53,11,0) -> 0 | O53: =VLOOKUP(I53,U49:AI53,12,0) -> 0 | P53: =VLOOKUP(I53,U49:AI53,13,0) -> 0 | Q53: =VLOOKUP(I53,U49:AI53,14,0) -> 0 | R53: =VLOOKUP(I53,U49:AI53,15,0) -> 0 | S53: 5 | T53: 5 | U53: =EQUIPES!B29 -> D5 | AA53: =RANK(AK53,AK49:AK53) -> 5 | AB53: =SUMPRODUCT((C50:C55=U53)*(AL50:AL55))+SUMPRODUCT((F50:F55=U53)*(AM50:AM55)) -> 0 | AC53: =SUMPRODUCT((C50:C55=U53)*(AN50:AN55))+SUMPRODUCT((F50:F55=U53)*(AO50:AO55)) -> 0 | AD53: =SUMPRODUCT((C50:C55=U53)*(AP50:AP55))+SUMPRODUCT((F50:F55=U53)*(AQ50:AQ55)) -> 0 | AE53: =SUMPRODUCT((C50:C55=U53)*(AR50:AR55))+SUMPRODUCT((F50:F55=U53)*(AS50:AS55)) -> 0 | AF53: =SUMPRODUCT((C50:C55=U53)*(AT50:AT55))+SUMPRODUCT((F50:F55=U53)*(AU50:AU55)) -> 0 | AG53: =SUMPRODUCT((C50:C55=U53)*(AV50:AV55))+SUMPRODUCT((F50:F55=U53)*(AW50:AW55)) -> 0 | AH53: =SUMPRODUCT((C50:C55=U53)*(AX50:AX55))+SUMPRODUCT((F50:F55=U53)*(AY50:AY55)) -> 0 | AI53: =AG53-AH53 -> 0 | AJ53: =SUM(AB53*1000+(AI53)/10+(AG53)/100) -> 0 | AK53: =AJ53+0 -> 0 | AL53: =IF(D53="",0,IF(D53>E53,3,IF(D53=E53,1,IF(D53<E53,0)))) -> 0 | AM53: =IF(E53="",0,IF(E53>D53,3,IF(E53=D53,1,IF(E53<D53,0)))) -> 0 | AN53: =IF(D53="",0,1) -> 0 | AO53: =IF(E53="",0,1) -> 0 | AP53: =IF(D53<>"",IF(D53>E53,1)) -> FALSE | AQ53: =IF(E53<>"",IF(E53>D53,1)) -> FALSE | AR53: =IF(D53<>"",IF(D53=E53,1)) -> FALSE | AS53: =IF(E53<>"",IF(E53=D53,1)) -> FALSE | AT53: =IF(D53<>"",IF(D53<E53,1)) -> FALSE | AU53: =IF(E53<>"",IF(E53<D53,1)) -> FALSE | AV53: =D53 -> 0 | AW53: =E53 -> 0 | AX53: =E53 -> 0 | AY53: =D53 -> 0 | AZ53: =VLOOKUP(S53,T49:Z53,2,0) -> D5 | BA53: =VLOOKUP(AZ53,U$49:AI$53,8,0) -> 0 | BB53: =RANK(BA53,BA49:BA53) -> 1
A54: =A38 -> 6 | B54: =B38 -> T3 | C54: =U51 -> D3 | F54: =U53 -> D5
A55: =A40 -> 8 | B55: =B40 -> T4 | C55: =U49 -> D1 | F55: =U53 -> D5
A56: =A40 -> 8 | B56: =B40 -> T4 | C56: =U50 -> D2 | F56: =U52 -> D4
A57: =A42 -> 10 | B57: =B42 -> T3 | C57: =U50 -> D2 | F57: =U51 -> D3
A58: =A42 -> 10 | B58: =B42 -> T3 | C58: =U53 -> D5 | F58: =U52 -> D4

Sheet CATEGORIE1
A2: TOURNOI PRINCIPAL | L2: TOURNOI COMPLEMENTAIRE
B5: Heure | C5: Terrain | D5: Equipes | E5: Buts | F5: Péna | P5: Péna | Q5: Buts | R5: Equipes | S5: Terrain | T5: Heure
D6: ='CATEGORIE1-POULES'!I4 -> A1 | E6: 1 | R6: ='CATEGORIE1-POULES'!I6 -> A3 | S6: 1
D7: ='CATEGORIE1-POULES'!I50 -> D2 | E7: 0 | R7: ='CATEGORIE1-POULES'!I52 -> D4 | S7: 0
B9: Péna | C9: Terrain | D9: Equipes | E9: Buts | F9: Heure | P9: Péna | Q9: Buts | R9: Equipes | S9: Terrain | T9: Heure
D10: ='CATEGORIE1-POULES'!I19 -> B1 | E10: 1 | R10: ='CATEGORIE1-POULES'!I21 -> B3 | S10: 1
D11: ='CATEGORIE1-POULES'!I35 -> C2 | E11: 0 | R11: ='CATEGORIE1-POULES'!I37 -> C4 | S11: 0
B13: Péna | C13: Terrain | D13: Equipes | E13: Buts | F13: Heure | P13: Péna | Q13: Buts | R13: Equipes | S13: Terrain | T13: Heure
D14: ='CATEGORIE1-POULES'!I34 -> C1 | E14: 1 | R14: ='CATEGORIE1-POULES'!I36 -> C3 | S14: 1
D15: ='CATEGORIE1-POULES'!I5 -> A2 | E15: 0 | R15: ='CATEGORIE1-POULES'!I7 -> A4 | S15: 0
B17: Péna | C17: Terrain | D17: Equipes | E17: Buts | F17: Heure | P17: Péna | Q17: Buts | R17: Equipes | S17: Terrain | T17: Heure
D18: ='CATEGORIE1-POULES'!I49 -> D1 | E18: 1 | R18: ='CATEGORIE1-POULES'!I51 -> D3 | S18: 1
D19: ='CATEGORIE1-POULES'!I20 -> B2 | E19: 0 | R19: ='CATEGORIE1-POULES'!I22 -> B4 | S19: 0
B24: Heure | C24: Terrain | D24: Equipes | E24: Buts | F24: Péna | P24: Heure | Q24: Terrain | R24: Equipes | S24: Buts | T24: Péna
D25: =IF(D46=D7,D6,D7) -> D2 | E25: 1 | H25: PLACE POUR LES | R25: =IF(R46=R7,R6,R7) -> D4 | S25: 1
D26: =IF(D47=D10,D11,D10) -> C2 | E26: 0 | R26: =IF(R47=R10,R11,R10) -> C4 | S26: 0
H27: 5 - 6 - 7 - 8 | L27: 13 - 14 - 15 - 16
B28: Heure | C28: Terrain | D28: Equipes | E28: Buts | F28: Péna | P28: Heure | Q28: Terrain | R28: Equipes | S28: Buts | T28: Péna
D29: =IF(D50=D14,D15,D14) -> A2 | E29: 1 | R29: =IF(R50=R14,R15,R14) -> A4 | S29: 1
D30: =IF(D51=D18,D19,D18) -> B2 | E30: 0 | R30: =IF(R51=R18,R19,R18) -> B4 | S30: 0
B34: Heure | C34: Terrain | D34: Equipes | E34: Buts | F34: Péna | H34: PLACE POUR LES | P34: Heure | Q34: Terrain | R34: Equipes | S34: Buts | T34: Péna | Y34: PLACE POUR LES
D35: =IF(D39=D25,D26,D25) -> C2 | E35: 1 | H35: 7 - 8 | L35: 15 - 16 | R35: =IF(R39=R25,R26,R25) -> C4 | S35: 1
D36: =IF(D40=D29,D30,D29) -> B2 | E36: 0 | R36: =IF(R40=R29,R30,R29) -> B4 | S36: 0 | Y36: 17 - 18 - 19 - 20
B38: Heure | C38: Terrain | D38: Equipes | E38: Buts | F38: Péna | H38: PLACE POUR LES | P38: Heure | Q38: Terrain | R38: Equipes | S38: Buts | T38: Péna
D39: =IF(E25="","",IF(E25>E26,D25,IF(E26>E25,D26,IF(E25=E26,IF(F25>F26,D25,IF(E26=E25,IF(F26>F25,D26))))))) -> D2 | E39: 1 | H39: 5 - 6 | L39: 13 - 14 | R39: =IF(S25="","",IF(S25>S26,R25,IF(S26>S25,R26,IF(S25=S26,IF(T25>T26,R25,IF(S26=S25,IF(T26>T25,R26))))))) -> D4 | S39: 1
D40: =IF(E29="","",IF(E29>E30,D29,IF(E30>E29,D30,IF(E29=E30,IF(F29>F30,D29,IF(E30=E29,IF(F30>F29,D30))))))) -> A2 | E40: 0 | R40: =IF(S29="","",IF(S29>S30,R29,IF(S30>S29,R30,IF(S29=S30,IF(T29>T30,R29,IF(S30=S29,IF(T30>T29,R30))))))) -> A4 | S40: 0
B45: Heure | C45: Terrain | D45: Equipes | E45: Buts | F45: Péna | P45: Heure | Q45: Terrain | R45: Equipes | S45: Buts | T45: Péna | Y45: Heure | Z45: Terrain | AA45: Equipes | AB45: Buts | AC45: Péna
D46: =IF(E6="","",IF(E6>E7,D6,IF(E7>E6,D7,IF(E6=E7,IF(F6>F7,D6,IF(E7=E6,IF(F7>F6,D7))))))) -> A1 | E46: 1 | H46: PLACE POUR LES | R46: =IF(S6="","",IF(S6>S7,R6,IF(S7>S6,R7,IF(S6=S7,IF(T6>T7,R6,IF(S7=S6,IF(T7>T6,R7))))))) -> A3 | S46: 1 | AA46: ='CATEGORIE1-POULES'!I8 -> A5 | AB46: 1
D47: =IF(E10="","",IF(E10>E11,D10,IF(E11>E10,D11,IF(E10=E11,IF(F10>F11,D10,IF(E11=E10,IF(F11>F10,D11))))))) -> B1 | E47: 0 | R47: =IF(S10="","",IF(S10>S11,R10,IF(S11>S10,R11,IF(S10=S11,IF(T10>T11,R10,IF(S11=S10,IF(T11>T10,R11))))))) -> B3 | S47: 0 | AA47: ='CATEGORIE1-POULES'!I53 -> D5 | AB47: 0
H48: 1 - 2 - 3 - 4 | L48: 9 - 10 - 11 - 12
B49: Heure | C49: Terrain | D49: Equipes | E49: Buts | F49: Péna | P49: Heure | Q49: Terrain | R49: Equipes | S49: Buts | T49: Péna | Y49: Heure | Z49: Terrain | AA49: Equipes | AB49: Buts | AC49: Péna
D50: =IF(E14="","",IF(E14>E15,D14,IF(E15>E14,D15,IF(E14=E15,IF(F14>F115,D14,IF(E15=E14,IF(F15>F14,D15))))))) -> C1 | E50: 1 | R50: =IF(S14="","",IF(S14>S15,R14,IF(S15>S14,R15,IF(S14=S15,IF(T14>T115,R14,IF(S15=S14,IF(T15>T14,R15))))))) -> C3 | S50: 1 | AA50: ='CATEGORIE1-POULES'!I23 -> B5 | AB50: 1
D51: =IF(E18="","",IF(E18>E19,D18,IF(E19>E18,D19,IF(E18=E19,IF(F18>F19,D18,IF(E19=E18,IF(F19>F18,D19))))))) -> D1 | E51: 0 | R51: =IF(S18="","",IF(S18>S19,R18,IF(S19>S18,R19,IF(S18=S19,IF(T18>T19,R18,IF(S19=S18,IF(T19>T18,R19))))))) -> D3 | S51: 0 | AA51: ='CATEGORIE1-POULES'!I38 -> C5 | AB51: 0
B55: Heure | C55: Terrain | D55: Equipes | E55: Buts | F55: Péna | H55: PLACE POUR LES | P55: Heure | Q55: Terrain | R55: Equipes | S55: Buts | T55: Péna | Y55: Heure | Z55: Terrain | AA55: Equipes | AB55: Buts | AC55: Péna
D56: =IF(D60=D46,D47,D46) -> B1 | E56: 1 | H56: 3 - 4 | L56: 11 - 12 | R56: =IF(R60=R46,R47,R46) -> B3 | S56: 1 | AA56: =IF(AA60=AA46,AA47,AA46) -> D5 | AB56: 1
D57: =IF(D61=D50,D51,D50) -> D1 | E57: 0 | R57: =IF(R61=R50,R51,R50) -> D3 | S57: 0 | AA57: =IF(AA61=AA50,AA51,AA50) -> C5 | AB57: 0
B59: Heure | C59: Terrain | D59: Equipes | E59: Buts | F59: Péna | H59: PLACE POUR LES | P59: Heure | Q59: Terrain | R59: Equipes | S59: Buts | T59: Péna | Y59: Heure | Z59: Terrain | AA59: Equipes | AB59: Buts | AC59: Péna
D60: =IF(E46="","",IF(E46>E47,D46,IF(E47>E46,D47,IF(E46=E47,IF(F46>F47,D46,IF(E47=E46,IF(F47>F46,D47))))))) -> A1 | E60: 1 | H60: 1 - 2 | L60: 9 - 10 | R60: =IF(S46="","",IF(S46>S47,R46,IF(S47>S46,R47,IF(S46=S47,IF(T46>T47,R46,IF(S47=S46,IF(T47>T46,R47))))))) -> A3 | S60: 1 | AA60: =IF(AB46="","",IF(AB46>AB47,AA46,IF(AB47>AB46,AA47,IF(AB46=AB47,IF(AC46>AC47,AA46,IF(AB47=AB46,IF(AC47>AC46,AA47))))))) -> A5 | AB60: 1
D61: =IF(E50="","",IF(E50>E51,D50,IF(E51>E50,D51,IF(E50=E51,IF(F50>F51,D50,IF(E51=E50,IF(F51>F50,D51))))))) -> C1 | E61: 0 | R61: =IF(S50="","",IF(S50>S51,R50,IF(S51>S50,R51,IF(S50=S51,IF(T50>T51,R50,IF(S51=S50,IF(T51>T50,R51))))))) -> C3 | S61: 0 | AA61: =IF(AB50="","",IF(AB50>AB51,AA50,IF(AB51>AB50,AA51,IF(AB50=AB51,IF(AC50>AC51,AA50,IF(AB51=AB50,IF(AC51>AC50,AA51))))))) -> B5 | AB61: 0
B64: 1 | C64: =IF(E60="","",IF(E60>E61,D60,IF(E61>E60,D61,IF(E60=E61,IF(F60>F61,D60,IF(E61=E60,IF(F61>F60,D61))))))) -> A1 | P64: =IF(S60="","",IF(S60>S61,R60,IF(S61>S60,R61,IF(S60=S61,IF(P60>P61,R60,IF(S61=S60,IF(P61>P60,R61))))))) -> A3 | T64: 9 | Y64: =IF(AB60="","",IF(AB60>AB61,AA60,IF(AB61>AB60,AA61,IF(AB60=AB61,IF(Y60>Y61,AA60,IF(AB61=AB60,IF(Y61>Y60,AA61))))))) -> A5 | AC64: 17
B65: 2 | C65: =IF(C64=D60,D61,D60) -> C1 | P65: =IF(P64=R60,R61,R60) -> C3 | T65: 10 | Y65: =IF(Y64=AA60,AA61,AA60) -> B5 | AC65: 18
B66: 3 | C66: =IF(E56="","",IF(E56>E57,D56,IF(E57>E56,D57,IF(E56=E57,IF(F56>F57,D56,IF(E57=E56,IF(F57>F56,D57))))))) -> B1 | P66: =IF(S56="","",IF(S56>S57,R56,IF(S57>S56,R57,IF(S56=S57,IF(P56>P57,R56,IF(S57=S56,IF(P57>P56,R57))))))) -> B3 | T66: 11 | Y66: =IF(AB56="","",IF(AB56>AB57,AA56,IF(AB57>AB56,AA57,IF(AB56=AB57,IF(Y56>Y57,AA56,IF(AB57=AB56,IF(Y57>Y56,AA57))))))) -> D5 | AC66: 19
B67: 4 | C67: =IF(C66=D56,D57,D56) -> D1 | P67: =IF(P66=R56,R57,R56) -> D3 | T67: 12 | Y67: =IF(Y66=AA56,AA57,AA56) -> C5 | AC67: 20
B68: 5 | C68: =IF(E39="","",IF(E39>E40,D39,IF(E40>E39,D40,IF(E39=E40,IF(F39>F40,D39,IF(E40=E39,IF(F40>F39,D40))))))) -> D2 | P68: =IF(S39="","",IF(S39>S40,R39,IF(S40>S39,R40,IF(S39=S40,IF(P39>P40,R39,IF(S40=S39,IF(P40>P39,R40))))))) -> D4 | T68: 13
B69: 6 | C69: =IF(C68=D39,D40,D39) -> A2 | P69: =IF(P68=R39,R40,R39) -> A4 | T69: 14
B70: 7 | C70: =IF(E35="","",IF(E35>E36,D35,IF(E36>E35,D36,IF(E35=E36,IF(F35>F36,D35,IF(E36=E35,IF(F36>F35,D36))))))) -> C2 | P70: =IF(S35="","",IF(S35>S36,R35,IF(S36>S35,R36,IF(S35=S36,IF(P35>P36,R35,IF(S36=S35,IF(P36>P35,R36))))))) -> C4 | T70: 15
B71: 8 | C71: =IF(C70=D35,D36,D35) -> B2 | P71: =IF(P70=R35,R36,R35) -> B4 | T71: 16
