Workbook
Name Joueurs_J1: [1]J1!$C$11:$H$14

Sheet Feuille recherche
C2: 1 | D2: 2 | E2: 3 | F2: 4 | G2: 5 | H2: 6
C11: Paul E. | D11: Fabrice V. | E11: Jean F. | F11: Claude U. | G11: Christian D. | H11: Christophe J.
C12: Ludovic D. | D12: Pierre H. | E12: Serge M. | F12: Marie G. | G12: Olivier M. | H12: Marc L.
C13: Eric B. | D13: Guy K. | E13: Simon R. | F13: Daniel C. | G13: Marina H. | H13: Celine S.
C14: Alex T. | D14: Bernard T. | E14: Thierry U. | F14: Sophie R.
C26: =IF([1]Equipes!E19="X",[1]Equipes!D19,"") | D26: =IF([1]Equipes!E33="X",[1]Equipes!D33,"") | E26: =IF([1]Equipes!E51="X",[1]Equipes!D51,"") | H26: =IF([1]Equipes!E99="X",[1]Equipes!D99,"")
C27: =IF([1]Equipes!E20="X",[1]Equipes!D20,"") | D27: =IF([1]Equipes!E34="X",[1]Equipes!D34,"") | E27: =IF([1]Equipes!E52="X",[1]Equipes!D52,"")
D28: =IF([1]Equipes!E35="X",[1]Equipes!D35,"") | E28: =IF([1]Equipes!E53="X",[1]Equipes!D53,"")
D29: =IF([1]Equipes!E36="X",[1]Equipes!D36,"")

Sheet Feuille Nom
B6: Nom | C6: Retour
B8: Paul E. | C8: {=SUMPRODUCT('Feuille recherche'!$C$2:$H$2*('Feuille recherche'!$C$11:$H$14='Feuille Nom'!B8))} -> 1
B9: Pierre H. | C9: {=SUMPRODUCT('Feuille recherche'!$C$2:$H$2*('Feuille recherche'!$C$11:$H$14='Feuille Nom'!B9))} -> 2
B10: Jean F. | C10: {=SUMPRODUCT('Feuille recherche'!$C$2:$H$2*('Feuille recherche'!$C$11:$H$14='Feuille Nom'!B10))} -> 3
B11: Eric B. | C11: {=SUMPRODUCT('Feuille recherche'!$C$2:$H$2*('Feuille recherche'!$C$11:$H$14='Feuille Nom'!B11))} -> 1
B12: Claude U. | C12: {=SUMPRODUCT('Feuille recherche'!$C$2:$H$2*('Feuille recherche'!$C$11:$H$14='Feuille Nom'!B12))} -> 4
B13: Olivier M. | C13: {=SUMPRODUCT('Feuille recherche'!$C$2:$H$2*('Feuille recherche'!$C$11:$H$14='Feuille Nom'!B13))} -> 5
B14: Celine S. | C14: {=SUMPRODUCT('Feuille recherche'!$C$2:$H$2*('Feuille recherche'!$C$11:$H$14='Feuille Nom'!B14))} -> 6
B15: Marina H. | C15: {=SUMPRODUCT('Feuille recherche'!$C$2:$H$2*('Feuille recherche'!$C$11:$H$14='Feuille Nom'!B15))} -> 5
B16: Sophie R. | C16: {=SUMPRODUCT('Feuille recherche'!$C$2:$H$2*('Feuille recherche'!$C$11:$H$14='Feuille Nom'!B16))} -> 4
B17: Daniel C. | C17: {=SUMPRODUCT('Feuille recherche'!$C$2:$H$2*('Feuille recherche'!$C$11:$H$14='Feuille Nom'!B17))} -> 4
B18: Marc L. | C18: {=SUMPRODUCT('Feuille recherche'!$C$2:$H$2*('Feuille recherche'!$C$11:$H$14='Feuille Nom'!B18))} -> 6
B19: Christophe J. | C19: {=SUMPRODUCT('Feuille recherche'!$C$2:$H$2*('Feuille recherche'!$C$11:$H$14='Feuille Nom'!B19))} -> 6
... B32: George P. | C32: {=SUMPRODUCT('Feuille recherche'!$C$2:$H$2*('Feuille recherche'!$C$11:$H$14='Feuille Nom'!B32))} -> 0

Sheet Attendu
B6: Nom | C6: Retour
B8: Paul E. | C8: 1
B9: Pierre H. | C9: 2
B10: Odile R.
B11: Jean F. | C11: 3
B12: Eric B. | C12: 1
B13: Claude U. | C13: 4
B14: Olivier M. | C14: 5
B15: Celine S. | C15: 6
B16: Marina H. | C16: 5
B17: Sophie R. | C17: 4
B18: Roger N.
B19: Daniel C. | C19: 4
B20: Marc L. | C20: 6
B21: Christophe J. | C21: 6
B22: Alex T. | C22: 1
B23: Guy K. | C23: 2
B24: Serge M. | C24: 3
B25: Fabrice V. | C25: 2
B26: Simon R. | C26: 3
B27: George P.
B28: Ludovic D. | C28: 1
B29: Bernard T. | C29: 2
B30: Thierry U. | C30: 3
B31: Marie G. | C31: 4
B32: Christian D. | C32: 5
