Workbook

Sheet Groupes
B2: Dictée n°1 Basketball | G2: Dictée n°2 Taekwondo | L2: Dictée n°3 Boxe | Q2: Dictée n°4 | V2: Dictée n°5 | AA2: Dictée n°6 | AF2: Dictée n°7 | AK2: Dictée n°8 | AP2: Dictée n°9 | AU2: Dictée n°10 | AZ2: Dictée n°11
B4: GROUPE VERT | G4: GROUPE VERT | L4: GROUPE VERT
B5: Nombre de mots | D5: 28 | G5: Nombre de mots | I5: 26 | L5: Nombre de mots | N5: 28
B6: Prénom | C6: Nombre faute | D6: % de réussite | G6: Prénom | H6: Nombre faute | I6: % de réussite | L6: Prénom | M6: Nombre faute | N6: % de réussite
B7: Ylan | C7: 2 | D7: =(D$5-C7)/D$5 -> 0.92857143 | G7: Tiago | H7: 6 | I7: =(I5-H7)/I5 -> 0.76923077 | L7: Arthur | M7: 12 | N7: =IF(M7="","",(N$5-M7)/N$5) -> 0.57142857
B8: Gabin | C8: 12 | D8: =(D$5-C8)/D$5 -> 0.57142857 | L8: Tiago | M8: 6 | N8: =IF(M8="","",(N$5-M8)/N$5) -> 0.78571429
B9: Tiago | C9: absent | D9: =(D$8-C9)/D$8 -> #VALUE! | N9: =IF(M9="","",(N$5-M9)/N$5)
N10: =IF(M10="","",(N$5-M10)/N$5)
N11: =IF(M11="","",(N$5-M11)/N$5)
N12: =IF(M12="","",(N$5-M12)/N$5)
N13: =IF(M13="","",(N$5-M13)/N$5)
N14: =IF(M14="","",(N$5-M14)/N$5)
N15: =IF(M15="","",(N$5-M15)/N$5)
N16: =IF(M16="","",(N$5-M16)/N$5)
B19: GROUPE BLEU | G19: GROUPE BLEU | L19: GROUPE BLEU
B20: Nombre de mots | D20: 43 | G20: Nombre de mots | I20: 48 | L20: Nombre de mots | N20: 43
B21: Prénom | C21: Nombre faute | D21: % de réussite | G21: Prénom | H21: Nombre faute | I21: % de réussite | L21: Prénom | M21: Nombre faute | N21: % de réussite
B22: Raphael | C22: 2 | D22: =(D$20-C22)/D$20 -> 0.95348837 | G22: Loewann | H22: 4 | I22: =($I$20-H22)/$I$20 -> 0.91666667 | L22: Gabin | M22: 2 | N22: =IF(M22="","",(N$20-M22)/N$20) -> 0.95348837
B23: Adem | C23: 6 | D23: =(D$20-C23)/D$20 -> 0.86046512 | G23: Gabin | H23: 7 | I23: =($I$20-H23)/$I$20 -> 0.85416667 | L23: Temperance | M23: 6 | N23: =IF(M23="","",(N$20-M23)/N$20) -> 0.86046512
B24: Charlie | C24: 8 | D24: =(D$20-C24)/D$20 -> 0.81395349 | G24: Temperance | H24: 6 | I24: =($I$20-H24)/$I$20 -> 0.875 | M24: 8 | N24: =IF(M24="","",(N$20-M24)/N$20) -> 0.81395349
B25: Arthur | C25: 28 | D25: =(D$20-C25)/D$20 -> 0.34883721 | G25: Arthur | H25: 10 | I25: =($I$20-H25)/$I$20 -> 0.79166667 | M25: 28 | N25: =IF(M25="","",(N$20-M25)/N$20) -> 0.34883721
B26: Samuel | C26: 1 | D26: =(D$20-C26)/D$20 -> 0.97674419 | M26: 1 | N26: =IF(M26="","",(N$20-M26)/N$20) -> 0.97674419
B27: Loewann | C27: 23 | D27: =(D$20-C27)/D$20 -> 0.46511628 | M27: 23 | N27: =IF(M27="","",(N$20-M27)/N$20) -> 0.46511628
B28: Temperance | C28: 12 | D28: =(D$20-C28)/D$20 -> 0.72093023 | M28: 12 | N28: =IF(M28="","",(N$20-M28)/N$20) -> 0.72093023
N29: =IF(M29="","",(N$20-M29)/N$20)
N30: =IF(M30="","",(N$20-M30)/N$20)
N31: =IF(M31="","",(N$20-M31)/N$20)
B34: GROUPE JAUNE | G34: GROUPE JAUNE | L34: GROUPE JAUNE
B35: Nombre de mots | D35: 77 | G35: Nombre de mots | I35: 73 | L35: Nombre de mots | N35: 77
B36: Prénom | C36: Nombre faute | D36: % de réussite | G36: Prénom | H36: Nombre faute | I36: % de réussite | L36: Prénom | M36: Nombre faute | N36: % de réussite
B37: Selyan | C37: 2 | D37: =(D$35-C37)/D$35 -> 0.97402597 | G37: Raphael | H37: 12 | I37: =IF(H37="","",($I$35-H37)/$I$35) -> 0.83561644 | L37: Loewann | M37: 2 | N37: =IF(M37="","",(N$35-M37)/N$35) -> 0.97402597
B38: Noah | C38: 12 | D38: =(D$35-C38)/D$35 -> 0.84415584 | G38: Noah | H38: 11 | I38: =IF(H38="","",($I$35-H38)/$I$35) -> 0.84931507 | L38: Noah | M38: 12 | N38: =IF(M38="","",(N$35-M38)/N$35) -> 0.84415584
B39: Alban | C39: 26 | D39: =(D$35-C39)/D$35 -> 0.66233766 | G39: Charlie | H39: 4 | I39: =IF(H39="","",($I$35-H39)/$I$35) -> 0.94520548 | L39: Samuel | M39: 26 | N39: =IF(M39="","",(N$35-M39)/N$35) -> 0.66233766
B40: Rohat | C40: 28 | D40: =(D$35-C40)/D$35 -> 0.63636364 | G40: Samuel | H40: 11 | I40: =IF(H40="","",($I$35-H40)/$I$35) -> 0.84931507 | L40: Raphael | M40: 28 | N40: =IF(M40="","",(N$35-M40)/N$35) -> 0.63636364
G41: Adem | H41: 6 | I41: =IF(H41="","",($I$35-H41)/$I$35) -> 0.91780822 | N41: =IF(M41="","",(N$35-M41)/N$35)
I42: =IF(H42="","",(AE$6-H42)/AE$6) | N42: =IF(M42="","",(N$35-M42)/N$35)
I43: =IF(H43="","",(AE$6-H43)/AE$6) | N43: =IF(M43="","",(N$35-M43)/N$35)
I44: =IF(H44="","",(AE$6-H44)/AE$6) | N44: =IF(M44="","",(N$35-M44)/N$35)
I45: =IF(H45="","",(AE$6-H45)/AE$6) | N45: =IF(M45="","",(N$35-M45)/N$35)
N46: =IF(M46="","",(N$35-M46)/N$35)
I47: =IF(H47="","",(AE$6-H47)/AE$6)
B49: GROUPE ROUGE | G49: GROUPE ROUGE | L49: GROUPE ROUGE
B50: Nombre de mots | D50: 100 | G50: Nombre de mots | I50: 103 | L50: Nombre de mots | N50: 100
B51: Prénom | C51: Nombre faute | D51: % de réussite | G51: Prénom | H51: Nombre faute | I51: % de réussite | L51: Prénom | M51: Nombre faute | N51: % de réussite
B52: Thaïs | C52: 2 | D52: =(D$50-C52)/D$50 -> 0.98 | G52: Thaïs | H52: 2 | I52: =($I$50-H52)/$I$50 -> 0.98058252 | L52: Thaïs | M52: 2 | N52: =IF(M52="","",(N$50-M52)/N$50) -> 0.98
B53: Adrien | C53: 12 | D53: =(D$50-C53)/D$50 -> 0.88 | G53: Adrien | H53: 2 | I53: =($I$50-H53)/$I$50 -> 0.98058252 | L53: Adrien | M53: 4 | N53: =IF(M53="","",(N$50-M53)/N$50) -> 0.96
G54: Alban | H54: 10 | I54: =($I$50-H54)/$I$50 -> 0.90291262 | L54: Alban | M54: 9 | N54: =IF(M54="","",(N$50-M54)/N$50) -> 0.91
G55: Selyan | H55: 7 | I55: =($I$50-H55)/$I$50 -> 0.93203883 | L55: Charlie | N55: =IF(M55="","",(N$50-M55)/N$50)
G56: Rohat | H56: 7 | I56: =($I$50-H56)/$I$50 -> 0.93203883 | L56: Selyan | N56: =IF(M56="","",(N$50-M56)/N$50)
L57: Adem | N57: =IF(M57="","",(N$50-M57)/N$50)
L58: Rohat | N58: =IF(M58="","",(N$50-M58)/N$50)
N59: =IF(M59="","",(N$50-M59)/N$50)
N60: =IF(M60="","",(N$50-M60)/N$50)
N61: =IF(M61="","",(N$50-M61)/N$50)

Sheet Graphiques
C1: Dictée n°1 | D1: Dictée n°2 | E1: Dictée n°3 | F1: Dictée n°4 | G1: Dictée n°5 | H1: Dictée n°6 | I1: Dictée n°7 | J1: Dictée n°8 | K1: Dictée n°9 | L1: Dictée n°10 | M1: Dictée n°11 | N1: Dictée n°12 | O1: Dictée n°13 | P1: Dictée n°14 | Q1: Dictée n°15
B2: Adem | C2: =VLOOKUP(B2,Groupes!B:E,3,0) -> 0.86046512 | D2: =VLOOKUP(B2,Groupes!G:J,3,0) -> 0.91780822 | E2: =VLOOKUP(B2,Groupes!L:O,3,0) | F2: =VLOOKUP(B2,Groupes!Q:T,3,0) -> #N/A | G2: =VLOOKUP(B2,Groupes!V:Y,3,0) -> #N/A
B3: Adrien | C3: =VLOOKUP(B3,Groupes!B:E,3,FALSE) -> 0.88 | D3: =VLOOKUP(B3,Groupes!G:J,3,0) -> 0.98058252 | E3: =VLOOKUP(B3,Groupes!L:O,3,0) -> 0.96 | F3: =VLOOKUP(B3,Groupes!Q:T,3,0) -> #N/A | G3: =VLOOKUP(B3,Groupes!V:Y,3,0) -> #N/A
B4: Alban | C4: =VLOOKUP(B4,Groupes!B:E,3,0) -> 0.66233766 | D4: =VLOOKUP(B4,Groupes!G:J,3,0) -> 0.90291262 | E4: =VLOOKUP(B4,Groupes!L:O,3,0) -> 0.91 | F4: =VLOOKUP(B4,Groupes!Q:T,3,0) -> #N/A | G4: =VLOOKUP(B4,Groupes!V:Y,3,0) -> #N/A
B5: Arthur | C5: =VLOOKUP(B5,Groupes!B:E,3,0) -> 0.34883721 | D5: =VLOOKUP(B5,Groupes!G:J,3,0) -> 0.79166667 | E5: =VLOOKUP(B5,Groupes!L:O,3,0) -> 0.57142857 | F5: =VLOOKUP(B5,Groupes!Q:T,3,0) -> #N/A | G5: =VLOOKUP(B5,Groupes!V:Y,3,0) -> #N/A
B6: Charlie | C6: =VLOOKUP(B6,Groupes!B:E,3,0) -> 0.81395349 | D6: =VLOOKUP(B6,Groupes!G:J,3,0) -> 0.94520548 | E6: =VLOOKUP(B6,Groupes!L:O,3,0) | F6: =VLOOKUP(B6,Groupes!Q:T,3,0) -> #N/A | G6: =VLOOKUP(B6,Groupes!V:Y,3,0) -> #N/A
B7: Gabin | C7: =VLOOKUP(B7,Groupes!B:E,3,0) -> 0.57142857 | D7: =VLOOKUP(B7,Groupes!G:J,3,0) -> 0.85416667 | E7: =VLOOKUP(B7,Groupes!L:O,3,0) -> 0.95348837 | F7: =VLOOKUP(B7,Groupes!Q:T,3,0) -> #N/A | G7: =VLOOKUP(B7,Groupes!V:Y,3,0) -> #N/A
B8: Loewann | C8: =VLOOKUP(B8,Groupes!B:E,3,0) -> 0.46511628 | D8: =VLOOKUP(B8,Groupes!G:J,3,0) -> 0.91666667 | E8: =VLOOKUP(B8,Groupes!L:O,3,0) -> 0.97402597 | F8: =VLOOKUP(B8,Groupes!Q:T,3,0) -> #N/A | G8: =VLOOKUP(B8,Groupes!V:Y,3,0) -> #N/A
B9: Noah | C9: =VLOOKUP(B9,Groupes!B:E,3,0) -> 0.84415584 | D9: =VLOOKUP(B9,Groupes!G:J,3,0) -> 0.84931507 | E9: =VLOOKUP(B9,Groupes!L:O,3,0) -> 0.84415584 | F9: =VLOOKUP(B9,Groupes!Q:T,3,0) -> #N/A | G9: =VLOOKUP(B9,Groupes!V:Y,3,0) -> #N/A
B10: Raphael | C10: =VLOOKUP(B10,Groupes!B:E,3,0) -> 0.95348837 | D10: =VLOOKUP(B10,Groupes!G:J,3,0) -> 0.83561644 | E10: =VLOOKUP(B10,Groupes!L:O,3,0) -> 0.63636364 | F10: =VLOOKUP(B10,Groupes!Q:T,3,0) -> #N/A | G10: =VLOOKUP(B10,Groupes!V:Y,3,0) -> #N/A
B11: Rohat | C11: =VLOOKUP(B11,Groupes!B:E,3,0) -> 0.63636364 | D11: =VLOOKUP(B11,Groupes!G:J,3,0) -> 0.93203883 | E11: =VLOOKUP(B11,Groupes!L:O,3,0) | F11: =VLOOKUP(B11,Groupes!Q:T,3,0) -> #N/A | G11: =VLOOKUP(B11,Groupes!V:Y,3,0) -> #N/A
B12: Samuel | C12: =VLOOKUP(B12,Groupes!B:E,3,0) -> 0.97674419 | D12: =VLOOKUP(B12,Groupes!G:J,3,0) -> 0.84931507 | E12: =VLOOKUP(B12,Groupes!L:O,3,0) -> 0.66233766 | F12: =VLOOKUP(B12,Groupes!Q:T,3,0) -> #N/A | G12: =VLOOKUP(B12,Groupes!V:Y,3,0) -> #N/A
B13: Selyan | C13: =VLOOKUP(B13,Groupes!B:E,3,0) -> 0.97402597 | D13: =VLOOKUP(B13,Groupes!G:J,3,0) -> 0.93203883 | E13: =VLOOKUP(B13,Groupes!L:O,3,0) | F13: =VLOOKUP(B13,Groupes!Q:T,3,0) -> #N/A | G13: =VLOOKUP(B13,Groupes!V:Y,3,0) -> #N/A
B14: Temperance | C14: =VLOOKUP(B14,Groupes!B:E,3,0) -> 0.72093023 | D14: =VLOOKUP(B14,Groupes!G:J,3,0) -> 0.875 | E14: =VLOOKUP(B14,Groupes!L:O,3,0) -> 0.86046512 | F14: =VLOOKUP(B14,Groupes!Q:T,3,0) -> #N/A | G14: =VLOOKUP(B14,Groupes!V:Y,3,0) -> #N/A
B15: Thaïs | C15: =VLOOKUP(B15,Groupes!B:E,3,0) -> 0.98 | D15: =VLOOKUP(B15,Groupes!G:J,3,0) -> 0.98058252 | E15: =VLOOKUP(B15,Groupes!L:O,3,0) -> 0.98 | F15: =VLOOKUP(B15,Groupes!Q:T,3,0) -> #N/A | G15: =VLOOKUP(B15,Groupes!V:Y,3,0) -> #N/A
... B17: Ylan | C17: =VLOOKUP(B17,Groupes!B:E,3,0) -> 0.92857143 | D17: =VLOOKUP(B17,Groupes!G:J,3,0) -> #N/A | E17: =VLOOKUP(B17,Groupes!L:O,3,0) -> #N/A | F17: =VLOOKUP(B17,Groupes!Q:T,3,0) -> #N/A | G17: =VLOOKUP(B17,Groupes!V:Y,3,0) -> #N/A

Sheet OLD
A5: Dictée n°1 Basketball | C5: GROUPE VERT | H5: GROUPE BLEU | M5: GROUPE JAUNE | R5: GROUPE ROUGE
C6: Nombre de mots | E6: 28 | H6: Nombre de mots | J6: 43 | M6: Nombre de mots | O6: 77 | R6: Nombre de mots | T6: 100
C7: Prénom | D7: Nombre faute | E7: % de réussite | H7: Prénom | I7: Nombre faute | J7: % de réussite | M7: Prénom | N7: Nombre faute | O7: % de réussite | R7: Prénom | S7: Nombre faute | T7: % de réussite
C8: Ylan | D8: 2 | E8: =(E$6-D8)/E$6 -> 0.92857143 | H8: Raphael | I8: 2 | J8: =(J$6-I8)/J$6 -> 0.95348837 | M8: Selyan | N8: 2 | O8: =(O$6-N8)/O$6 -> 0.97402597 | R8: Thaïs | S8: 2 | T8: =(T$6-S8)/T$6 -> 0.98
C9: Gabin | D9: 12 | E9: =(E$6-D9)/E$6 -> 0.57142857 | H9: Adem | I9: 6 | J9: =(J$6-I9)/J$6 -> 0.86046512 | M9: Noah | N9: 12 | O9: =(O$6-N9)/O$6 -> 0.84415584 | R9: Adrien | S9: 12 | T9: =(T$6-S9)/T$6 -> 0.88
C10: Tiago | D10: absent | E10: =(E$6-D10)/E$6 -> #VALUE! | H10: Charlie | I10: 8 | J10: =(J$6-I10)/J$6 -> 0.81395349 | M10: Alban | N10: 26 | O10: =(O$6-N10)/O$6 -> 0.66233766
H11: Arthur | I11: 28 | J11: =(J$6-I11)/J$6 -> 0.34883721 | M11: Rohat | N11: 28 | O11: =(O$6-N11)/O$6 -> 0.63636364
H12: Samuel | I12: 1 | J12: =(J$6-I12)/J$6 -> 0.97674419
H13: Loewann | I13: 23 | J13: =(J$6-I13)/J$6 -> 0.46511628
H14: Temperance | I14: 12 | J14: =(J$6-I14)/J$6 -> 0.72093023
A20: Dictée n°2 Taekwondo | C20: GROUPE VERT | H20: GROUPE BLEU | M20: GROUPE JAUNE | R20: GROUPE ROUGE
C21: Nombre de mots | E21: 26 | H21: Nombre de mots | J21: 48 | M21: Nombre de mots | O21: 73 | R21: Nombre de mots | T21: 103
C22: Prénom | D22: Nombre faute | E22: % de réussite | H22: Prénom | I22: Nombre faute | J22: % de réussite | M22: Prénom | N22: Nombre faute | O22: % de réussite | R22: Prénom | S22: Nombre faute | T22: % de réussite
C23: Tiago | D23: 6 | E23: =(E$6-D23)/E$6 -> 0.78571429 | H23: Loewann | I23: 4 | J23: =(J$6-I23)/J$6 -> 0.90697674 | M23: Raphaël | N23: 12 | O23: =IF(N23="","",(O$6-N23)/O$6) -> 0.84415584 | R23: Thaïs | S23: 2 | T23: =(T$6-S23)/T$6 -> 0.98
E24: =(E$6-D24)/E$6 -> 1 | H24: Gabin | I24: 7 | J24: =(J$6-I24)/J$6 -> 0.8372093 | M24: Noah | N24: 11 | O24: =IF(N24="","",(O$6-N24)/O$6) -> 0.85714286 | R24: Adrien | S24: 2 | T24: =(T$6-S24)/T$6 -> 0.98
H25: Temperance | I25: 6 | J25: =(J$6-I25)/J$6 -> 0.86046512 | M25: Charlie | N25: 4 | O25: =IF(N25="","",(O$6-N25)/O$6) -> 0.94805195 | R25: Alban | S25: 10 | T25: =(T$6-S25)/T$6 -> 0.9
H26: Arthur | I26: 10 | J26: =(J$6-I26)/J$6 -> 0.76744186 | M26: Samuel | N26: 11 | O26: =IF(N26="","",(O$6-N26)/O$6) -> 0.85714286 | R26: Sélyan | S26: 7 | T26: =(T$6-S26)/T$6 -> 0.93
M27: Adem | N27: 6 | O27: =IF(N27="","",(O$6-N27)/O$6) -> 0.92207792 | R27: Rohat | S27: 7 | T27: =(T$6-S27)/T$6 -> 0.93
O28: =IF(N28="","",(O$6-N28)/O$6)
O29: =IF(N29="","",(O$6-N29)/O$6)
O30: =IF(N30="","",(O$6-N30)/O$6)
O31: =IF(N31="","",(O$6-N31)/O$6)
O33: =IF(N33="","",(O$6-N33)/O$6)
A35: Dictée n°3 Boxe | C35: GROUPE VERT | H35: GROUPE BLEU | M35: GROUPE JAUNE | R35: GROUPE ROUGE
C36: Nombre de mots | E36: 28 | H36: Nombre de mots | J36: 43 | M36: Nombre de mots | O36: 77 | R36: Nombre de mots | T36: 100
C37: Prénom | D37: Nombre faute | E37: % de réussite | H37: Prénom | I37: Nombre faute | J37: % de réussite | M37: Prénom | N37: Nombre faute | O37: % de réussite | R37: Prénom | S37: Nombre faute | T37: % de réussite
C38: Arthur | D38: 12 | E38: =IF(D38="","",(E$6-D38)/E$6) -> 0.57142857 | H38: Gabin | I38: 2 | J38: =IF(I38="","",(J$6-I38)/J$6) -> 0.95348837 | M38: Loewann | N38: 2 | O38: =IF(N38="","",(O$6-N38)/O$6) -> 0.97402597 | R38: Thaïs | S38: 2 | T38: =IF(S38="","",(T$6-S38)/T$6) -> 0.98
C39: Tiago | D39: 6 | E39: =IF(D39="","",(E$6-D39)/E$6) -> 0.78571429 | H39: Tempérance | I39: 6 | J39: =IF(I39="","",(J$6-I39)/J$6) -> 0.86046512 | M39: Noah | N39: 12 | O39: =IF(N39="","",(O$6-N39)/O$6) -> 0.84415584 | R39: Adrien | S39: 4 | T39: =IF(S39="","",(T$6-S39)/T$6) -> 0.96
E40: =IF(D40="","",(E$6-D40)/E$6) | I40: 8 | J40: =IF(I40="","",(J$6-I40)/J$6) -> 0.81395349 | M40: Samuel | N40: 26 | O40: =IF(N40="","",(O$6-N40)/O$6) -> 0.66233766 | R40: Alban | S40: 9 | T40: =IF(S40="","",(T$6-S40)/T$6) -> 0.91
E41: =IF(D41="","",(E$6-D41)/E$6) | I41: 28 | J41: =IF(I41="","",(J$6-I41)/J$6) -> 0.34883721 | M41: Raphael | N41: 28 | O41: =IF(N41="","",(O$6-N41)/O$6) -> 0.63636364 | R41: Charlie | T41: =IF(S41="","",(T$6-S41)/T$6)
E42: =IF(D42="","",(E$6-D42)/E$6) | I42: 1 | J42: =IF(I42="","",(J$6-I42)/J$6) -> 0.97674419 | O42: =IF(N42="","",(O$6-N42)/O$6) | R42: Sélyan | T42: =IF(S42="","",(T$6-S42)/T$6)
E43: =IF(D43="","",(E$6-D43)/E$6) | I43: 23 | J43: =IF(I43="","",(J$6-I43)/J$6) -> 0.46511628 | O43: =IF(N43="","",(O$6-N43)/O$6) | R43: Adem | T43: =IF(S43="","",(T$6-S43)/T$6)
E44: =IF(D44="","",(E$6-D44)/E$6) | I44: 12 | J44: =IF(I44="","",(J$6-I44)/J$6) -> 0.72093023 | O44: =IF(N44="","",(O$6-N44)/O$6) | R44: Rohat | T44: =IF(S44="","",(T$6-S44)/T$6)
E45: =IF(D45="","",(E$6-D45)/E$6) | J45: =IF(I45="","",(J$6-I45)/J$6) | O45: =IF(N45="","",(O$6-N45)/O$6) | T45: =IF(S45="","",(T$6-S45)/T$6)
E46: =IF(D46="","",(E$6-D46)/E$6) | J46: =IF(I46="","",(J$6-I46)/J$6) | O46: =IF(N46="","",(O$6-N46)/O$6) | T46: =IF(S46="","",(T$6-S46)/T$6)
E47: =IF(D47="","",(E$6-D47)/E$6) | J47: =IF(I47="","",(J$6-I47)/J$6) | O47: =IF(N47="","",(O$6-N47)/O$6) | T47: =IF(S47="","",(T$6-S47)/T$6)

Sheet Feuil4
C1: Dictée 17 | G1: Dictée 18 | K1: Dictée 19 | O1: Dictée 20
C2: V | D2: B | E2: J | F2: R | G2: V | H2: B | I2: J | J2: R | K2: V | L2: B | M2: J | N2: R | O2: V | P2: B | Q2: J | R2: R

Sheet Feuil5
C1: Dictée 21 | G1: Dictée 22 | K1: Dictée 23 | O1: Dictée 24 | S1: Dictée 25 | W1: Dictée 26
C2: V | D2: B | E2: J | F2: R | G2: V | H2: B | I2: J | J2: R | K2: V | L2: B | M2: J | N2: R | O2: V | P2: B | Q2: J | R2: R | S2: V | T2: B | U2: J | V2: R | W2: V | X2: B | Y2: J | Z2: R
