Workbook

Sheet rencontres
A1: tour 1 | D1: tour 2 | G1: tour 3 | J1: tour 4 | M1: tour 5 | P1: tour 6 | S1: tour 7 | V1: tour 8 | Y1: tour 9 | AB1: tour 10 | AE1: tour 11 | AH1: tour 12 | AK1: tour 13 | AN1: tour 14 | AQ1: tour 15 | AT1: tour 16 | AW1: tour 17 | AZ1: tour 18 | BC1: tour 19 | BF1: tour 20 | BI1: tour 21
A2: =equipes!A1 -> equipe 1 | B2: =equipes!A26 -> equipe 26 | D2: =equipes!A27 -> equipe 27 | E2: =equipes!A10 -> equipe 10 | G2: =equipes!A11 -> equipe 11 | H2: =equipes!A36 -> equipe 36 | J2: =equipes!A37 -> equipe 37 | K2: =equipes!A20 -> equipe 20 | M2: =equipes!A21 -> equipe 21 | N2: =equipes!A4 -> equipe 4 | P2: =equipes!A5 -> equipe 5 | Q2: =equipes!A30 -> equipe 30 | S2: =equipes!A31 -> equipe 31 | T2: =equipes!A14 -> equipe 14 | V2: =equipes!A15 -> equipe 15 | W2: =equipes!A40 -> equipe 40 | Y2: =equipes!A41 -> equipe 41 | Z2: =equipes!A24 -> equipe 24 | AB2: =equipes!A25 -> equipe 25 | AC2: =equipes!A8 -> equipe 8 | AE2: =equipes!A9 -> equipe 9 | AF2: =equipes!A34 -> equipe 34 | AH2: =equipes!A35 -> equipe 35 | AI2: =equipes!A18 -> equipe 18 | AK2: =equipes!A19 -> equipe 19 | AL2: =equipes!A2 -> equipe 2 | AN2: =equipes!A3 -> equipe 3 | AO2: =equipes!A28 -> equipe 28 | AQ2: =equipes!A29 -> equipe 29 | AR2: =equipes!A12 -> equipe 12 | AT2: =equipes!A13 -> equipe 13 | AU2: =equipes!A38 -> equipe 38 | AW2: =equipes!A39 -> equipe 39 | AX2: =equipes!A22 -> equipe 22 | AZ2: =equipes!A23 -> equipe 23 | BA2: =equipes!A6 -> equipe 6 | BC2: =equipes!A7 -> equipe 7 | BD2: =equipes!A32 -> equipe 32 | BF2: =equipes!A33 -> equipe 33 | BG2: =equipes!A16 -> equipe 16 | BI2: =equipes!A17 -> equipe 17 | BJ2: =equipes!A42 -> equipe 42
A3: =equipes!A2 -> equipe 2 | B3: =equipes!A25 -> equipe 25 | D3: =equipes!A28 -> equipe 28 | E3: =equipes!A9 -> equipe 9 | G3: =equipes!A12 -> equipe 12 | H3: =equipes!A35 -> equipe 35 | J3: =equipes!A38 -> equipe 38 | K3: =equipes!A19 -> equipe 19 | M3: =equipes!A22 -> equipe 22 | N3: =equipes!A3 -> equipe 3 | P3: =equipes!A6 -> equipe 6 | Q3: =equipes!A29 -> equipe 29 | S3: =equipes!A32 -> equipe 32 | T3: =equipes!A13 -> equipe 13 | V3: =equipes!A16 -> equipe 16 | W3: =equipes!A39 -> equipe 39 | Y3: =equipes!A42 -> equipe 42 | Z3: =equipes!A23 -> equipe 23 | AB3: =equipes!A26 -> equipe 26 | AC3: =equipes!A7 -> equipe 7 | AE3: =equipes!A10 -> equipe 10 | AF3: =equipes!A33 -> equipe 33 | AH3: =equipes!A36 -> equipe 36 | AI3: =equipes!A17 -> equipe 17 | AK3: =equipes!A20 -> equipe 20 | AL3: =equipes!A1 -> equipe 1 | AN3: =equipes!A4 -> equipe 4 | AO3: =equipes!A27 -> equipe 27 | AQ3: =equipes!A30 -> equipe 30 | AR3: =equipes!A11 -> equipe 11 | AT3: =equipes!A14 -> equipe 14 | AU3: =equipes!A37 -> equipe 37 | AW3: =equipes!A40 -> equipe 40 | AX3: =equipes!A21 -> equipe 21 | AZ3: =equipes!A24 -> equipe 24 | BA3: =equipes!A5 -> equipe 5 | BC3: =equipes!A8 -> equipe 8 | BD3: =equipes!A31 -> equipe 31 | BF3: =equipes!A34 -> equipe 34 | BG3: =equipes!A15 -> equipe 15 | BI3: =equipes!A18 -> equipe 18 | BJ3: =equipes!A41 -> equipe 41
A4: =equipes!A3 -> equipe 3 | B4: =equipes!A24 -> equipe 24 | D4: =equipes!A29 -> equipe 29 | E4: =equipes!A8 -> equipe 8 | G4: =equipes!A13 -> equipe 13 | H4: =equipes!A34 -> equipe 34 | J4: =equipes!A39 -> equipe 39 | K4: =equipes!A18 -> equipe 18 | M4: =equipes!A23 -> equipe 23 | N4: =equipes!A2 -> equipe 2 | P4: =equipes!A7 -> equipe 7 | Q4: =equipes!A28 -> equipe 28 | S4: =equipes!A33 -> equipe 33 | T4: =equipes!A12 -> equipe 12 | V4: =equipes!A17 -> equipe 17 | W4: =equipes!A38 -> equipe 38 | Y4: =equipes!A1 -> equipe 1 | Z4: =equipes!A22 -> equipe 22 | AB4: =equipes!A27 -> equipe 27 | AC4: =equipes!A6 -> equipe 6 | AE4: =equipes!A11 -> equipe 11 | AF4: =equipes!A32 -> equipe 32 | AH4: =equipes!A37 -> equipe 37 | AI4: =equipes!A16 -> equipe 16 | AK4: =equipes!A21 -> equipe 21 | AL4: =equipes!A42 -> equipe 42 | AN4: =equipes!A5 -> equipe 5 | AO4: =equipes!A26 -> equipe 26 | AQ4: =equipes!A31 -> equipe 31 | AR4: =equipes!A10 -> equipe 10 | AT4: =equipes!A15 -> equipe 15 | AU4: =equipes!A36 -> equipe 36 | AW4: =equipes!A41 -> equipe 41 | AX4: =equipes!A20 -> equipe 20 | AZ4: =equipes!A25 -> equipe 25 | BA4: =equipes!A4 -> equipe 4 | BC4: =equipes!A9 -> equipe 9 | BD4: =equipes!A30 -> equipe 30 | BF4: =equipes!A35 -> equipe 35 | BG4: =equipes!A14 -> equipe 14 | BI4: =equipes!A19 -> equipe 19 | BJ4: =equipes!A40 -> equipe 40
A5: =equipes!A4 -> equipe 4 | B5: =equipes!A23 -> equipe 23 | D5: =equipes!A30 -> equipe 30 | E5: =equipes!A7 -> equipe 7 | G5: =equipes!A14 -> equipe 14 | H5: =equipes!A33 -> equipe 33 | J5: =equipes!A40 -> equipe 40 | K5: =equipes!A17 -> equipe 17 | M5: =equipes!A24 -> equipe 24 | N5: =equipes!A1 -> equipe 1 | P5: =equipes!A8 -> equipe 8 | Q5: =equipes!A27 -> equipe 27 | S5: =equipes!A34 -> equipe 34 | T5: =equipes!A11 -> equipe 11 | V5: =equipes!A18 -> equipe 18 | W5: =equipes!A37 -> equipe 37 | Y5: =equipes!A2 -> equipe 2 | Z5: =equipes!A21 -> equipe 21 | AB5: =equipes!A28 -> equipe 28 | AC5: =equipes!A5 -> equipe 5 | AE5: =equipes!A12 -> equipe 12 | AF5: =equipes!A31 -> equipe 31 | AH5: =equipes!A38 -> equipe 38 | AI5: =equipes!A15 -> equipe 15 | AK5: =equipes!A22 -> equipe 22 | AL5: =equipes!A41 -> equipe 41 | AN5: =equipes!A6 -> equipe 6 | AO5: =equipes!A25 -> equipe 25 | AQ5: =equipes!A32 -> equipe 32 | AR5: =equipes!A9 -> equipe 9 | AT5: =equipes!A16 -> equipe 16 | AU5: =equipes!A35 -> equipe 35 | AW5: =equipes!A42 -> equipe 42 | AX5: =equipes!A19 -> equipe 19 | AZ5: =equipes!A26 -> equipe 26 | BA5: =equipes!A3 -> equipe 3 | BC5: =equipes!A10 -> equipe 10 | BD5: =equipes!A29 -> equipe 29 | BF5: =equipes!A36 -> equipe 36 | BG5: =equipes!A13 -> equipe 13 | BI5: =equipes!A20 -> equipe 20 | BJ5: =equipes!A39 -> equipe 39
A6: =equipes!A5 -> equipe 5 | B6: =equipes!A22 -> equipe 22 | D6: =equipes!A31 -> equipe 31 | E6: =equipes!A6 -> equipe 6 | G6: =equipes!A15 -> equipe 15 | H6: =equipes!A32 -> equipe 32 | J6: =equipes!A41 -> equipe 41 | K6: =equipes!A16 -> equipe 16 | M6: =equipes!A25 -> equipe 25 | N6: =equipes!A42 -> equipe 42 | P6: =equipes!A9 -> equipe 9 | Q6: =equipes!A26 -> equipe 26 | S6: =equipes!A35 -> equipe 35 | T6: =equipes!A10 -> equipe 10 | V6: =equipes!A19 -> equipe 19 | W6: =equipes!A36 -> equipe 36 | Y6: =equipes!A3 -> equipe 3 | Z6: =equipes!A20 -> equipe 20 | AB6: =equipes!A29 -> equipe 29 | AC6: =equipes!A4 -> equipe 4 | AE6: =equipes!A13 -> equipe 13 | AF6: =equipes!A30 -> equipe 30 | AH6: =equipes!A39 -> equipe 39 | AI6: =equipes!A14 -> equipe 14 | AK6: =equipes!A23 -> equipe 23 | AL6: =equipes!A40 -> equipe 40 | AN6: =equipes!A7 -> equipe 7 | AO6: =equipes!A24 -> equipe 24 | AQ6: =equipes!A33 -> equipe 33 | AR6: =equipes!A8 -> equipe 8 | AT6: =equipes!A17 -> equipe 17 | AU6: =equipes!A34 -> equipe 34 | AW6: =equipes!A1 -> equipe 1 | AX6: =equipes!A18 -> equipe 18 | AZ6: =equipes!A27 -> equipe 27 | BA6: =equipes!A2 -> equipe 2 | BC6: =equipes!A11 -> equipe 11 | BD6: =equipes!A28 -> equipe 28 | BF6: =equipes!A37 -> equipe 37 | BG6: =equipes!A12 -> equipe 12 | BI6: =equipes!A21 -> equipe 21 | BJ6: =equipes!A38 -> equipe 38
A7: =equipes!A6 -> equipe 6 | B7: =equipes!A21 -> equipe 21 | D7: =equipes!A32 -> equipe 32 | E7: =equipes!A5 -> equipe 5 | G7: =equipes!A16 -> equipe 16 | H7: =equipes!A31 -> equipe 31 | J7: =equipes!A42 -> equipe 42 | K7: =equipes!A15 -> equipe 15 | M7: =equipes!A26 -> equipe 26 | N7: =equipes!A41 -> equipe 41 | P7: =equipes!A10 -> equipe 10 | Q7: =equipes!A25 -> equipe 25 | S7: =equipes!A36 -> equipe 36 | T7: =equipes!A9 -> equipe 9 | V7: =equipes!A20 -> equipe 20 | W7: =equipes!A35 -> equipe 35 | Y7: =equipes!A4 -> equipe 4 | Z7: =equipes!A19 -> equipe 19 | AB7: =equipes!A30 -> equipe 30 | AC7: =equipes!A3 -> equipe 3 | AE7: =equipes!A14 -> equipe 14 | AF7: =equipes!A29 -> equipe 29 | AH7: =equipes!A40 -> equipe 40 | AI7: =equipes!A13 -> equipe 13 | AK7: =equipes!A24 -> equipe 24 | AL7: =equipes!A39 -> equipe 39 | AN7: =equipes!A8 -> equipe 8 | AO7: =equipes!A23 -> equipe 23 | AQ7: =equipes!A34 -> equipe 34 | AR7: =equipes!A7 -> equipe 7 | AT7: =equipes!A18 -> equipe 18 | AU7: =equipes!A33 -> equipe 33 | AW7: =equipes!A2 -> equipe 2 | AX7: =equipes!A17 -> equipe 17 | AZ7: =equipes!A28 -> equipe 28 | BA7: =equipes!A1 -> equipe 1 | BC7: =equipes!A12 -> equipe 12 | BD7: =equipes!A27 -> equipe 27 | BF7: =equipes!A38 -> equipe 38 | BG7: =equipes!A11 -> equipe 11 | BI7: =equipes!A22 -> equipe 22 | BJ7: =equipes!A37 -> equipe 37
A8: =equipes!A7 -> equipe 7 | B8: =equipes!A20 -> equipe 20 | D8: =equipes!A33 -> equipe 33 | E8: =equipes!A4 -> equipe 4 | G8: =equipes!A17 -> equipe 17 | H8: =equipes!A30 -> equipe 30 | J8: =equipes!A1 -> equipe 1 | K8: =equipes!A14 -> equipe 14 | M8: =equipes!A27 -> equipe 27 | N8: =equipes!A40 -> equipe 40 | P8: =equipes!A11 -> equipe 11 | Q8: =equipes!A24 -> equipe 24 | S8: =equipes!A37 -> equipe 37 | T8: =equipes!A8 -> equipe 8 | V8: =equipes!A21 -> equipe 21 | W8: =equipes!A34 -> equipe 34 | Y8: =equipes!A5 -> equipe 5 | Z8: =equipes!A18 -> equipe 18 | AB8: =equipes!A31 -> equipe 31 | AC8: =equipes!A2 -> equipe 2 | AE8: =equipes!A15 -> equipe 15 | AF8: =equipes!A28 -> equipe 28 | AH8: =equipes!A41 -> equipe 41 | AI8: =equipes!A12 -> equipe 12 | AK8: =equipes!A25 -> equipe 25 | AL8: =equipes!A38 -> equipe 38 | AN8: =equipes!A9 -> equipe 9 | AO8: =equipes!A22 -> equipe 22 | AQ8: =equipes!A35 -> equipe 35 | AR8: =equipes!A6 -> equipe 6 | AT8: =equipes!A19 -> equipe 19 | AU8: =equipes!A32 -> equipe 32 | AW8: =equipes!A3 -> equipe 3 | AX8: =equipes!A16 -> equipe 16 | AZ8: =equipes!A29 -> equipe 29 | BA8: =equipes!A42 -> equipe 42 | BC8: =equipes!A13 -> equipe 13 | BD8: =equipes!A26 -> equipe 26 | BF8: =equipes!A39 -> equipe 39 | BG8: =equipes!A10 -> equipe 10 | BI8: =equipes!A23 -> equipe 23 | BJ8: =equipes!A36 -> equipe 36
A9: =equipes!A8 -> equipe 8 | B9: =equipes!A19 -> equipe 19 | D9: =equipes!A34 -> equipe 34 | E9: =equipes!A3 -> equipe 3 | G9: =equipes!A18 -> equipe 18 | H9: =equipes!A29 -> equipe 29 | J9: =equipes!A2 -> equipe 2 | K9: =equipes!A13 -> equipe 13 | M9: =equipes!A28 -> equipe 28 | N9: =equipes!A39 -> equipe 39 | P9: =equipes!A12 -> equipe 12 | Q9: =equipes!A23 -> equipe 23 | S9: =equipes!A38 -> equipe 38 | T9: =equipes!A7 -> equipe 7 | V9: =equipes!A22 -> equipe 22 | W9: =equipes!A33 -> equipe 33 | Y9: =equipes!A6 -> equipe 6 | Z9: =equipes!A17 -> equipe 17 | AB9: =equipes!A32 -> equipe 32 | AC9: =equipes!A1 -> equipe 1 | AE9: =equipes!A16 -> equipe 16 | AF9: =equipes!A27 -> equipe 27 | AH9: =equipes!A42 -> equipe 42 | AI9: =equipes!A11 -> equipe 11 | AK9: =equipes!A26 -> equipe 26 | AL9: =equipes!A37 -> equipe 37 | AN9: =equipes!A10 -> equipe 10 | AO9: =equipes!A21 -> equipe 21 | AQ9: =equipes!A36 -> equipe 36 | AR9: =equipes!A5 -> equipe 5 | AT9: =equipes!A20 -> equipe 20 | AU9: =equipes!A31 -> equipe 31 | AW9: =equipes!A4 -> equipe 4 | AX9: =equipes!A15 -> equipe 15 | AZ9: =equipes!A30 -> equipe 30 | BA9: =equipes!A41 -> equipe 41 | BC9: =equipes!A14 -> equipe 14 | BD9: =equipes!A25 -> equipe 25 | BF9: =equipes!A40 -> equipe 40 | BG9: =equipes!A9 -> equipe 9 | BI9: =equipes!A24 -> equipe 24 | BJ9: =equipes!A35 -> equipe 35
A10: =equipes!A9 -> equipe 9 | B10: =equipes!A18 -> equipe 18 | D10: =equipes!A35 -> equipe 35 | E10: =equipes!A2 -> equipe 2 | G10: =equipes!A19 -> equipe 19 | H10: =equipes!A28 -> equipe 28 | J10: =equipes!A3 -> equipe 3 | K10: =equipes!A12 -> equipe 12 | M10: =equipes!A29 -> equipe 29 | N10: =equipes!A38 -> equipe 38 | P10: =equipes!A13 -> equipe 13 | Q10: =equipes!A22 -> equipe 22 | S10: =equipes!A39 -> equipe 39 | T10: =equipes!A6 -> equipe 6 | V10: =equipes!A23 -> equipe 23 | W10: =equipes!A32 -> equipe 32 | Y10: =equipes!A7 -> equipe 7 | Z10: =equipes!A16 -> equipe 16 | AB10: =equipes!A33 -> equipe 33 | AC10: =equipes!A42 -> equipe 42 | AE10: =equipes!A17 -> equipe 17 | AF10: =equipes!A26 -> equipe 26 | AH10: =equipes!A1 -> equipe 1 | AI10: =equipes!A10 -> equipe 10 | AK10: =equipes!A27 -> equipe 27 | AL10: =equipes!A36 -> equipe 36 | AN10: =equipes!A11 -> equipe 11 | AO10: =equipes!A20 -> equipe 20 | AQ10: =equipes!A37 -> equipe 37 | AR10: =equipes!A4 -> equipe 4 | AT10: =equipes!A21 -> equipe 21 | AU10: =equipes!A30 -> equipe 30 | AW10: =equipes!A5 -> equipe 5 | AX10: =equipes!A14 -> equipe 14 | AZ10: =equipes!A31 -> equipe 31 | BA10: =equipes!A40 -> equipe 40 | BC10: =equipes!A15 -> equipe 15 | BD10: =equipes!A24 -> equipe 24 | BF10: =equipes!A41 -> equipe 41 | BG10: =equipes!A8 -> equipe 8 | BI10: =equipes!A25 -> equipe 25 | BJ10: =equipes!A34 -> equipe 34
A11: =equipes!A10 -> equipe 10 | B11: =equipes!A17 -> equipe 17 | D11: =equipes!A36 -> equipe 36 | E11: =equipes!A1 -> equipe 1 | G11: =equipes!A20 -> equipe 20 | H11: =equipes!A27 -> equipe 27 | J11: =equipes!A4 -> equipe 4 | K11: =equipes!A11 -> equipe 11 | M11: =equipes!A30 -> equipe 30 | N11: =equipes!A37 -> equipe 37 | P11: =equipes!A14 -> equipe 14 | Q11: =equipes!A21 -> equipe 21 | S11: =equipes!A40 -> equipe 40 | T11: =equipes!A5 -> equipe 5 | V11: =equipes!A24 -> equipe 24 | W11: =equipes!A31 -> equipe 31 | Y11: =equipes!A8 -> equipe 8 | Z11: =equipes!A15 -> equipe 15 | AB11: =equipes!A34 -> equipe 34 | AC11: =equipes!A41 -> equipe 41 | AE11: =equipes!A18 -> equipe 18 | AF11: =equipes!A25 -> equipe 25 | AH11: =equipes!A2 -> equipe 2 | AI11: =equipes!A9 -> equipe 9 | AK11: =equipes!A28 -> equipe 28 | AL11: =equipes!A35 -> equipe 35 | AN11: =equipes!A12 -> equipe 12 | AO11: =equipes!A19 -> equipe 19 | AQ11: =equipes!A38 -> equipe 38 | AR11: =equipes!A3 -> equipe 3 | AT11: =equipes!A22 -> equipe 22 | AU11: =equipes!A29 -> equipe 29 | AW11: =equipes!A6 -> equipe 6 | AX11: =equipes!A13 -> equipe 13 | AZ11: =equipes!A32 -> equipe 32 | BA11: =equipes!A39 -> equipe 39 | BC11: =equipes!A16 -> equipe 16 | BD11: =equipes!A23 -> equipe 23 | BF11: =equipes!A42 -> equipe 42 | BG11: =equipes!A7 -> equipe 7 | BI11: =equipes!A26 -> equipe 26 | BJ11: =equipes!A33 -> equipe 33
A12: =equipes!A11 -> equipe 11 | B12: =equipes!A16 -> equipe 16 | D12: =equipes!A37 -> equipe 37 | E12: =equipes!A42 -> equipe 42 | G12: =equipes!A21 -> equipe 21 | H12: =equipes!A26 -> equipe 26 | J12: =equipes!A5 -> equipe 5 | K12: =equipes!A10 -> equipe 10 | M12: =equipes!A31 -> equipe 31 | N12: =equipes!A36 -> equipe 36 | P12: =equipes!A15 -> equipe 15 | Q12: =equipes!A20 -> equipe 20 | S12: =equipes!A41 -> equipe 41 | T12: =equipes!A4 -> equipe 4 | V12: =equipes!A25 -> equipe 25 | W12: =equipes!A30 -> equipe 30 | Y12: =equipes!A9 -> equipe 9 | Z12: =equipes!A14 -> equipe 14 | AB12: =equipes!A35 -> equipe 35 | AC12: =equipes!A40 -> equipe 40 | AE12: =equipes!A19 -> equipe 19 | AF12: =equipes!A24 -> equipe 24 | AH12: =equipes!A3 -> equipe 3 | AI12: =equipes!A8 -> equipe 8 | AK12: =equipes!A29 -> equipe 29 | AL12: =equipes!A34 -> equipe 34 | AN12: =equipes!A13 -> equipe 13 | AO12: =equipes!A18 -> equipe 18 | AQ12: =equipes!A39 -> equipe 39 | AR12: =equipes!A2 -> equipe 2 | AT12: =equipes!A23 -> equipe 23 | AU12: =equipes!A28 -> equipe 28 | AW12: =equipes!A7 -> equipe 7 | AX12: =equipes!A12 -> equipe 12 | AZ12: =equipes!A33 -> equipe 33 | BA12: =equipes!A38 -> equipe 38 | BC12: =equipes!A17 -> equipe 17 | BD12: =equipes!A22 -> equipe 22 | BF12: =equipes!A1 -> equipe 1 | BG12: =equipes!A6 -> equipe 6 | BI12: =equipes!A27 -> equipe 27 | BJ12: =equipes!A32 -> equipe 32
A13: =equipes!A12 -> equipe 12 | B13: =equipes!A15 -> equipe 15 | D13: =equipes!A38 -> equipe 38 | E13: =equipes!A41 -> equipe 41 | G13: =equipes!A22 -> equipe 22 | H13: =equipes!A25 -> equipe 25 | J13: =equipes!A6 -> equipe 6 | K13: =equipes!A9 -> equipe 9 | M13: =equipes!A32 -> equipe 32 | N13: =equipes!A35 -> equipe 35 | P13: =equipes!A16 -> equipe 16 | Q13: =equipes!A19 -> equipe 19 | S13: =equipes!A42 -> equipe 42 | T13: =equipes!A3 -> equipe 3 | V13: =equipes!A26 -> equipe 26 | W13: =equipes!A29 -> equipe 29 | Y13: =equipes!A10 -> equipe 10 | Z13: =equipes!A13 -> equipe 13 | AB13: =equipes!A36 -> equipe 36 | AC13: =equipes!A39 -> equipe 39 | AE13: =equipes!A20 -> equipe 20 | AF13: =equipes!A23 -> equipe 23 | AH13: =equipes!A4 -> equipe 4 | AI13: =equipes!A7 -> equipe 7 | AK13: =equipes!A30 -> equipe 30 | AL13: =equipes!A33 -> equipe 33 | AN13: =equipes!A14 -> equipe 14 | AO13: =equipes!A17 -> equipe 17 | AQ13: =equipes!A40 -> equipe 40 | AR13: =equipes!A1 -> equipe 1 | AT13: =equipes!A24 -> equipe 24 | AU13: =equipes!A27 -> equipe 27 | AW13: =equipes!A8 -> equipe 8 | AX13: =equipes!A11 -> equipe 11 | AZ13: =equipes!A34 -> equipe 34 | BA13: =equipes!A37 -> equipe 37 | BC13: =equipes!A18 -> equipe 18 | BD13: =equipes!A21 -> equipe 21 | BF13: =equipes!A2 -> equipe 2 | BG13: =equipes!A5 -> equipe 5 | BI13: =equipes!A28 -> equipe 28 | BJ13: =equipes!A31 -> equipe 31
A14: =equipes!A13 -> equipe 13 | B14: =equipes!A14 -> equipe 14 | D14: =equipes!A39 -> equipe 39 | E14: =equipes!A40 -> equipe 40 | G14: =equipes!A23 -> equipe 23 | H14: =equipes!A24 -> equipe 24 | J14: =equipes!A7 -> equipe 7 | K14: =equipes!A8 -> equipe 8 | M14: =equipes!A33 -> equipe 33 | N14: =equipes!A34 -> equipe 34 | P14: =equipes!A17 -> equipe 17 | Q14: =equipes!A18 -> equipe 18 | S14: =equipes!A1 -> equipe 1 | T14: =equipes!A2 -> equipe 2 | V14: =equipes!A27 -> equipe 27 | W14: =equipes!A28 -> equipe 28 | Y14: =equipes!A11 -> equipe 11 | Z14: =equipes!A12 -> equipe 12 | AB14: =equipes!A37 -> equipe 37 | AC14: =equipes!A38 -> equipe 38 | AE14: =equipes!A21 -> equipe 21 | AF14: =equipes!A22 -> equipe 22 | AH14: =equipes!A5 -> equipe 5 | AI14: =equipes!A6 -> equipe 6 | AK14: =equipes!A31 -> equipe 31 | AL14: =equipes!A32 -> equipe 32 | AN14: =equipes!A15 -> equipe 15 | AO14: =equipes!A16 -> equipe 16 | AQ14: =equipes!A41 -> equipe 41 | AR14: =equipes!A42 -> equipe 42 | AT14: =equipes!A25 -> equipe 25 | AU14: =equipes!A26 -> equipe 26 | AW14: =equipes!A9 -> equipe 9 | AX14: =equipes!A10 -> equipe 10 | AZ14: =equipes!A35 -> equipe 35 | BA14: =equipes!A36 -> equipe 36 | BC14: =equipes!A19 -> equipe 19 | BD14: =equipes!A20 -> equipe 20 | BF14: =equipes!A3 -> equipe 3 | BG14: =equipes!A4 -> equipe 4 | BI14: =equipes!A29 -> equipe 29 | BJ14: =equipes!A30 -> equipe 30

Sheet equipes
A1: equipe 1
A2: equipe 2
A3: equipe 3
A4: equipe 4
A5: equipe 5
A6: equipe 6
A7: equipe 7
A8: equipe 8
A9: equipe 9
A10: equipe 10
A11: equipe 11
A12: equipe 12
... A42: equipe 42
