Workbook

Sheet Matière
A1: Matière
A2: * Aucune matière | B2: 0
A3: 42CD4 | B3: 1
A4: 42CD4T | B4: 2 | D4: 9 | E4: XX | F4: - | G4: XXXXXX
A5: ACIER | B5: 3 | H5: Numéro de la pièce
A6: AL 2618 forgé | B6: 4 | H6: Numéro de la matière
A7: AL 5083 | B7: 5 | H7: Numéro représentant le commerce
A8: AL 6060 | B8: 6
A9: AL 7075 | B9: 7 | G9: ex : | H9: 908-012546
A10: ALLIAGE X | B10: 8
A11: APX4 | B11: 9
A12: CARBONE KEVLAR | B12: 10
A13: CU | B13: 11
A14: CU (écroui) | B14: 12
A15: Film tpu 300μ base polyester | B15: 13
A16: FPM 70 | B16: 14
A17: FPM 80 | B17: 15
A18: INCO 625 | B18: 16
A19: INCO 713 | B19: 17
A20: INCO 713 + HIP | B20: 18
A21: 304L | B21: 19
... A33: TA6V | B33: 31
B34: 32
B35: 33
B36: 34
B37: 35
B38: 36
B39: 37
B40: 38
B41: 39
B42: 40
B43: 41
B44: 42
B45: 43
... B140: 138

Sheet Liste pièces du commerce
A1: Type | C1: Taille A | D1: Taille B | E1: Taille C | F1: Taille C | G1: Taille D | H1: Description | I1: Matière | K1: REF
A2: Vis H | C2: 2.5 | D2: 4 | H2: =CONCATENATE(,A2," M",C2,"x",D2,) -> Vis H M2,5x4 | I2: A2 | J2: EF | K2: =J2&INDEX(Matière!$B$2:$B$140,MATCH(I2,Matière!$A$2:$A$140,0))&"-"&TEXT(COUNTIF($I$2:I2,I2),"00000") -> EF21-00001
A3: Vis H | C3: 2.5 | D3: 5 | H3: =CONCATENATE(,A3," M",C3,"x",D3,) -> Vis H M2,5x5 | I3: A2 | J3: EF | K3: =J3&INDEX(Matière!$B$2:$B$140,MATCH(I3,Matière!$A$2:$A$140,0))&"-"&TEXT(COUNTIF($I$2:I3,I3),"00000") -> EF21-00002
A4: Vis H | C4: 2.5 | D4: 6 | H4: =CONCATENATE(,A4," M",C4,"x",D4,) -> Vis H M2,5x6 | I4: A2 | J4: EF | K4: =J4&INDEX(Matière!$B$2:$B$140,MATCH(I4,Matière!$A$2:$A$140,0))&"-"&TEXT(COUNTIF($I$2:I4,I4),"00000") -> EF21-00003
A5: Vis H | C5: 2.5 | D5: 8 | H5: =CONCATENATE(,A5," M",C5,"x",D5,) -> Vis H M2,5x8 | I5: A2 | J5: EF | K5: =J5&INDEX(Matière!$B$2:$B$140,MATCH(I5,Matière!$A$2:$A$140,0))&"-"&TEXT(COUNTIF($I$2:I5,I5),"00000") -> EF21-00004
A6: Vis H | C6: 2.5 | D6: 10 | H6: =CONCATENATE(,A6," M",C6,"x",D6,) -> Vis H M2,5x10 | I6: A2 | J6: EF | K6: =J6&INDEX(Matière!$B$2:$B$140,MATCH(I6,Matière!$A$2:$A$140,0))&"-"&TEXT(COUNTIF($I$2:I6,I6),"00000") -> EF21-00005
A7: Vis H | C7: 2.5 | D7: 12 | H7: =CONCATENATE(,A7," M",C7,"x",D7,) -> Vis H M2,5x12 | I7: A2 | J7: EF | K7: =J7&INDEX(Matière!$B$2:$B$140,MATCH(I7,Matière!$A$2:$A$140,0))&"-"&TEXT(COUNTIF($I$2:I7,I7),"00000") -> EF21-00006
A8: Vis H | C8: 2.5 | D8: 16 | H8: =CONCATENATE(,A8," M",C8,"x",D8,) -> Vis H M2,5x16 | I8: A2 | J8: EF | K8: =J8&INDEX(Matière!$B$2:$B$140,MATCH(I8,Matière!$A$2:$A$140,0))&"-"&TEXT(COUNTIF($I$2:I8,I8),"00000") -> EF21-00007
A9: Vis H | C9: 2.5 | D9: 20 | H9: =CONCATENATE(,A9," M",C9,"x",D9,) -> Vis H M2,5x20 | I9: A2 | J9: EF | K9: =J9&INDEX(Matière!$B$2:$B$140,MATCH(I9,Matière!$A$2:$A$140,0))&"-"&TEXT(COUNTIF($I$2:I9,I9),"00000") -> EF21-00008
A10: Vis H | C10: 3 | D10: 6 | H10: =CONCATENATE(,A10," M",C10,"x",D10,) -> Vis H M3x6 | I10: A2 | J10: EF | K10: =J10&INDEX(Matière!$B$2:$B$140,MATCH(I10,Matière!$A$2:$A$140,0))&"-"&TEXT(COUNTIF($I$2:I10,I10),"00000") -> EF21-00009
A11: Vis H | C11: 3 | D11: 8 | H11: =CONCATENATE(,A11," M",C11,"x",D11,) -> Vis H M3x8 | I11: A2 | J11: EF | K11: =J11&INDEX(Matière!$B$2:$B$140,MATCH(I11,Matière!$A$2:$A$140,0))&"-"&TEXT(COUNTIF($I$2:I11,I11),"00000") -> EF21-00010
A12: Vis H | C12: 3 | D12: 10 | H12: =CONCATENATE(,A12," M",C12,"x",D12,) -> Vis H M3x10 | I12: A2 | J12: EF | K12: =J12&INDEX(Matière!$B$2:$B$140,MATCH(I12,Matière!$A$2:$A$140,0))&"-"&TEXT(COUNTIF($I$2:I12,I12),"00000") -> EF21-00011
A13: Vis H | C13: 3 | D13: 12 | H13: =CONCATENATE(,A13," M",C13,"x",D13,) -> Vis H M3x12 | I13: A2 | J13: EF | K13: =J13&INDEX(Matière!$B$2:$B$140,MATCH(I13,Matière!$A$2:$A$140,0))&"-"&TEXT(COUNTIF($I$2:I13,I13),"00000") -> EF21-00012
... A219: Vis H | C219: 10 | D219: 50 | H219: =CONCATENATE(,A219," M",C219,"x",D219,) -> Vis H M10x50 | I219: A4 | J219: PF | K219: =J219&INDEX(Matière!$B$2:$B$140,MATCH(I219,Matière!$A$2:$A$140,0))&"-"&TEXT(COUNTIF($I$2:I219,I219),"00000") -> PF22-00109
A220: Vis CHC | C220: 1.6 | D220: 3 | H220: =CONCATENATE(,A220," M",C220,"x",D220,) -> Vis CHC M1,6x3 | I220: A2 | K220: =J220&INDEX(Matière!$B$2:$B$140,MATCH(I220,Matière!$A$2:$A$140,0))&"-"&TEXT(COUNTIF($I$2:I220,I220),"00000") -> 21-00110
A221: Vis CHC | C221: 1.6 | D221: 4 | H221: =CONCATENATE(,A221," M",C221,"x",D221,) -> Vis CHC M1,6x4 | I221: A2 | K221: =J221&INDEX(Matière!$B$2:$B$140,MATCH(I221,Matière!$A$2:$A$140,0))&"-"&TEXT(COUNTIF($I$2:I221,I221),"00000") -> 21-00111
A222: Vis CHC | C222: 1.6 | D222: 5 | H222: =CONCATENATE(,A222," M",C222,"x",D222,) -> Vis CHC M1,6x5 | I222: A2 | K222: =J222&INDEX(Matière!$B$2:$B$140,MATCH(I222,Matière!$A$2:$A$140,0))&"-"&TEXT(COUNTIF($I$2:I222,I222),"00000") -> 21-00112
A223: Vis CHC | C223: 1.6 | D223: 6 | H223: =CONCATENATE(,A223," M",C223,"x",D223,) -> Vis CHC M1,6x6 | I223: A2 | K223: =J223&INDEX(Matière!$B$2:$B$140,MATCH(I223,Matière!$A$2:$A$140,0))&"-"&TEXT(COUNTIF($I$2:I223,I223),"00000") -> 21-00113
A224: Vis CHC | C224: 1.6 | D224: 8 | H224: =CONCATENATE(,A224," M",C224,"x",D224,) -> Vis CHC M1,6x8 | I224: A2 | K224: =J224&INDEX(Matière!$B$2:$B$140,MATCH(I224,Matière!$A$2:$A$140,0))&"-"&TEXT(COUNTIF($I$2:I224,I224),"00000") -> 21-00114
A225: Vis CHC | C225: 1.6 | D225: 10 | H225: =CONCATENATE(,A225," M",C225,"x",D225,) -> Vis CHC M1,6x10 | I225: A2 | K225: =J225&INDEX(Matière!$B$2:$B$140,MATCH(I225,Matière!$A$2:$A$140,0))&"-"&TEXT(COUNTIF($I$2:I225,I225),"00000") -> 21-00115
A226: Vis CHC | C226: 1.6 | D226: 12 | H226: =CONCATENATE(,A226," M",C226,"x",D226,) -> Vis CHC M1,6x12 | I226: A2 | K226: =J226&INDEX(Matière!$B$2:$B$140,MATCH(I226,Matière!$A$2:$A$140,0))&"-"&TEXT(COUNTIF($I$2:I226,I226),"00000") -> 21-00116
A227: Vis CHC | C227: 1.6 | D227: 16 | H227: =CONCATENATE(,A227," M",C227,"x",D227,) -> Vis CHC M1,6x16 | I227: A2 | K227: =J227&INDEX(Matière!$B$2:$B$140,MATCH(I227,Matière!$A$2:$A$140,0))&"-"&TEXT(COUNTIF($I$2:I227,I227),"00000") -> 21-00117
A228: Vis CHC | C228: 2 | D228: 3 | H228: =CONCATENATE(,A228," M",C228,"x",D228,) -> Vis CHC M2x3 | I228: A2 | K228: =J228&INDEX(Matière!$B$2:$B$140,MATCH(I228,Matière!$A$2:$A$140,0))&"-"&TEXT(COUNTIF($I$2:I228,I228),"00000") -> 21-00118
A229: Vis CHC | C229: 2 | D229: 4 | H229: =CONCATENATE(,A229," M",C229,"x",D229,) -> Vis CHC M2x4 | I229: A2 | K229: =J229&INDEX(Matière!$B$2:$B$140,MATCH(I229,Matière!$A$2:$A$140,0))&"-"&TEXT(COUNTIF($I$2:I229,I229),"00000") -> 21-00119
A230: Vis CHC | C230: 2 | D230: 5 | H230: =CONCATENATE(,A230," M",C230,"x",D230,) -> Vis CHC M2x5 | I230: A2 | K230: =J230&INDEX(Matière!$B$2:$B$140,MATCH(I230,Matière!$A$2:$A$140,0))&"-"&TEXT(COUNTIF($I$2:I230,I230),"00000") -> 21-00120
A231: Vis CHC | C231: 2 | D231: 6 | H231: =CONCATENATE(,A231," M",C231,"x",D231,) -> Vis CHC M2x6 | I231: A2 | K231: =J231&INDEX(Matière!$B$2:$B$140,MATCH(I231,Matière!$A$2:$A$140,0))&"-"&TEXT(COUNTIF($I$2:I231,I231),"00000") -> 21-00121
... A777: Vis STHC Bout pointeau | C777: 8 | D777: 50 | H777: =CONCATENATE(,A777," M",C777,"x",D777,) -> Vis STHC Bout pointeau M8x50 | I777: A4 | K777: =J777&INDEX(Matière!$B$2:$B$140,MATCH(I777,Matière!$A$2:$A$140,0))&"-"&TEXT(COUNTIF($I$2:I777,I777),"00000") -> 22-00349
K778: =J778&INDEX(Matière!$B$2:$B$140,MATCH(I778,Matière!$A$2:$A$140,0))&"-"&TEXT(COUNTIF($I$2:I778,I778),"00000") -> #N/A
A779: Vis TBRP | B779: M | C779: 2.5 | D779: 8 | H779: =CONCATENATE(,A779," ",B779,,C779,"x",D779,) -> Vis TBRP M2,5x8 | I779: A4 | K779: =J779&INDEX(Matière!$B$2:$B$140,MATCH(I779,Matière!$A$2:$A$140,0))&"-"&TEXT(COUNTIF($I$2:I779,I779),"00000") -> 22-00350
A780: Vis TBRP | B780: M | C780: 2.5 | D780: 10 | H780: =CONCATENATE(,A780," ",B780,,C780,"x",D780,) -> Vis TBRP M2,5x10 | I780: A4 | K780: =J780&INDEX(Matière!$B$2:$B$140,MATCH(I780,Matière!$A$2:$A$140,0))&"-"&TEXT(COUNTIF($I$2:I780,I780),"00000") -> 22-00351
A781: Vis TBRP | B781: M | C781: 3 | D781: 12 | H781: =CONCATENATE(,A781," ",B781,,C781,"x",D781,) -> Vis TBRP M3x12 | I781: A4 | K781: =J781&INDEX(Matière!$B$2:$B$140,MATCH(I781,Matière!$A$2:$A$140,0))&"-"&TEXT(COUNTIF($I$2:I781,I781),"00000") -> 22-00352
A782: Vis TBRP | B782: M | C782: 3 | D782: 8 | H782: =CONCATENATE(,A782," ",B782,,C782,"x",D782,) -> Vis TBRP M3x8 | I782: A4 | K782: =J782&INDEX(Matière!$B$2:$B$140,MATCH(I782,Matière!$A$2:$A$140,0))&"-"&TEXT(COUNTIF($I$2:I782,I782),"00000") -> 22-00353
A783: Vis TBRP | B783: M | C783: 3 | D783: 10 | H783: =CONCATENATE(,A783," ",B783,,C783,"x",D783,) -> Vis TBRP M3x10 | I783: A4 | K783: =J783&INDEX(Matière!$B$2:$B$140,MATCH(I783,Matière!$A$2:$A$140,0))&"-"&TEXT(COUNTIF($I$2:I783,I783),"00000") -> 22-00354
A784: Vis TBRP | B784: M | C784: 3 | D784: 12 | H784: =CONCATENATE(,A784," ",B784,,C784,"x",D784,) -> Vis TBRP M3x12 | I784: A4 | K784: =J784&INDEX(Matière!$B$2:$B$140,MATCH(I784,Matière!$A$2:$A$140,0))&"-"&TEXT(COUNTIF($I$2:I784,I784),"00000") -> 22-00355
A785: Vis TBRP | B785: M | C785: 3 | D785: 14 | H785: =CONCATENATE(,A785," ",B785,,C785,"x",D785,) -> Vis TBRP M3x14 | I785: A4 | K785: =J785&INDEX(Matière!$B$2:$B$140,MATCH(I785,Matière!$A$2:$A$140,0))&"-"&TEXT(COUNTIF($I$2:I785,I785),"00000") -> 22-00356
A786: Vis TBRP | B786: M | C786: 3 | D786: 16 | H786: =CONCATENATE(,A786," ",B786,,C786,"x",D786,) -> Vis TBRP M3x16 | I786: A4 | K786: =J786&INDEX(Matière!$B$2:$B$140,MATCH(I786,Matière!$A$2:$A$140,0))&"-"&TEXT(COUNTIF($I$2:I786,I786),"00000") -> 22-00357
A787: Vis TBRP | B787: M | C787: 3 | D787: 20 | H787: =CONCATENATE(,A787," ",B787,,C787,"x",D787,) -> Vis TBRP M3x20 | I787: A4 | K787: =J787&INDEX(Matière!$B$2:$B$140,MATCH(I787,Matière!$A$2:$A$140,0))&"-"&TEXT(COUNTIF($I$2:I787,I787),"00000") -> 22-00358
A788: Vis TBRP | B788: M | C788: 3 | D788: 25 | H788: =CONCATENATE(,A788," ",B788,,C788,"x",D788,) -> Vis TBRP M3x25 | I788: A4 | K788: =J788&INDEX(Matière!$B$2:$B$140,MATCH(I788,Matière!$A$2:$A$140,0))&"-"&TEXT(COUNTIF($I$2:I788,I788),"00000") -> 22-00359
A789: Vis TBRP | B789: M | C789: 3.5 | D789: 8 | H789: =CONCATENATE(,A789," ",B789,,C789,"x",D789,) -> Vis TBRP M3,5x8 | I789: A4 | K789: =J789&INDEX(Matière!$B$2:$B$140,MATCH(I789,Matière!$A$2:$A$140,0))&"-"&TEXT(COUNTIF($I$2:I789,I789),"00000") -> 22-00360
A790: Vis TBRP | B790: M | C790: 3.5 | D790: 10 | H790: =CONCATENATE(,A790," ",B790,,C790,"x",D790,) -> Vis TBRP M3,5x10 | I790: A4 | K790: =J790&INDEX(Matière!$B$2:$B$140,MATCH(I790,Matière!$A$2:$A$140,0))&"-"&TEXT(COUNTIF($I$2:I790,I790),"00000") -> 22-00361
... A803: Vis TBRP | B803: M | C803: 6 | D803: 35 | H803: =CONCATENATE(,A803," ",B803,,C803,"x",D803,) -> Vis TBRP M6x35 | I803: A4 | K803: =J803&INDEX(Matière!$B$2:$B$140,MATCH(I803,Matière!$A$2:$A$140,0))&"-"&TEXT(COUNTIF($I$2:I803,I803),"00000") -> 22-00374
I804: A4 | K804: =J804&INDEX(Matière!$B$2:$B$140,MATCH(I804,Matière!$A$2:$A$140,0))&"-"&TEXT(COUNTIF($I$2:I804,I804),"00000") -> 22-00375
A805: Vis TBHC | B805: M | C805: 2 | D805: 3 | H805: =CONCATENATE(,A805," ",B805,,C805,"x",D805,) -> Vis TBHC M2x3 | I805: A4 | K805: =J805&INDEX(Matière!$B$2:$B$140,MATCH(I805,Matière!$A$2:$A$140,0))&"-"&TEXT(COUNTIF($I$2:I805,I805),"00000") -> 22-00376
A806: Vis TBHC | B806: M | C806: 3 | D806: 4 | H806: =CONCATENATE(,A806," ",B806,,C806,"x",D806,) -> Vis TBHC M3x4 | I806: A4 | K806: =J806&INDEX(Matière!$B$2:$B$140,MATCH(I806,Matière!$A$2:$A$140,0))&"-"&TEXT(COUNTIF($I$2:I806,I806),"00000") -> 22-00377
A807: Vis TBHC | B807: M | C807: 3 | D807: 6 | H807: =CONCATENATE(,A807," ",B807,,C807,"x",D807,) -> Vis TBHC M3x6 | I807: A4 | K807: =J807&INDEX(Matière!$B$2:$B$140,MATCH(I807,Matière!$A$2:$A$140,0))&"-"&TEXT(COUNTIF($I$2:I807,I807),"00000") -> 22-00378
A808: Vis TBHC | B808: M | C808: 3 | D808: 8 | H808: =CONCATENATE(,A808," ",B808,,C808,"x",D808,) -> Vis TBHC M3x8 | I808: A4 | K808: =J808&INDEX(Matière!$B$2:$B$140,MATCH(I808,Matière!$A$2:$A$140,0))&"-"&TEXT(COUNTIF($I$2:I808,I808),"00000") -> 22-00379
A809: Vis TBHC | B809: M | C809: 3 | D809: 10 | H809: =CONCATENATE(,A809," ",B809,,C809,"x",D809,) -> Vis TBHC M3x10 | I809: A4 | K809: =J809&INDEX(Matière!$B$2:$B$140,MATCH(I809,Matière!$A$2:$A$140,0))&"-"&TEXT(COUNTIF($I$2:I809,I809),"00000") -> 22-00380
A810: Vis TBHC | B810: M | C810: 3 | D810: 12 | H810: =CONCATENATE(,A810," ",B810,,C810,"x",D810,) -> Vis TBHC M3x12 | I810: A4 | K810: =J810&INDEX(Matière!$B$2:$B$140,MATCH(I810,Matière!$A$2:$A$140,0))&"-"&TEXT(COUNTIF($I$2:I810,I810),"00000") -> 22-00381
A811: Vis TBHC | B811: M | C811: 3 | D811: 16 | H811: =CONCATENATE(,A811," ",B811,,C811,"x",D811,) -> Vis TBHC M3x16 | I811: A4 | K811: =J811&INDEX(Matière!$B$2:$B$140,MATCH(I811,Matière!$A$2:$A$140,0))&"-"&TEXT(COUNTIF($I$2:I811,I811),"00000") -> 22-00382
A812: Vis TBHC | B812: M | C812: 3 | D812: 20 | H812: =CONCATENATE(,A812," ",B812,,C812,"x",D812,) -> Vis TBHC M3x20 | I812: A4 | K812: =J812&INDEX(Matière!$B$2:$B$140,MATCH(I812,Matière!$A$2:$A$140,0))&"-"&TEXT(COUNTIF($I$2:I812,I812),"00000") -> 22-00383
A813: Vis TBHC | B813: M | C813: 3 | D813: 25 | H813: =CONCATENATE(,A813," ",B813,,C813,"x",D813,) -> Vis TBHC M3x25 | I813: A4 | K813: =J813&INDEX(Matière!$B$2:$B$140,MATCH(I813,Matière!$A$2:$A$140,0))&"-"&TEXT(COUNTIF($I$2:I813,I813),"00000") -> 22-00384
A814: Vis TBHC | B814: M | C814: 3 | D814: 30 | H814: =CONCATENATE(,A814," ",B814,,C814,"x",D814,) -> Vis TBHC M3x30 | I814: A4 | K814: =J814&INDEX(Matière!$B$2:$B$140,MATCH(I814,Matière!$A$2:$A$140,0))&"-"&TEXT(COUNTIF($I$2:I814,I814),"00000") -> 22-00385
A815: Vis TBHC | B815: M | C815: 4 | D815: 6 | H815: =CONCATENATE(,A815," ",B815,,C815,"x",D815,) -> Vis TBHC M4x6 | I815: A4 | K815: =J815&INDEX(Matière!$B$2:$B$140,MATCH(I815,Matière!$A$2:$A$140,0))&"-"&TEXT(COUNTIF($I$2:I815,I815),"00000") -> 22-00386
A816: Vis TBHC | B816: M | C816: 4 | D816: 8 | H816: =CONCATENATE(,A816," ",B816,,C816,"x",D816,) -> Vis TBHC M4x8 | I816: A4 | K816: =J816&INDEX(Matière!$B$2:$B$140,MATCH(I816,Matière!$A$2:$A$140,0))&"-"&TEXT(COUNTIF($I$2:I816,I816),"00000") -> 22-00387
... A853: Vis TBHC | B853: M | C853: 10 | D853: 30 | H853: =CONCATENATE(,A853," ",B853,,C853,"x",D853,) -> Vis TBHC M10x30 | I853: A4 | K853: =J853&INDEX(Matière!$B$2:$B$140,MATCH(I853,Matière!$A$2:$A$140,0))&"-"&TEXT(COUNTIF($I$2:I853,I853),"00000") -> 22-00424
I854: A4 | K854: =J854&INDEX(Matière!$B$2:$B$140,MATCH(I854,Matière!$A$2:$A$140,0))&"-"&TEXT(COUNTIF($I$2:I854,I854),"00000") -> 22-00425
A855: Vis FX | B855: M | C855: 2 | D855: 3 | H855: =CONCATENATE(,A855," ",B855,,C855,"x",D855,) -> Vis FX M2x3 | I855: A4 | K855: =J855&INDEX(Matière!$B$2:$B$140,MATCH(I855,Matière!$A$2:$A$140,0))&"-"&TEXT(COUNTIF($I$2:I855,I855),"00000") -> 22-00426
A856: Vis FX | B856: M | C856: 2 | D856: 4 | H856: =CONCATENATE(,A856," ",B856,,C856,"x",D856,) -> Vis FX M2x4 | I856: A4 | K856: =J856&INDEX(Matière!$B$2:$B$140,MATCH(I856,Matière!$A$2:$A$140,0))&"-"&TEXT(COUNTIF($I$2:I856,I856),"00000") -> 22-00427
A857: Vis FX | B857: M | C857: 2 | D857: 5 | H857: =CONCATENATE(,A857," ",B857,,C857,"x",D857,) -> Vis FX M2x5 | I857: A4 | K857: =J857&INDEX(Matière!$B$2:$B$140,MATCH(I857,Matière!$A$2:$A$140,0))&"-"&TEXT(COUNTIF($I$2:I857,I857),"00000") -> 22-00428
A858: Vis FX | B858: M | C858: 2 | D858: 6 | H858: =CONCATENATE(,A858," ",B858,,C858,"x",D858,) -> Vis FX M2x6 | I858: A4 | K858: =J858&INDEX(Matière!$B$2:$B$140,MATCH(I858,Matière!$A$2:$A$140,0))&"-"&TEXT(COUNTIF($I$2:I858,I858),"00000") -> 22-00429
A859: Vis FX | B859: M | C859: 2 | D859: 8 | H859: =CONCATENATE(,A859," ",B859,,C859,"x",D859,) -> Vis FX M2x8 | I859: A4 | K859: =J859&INDEX(Matière!$B$2:$B$140,MATCH(I859,Matière!$A$2:$A$140,0))&"-"&TEXT(COUNTIF($I$2:I859,I859),"00000") -> 22-00430
A860: Vis FX | B860: M | C860: 2 | D860: 10 | H860: =CONCATENATE(,A860," ",B860,,C860,"x",D860,) -> Vis FX M2x10 | I860: A4 | K860: =J860&INDEX(Matière!$B$2:$B$140,MATCH(I860,Matière!$A$2:$A$140,0))&"-"&TEXT(COUNTIF($I$2:I860,I860),"00000") -> 22-00431
A861: Vis FX | B861: M | C861: 2 | D861: 12 | H861: =CONCATENATE(,A861," ",B861,,C861,"x",D861,) -> Vis FX M2x12 | I861: A4 | K861: =J861&INDEX(Matière!$B$2:$B$140,MATCH(I861,Matière!$A$2:$A$140,0))&"-"&TEXT(COUNTIF($I$2:I861,I861),"00000") -> 22-00432
A862: Vis FX | B862: M | C862: 2 | D862: 14 | H862: =CONCATENATE(,A862," ",B862,,C862,"x",D862,) -> Vis FX M2x14 | I862: A4 | K862: =J862&INDEX(Matière!$B$2:$B$140,MATCH(I862,Matière!$A$2:$A$140,0))&"-"&TEXT(COUNTIF($I$2:I862,I862),"00000") -> 22-00433
A863: Vis FX | B863: M | C863: 2 | D863: 16 | H863: =CONCATENATE(,A863," ",B863,,C863,"x",D863,) -> Vis FX M2x16 | I863: A4 | K863: =J863&INDEX(Matière!$B$2:$B$140,MATCH(I863,Matière!$A$2:$A$140,0))&"-"&TEXT(COUNTIF($I$2:I863,I863),"00000") -> 22-00434
A864: Vis FX | B864: M | C864: 2 | D864: 20 | H864: =CONCATENATE(,A864," ",B864,,C864,"x",D864,) -> Vis FX M2x20 | I864: A4 | K864: =J864&INDEX(Matière!$B$2:$B$140,MATCH(I864,Matière!$A$2:$A$140,0))&"-"&TEXT(COUNTIF($I$2:I864,I864),"00000") -> 22-00435
A865: Vis FX | B865: M | C865: 2.5 | D865: 4 | H865: =CONCATENATE(,A865," ",B865,,C865,"x",D865,) -> Vis FX M2,5x4 | I865: A4 | K865: =J865&INDEX(Matière!$B$2:$B$140,MATCH(I865,Matière!$A$2:$A$140,0))&"-"&TEXT(COUNTIF($I$2:I865,I865),"00000") -> 22-00436
A866: Vis FX | B866: M | C866: 2.5 | D866: 6 | H866: =CONCATENATE(,A866," ",B866,,C866,"x",D866,) -> Vis FX M2,5x6 | I866: A4 | K866: =J866&INDEX(Matière!$B$2:$B$140,MATCH(I866,Matière!$A$2:$A$140,0))&"-"&TEXT(COUNTIF($I$2:I866,I866),"00000") -> 22-00437
... A881: Vis FX | B881: M | C881: 3 | D881: 20 | H881: =CONCATENATE(,A881," ",B881,,C881,"x",D881,) -> Vis FX M3x20 | I881: A4 | K881: =J881&INDEX(Matière!$B$2:$B$140,MATCH(I881,Matière!$A$2:$A$140,0))&"-"&TEXT(COUNTIF($I$2:I881,I881),"00000") -> 22-00452
I882: A4 | K882: =J882&INDEX(Matière!$B$2:$B$140,MATCH(I882,Matière!$A$2:$A$140,0))&"-"&TEXT(COUNTIF($I$2:I882,I882),"00000") -> 22-00453
A883: Vis FHC | B883: M | C883: 1.6 | D883: 6 | H883: =CONCATENATE(,A883," ",B883,,C883,"x",D883,) -> Vis FHC M1,6x6 | I883: A4 | K883: =J883&INDEX(Matière!$B$2:$B$140,MATCH(I883,Matière!$A$2:$A$140,0))&"-"&TEXT(COUNTIF($I$2:I883,I883),"00000") -> 22-00454
A884: Vis FHC | B884: M | C884: 2 | D884: 3 | H884: =CONCATENATE(,A884," ",B884,,C884,"x",D884,) -> Vis FHC M2x3 | I884: A4 | K884: =J884&INDEX(Matière!$B$2:$B$140,MATCH(I884,Matière!$A$2:$A$140,0))&"-"&TEXT(COUNTIF($I$2:I884,I884),"00000") -> 22-00455
A885: Vis FHC | B885: M | C885: 2 | D885: 4 | H885: =CONCATENATE(,A885," ",B885,,C885,"x",D885,) -> Vis FHC M2x4 | I885: A4 | K885: =J885&INDEX(Matière!$B$2:$B$140,MATCH(I885,Matière!$A$2:$A$140,0))&"-"&TEXT(COUNTIF($I$2:I885,I885),"00000") -> 22-00456
A886: Vis FHC | B886: M | C886: 2 | D886: 5 | H886: =CONCATENATE(,A886," ",B886,,C886,"x",D886,) -> Vis FHC M2x5 | I886: A4 | K886: =J886&INDEX(Matière!$B$2:$B$140,MATCH(I886,Matière!$A$2:$A$140,0))&"-"&TEXT(COUNTIF($I$2:I886,I886),"00000") -> 22-00457
A887: Vis FHC | B887: M | C887: 2 | D887: 6 | H887: =CONCATENATE(,A887," ",B887,,C887,"x",D887,) -> Vis FHC M2x6 | I887: A4 | K887: =J887&INDEX(Matière!$B$2:$B$140,MATCH(I887,Matière!$A$2:$A$140,0))&"-"&TEXT(COUNTIF($I$2:I887,I887),"00000") -> 22-00458
A888: Vis FHC | B888: M | C888: 2 | D888: 8 | H888: =CONCATENATE(,A888," ",B888,,C888,"x",D888,) -> Vis FHC M2x8 | I888: A4 | K888: =J888&INDEX(Matière!$B$2:$B$140,MATCH(I888,Matière!$A$2:$A$140,0))&"-"&TEXT(COUNTIF($I$2:I888,I888),"00000") -> 22-00459
A889: Vis FHC | B889: M | C889: 2 | D889: 10 | H889: =CONCATENATE(,A889," ",B889,,C889,"x",D889,) -> Vis FHC M2x10 | I889: A4 | K889: =J889&INDEX(Matière!$B$2:$B$140,MATCH(I889,Matière!$A$2:$A$140,0))&"-"&TEXT(COUNTIF($I$2:I889,I889),"00000") -> 22-00460
A890: Vis FHC | B890: M | C890: 2 | D890: 12 | H890: =CONCATENATE(,A890," ",B890,,C890,"x",D890,) -> Vis FHC M2x12 | I890: A4 | K890: =J890&INDEX(Matière!$B$2:$B$140,MATCH(I890,Matière!$A$2:$A$140,0))&"-"&TEXT(COUNTIF($I$2:I890,I890),"00000") -> 22-00461
A891: Vis FHC | B891: M | C891: 2.5 | D891: 4 | H891: =CONCATENATE(,A891," ",B891,,C891,"x",D891,) -> Vis FHC M2,5x4 | I891: A4 | K891: =J891&INDEX(Matière!$B$2:$B$140,MATCH(I891,Matière!$A$2:$A$140,0))&"-"&TEXT(COUNTIF($I$2:I891,I891),"00000") -> 22-00462
A892: Vis FHC | B892: M | C892: 2.5 | D892: 5 | H892: =CONCATENATE(,A892," ",B892,,C892,"x",D892,) -> Vis FHC M2,5x5 | I892: A4 | K892: =J892&INDEX(Matière!$B$2:$B$140,MATCH(I892,Matière!$A$2:$A$140,0))&"-"&TEXT(COUNTIF($I$2:I892,I892),"00000") -> 22-00463
A893: Vis FHC | B893: M | C893: 2.5 | D893: 6 | H893: =CONCATENATE(,A893," ",B893,,C893,"x",D893,) -> Vis FHC M2,5x6 | I893: A4 | K893: =J893&INDEX(Matière!$B$2:$B$140,MATCH(I893,Matière!$A$2:$A$140,0))&"-"&TEXT(COUNTIF($I$2:I893,I893),"00000") -> 22-00464
A894: Vis FHC | B894: M | C894: 2.5 | D894: 8 | H894: =CONCATENATE(,A894," ",B894,,C894,"x",D894,) -> Vis FHC M2,5x8 | I894: A4 | K894: =J894&INDEX(Matière!$B$2:$B$140,MATCH(I894,Matière!$A$2:$A$140,0))&"-"&TEXT(COUNTIF($I$2:I894,I894),"00000") -> 22-00465
... A955: Vis FHC | B955: M | C955: 8 | D955: 60 | H955: =CONCATENATE(,A955," ",B955,,C955,"x",D955,) -> Vis FHC M8x60 | I955: A4 | K955: =J955&INDEX(Matière!$B$2:$B$140,MATCH(I955,Matière!$A$2:$A$140,0))&"-"&TEXT(COUNTIF($I$2:I955,I955),"00000") -> 22-00526
I956: A4 | K956: =J956&INDEX(Matière!$B$2:$B$140,MATCH(I956,Matière!$A$2:$A$140,0))&"-"&TEXT(COUNTIF($I$2:I956,I956),"00000") -> 22-00527
A957: Vis CBLX | B957: M | C957: 2 | D957: 3 | H957: =CONCATENATE(,A957," ",B957,,C957,"x",D957,) -> Vis CBLX M2x3 | I957: A4 | K957: =J957&INDEX(Matière!$B$2:$B$140,MATCH(I957,Matière!$A$2:$A$140,0))&"-"&TEXT(COUNTIF($I$2:I957,I957),"00000") -> 22-00528
A958: Vis CBLX | B958: M | C958: 2 | D958: 4 | H958: =CONCATENATE(,A958," ",B958,,C958,"x",D958,) -> Vis CBLX M2x4 | I958: A4 | K958: =J958&INDEX(Matière!$B$2:$B$140,MATCH(I958,Matière!$A$2:$A$140,0))&"-"&TEXT(COUNTIF($I$2:I958,I958),"00000") -> 22-00529
A959: Vis CBLX | B959: M | C959: 2 | D959: 5 | H959: =CONCATENATE(,A959," ",B959,,C959,"x",D959,) -> Vis CBLX M2x5 | I959: A4 | K959: =J959&INDEX(Matière!$B$2:$B$140,MATCH(I959,Matière!$A$2:$A$140,0))&"-"&TEXT(COUNTIF($I$2:I959,I959),"00000") -> 22-00530
A960: Vis CBLX | B960: M | C960: 2 | D960: 6 | H960: =CONCATENATE(,A960," ",B960,,C960,"x",D960,) -> Vis CBLX M2x6 | I960: A4 | K960: =J960&INDEX(Matière!$B$2:$B$140,MATCH(I960,Matière!$A$2:$A$140,0))&"-"&TEXT(COUNTIF($I$2:I960,I960),"00000") -> 22-00531
A961: Vis CBLX | B961: M | C961: 2 | D961: 8 | H961: =CONCATENATE(,A961," ",B961,,C961,"x",D961,) -> Vis CBLX M2x8 | I961: A4 | K961: =J961&INDEX(Matière!$B$2:$B$140,MATCH(I961,Matière!$A$2:$A$140,0))&"-"&TEXT(COUNTIF($I$2:I961,I961),"00000") -> 22-00532
A962: Vis CBLX | B962: M | C962: 2 | D962: 10 | H962: =CONCATENATE(,A962," ",B962,,C962,"x",D962,) -> Vis CBLX M2x10 | I962: A4 | K962: =J962&INDEX(Matière!$B$2:$B$140,MATCH(I962,Matière!$A$2:$A$140,0))&"-"&TEXT(COUNTIF($I$2:I962,I962),"00000") -> 22-00533
A963: Vis CBLX | B963: M | C963: 3 | D963: 4 | H963: =CONCATENATE(,A963," ",B963,,C963,"x",D963,) -> Vis CBLX M3x4 | I963: A4 | K963: =J963&INDEX(Matière!$B$2:$B$140,MATCH(I963,Matière!$A$2:$A$140,0))&"-"&TEXT(COUNTIF($I$2:I963,I963),"00000") -> 22-00534
A964: Vis CBLX | B964: M | C964: 3 | D964: 5 | H964: =CONCATENATE(,A964," ",B964,,C964,"x",D964,) -> Vis CBLX M3x5 | I964: A4 | K964: =J964&INDEX(Matière!$B$2:$B$140,MATCH(I964,Matière!$A$2:$A$140,0))&"-"&TEXT(COUNTIF($I$2:I964,I964),"00000") -> 22-00535
A965: Vis CBLX | B965: M | C965: 3 | D965: 6 | H965: =CONCATENATE(,A965," ",B965,,C965,"x",D965,) -> Vis CBLX M3x6 | I965: A4 | K965: =J965&INDEX(Matière!$B$2:$B$140,MATCH(I965,Matière!$A$2:$A$140,0))&"-"&TEXT(COUNTIF($I$2:I965,I965),"00000") -> 22-00536
A966: Vis CBLX | B966: M | C966: 3 | D966: 8 | H966: =CONCATENATE(,A966," ",B966,,C966,"x",D966,) -> Vis CBLX M3x8 | I966: A4 | K966: =J966&INDEX(Matière!$B$2:$B$140,MATCH(I966,Matière!$A$2:$A$140,0))&"-"&TEXT(COUNTIF($I$2:I966,I966),"00000") -> 22-00537
A967: Vis CBLX | B967: M | C967: 3 | D967: 10 | H967: =CONCATENATE(,A967," ",B967,,C967,"x",D967,) -> Vis CBLX M3x10 | I967: A4 | K967: =J967&INDEX(Matière!$B$2:$B$140,MATCH(I967,Matière!$A$2:$A$140,0))&"-"&TEXT(COUNTIF($I$2:I967,I967),"00000") -> 22-00538
A968: Vis CBLX | B968: M | C968: 4 | D968: 4 | H968: =CONCATENATE(,A968," ",B968,,C968,"x",D968,) -> Vis CBLX M4x4 | I968: A4 | K968: =J968&INDEX(Matière!$B$2:$B$140,MATCH(I968,Matière!$A$2:$A$140,0))&"-"&TEXT(COUNTIF($I$2:I968,I968),"00000") -> 22-00539
... A980: Vis CBLX | B980: M | C980: 6 | D980: 10 | H980: =CONCATENATE(,A980," ",B980,,C980,"x",D980,) -> Vis CBLX M6x10 | I980: A4 | K980: =J980&INDEX(Matière!$B$2:$B$140,MATCH(I980,Matière!$A$2:$A$140,0))&"-"&TEXT(COUNTIF($I$2:I980,I980),"00000") -> 22-00551
I981: A4 | K981: =J981&INDEX(Matière!$B$2:$B$140,MATCH(I981,Matière!$A$2:$A$140,0))&"-"&TEXT(COUNTIF($I$2:I981,I981),"00000") -> 22-00552
A982: Rondelle | B982: Z | C982: 2 | D982: 2,2x4 | E982: 0.5 | H982: =CONCATENATE(,A982," ",B982,,C982) -> Rondelle Z2 | I982: A4 | K982: =J982&INDEX(Matière!$B$2:$B$140,MATCH(I982,Matière!$A$2:$A$140,0))&"-"&TEXT(COUNTIF($I$2:I982,I982),"00000") -> 22-00553
A983: Rondelle | B983: Z | C983: 2.5 | D983: 2,7x5 | E983: 0.5 | H983: =CONCATENATE(,A983," ",B983,,C983) -> Rondelle Z2,5 | I983: A4 | K983: =J983&INDEX(Matière!$B$2:$B$140,MATCH(I983,Matière!$A$2:$A$140,0))&"-"&TEXT(COUNTIF($I$2:I983,I983),"00000") -> 22-00554
...
