Workbook

Sheet Matière
A1: Matière
A2: * Aucune matière | B2: 0
A3: 42CD4 | B3: 1
A4: 42CD4T | B4: 2 | D4: 9 | E4: XX | F4: - | G4: XXXXXX
A5: ACIER | B5: 3 | H5: Numéro de la pièce
A6: AL 2618 forgé | B6: 4 | H6: Numéro de la matière
A7: AL 5083 | B7: 5 | H7: Numéro représentant le commerce
A8: AL 6060 | B8: 6
A9: AL 7075 | B9: 7 | G9: ex : | H9: 908-012546
A10: ALLIAGE X | B10: 8
A11: APX4 | B11: 9
A12: CARBONE KEVLAR | B12: 10
A13: CU | B13: 11
A14: CU (écroui) | B14: 12
A15: Film tpu 300μ base polyester | B15: 13
A16: FPM 70 | B16: 14
A17: FPM 80 | B17: 15
A18: INCO 625 | B18: 16
A19: INCO 713 | B19: 17
A20: INCO 713 + HIP | B20: 18
A21: 304L | B21: 19
... A33: TA6V | B33: 31
B34: 32
B35: 33
B36: 34
B37: 35
B38: 36
B39: 37
B40: 38
B41: 39
B42: 40
B43: 41
B44: 42
B45: 43
... B140: 138

Sheet Liste pièces du commerce
A1: Type | C1: Taille A | D1: Taille B | E1: Taille C | F1: Taille C | G1: Taille D | H1: Description | I1: Matière | K1: REF
A2: Vis H | C2: 2.5 | D2: 4 | H2: =CONCATENATE(,A2," M",C2,"x",D2,) -> Vis H M2,5x4 | I2: A2 | J2: EF | K2: =J2&INDEX(Matière!$B$2:$B$140,MATCH(I2,Matière!$A$2:$A$140,0))&"-"&TEXT(COUNTIF($I$2:I2,I2),"00000") -> EF21-00001
A3: Vis H | C3: 2.5 | D3: 5 | H3: =CONCATENATE(,A3," M",C3,"x",D3,) -> Vis H M2,5x5 | I3: A2 | J3: EF | K3: =J3&INDEX(Matière!$B$2:$B$140,MATCH(I3,Matière!$A$2:$A$140,0))&"-"&TEXT(COUNTIF($I$2:I3,I3),"00000") -> EF21-00002
A4: Vis H | C4: 2.5 | D4: 6 | H4: =CONCATENATE(,A4," M",C4,"x",D4,) -> Vis H M2,5x6 | I4: A2 | J4: EF | K4: =J4&INDEX(Matière!$B$2:$B$140,MATCH(I4,Matière!$A$2:$A$140,0))&"-"&TEXT(COUNTIF($I$2:I4,I4),"00000") -> EF21-00003
A5: Vis H | C5: 2.5 | D5: 8 | H5: =CONCATENATE(,A5," M",C5,"x",D5,) -> Vis H M2,5x8 | I5: A2 | J5: EF | K5: =J5&INDEX(Matière!$B$2:$B$140,MATCH(I5,Matière!$A$2:$A$140,0))&"-"&TEXT(COUNTIF($I$2:I5,I5),"00000") -> EF21-00004
A6: Vis H | C6: 2.5 | D6: 10 | H6: =CONCATENATE(,A6," M",C6,"x",D6,) -> Vis H M2,5x10 | I6: A2 | J6: EF | K6: =J6&INDEX(Matière!$B$2:$B$140,MATCH(I6,Matière!$A$2:$A$140,0))&"-"&TEXT(COUNTIF($I$2:I6,I6),"00000") -> EF21-00005
A7: Vis H | C7: 2.5 | D7: 12 | H7: =CONCATENATE(,A7," M",C7,"x",D7,) -> Vis H M2,5x12 | I7: A2 | J7: EF | K7: =J7&INDEX(Matière!$B$2:$B$140,MATCH(I7,Matière!$A$2:$A$140,0))&"-"&TEXT(COUNTIF($I$2:I7,I7),"00000") -> EF21-00006
A8: Vis H | C8: 2.5 | D8: 16 | H8: =CONCATENATE(,A8," M",C8,"x",D8,) -> Vis H M2,5x16 | I8: A2 | J8: EF | K8: =J8&INDEX(Matière!$B$2:$B$140,MATCH(I8,Matière!$A$2:$A$140,0))&"-"&TEXT(COUNTIF($I$2:I8,I8),"00000") -> EF21-00007
A9: Vis H | C9: 2.5 | D9: 20 | H9: =CONCATENATE(,A9," M",C9,"x",D9,) -> Vis H M2,5x20 | I9: A2 | J9: EF | K9: =J9&INDEX(Matière!$B$2:$B$140,MATCH(I9,Matière!$A$2:$A$140,0))&"-"&TEXT(COUNTIF($I$2:I9,I9),"00000") -> EF21-00008
A10: Vis H | C10: 3 | D10: 6 | H10: =CONCATENATE(,A10," M",C10,"x",D10,) -> Vis H M3x6 | I10: A2 | J10: EF | K10: =J10&INDEX(Matière!$B$2:$B$140,MATCH(I10,Matière!$A$2:$A$140,0))&"-"&TEXT(COUNTIF($I$2:I10,I10),"00000") -> EF21-00009
A11: Vis H | C11: 3 | D11: 8 | H11: =CONCATENATE(,A11," M",C11,"x",D11,) -> Vis H M3x8 | I11: A2 | J11: EF | K11: =J11&INDEX(Matière!$B$2:$B$140,MATCH(I11,Matière!$A$2:$A$140,0))&"-"&TEXT(COUNTIF($I$2:I11,I11),"00000") -> EF21-00010
A12: Vis H | C12: 3 | D12: 10 | H12: =CONCATENATE(,A12," M",C12,"x",D12,) -> Vis H M3x10 | I12: A2 | J12: EF | K12: =J12&INDEX(Matière!$B$2:$B$140,MATCH(I12,Matière!$A$2:$A$140,0))&"-"&TEXT(COUNTIF($I$2:I12,I12),"00000") -> EF21-00011
A13: Vis H | C13: 3 | D13: 12 | H13: =CONCATENATE(,A13," M",C13,"x",D13,) -> Vis H M3x12 | I13: A2 | J13: EF | K13: =J13&INDEX(Matière!$B$2:$B$140,MATCH(I13,Matière!$A$2:$A$140,0))&"-"&TEXT(COUNTIF($I$2:I13,I13),"00000") -> EF21-00012
... A219: Vis H | C219: 10 | D219: 50 | H219: =CONCATENATE(,A219," M",C219,"x",D219,) -> Vis H M10x50 | I219: A4 | J219: PF | K219: =J219&INDEX(Matière!$B$2:$B$140,MATCH(I219,Matière!$A$2:$A$140,0))&"-"&TEXT(COUNTIF($I$2:I219,I219),"00000") -> PF22-00109
A220: Vis CHC | C220: 1.6 | D220: 3 | H220: =CONCATENATE(,A220," M",C220,"x",D220,) -> Vis CHC M1,6x3 | I220: A2 | K220: =J220&INDEX(Matière!$B$2:$B$140,MATCH(I220,Matière!$A$2:$A$140,0))&"-"&TEXT(COUNTIF($I$2:I220,I220),"00000") -> 21-00110
A221: Vis CHC | C221: 1.6 | D221: 4 | H221: =CONCATENATE(,A221," M",C221,"x",D221,) -> Vis CHC M1,6x4 | I221: A2 | K221: =J221&INDEX(Matière!$B$2:$B$140,MATCH(I221,Matière!$A$2:$A$140,0))&"-"&TEXT(COUNTIF($I$2:I221,I221),"00000") -> 21-00111
A222: Vis CHC | C222: 1.6 | D222: 5 | H222: =CONCATENATE(,A222," M",C222,"x",D222,) -> Vis CHC M1,6x5 | I222: A2 | K222: =J222&INDEX(Matière!$B$2:$B$140,MATCH(I222,Matière!$A$2:$A$140,0))&"-"&TEXT(COUNTIF($I$2:I222,I222),"00000") -> 21-00112
A223: Vis CHC | C223: 1.6 | D223: 6 | H223: =CONCATENATE(,A223," M",C223,"x",D223,) -> Vis CHC M1,6x6 | I223: A2 | K223: =J223&INDEX(Matière!$B$2:$B$140,MATCH(I223,Matière!$A$2:$A$140,0))&"-"&TEXT(COUNTIF($I$2:I223,I223),"00000") -> 21-00113
A224: Vis CHC | C224: 1.6 | D224: 8 | H224: =CONCATENATE(,A224," M",C224,"x",D224,) -> Vis CHC M1,6x8 | I224: A2 | K224: =J224&INDEX(Matière!$B$2:$B$140,MATCH(I224,Matière!$A$2:$A$140,0))&"-"&TEXT(COUNTIF($I$2:I224,I224),"00000") -> 21-00114
A225: Vis CHC | C225: 1.6 | D225: 10 | H225: =CONCATENATE(,A225," M",C225,"x",D225,) -> Vis CHC M1,6x10 | I225: A2 | K225: =J225&INDEX(Matière!$B$2:$B$140,MATCH(I225,Matière!$A$2:$A$140,0))&"-"&TEXT(COUNTIF($I$2:I225,I225),"00000") -> 21-00115
A226: Vis CHC | C226: 1.6 | D226: 12 | H226: =CONCATENATE(,A226," M",C226,"x",D226,) -> Vis CHC M1,6x12 | I226: A2 | K226: =J226&INDEX(Matière!$B$2:$B$140,MATCH(I226,Matière!$A$2:$A$140,0))&"-"&TEXT(COUNTIF($I$2:I226,I226),"00000") -> 21-00116
A227: Vis CHC | C227: 1.6 | D227: 16 | H227: =CONCATENATE(,A227," M",C227,"x",D227,) -> Vis CHC M1,6x16 | I227: A2 | K227: =J227&INDEX(Matière!$B$2:$B$140,MATCH(I227,Matière!$A$2:$A$140,0))&"-"&TEXT(COUNTIF($I$2:I227,I227),"00000") -> 21-00117
A228: Vis CHC | C228: 2 | D228: 3 | H228: =CONCATENATE(,A228," M",C228,"x",D228,) -> Vis CHC M2x3 | I228: A2 | K228: =J228&INDEX(Matière!$B$2:$B$140,MATCH(I228,Matière!$A$2:$A$140,0))&"-"&TEXT(COUNTIF($I$2:I228,I228),"00000") -> 21-00118
A229: Vis CHC | C229: 2 | D229: 4 | H229: =CONCATENATE(,A229," M",C229,"x",D229,) -> Vis CHC M2x4 | I229: A2 | K229: =J229&INDEX(Matière!$B$2:$B$140,MATCH(I229,Matière!$A$2:$A$140,0))&"-"&TEXT(COUNTIF($I$2:I229,I229),"00000") -> 21-00119
A230: Vis CHC | C230: 2 | D230: 5 | H230: =CONCATENATE(,A230," M",C230,"x",D230,) -> Vis CHC M2x5 | I230: A2 | K230: =J230&INDEX(Matière!$B$2:$B$140,MATCH(I230,Matière!$A$2:$A$140,0))&"-"&TEXT(COUNTIF($I$2:I230,I230),"00000") -> 21-00120
A231: Vis CHC | C231: 2 | D231: 6 | H231: =CONCATENATE(,A231," M",C231,"x",D231,) -> Vis CHC M2x6 | I231: A2 | K231: =J231&INDEX(Matière!$B$2:$B$140,MATCH(I231,Matière!$A$2:$A$140,0))&"-"&TEXT(COUNTIF($I$2:I231,I231),"00000") -> 21-00121
... A777: Vis STHC Bout pointeau | C777: 8 | D777: 50 | H777: =CONCATENATE(,A777," M",C777,"x",D777,) -> Vis STHC Bout pointeau M8x50 | I777: A4 | K777: =J777&INDEX(Matière!$B$2:$B$140,MATCH(I777,Matière!$A$2:$A$140,0))&"-"&TEXT(COUNTIF($I$2:I777,I777),"00000") -> 22-00349
K778: =J778&INDEX(Matière!$B$2:$B$140,MATCH(I778,Matière!$A$2:$A$140,0))&"-"&TEXT(COUNTIF($I$2:I778,I778),"00000") -> #N/A
A779: Vis TBRP | B779: M | C779: 2.5 | D779: 8 | H779: =CONCATENATE(,A779," ",B779,,C779,"x",D779,) -> Vis TBRP M2,5x8 | I779: A4 | K779: =J779&INDEX(Matière!$B$2:$B$140,MATCH(I779,Matière!$A$2:$A$140,0))&"-"&TEXT(COUNTIF($I$2:I779,I779),"00000") -> 22-00350
A780: Vis TBRP | B780: M | C780: 2.5 | D780: 10 | H780: =CONCATENATE(,A780," ",B780,,C780,"x",D780,) -> Vis TBRP M2,5x10 | I780: A4 | K780: =J780&INDEX(Matière!$B$2:$B$140,MATCH(I780,Matière!$A$2:$A$140,0))&"-"&TEXT(COUNTIF($I$2:I780,I780),"00000") -> 22-00351
A781: Vis TBRP | B781: M | C781: 3 | D781: 12 | H781: =CONCATENATE(,A781," ",B781,,C781,"x",D781,) -> Vis TBRP M3x12 | I781: A4 | K781: =J781&INDEX(Matière!$B$2:$B$140,MATCH(I781,Matière!$A$2:$A$140,0))&"-"&TEXT(COUNTIF($I$2:I781,I781),"00000") -> 22-00352
A782: Vis TBRP | B782: M | C782: 3 | D782: 8 | H782: =CONCATENATE(,A782," ",B782,,C782,"x",D782,) -> Vis TBRP M3x8 | I782: A4 | K782: =J782&INDEX(Matière!$B$2:$B$140,MATCH(I782,Matière!$A$2:$A$140,0))&"-"&TEXT(COUNTIF($I$2:I782,I782),"00000") -> 22-00353
A783: Vis TBRP | B783: M | C783: 3 | D783: 10 | H783: =CONCATENATE(,A783," ",B783,,C783,"x",D783,) -> Vis TBRP M3x10 | I783: A4 | K783: =J783&INDEX(Matière!$B$2:$B$140,MATCH(I783,Matière!$A$2:$A$140,0))&"-"&TEXT(COUNTIF($I$2:I783,I783),"00000") -> 22-00354
A784: Vis TBRP | B784: M | C784: 3 | D784: 12 | H784: =CONCATENATE(,A784," ",B784,,C784,"x",D784,) -> Vis TBRP M3x12 | I784: A4 | K784: =J784&INDEX(Matière!$B$2:$B$140,MATCH(I784,Matière!$A$2:$A$140,0))&"-"&TEXT(COUNTIF($I$2:I784,I784),"00000") -> 22-00355
A785: Vis TBRP | B785: M | C785: 3 | D785: 14 | H785: =CONCATENATE(,A785," ",B785,,C785,"x",D785,) -> Vis TBRP M3x14 | I785: A4 | K785: =J785&INDEX(Matière!$B$2:$B$140,MATCH(I785,Matière!$A$2:$A$140,0))&"-"&TEXT(COUNTIF($I$2:I785,I785),"00000") -> 22-00356
A786: Vis TBRP | B786: M | C786: 3 | D786: 16 | H786: =CONCATENATE(,A786," ",B786,,C786,"x",D786,) -> Vis TBRP M3x16 | I786: A4 | K786: =J786&INDEX(Matière!$B$2:$B$140,MATCH(I786,Matière!$A$2:$A$140,0))&"-"&TEXT(COUNTIF($I$2:I786,I786),"00000") -> 22-00357
A787: Vis TBRP | B787: M | C787: 3 | D787: 20 | H787: =CONCATENATE(,A787," ",B787,,C787,"x",D787,) -> Vis TBRP M3x20 | I787: A4 | K787: =J787&INDEX(Matière!$B$2:$B$140,MATCH(I787,Matière!$A$2:$A$140,0))&"-"&TEXT(COUNTIF($I$2:I787,I787),"00000") -> 22-00358
A788: Vis TBRP | B788: M | C788: 3 | D788: 25 | H788: =CONCATENATE(,A788," ",B788,,C788,"x",D788,) -> Vis TBRP M3x25 | I788: A4 | K788: =J788&INDEX(Matière!$B$2:$B$140,MATCH(I788,Matière!$A$2:$A$140,0))&"-"&TEXT(COUNTIF($I$2:I788,I788),"00000") -> 22-00359
A789: Vis TBRP | B789: M | C789: 3.5 | D789: 8 | H789: =CONCATENATE(,A789," ",B789,,C789,"x",D789,) -> Vis TBRP M3,5x8 | I789: A4 | K789: =J789&INDEX(Matière!$B$2:$B$140,MATCH(I789,Matière!$A$2:$A$140,0))&"-"&TEXT(COUNTIF($I$2:I789,I789),"00000") -> 22-00360
A790: Vis TBRP | B790: M | C790: 3.5 | D790: 10 | H790: =CONCATENATE(,A790," ",B790,,C790,"x",D790,) -> Vis TBRP M3,5x10 | I790: A4 | K790: =J790&INDEX(Matière!$B$2:$B$140,MATCH(I790,Matière!$A$2:$A$140,0))&"-"&TEXT(COUNTIF($I$2:I790,I790),"00000") -> 22-00361
...
