Workbook

Sheet Info_Pan
A3: Nom de pièces | B3: Description PF | C3: Type | D3: CT_PF_1 | E3: FEUIL/HRS | F3: CT_PF_2 | G3: Actif/Désuets | H3: SP_1 | I3: Description SP_1 | J3: CT_SP_1 | K3: SP1_FEUIL_HRS | L3: INV SP_1 | M3: SP_2 | N3: Description SP_2 | O3: CT_SP_2 | P3: SP2_FEUIL_HRS | Q3: INV SP_2 | R3: NBS FEUIL | S3: QTE PCS SF
A4: PAN48BL-UV-REJET | B4: Panneau HDF - 4 x 8 - Blanc UV | C4: REJET | D4: 1410 | E4: 160 | G4: Actif | R4: 1 | S4: 1
A5: PANB-I48DI | B5: Panneau Mural - 48 x 96 - Diamond - Brique Grise Blanchie (25/Pqt) | C5: PAN. IMPRIMÉ | D5: 1410 | E5: 160 | G5: Actif | R5: 1 | S5: 1
A6: PANCG-P22CL | B6: Tuile Classic - 2x2 (Boite de 32 pi2) | C6: TUILE | D6: 1420 | E6: 80 | G6: Actif | H6: PAN-PANQ22CL | I6: Panneau HDF - 1/4 x 23 3/4 x 23 3/4 - Classic -But | J6: 1100 | K6: 12 | R6: 1 | S6: 8
A7: PANCG-P22FR | B7: Tuile Framed - 2 x 2 (Boite de 32 pi2) | C7: TUILE | D7: 1420 | E7: 80 | G7: Actif | H7: PAN-PANQ22FR | I7: Panneau HDF - 1/4 x 23 3/4 x 23 3/4 - Framed -But | J7: 1100 | K7: 12 | R7: 1 | S7: 8
A8: PANCH-I48W | B8: Panneau Mural - 48 x 96 - Whistler - Motif Chevron Blanc/Gris (25/Pqt) | C8: PAN. IMPRIMÉ | D8: 1410 | E8: 160 | G8: Actif | R8: 1 | S8: 1
A9: PANDUO632 | B9: Panneau Mural - Duo 632 - Blanc | C9: TUILE | D9: 1420 | E9: 80 | F9: 1295 | G9: Actif | H9: PAN-MC0632-DUO | I9: Panneau HDF - 1/4 x 6 x 32 - Profilé DUO -Brut | J9: 2100 - 1250 | M9: PAN-MG0632-DUO | N9: Panneau HDF - 1/2 x 6 x 32 - Profilé DUO -Brut | O9: 2100 - 1250 | R9: 0.5 | S9: 6
A10: PANDUO632B | B10: Panneau Mural - Duo 632 - Béton | C10: TUILE | D10: 1430 | E10: 12.5 | F10: 1295 - 1400 | G10: Actif | H10: PAN-MC0632-DUO | I10: Panneau HDF - 1/4 x 6 x 32 - Profilé DUO -Brut | J10: 2100 - 1250 | M10: PAN-MG0632-DUO | N10: Panneau HDF - 1/2 x 6 x 32 - Profilé DUO -Brut | O10: 2100 - 1250 | R10: 0.5 | S10: 6
A11: PANEM-I48BR | B11: Panneau Mural - 48 x 96 - Bromont - Bois Grange Blanc Texturé (25/Pqt) | C11: PAN. IMPRIMÉ | D11: 1410 | E11: 160 | F11: 1240 | G11: Actif | R11: 1 | S11: 1
A12: PANEM-I48HU | B12: Panneau Mural - 48 x 96 - Hudson - Bois Grange Brun Texturé (25/Pqt) | C12: PAN. IMPRIMÉ | D12: 1410 | E12: 160 | F12: 1240 | G12: Actif | R12: 1 | S12: 1
A13: PANEM-I48OK | B13: Panneau Mural - 48 x 96 - Oka - Bois Grange Gris Texturé (25/Pqt) | C13: PAN. IMPRIMÉ | D13: 1410 | E13: 160 | F13: 1240 | G13: Actif | R13: 1 | S13: 1
A14: PANHD-A48SH12 | B14: Panneau Mural - 48 x 96 - Shiplap 12 po. - Appreté Blanc (25/Pqt) | C14: PAN. DÉLIGNÉ | D14: 1400 | E14: 80 | G14: Actif | H14: PAN4896BR-SL12 | I14: Panneau Brut - 4 x 8 - Shiplap 12 po. | J14: 1300 | K14: 200 | R14: 1 | S14: 1
A15: PANHD-IM48BA | B15: Panneau Mural - 48 x 96 - Banff - Brique Blanche (25/Pqt) | C15: PAN. IMPRIMÉ | D15: 1410 | E15: 160 | G15: Actif | R15: 1 | S15: 1
A16: PAN-I24SU | B16: Panneau Mural - 2 x 4 - Sutton - Bois Grange Gris (4 / Bte) | C16: TUILE | D16: 1410 | E16: 160 | G16: Actif | H16: PAN-MC24004800 | I16: Panneau HDF - 1/4 x 24 x 48 -Brut | J16: 2100 | R16: 1 | S16: 4
A17: PAN-I24TI | B17: Panneau Mural - 2 x 4 - Times - Effet Béton (4 / Bte) | C17: TUILE | D17: 1410 | E17: 160 | G17: Actif | H17: PAN-MC24004800 | I17: Panneau HDF - 1/4 x 24 x 48 -Brut | J17: 2100 | R17: 1 | S17: 4
A18: PAN-I48WA | B18: Panneau Mural - 48 x 96 - Waterton - Motif Chevron Bois Blanchi (25/Pqt) | C18: PAN. IMPRIMÉ | D18: 1410 | E18: 160 | G18: Actif | R18: 1 | S18: 1
A19: PAN-I48YO | B19: Panneau Mural - 48 x 96 - Yoho - Bois Grange Gris (25/Pqt) | C19: PAN. IMPRIMÉ | D19: 1410 | E19: 160 | G19: Actif | R19: 1 | S19: 1
A20: PANLO-PR48SL | B20: Panneau Mural - 48 x 96 - Shiplap - Appreté Blanc (25/Pqt) | C20: PAN. DÉLIGNÉ | D20: 1400 | E20: 80 | G20: Actif | H20: PAN4896BR-SL | I20: Panneau Brut - 4 x 8 - Shiplap | J20: 1300 | K20: 200 | R20: 1 | S20: 1
A21: PANLOWESPBB | B21: Panneau Mural - 48 x 96 - Universel 4 po (Beadboard) - Blanc (25/Pqt) | C21: PAN. DÉLIGNÉ | D21: 1420 | E21: 80 | G21: Actif | H21: PAN4896BR-UTB | I21: Panneau Brut - 4 x 8 - Ultra True Bead (19mm) 4po | J21: 1300 | K21: 200 | R21: 1 | S21: 1
A22: PANLOWESPWSCT | B22: Panneau Mural - 32 x 48 - Mirage Lowes - Blanc (25/Pqt) | C22: PAN.MURAL 32 X 48 | D22: 1420 | E22: 80 | G22: Actif | H22: PAN-MIRAGE-BRUT | I22: Panneau HDF - 1/4 x 32 x 48 - Mirage - Brut | J22: 1100 | K22: 12 | R22: 0.33 | S22: 1
A23: PANMEBGB | B23: Panneau Mural - 48 x 96 - Magog - Bois Grange Brun (25/Pqt) | C23: PAN. IMPRIMÉ | D23: 1410 | E23: 160 | G23: Actif | R23: 1 | S23: 1
A24: PANMEBGGH | B24: Panneau Mural - 48 x 96 - Sutton - Bois Grange Gris (25/Pqt) | C24: PAN. IMPRIMÉ | D24: 1410 | E24: 160 | G24: Actif | R24: 1 | S24: 1
A25: PANMI48BEL | B25: Panneau Mural - 48 x 96 - Belmont - Brique Rouge (25/Pqt) | C25: PAN. IMPRIMÉ | D25: 1430 | E25: 12.5 | F25: 1410 | G25: Actif | R25: 1 | S25: 1
A26: PANMI48CA | B26: Panneau Mural - 48 x 96 - Caruso - Brique Blanche (25/Pqt) | C26: PAN. IMPRIMÉ | D26: 1410 | E26: 160 | G26: Actif | R26: 1 | S26: 1
A27: PANMI48EAH | B27: Panneau Mural - 48 x 96 - Eastman - Bois Grange Blanc (25/Pqt) | C27: PAN. IMPRIMÉ | D27: 1410 | E27: 160 | G27: Actif | R27: 1 | S27: 1
A28: PANMI48TIH | B28: Panneau Mural - 48 x 96 - Times -Effet Coffrage de Béton (25/Pqt) | C28: PAN. IMPRIMÉ | D28: 1410 | E28: 160 | G28: Actif | R28: 1 | S28: 1
A29: PANMIRAGEP | B29: Panneau Mural - 32 x 48 - Mirage - Appreté Blanc (25/Pqt) | C29: PAN.MURAL 32 X 48 | D29: 1400 | E29: 80 | G29: Actif | H29: PAN-MIRAGE-BRUT | I29: Panneau HDF - 1/4 x 32 x 48 - Mirage - Brut | J29: 1100 | K29: 12 | R29: 0.33 | S29: 1
A30: PANMM00PB | B30: Panneau Mural - 48 x 96 - Universel 2po - Blanc (25/Pqt) | C30: PAN. DÉLIGNÉ | D30: 1420 | E30: 80 | G30: Actif | H30: PAN4896BR-U2 | I30: Panneau Brut - 4 x 8 - Universel 2po | J30: 1300 | K30: 200 | R30: 1 | S30: 1
A31: PANMM00PR | B31: Panneau Mural - 48 x 96 - Universel 2po - Appreté Blanc (25/Pqt) | C31: PAN. DÉLIGNÉ | D31: 1400 | E31: 80 | G31: Actif | H31: PAN4896BR-U2 | I31: Panneau Brut - 4 x 8 - Universel 2po | J31: 1300 | K31: 200 | R31: 1 | S31: 1
A32: PANMMUGROOV4X8PB | B32: Panneau Mural - 48 x 96 - U-Groove 2po - Blanc (25/Pqt) | C32: PAN. DÉLIGNÉ | D32: 1420 | E32: 80 | G32: Actif | H32: PAN4896BR-UGR2 | I32: Panneau Brut - 4 x 8 - U-Groove 2po | J32: 1300 | K32: 200 | R32: 1 | S32: 1
A33: PANPD42PB | B33: Panneau Mural - 32 x 48 - Mirage - Blanc (25/Pqt) | C33: PAN.MURAL 32 X 48 | D33: 1420 | E33: 80 | G33: Actif | H33: PAN-MIRAGE-BRUT | I33: Panneau HDF - 1/4 x 32 x 48 - Mirage - Brut | J33: 1100 | K33: 12 | R33: 0.33 | S33: 1
A34: PANPR45PB | B34: Panneau Mural - 32 x 48 - Riviera - Blanc (25/Pqt) | C34: PAN.MURAL 32 X 48 | D34: 1420 | E34: 80 | F34: 1100 | G34: Actif | R34: 1 | S34: 3
A35: PANQ22E | B35: Tuile Plafond - 2 x 2 - Encore - Blanc (8 / Bte) | C35: TUILE | D35: 1420 | E35: 80 | G35: Actif | H35: PAN-PANQ22E | I35: Panneau HDF - 1/4 x 23 3/4 x 23 3/4 - Encore -Brut | J35: 1100 | K35: 12 | R35: 1 | S35: 8
A36: PANQ22F | B36: Tuile Plafond - 2 x 2 - Flamingo - Blanc (8 / Bte) | C36: TUILE | D36: 1420 | E36: 80 | G36: Actif | H36: PAN-PANQ22F | I36: Panneau HDF - 1/4 x 23 3/4 x 23 3/4 - Flamingo -But | J36: 1100 | K36: 12 | R36: 1 | S36: 8
A37: PANQ24A | B37: Tuile Plafond - 2 x 4 - Aria - Blanc (4 / Bte) | C37: TUILE | D37: 1420 | E37: 80 | G37: Actif | H37: PAN-PANQ24A | I37: Panneau HDF - 1/4 x 23 3/4 x 47 3/4 - Aria -But | J37: 1100 | K37: 12 | R37: 1 | S37: 4
A38: PANQ24D | B38: Tuile Plafond - 2 x 4 - Desert - Blanc (4 / Bte) | C38: TUILE | D38: 1420 | E38: 80 | G38: Actif | H38: PAN-PANQ24D | I38: Panneau HDF - 1/4 x 23 3/4 x 47 3/4 - Desert -But | J38: 1100 | K38: 12 | R38: 1 | S38: 4
A39: PANQ24O | B39: Tuile Plafond - 2 x 4 - Oasis - Blanc (4 / Bte) | C39: TUILE | D39: 1420 | E39: 80 | G39: Actif | H39: PAN-PANQ24O | I39: Panneau HDF - 1/4 x 23 3/4 x 47 3/4 - Oasis -But | J39: 1100 | K39: 12 | R39: 1 | S39: 4
A40: PANQ24P | B40: Tuile Plafond - 2 x 4 - Polo - Blanc (4 / Bte) | C40: TUILE | D40: 1420 | E40: 80 | G40: Actif | H40: PAN-PANQ24P | I40: Panneau HDF - 1/4 x 23 3/4 x 47 3/4 - Polo -But | J40: 1100 | K40: 12 | R40: 1 | S40: 4
A41: PANQ24S | B41: Tuile Plafond - 2 x 4 - Signature - Blanc (4 / Bte) | C41: TUILE | D41: 1420 | E41: 80 | G41: Actif | H41: PAN-PANQ24S | I41: Panneau HDF - 1/4 x 23 3/4 x 47 3/4 - Signature -But | J41: 1100 | K41: 12 | R41: 1 | S41: 4
A42: PANQ-I22SH | B42: Tuile Plafond - 2 x 2 - Shabby - Blanc (8 / Bte) | C42: TUILE | D42: 1410 | E42: 160 | G42: Actif | H42: PAN-MC23122312 | I42: Panneau HDF - 1/4 x 23 3/4 x 23 3/4 -Brut | J42: 2100 | R42: 1 | S42: 8
A43: PANQ-I24WH | B43: Tuile Plafond - 2 x 4 - Opal - Bois Blanchi (4 / Bte) | C43: TUILE | D43: 1410 | E43: 160 | G43: Actif | H43: PAN-MC23124712 | I43: Panneau HDF - 1/4 x 23 3/4 x 47 3/4 -Brut | J43: 2100 | R43: 1 | S43: 4
A44: PANT24BE | B44: Tuile Plafond - 2 x 4 - Béton (4 / Bte) | C44: TUILE | D44: 1410 | E44: 160 | G44: Actif | H44: PAN-MC23124712 | I44: Panneau HDF - 1/4 x 23 3/4 x 47 3/4 -Brut | J44: 2100 | R44: 1 | S44: 4
A45: PANUTB-A3248 | B45: Panneau Mural - 32 x 48 - Ultra Bead - Appreté Blanc (25/Pqt) | C45: PAN.MURAL 32 X 48 | D45: 1400 | E45: 80 | F45: 2100 | G45: Actif | H45: PANBM-4997BR-UTB | I45: Panneau Brut - 49 x 97 - Ultra True Bead (19mm) 4po | J45: 1300 | K45: 200 | R45: 1 | S45: 3
A46: PANUTB-A48 | B46: Panneau Mural - 48 x 96 - Ultra True Bead - Appreté Blanc (25/Pqt) | C46: PAN. DÉLIGNÉ | D46: 1400 | E46: 80 | G46: Actif | H46: PAN4896BR-UTB | I46: Panneau Brut - 4 x 8 - Ultra True Bead (19mm) 4po | J46: 1300 | K46: 200 | R46: 1 | S46: 1
A47: PANVJ-33248PR | B47: Panneau Mural - 32 x 48 - V-Joint 3po. - Appreté Blanc (25/Pqt) | C47: PAN.MURAL 32 X 48 | D47: 1400 | E47: 80 | F47: 2100 | G47: Actif | H47: PAN4896BR-VJ3 | I47: Panneau Brut - 4 x 8 - V-Joint 3po | J47: 1300 | K47: 200 | R47: 1 | S47: 3
A48: PANVJ-34896PR | B48: Panneau Mural - 48 x 96 - V-Joint 3po - Appreté Blanc (25/Pqt) | C48: PAN. DÉLIGNÉ | D48: 1400 | E48: 80 | G48: Actif | H48: PAN4896BR-VJ3 | I48: Panneau Brut - 4 x 8 - V-Joint 3po | J48: 1300 | K48: 200 | R48: 1 | S48: 1

Sheet Avancement_Travaux
A1: DATE | B1: QUART | C1: WC | D1: NOCOMUSI | E1: NOCOM | F1: NOPCE | G1: QTE | H1: HEURE | I1: NOMUSAGER | J1: Matière (pi2) | K1: FEUILLE PF | L1: FEUILLE SP_1 | M1: FEUILLE SP_2 | N1: Type PF | O1: Colonne1
A2: 44662 | B2: SOIR | C2: 1400 | D2: 8170815 | E2: 755501 | F2: PAN-PANQ22CL | G2: 175 | H2: 00:49:32 | I2: BRUSINE14 | J2: 5716.6667 | K2: 175 | L2: 0 | M2: 0 | N2: =IF(ISERROR(VLOOKUP(Tableau2[[#This Row],[NOPCE]],Info_Pan!$A:$S,3,FALSE)),"",VLOOKUP(Tableau2[[#This Row],[NOPCE]],Info_Pan!$A:$S,3,FALSE)) | O2: =INDEX(Tableau1[[#All],[Type]],MATCH(Tableau2[[#This Row],[NOPCE]],Tableau1[[#All],[SP_1]],0)) -> TUILE
A3: 44662 | B3: SOIR | C3: 2041 | D3: 8169510 | E3: 754967 | F3: OXFOR-W.D5 | G3: 1 | H3: 15:15:23 | I3: SCANAUTO | J3: 2.1180556 | K3: 0 | L3: 0 | M3: 0 | N3: =IF(ISERROR(VLOOKUP(Tableau2[[#This Row],[NOPCE]],Info_Pan!$A:$S,3,FALSE)),"",VLOOKUP(Tableau2[[#This Row],[NOPCE]],Info_Pan!$A:$S,3,FALSE)) | O3: =INDEX(Tableau1[[#All],[Type]],MATCH(Tableau2[[#This Row],[NOPCE]],Tableau1[[#All],[SP_1]],0)) -> #N/A
A4: 44662 | B4: SOIR | C4: 2041 | D4: 8169510 | E4: 754967 | F4: OXFOR-W.D5 | G4: 1 | H4: 15:15:26 | I4: SCANAUTO | J4: 2.1180556 | K4: 0 | L4: 0 | M4: 0 | N4: =IF(ISERROR(VLOOKUP(Tableau2[[#This Row],[NOPCE]],Info_Pan!$A:$S,3,FALSE)),"",VLOOKUP(Tableau2[[#This Row],[NOPCE]],Info_Pan!$A:$S,3,FALSE)) | O4: =INDEX(Tableau1[[#All],[Type]],MATCH(Tableau2[[#This Row],[NOPCE]],Tableau1[[#All],[SP_1]],0)) -> #N/A
A5: 44662 | B5: SOIR | C5: 2041 | D5: 8169510 | E5: 754967 | F5: OXFOR-W.D5 | G5: 1 | H5: 15:15:29 | I5: SCANAUTO | J5: 2.1180556 | K5: 0 | L5: 0 | M5: 0 | N5: =IF(ISERROR(VLOOKUP(Tableau2[[#This Row],[NOPCE]],Info_Pan!$A:$S,3,FALSE)),"",VLOOKUP(Tableau2[[#This Row],[NOPCE]],Info_Pan!$A:$S,3,FALSE)) | O5: =INDEX(Tableau1[[#All],[Type]],MATCH(Tableau2[[#This Row],[NOPCE]],Tableau1[[#All],[SP_1]],0)) -> #N/A
A6: 44662 | B6: SOIR | C6: 2041 | D6: 8169510 | E6: 754967 | F6: OXFOR-W.D5 | G6: 1 | H6: 15:15:32 | I6: SCANAUTO | J6: 2.1180556 | K6: 0 | L6: 0 | M6: 0 | N6: =IF(ISERROR(VLOOKUP(Tableau2[[#This Row],[NOPCE]],Info_Pan!$A:$S,3,FALSE)),"",VLOOKUP(Tableau2[[#This Row],[NOPCE]],Info_Pan!$A:$S,3,FALSE)) | O6: =INDEX(Tableau1[[#All],[Type]],MATCH(Tableau2[[#This Row],[NOPCE]],Tableau1[[#All],[SP_1]],0)) -> #N/A
A7: 44662 | B7: SOIR | C7: 2041 | D7: 8169510 | E7: 754967 | F7: OXFOR-W.D5 | G7: 1 | H7: 15:15:35 | I7: SCANAUTO | J7: 2.1180556 | K7: 0 | L7: 0 | M7: 0 | N7: =IF(ISERROR(VLOOKUP(Tableau2[[#This Row],[NOPCE]],Info_Pan!$A:$S,3,FALSE)),"",VLOOKUP(Tableau2[[#This Row],[NOPCE]],Info_Pan!$A:$S,3,FALSE)) | O7: =INDEX(Tableau1[[#All],[Type]],MATCH(Tableau2[[#This Row],[NOPCE]],Tableau1[[#All],[SP_1]],0)) -> #N/A
A8: 44662 | B8: SOIR | C8: 2041 | D8: 8169510 | E8: 754967 | F8: OXFOR-W.D5 | G8: 1 | H8: 15:15:37 | I8: SCANAUTO | J8: 2.1180556 | K8: 0 | L8: 0 | M8: 0 | N8: =IF(ISERROR(VLOOKUP(Tableau2[[#This Row],[NOPCE]],Info_Pan!$A:$S,3,FALSE)),"",VLOOKUP(Tableau2[[#This Row],[NOPCE]],Info_Pan!$A:$S,3,FALSE)) | O8: =INDEX(Tableau1[[#All],[Type]],MATCH(Tableau2[[#This Row],[NOPCE]],Tableau1[[#All],[SP_1]],0)) -> #N/A
A9: 44662 | B9: SOIR | C9: 2041 | D9: 8169510 | E9: 754967 | F9: OXFOR-W.D5 | G9: 1 | H9: 15:15:40 | I9: SCANAUTO | J9: 2.1180556 | K9: 0 | L9: 0 | M9: 0 | N9: =IF(ISERROR(VLOOKUP(Tableau2[[#This Row],[NOPCE]],Info_Pan!$A:$S,3,FALSE)),"",VLOOKUP(Tableau2[[#This Row],[NOPCE]],Info_Pan!$A:$S,3,FALSE)) | O9: =INDEX(Tableau1[[#All],[Type]],MATCH(Tableau2[[#This Row],[NOPCE]],Tableau1[[#All],[SP_1]],0)) -> #N/A
A10: 44662 | B10: SOIR | C10: 2041 | D10: 8169510 | E10: 754967 | F10: OXFOR-W.D5 | G10: 1 | H10: 15:15:43 | I10: SCANAUTO | J10: 2.1180556 | K10: 0 | L10: 0 | M10: 0 | N10: =IF(ISERROR(VLOOKUP(Tableau2[[#This Row],[NOPCE]],Info_Pan!$A:$S,3,FALSE)),"",VLOOKUP(Tableau2[[#This Row],[NOPCE]],Info_Pan!$A:$S,3,FALSE)) | O10: =INDEX(Tableau1[[#All],[Type]],MATCH(Tableau2[[#This Row],[NOPCE]],Tableau1[[#All],[SP_1]],0)) -> #N/A
A11: 44662 | B11: SOIR | C11: 2041 | D11: 8169510 | E11: 754967 | F11: OXFOR-W.D5 | G11: 1 | H11: 15:15:46 | I11: SCANAUTO | J11: 2.1180556 | K11: 0 | L11: 0 | M11: 0 | N11: =IF(ISERROR(VLOOKUP(Tableau2[[#This Row],[NOPCE]],Info_Pan!$A:$S,3,FALSE)),"",VLOOKUP(Tableau2[[#This Row],[NOPCE]],Info_Pan!$A:$S,3,FALSE)) | O11: =INDEX(Tableau1[[#All],[Type]],MATCH(Tableau2[[#This Row],[NOPCE]],Tableau1[[#All],[SP_1]],0)) -> #N/A
A12: 44662 | B12: SOIR | C12: 2041 | D12: 8169510 | E12: 754967 | F12: OXFOR-W.D5 | G12: 1 | H12: 15:15:49 | I12: SCANAUTO | J12: 2.1180556 | K12: 0 | L12: 0 | M12: 0 | N12: =IF(ISERROR(VLOOKUP(Tableau2[[#This Row],[NOPCE]],Info_Pan!$A:$S,3,FALSE)),"",VLOOKUP(Tableau2[[#This Row],[NOPCE]],Info_Pan!$A:$S,3,FALSE)) | O12: =INDEX(Tableau1[[#All],[Type]],MATCH(Tableau2[[#This Row],[NOPCE]],Tableau1[[#All],[SP_1]],0)) -> #N/A
A13: 44662 | B13: SOIR | C13: 2041 | D13: 8169510 | E13: 754967 | F13: OXFOR-W.D5 | G13: 1 | H13: 15:15:52 | I13: SCANAUTO | J13: 2.1180556 | K13: 0 | L13: 0 | M13: 0 | N13: =IF(ISERROR(VLOOKUP(Tableau2[[#This Row],[NOPCE]],Info_Pan!$A:$S,3,FALSE)),"",VLOOKUP(Tableau2[[#This Row],[NOPCE]],Info_Pan!$A:$S,3,FALSE)) | O13: =INDEX(Tableau1[[#All],[Type]],MATCH(Tableau2[[#This Row],[NOPCE]],Tableau1[[#All],[SP_1]],0)) -> #N/A
... A28: 44662 | B28: JOUR | C28: 1400 | D28: 8170815 | E28: 755501 | F28: PANLO-PR48SL | G28: 67 | H28: 16:59:45 | I28: BRUSINE14 | J28: 2188.6667 | K28: 67 | L28: 0 | M28: 0 | N28: =IF(ISERROR(VLOOKUP(Tableau2[[#This Row],[NOPCE]],Info_Pan!$A:$S,3,FALSE)),"",VLOOKUP(Tableau2[[#This Row],[NOPCE]],Info_Pan!$A:$S,3,FALSE)) -> PAN. DÉLIGNÉ | O28: =INDEX(Tableau1[[#All],[Type]],MATCH(Tableau2[[#This Row],[NOPCE]],Tableau1[[#All],[SP_1]],0)) -> #N/A
