Workbook

Sheet Tableau des matchs
A1: GROUPE A
A3: Equipes | B3: Vétérans 1 | C3: Gladiateurs | D3: Walker Texas Soccer | E3: La familia | F3: Un Monde Sans Muco | G3: Michelin | H3: FFF
A5: Vétérans 1
A6: Gladiateurs | B6: 1
A7: Walker Texas Soccer | B7: 8 | C7: 5
A8: La familia | B8: 13 | C8: 9 | D8: 2
A9: Un Monde Sans Muco | B9: 17 | C9: 14 | D9: 10 | E9: 6
A10: Michelin | B10: 20 | C10: 18 | D10: 15 | E10: 11 | F10: 3
A11: FFF | B11: 4 | C11: 21 | D11: 12 | E11: 16 | F11: 19 | G11: 7
A14: GROUPE B
A16: Equipes | B16: Vétérans 2 | C16: SOS Football | D16: F.C Bellevue | E16: Sobeca | F16: Alerion | G16: Gronaldo | H16: King Jong Team
A18: Vétérans 2
A19: SOS Football | B19: 1
A20: F.C Bellevue | B20: 8 | C20: 5
A21: Sobeca | B21: 13 | C21: 9 | D21: 2
A22: Alerion | B22: 17 | C22: 14 | D22: 10 | E22: 6
A23: Gronaldo | B23: 20 | C23: 18 | D23: 15 | E23: 11 | F23: 3
A24: King Jong Team | B24: 4 | C24: 21 | D24: 12 | E24: 16 | F24: 19 | G24: 7

Sheet Scores des matchs
A1: Feuille de match
A4: Horaire | B4: Equipe 1 | C4: Equipe 2 | D4: Score E1 | E4: Score E2
A5: 10h25 | B5: Vétérans 1 | C5: Gladiateurs | D5: 2 | E5: 1
A6: 10h34 | B6: Vétérans 2 | C6: SOS Football
A7: 10h43 | B7: Walker Texas Soccer | C7: La familia
A8: 10h52 | B8: F.C Bellevue | C8: Sobeca
A9: 11h01 | B9: Un Monde Sans Muco | C9: Michelin
A10: 11h10 | B10: Alerion | C10: Gronaldo
A11: 11h19 | B11: Vétérans 1 | C11: FFF | D11: 1 | E11: 2
A12: 11h28 | B12: Vétérans 2 | C12: King Jong Team
A13: 11h37 | B13: Gladiateurs | C13: Walker Texas Soccer
A14: 11h46 | B14: SOS Football | C14: F.C Bellevue
A15: 11h55 | B15: La familia | C15: Un Monde Sans Muco
A16: PAUSE 12h à 12h30
A17: 12h30 | B17: Sobeca | C17: Alerion | D17: 3 | E17: 3
A18: 12h39 | B18: Michelin | C18: FFF
A19: 12h48 | B19: Gronaldo | C19: King Jong Team
A20: 12h57 | B20: Vétérans 1 | C20: Walker Texas Soccer
A21: 13h06 | B21: Vétérans 2 | C21: F.C Bellevue
A22: 13h15 | B22: Gladiateurs | C22: La familia
A23: 13h24 | B23: SOS Football | C23: Sobeca
A24: 13h33 | B24: Walker Texas Soccer | C24: Un Monde Sans Muco
A25: 13h42 | B25: F.C Bellevue | C25: Alerion
A26: 13h51 | B26: La familia | C26: Michelin
A27: 14h00 | B27: Sobeca | C27: Gronaldo
A28: 14h09 | B28: Walker Texas Soccer | C28: FFF
A29: 14h18 | B29: F.C Bellevue | C29: King Jong Team
... A47: 17h00 | B47: SOS Football | C47: King Jong Team

Sheet Classement automatique
A1: CALCUL POINTS AUTO
B4: Rang | C4: Equipes | D4: J | E4: G | F4: P | G4: N | H4: GP | I4: GC | J4: Diff | K4: Pts | N4: Groupe A | O4: Groupe B | Q4: rang | R4: Equipes | S4: J | T4: G | U4: P | V4: N | W4: GP | X4: GC | Y4: Diff | Z4: Pts | AB4: magic
A5: Groupe A | B5: 1 | C5: =VLOOKUP($B5,$Q$5:$Z$11,COLUMN(B1),FALSE) -> FFF | D5: =VLOOKUP($B5,$Q$5:$Z$11,COLUMN(C1),FALSE) -> 1 | E5: =VLOOKUP($B5,$Q$5:$Z$11,COLUMN(D1),FALSE) -> 1 | F5: =VLOOKUP($B5,$Q$5:$Z$11,COLUMN(E1),FALSE) -> 0 | G5: =VLOOKUP($B5,$Q$5:$Z$11,COLUMN(F1),FALSE) -> 0 | H5: =VLOOKUP($B5,$Q$5:$Z$11,COLUMN(G1),FALSE) -> 2 | I5: =VLOOKUP($B5,$Q$5:$Z$11,COLUMN(H1),FALSE) -> 1 | J5: =VLOOKUP($B5,$Q$5:$Z$11,COLUMN(I1),FALSE) -> 1 | K5: =VLOOKUP($B5,$Q$5:$Z$11,COLUMN(J1),FALSE) -> 3 | M5: 1 | N5: =C5 -> FFF | O5: =C12 -> Sobeca | Q5: =RANK(AB5,$AB$5:$AB$11) -> 2 | R5: Vétérans 1 | S5: {=SUMPRODUCT(('Scores des matchs'!$B$5:$C$47='Classement automatique'!R5)*('Scores des matchs'!$D$5:$E$47<>""))} -> 2 | T5: {=SUMPRODUCT(('Scores des matchs'!$B$5:$B$47='Classement automatique'!R5)*('Scores des matchs'!$D$5:$D$47>'Scores des matchs'!$E$5:$E$47))+SUMPRODUCT(('Scores des matchs'!$C$5:$C$47='Classement automatique'!R5)*('Scores des matchs'!$D$5:$D$47<'Scores des matchs'!$E$5:$E$47))} -> 1 | U5: =S5-T5-V5 -> 1 | V5: {=SUMPRODUCT(('Scores des matchs'!$B$5:$C$47='Classement automatique'!R5)*('Scores des matchs'!$D$5:$D$47='Scores des matchs'!$E$5:$E$47)*('Scores des matchs'!$D$5:$D$47<>""))} -> 0 | W5: {=SUMPRODUCT(('Scores des matchs'!$B$5:$B$47='Classement automatique'!R5)*('Scores des matchs'!$D$5:$D$47))+SUMPRODUCT(('Scores des matchs'!$C$5:$C$47='Classement automatique'!R5)*('Scores des matchs'!$E$5:$E$47))} -> 3 | X5: {=SUMPRODUCT(('Scores des matchs'!$B$5:$B$47='Classement automatique'!R5)*('Scores des matchs'!$E$5:$E$47))+SUMPRODUCT(('Scores des matchs'!$C$5:$C$47='Classement automatique'!R5)*('Scores des matchs'!$D$5:$D$47))} -> 3 | Y5: =W5-X5 -> 0 | Z5: =T5*3+V5 -> 3 | AB5: =Z5*10000+Y5*100+W5-(ROW()/1000) -> 30002.995
B6: 2 | C6: =VLOOKUP($B6,$Q$5:$Z$11,COLUMN(B2),FALSE) -> Vétérans 1 | D6: =VLOOKUP($B6,$Q$5:$Z$11,COLUMN(C2),FALSE) -> 2 | E6: =VLOOKUP($B6,$Q$5:$Z$11,COLUMN(D2),FALSE) -> 1 | F6: =VLOOKUP($B6,$Q$5:$Z$11,COLUMN(E2),FALSE) -> 1 | G6: =VLOOKUP($B6,$Q$5:$Z$11,COLUMN(F2),FALSE) -> 0 | H6: =VLOOKUP($B6,$Q$5:$Z$11,COLUMN(G2),FALSE) -> 3 | I6: =VLOOKUP($B6,$Q$5:$Z$11,COLUMN(H2),FALSE) -> 3 | J6: =VLOOKUP($B6,$Q$5:$Z$11,COLUMN(I2),FALSE) -> 0 | K6: =VLOOKUP($B6,$Q$5:$Z$11,COLUMN(J2),FALSE) -> 3 | M6: 2 | N6: =C6 -> Vétérans 1 | O6: =C13 -> Alerion | Q6: =RANK(AB6,$AB$5:$AB$11) -> 7 | R6: Gladiateurs | S6: {=SUMPRODUCT(('Scores des matchs'!$B$5:$C$47='Classement automatique'!R6)*('Scores des matchs'!$D$5:$E$47<>""))} -> 1 | T6: {=SUMPRODUCT(('Scores des matchs'!$B$5:$B$47='Classement automatique'!R6)*('Scores des matchs'!$D$5:$D$47>'Scores des matchs'!$E$5:$E$47))+SUMPRODUCT(('Scores des matchs'!$C$5:$C$47='Classement automatique'!R6)*('Scores des matchs'!$D$5:$D$47<'Scores des matchs'!$E$5:$E$47))} -> 0 | U6: =S6-T6-V6 -> 1 | V6: {=SUMPRODUCT(('Scores des matchs'!$B$5:$C$47='Classement automatique'!R6)*('Scores des matchs'!$D$5:$D$47='Scores des matchs'!$E$5:$E$47)*('Scores des matchs'!$D$5:$D$47<>""))} -> 0 | W6: {=SUMPRODUCT(('Scores des matchs'!$B$5:$B$47='Classement automatique'!R6)*('Scores des matchs'!$D$5:$D$47))+SUMPRODUCT(('Scores des matchs'!$C$5:$C$47='Classement automatique'!R6)*('Scores des matchs'!$E$5:$E$47))} -> 1 | X6: {=SUMPRODUCT(('Scores des matchs'!$B$5:$B$47='Classement automatique'!R6)*('Scores des matchs'!$E$5:$E$47))+SUMPRODUCT(('Scores des matchs'!$C$5:$C$47='Classement automatique'!R6)*('Scores des matchs'!$D$5:$D$47))} -> 2 | Y6: =W6-X6 -> -1 | Z6: =T6*3+V6 -> 0 | AB6: =Z6*10000+Y6*100+W6-(ROW()/1000) -> -99.006
B7: 3 | C7: =VLOOKUP($B7,$Q$5:$Z$11,COLUMN(B3),FALSE) -> Walker Texas Soccer | D7: =VLOOKUP($B7,$Q$5:$Z$11,COLUMN(C3),FALSE) -> 0 | E7: =VLOOKUP($B7,$Q$5:$Z$11,COLUMN(D3),FALSE) -> 0 | F7: =VLOOKUP($B7,$Q$5:$Z$11,COLUMN(E3),FALSE) -> 0 | G7: =VLOOKUP($B7,$Q$5:$Z$11,COLUMN(F3),FALSE) -> 0 | H7: =VLOOKUP($B7,$Q$5:$Z$11,COLUMN(G3),FALSE) -> 0 | I7: =VLOOKUP($B7,$Q$5:$Z$11,COLUMN(H3),FALSE) -> 0 | J7: =VLOOKUP($B7,$Q$5:$Z$11,COLUMN(I3),FALSE) -> 0 | K7: =VLOOKUP($B7,$Q$5:$Z$11,COLUMN(J3),FALSE) -> 0 | M7: 3 | N7: =C7 -> Walker Texas Soccer | O7: =C14 -> Vétérans 2 | Q7: =RANK(AB7,$AB$5:$AB$11) -> 3 | R7: Walker Texas Soccer | S7: {=SUMPRODUCT(('Scores des matchs'!$B$5:$C$47='Classement automatique'!R7)*('Scores des matchs'!$D$5:$E$47<>""))} -> 0 | T7: {=SUMPRODUCT(('Scores des matchs'!$B$5:$B$47='Classement automatique'!R7)*('Scores des matchs'!$D$5:$D$47>'Scores des matchs'!$E$5:$E$47))+SUMPRODUCT(('Scores des matchs'!$C$5:$C$47='Classement automatique'!R7)*('Scores des matchs'!$D$5:$D$47<'Scores des matchs'!$E$5:$E$47))} -> 0 | U7: =S7-T7-V7 -> 0 | V7: {=SUMPRODUCT(('Scores des matchs'!$B$5:$C$47='Classement automatique'!R7)*('Scores des matchs'!$D$5:$D$47='Scores des matchs'!$E$5:$E$47)*('Scores des matchs'!$D$5:$D$47<>""))} -> 0 | W7: {=SUMPRODUCT(('Scores des matchs'!$B$5:$B$47='Classement automatique'!R7)*('Scores des matchs'!$D$5:$D$47))+SUMPRODUCT(('Scores des matchs'!$C$5:$C$47='Classement automatique'!R7)*('Scores des matchs'!$E$5:$E$47))} -> 0 | X7: {=SUMPRODUCT(('Scores des matchs'!$B$5:$B$47='Classement automatique'!R7)*('Scores des matchs'!$E$5:$E$47))+SUMPRODUCT(('Scores des matchs'!$C$5:$C$47='Classement automatique'!R7)*('Scores des matchs'!$D$5:$D$47))} -> 0 | Y7: =W7-X7 -> 0 | Z7: =T7*3+V7 -> 0 | AB7: =Z7*10000+Y7*100+W7-(ROW()/1000) -> -0.007
B8: 4 | C8: =VLOOKUP($B8,$Q$5:$Z$11,COLUMN(B4),FALSE) -> La familia | D8: =VLOOKUP($B8,$Q$5:$Z$11,COLUMN(C4),FALSE) -> 0 | E8: =VLOOKUP($B8,$Q$5:$Z$11,COLUMN(D4),FALSE) -> 0 | F8: =VLOOKUP($B8,$Q$5:$Z$11,COLUMN(E4),FALSE) -> 0 | G8: =VLOOKUP($B8,$Q$5:$Z$11,COLUMN(F4),FALSE) -> 0 | H8: =VLOOKUP($B8,$Q$5:$Z$11,COLUMN(G4),FALSE) -> 0 | I8: =VLOOKUP($B8,$Q$5:$Z$11,COLUMN(H4),FALSE) -> 0 | J8: =VLOOKUP($B8,$Q$5:$Z$11,COLUMN(I4),FALSE) -> 0 | K8: =VLOOKUP($B8,$Q$5:$Z$11,COLUMN(J4),FALSE) -> 0 | M8: 4 | N8: =C8 -> La familia | O8: =C15 -> SOS Football | Q8: =RANK(AB8,$AB$5:$AB$11) -> 4 | R8: La familia | S8: {=SUMPRODUCT(('Scores des matchs'!$B$5:$C$47='Classement automatique'!R8)*('Scores des matchs'!$D$5:$E$47<>""))} -> 0 | T8: {=SUMPRODUCT(('Scores des matchs'!$B$5:$B$47='Classement automatique'!R8)*('Scores des matchs'!$D$5:$D$47>'Scores des matchs'!$E$5:$E$47))+SUMPRODUCT(('Scores des matchs'!$C$5:$C$47='Classement automatique'!R8)*('Scores des matchs'!$D$5:$D$47<'Scores des matchs'!$E$5:$E$47))} -> 0 | U8: =S8-T8-V8 -> 0 | V8: {=SUMPRODUCT(('Scores des matchs'!$B$5:$C$47='Classement automatique'!R8)*('Scores des matchs'!$D$5:$D$47='Scores des matchs'!$E$5:$E$47)*('Scores des matchs'!$D$5:$D$47<>""))} -> 0 | W8: {=SUMPRODUCT(('Scores des matchs'!$B$5:$B$47='Classement automatique'!R8)*('Scores des matchs'!$D$5:$D$47))+SUMPRODUCT(('Scores des matchs'!$C$5:$C$47='Classement automatique'!R8)*('Scores des matchs'!$E$5:$E$47))} -> 0 | X8: {=SUMPRODUCT(('Scores des matchs'!$B$5:$B$47='Classement automatique'!R8)*('Scores des matchs'!$E$5:$E$47))+SUMPRODUCT(('Scores des matchs'!$C$5:$C$47='Classement automatique'!R8)*('Scores des matchs'!$D$5:$D$47))} -> 0 | Y8: =W8-X8 -> 0 | Z8: =T8*3+V8 -> 0 | AB8: =Z8*10000+Y8*100+W8-(ROW()/1000) -> -0.008
B9: 5 | C9: =VLOOKUP($B9,$Q$5:$Z$11,COLUMN(B5),FALSE) -> Un Monde Sans Muco | D9: =VLOOKUP($B9,$Q$5:$Z$11,COLUMN(C5),FALSE) -> 0 | E9: =VLOOKUP($B9,$Q$5:$Z$11,COLUMN(D5),FALSE) -> 0 | F9: =VLOOKUP($B9,$Q$5:$Z$11,COLUMN(E5),FALSE) -> 0 | G9: =VLOOKUP($B9,$Q$5:$Z$11,COLUMN(F5),FALSE) -> 0 | H9: =VLOOKUP($B9,$Q$5:$Z$11,COLUMN(G5),FALSE) -> 0 | I9: =VLOOKUP($B9,$Q$5:$Z$11,COLUMN(H5),FALSE) -> 0 | J9: =VLOOKUP($B9,$Q$5:$Z$11,COLUMN(I5),FALSE) -> 0 | K9: =VLOOKUP($B9,$Q$5:$Z$11,COLUMN(J5),FALSE) -> 0 | M9: 5 | N9: =C9 -> Un Monde Sans Muco | O9: =C16 -> F.C Bellevue | Q9: =RANK(AB9,$AB$5:$AB$11) -> 5 | R9: Un Monde Sans Muco | S9: {=SUMPRODUCT(('Scores des matchs'!$B$5:$C$47='Classement automatique'!R9)*('Scores des matchs'!$D$5:$E$47<>""))} -> 0 | T9: {=SUMPRODUCT(('Scores des matchs'!$B$5:$B$47='Classement automatique'!R9)*('Scores des matchs'!$D$5:$D$47>'Scores des matchs'!$E$5:$E$47))+SUMPRODUCT(('Scores des matchs'!$C$5:$C$47='Classement automatique'!R9)*('Scores des matchs'!$D$5:$D$47<'Scores des matchs'!$E$5:$E$47))} -> 0 | U9: =S9-T9-V9 -> 0 | V9: {=SUMPRODUCT(('Scores des matchs'!$B$5:$C$47='Classement automatique'!R9)*('Scores des matchs'!$D$5:$D$47='Scores des matchs'!$E$5:$E$47)*('Scores des matchs'!$D$5:$D$47<>""))} -> 0 | W9: {=SUMPRODUCT(('Scores des matchs'!$B$5:$B$47='Classement automatique'!R9)*('Scores des matchs'!$D$5:$D$47))+SUMPRODUCT(('Scores des matchs'!$C$5:$C$47='Classement automatique'!R9)*('Scores des matchs'!$E$5:$E$47))} -> 0 | X9: {=SUMPRODUCT(('Scores des matchs'!$B$5:$B$47='Classement automatique'!R9)*('Scores des matchs'!$E$5:$E$47))+SUMPRODUCT(('Scores des matchs'!$C$5:$C$47='Classement automatique'!R9)*('Scores des matchs'!$D$5:$D$47))} -> 0 | Y9: =W9-X9 -> 0 | Z9: =T9*3+V9 -> 0 | AB9: =Z9*10000+Y9*100+W9-(ROW()/1000) -> -0.009
B10: 6 | C10: =VLOOKUP($B10,$Q$5:$Z$11,COLUMN(B6),FALSE) -> Michelin | D10: =VLOOKUP($B10,$Q$5:$Z$11,COLUMN(C6),FALSE) -> 0 | E10: =VLOOKUP($B10,$Q$5:$Z$11,COLUMN(D6),FALSE) -> 0 | F10: =VLOOKUP($B10,$Q$5:$Z$11,COLUMN(E6),FALSE) -> 0 | G10: =VLOOKUP($B10,$Q$5:$Z$11,COLUMN(F6),FALSE) -> 0 | H10: =VLOOKUP($B10,$Q$5:$Z$11,COLUMN(G6),FALSE) -> 0 | I10: =VLOOKUP($B10,$Q$5:$Z$11,COLUMN(H6),FALSE) -> 0 | J10: =VLOOKUP($B10,$Q$5:$Z$11,COLUMN(I6),FALSE) -> 0 | K10: =VLOOKUP($B10,$Q$5:$Z$11,COLUMN(J6),FALSE) -> 0 | M10: 6 | N10: =C10 -> Michelin | O10: =C17 -> Gronaldo | Q10: =RANK(AB10,$AB$5:$AB$11) -> 6 | R10: Michelin | S10: {=SUMPRODUCT(('Scores des matchs'!$B$5:$C$47='Classement automatique'!R10)*('Scores des matchs'!$D$5:$E$47<>""))} -> 0 | T10: {=SUMPRODUCT(('Scores des matchs'!$B$5:$B$47='Classement automatique'!R10)*('Scores des matchs'!$D$5:$D$47>'Scores des matchs'!$E$5:$E$47))+SUMPRODUCT(('Scores des matchs'!$C$5:$C$47='Classement automatique'!R10)*('Scores des matchs'!$D$5:$D$47<'Scores des matchs'!$E$5:$E$47))} -> 0 | U10: =S10-T10-V10 -> 0 | V10: {=SUMPRODUCT(('Scores des matchs'!$B$5:$C$47='Classement automatique'!R10)*('Scores des matchs'!$D$5:$D$47='Scores des matchs'!$E$5:$E$47)*('Scores des matchs'!$D$5:$D$47<>""))} -> 0 | W10: {=SUMPRODUCT(('Scores des matchs'!$B$5:$B$47='Classement automatique'!R10)*('Scores des matchs'!$D$5:$D$47))+SUMPRODUCT(('Scores des matchs'!$C$5:$C$47='Classement automatique'!R10)*('Scores des matchs'!$E$5:$E$47))} -> 0 | X10: {=SUMPRODUCT(('Scores des matchs'!$B$5:$B$47='Classement automatique'!R10)*('Scores des matchs'!$E$5:$E$47))+SUMPRODUCT(('Scores des matchs'!$C$5:$C$47='Classement automatique'!R10)*('Scores des matchs'!$D$5:$D$47))} -> 0 | Y10: =W10-X10 -> 0 | Z10: =T10*3+V10 -> 0 | AB10: =Z10*10000+Y10*100+W10-(ROW()/1000) -> -0.01
B11: 7 | C11: =VLOOKUP($B11,$Q$5:$Z$11,COLUMN(B7),FALSE) -> Gladiateurs | D11: =VLOOKUP($B11,$Q$5:$Z$11,COLUMN(C7),FALSE) -> 1 | E11: =VLOOKUP($B11,$Q$5:$Z$11,COLUMN(D7),FALSE) -> 0 | F11: =VLOOKUP($B11,$Q$5:$Z$11,COLUMN(E7),FALSE) -> 1 | G11: =VLOOKUP($B11,$Q$5:$Z$11,COLUMN(F7),FALSE) -> 0 | H11: =VLOOKUP($B11,$Q$5:$Z$11,COLUMN(G7),FALSE) -> 1 | I11: =VLOOKUP($B11,$Q$5:$Z$11,COLUMN(H7),FALSE) -> 2 | J11: =VLOOKUP($B11,$Q$5:$Z$11,COLUMN(I7),FALSE) -> -1 | K11: =VLOOKUP($B11,$Q$5:$Z$11,COLUMN(J7),FALSE) -> 0 | M11: 7 | N11: =C11 -> Gladiateurs | O11: =C18 -> King Jong Team | Q11: =RANK(AB11,$AB$5:$AB$11) -> 1 | R11: FFF | S11: {=SUMPRODUCT(('Scores des matchs'!$B$5:$C$47='Classement automatique'!R11)*('Scores des matchs'!$D$5:$E$47<>""))} -> 1 | T11: {=SUMPRODUCT(('Scores des matchs'!$B$5:$B$47='Classement automatique'!R11)*('Scores des matchs'!$D$5:$D$47>'Scores des matchs'!$E$5:$E$47))+SUMPRODUCT(('Scores des matchs'!$C$5:$C$47='Classement automatique'!R11)*('Scores des matchs'!$D$5:$D$47<'Scores des matchs'!$E$5:$E$47))} -> 1 | U11: =S11-T11-V11 -> 0 | V11: {=SUMPRODUCT(('Scores des matchs'!$B$5:$C$47='Classement automatique'!R11)*('Scores des matchs'!$D$5:$D$47='Scores des matchs'!$E$5:$E$47)*('Scores des matchs'!$D$5:$D$47<>""))} -> 0 | W11: {=SUMPRODUCT(('Scores des matchs'!$B$5:$B$47='Classement automatique'!R11)*('Scores des matchs'!$D$5:$D$47))+SUMPRODUCT(('Scores des matchs'!$C$5:$C$47='Classement automatique'!R11)*('Scores des matchs'!$E$5:$E$47))} -> 2 | X11: {=SUMPRODUCT(('Scores des matchs'!$B$5:$B$47='Classement automatique'!R11)*('Scores des matchs'!$E$5:$E$47))+SUMPRODUCT(('Scores des matchs'!$C$5:$C$47='Classement automatique'!R11)*('Scores des matchs'!$D$5:$D$47))} -> 1 | Y11: =W11-X11 -> 1 | Z11: =T11*3+V11 -> 3 | AB11: =Z11*10000+Y11*100+W11-(ROW()/1000) -> 30101.989
A12: Groupe B | B12: 1 | C12: =VLOOKUP($B12,$Q$12:$Z$18,COLUMN(B1),FALSE) -> Sobeca | D12: =VLOOKUP($B12,$Q$12:$Z$18,COLUMN(C1),FALSE) -> 1 | E12: =VLOOKUP($B12,$Q$12:$Z$18,COLUMN(D1),FALSE) -> 0 | F12: =VLOOKUP($B12,$Q$12:$Z$18,COLUMN(E1),FALSE) -> 0 | G12: =VLOOKUP($B12,$Q$12:$Z$18,COLUMN(F1),FALSE) -> 1 | H12: =VLOOKUP($B12,$Q$12:$Z$18,COLUMN(G1),FALSE) -> 3 | I12: =VLOOKUP($B12,$Q$12:$Z$18,COLUMN(H1),FALSE) -> 3 | J12: =VLOOKUP($B12,$Q$12:$Z$18,COLUMN(I1),FALSE) -> 0 | K12: =VLOOKUP($B12,$Q$12:$Z$18,COLUMN(J1),FALSE) -> 1 | Q12: =RANK(AB12,$AB$12:$AB$18) -> 3 | R12: Vétérans 2 | S12: {=SUMPRODUCT(('Scores des matchs'!$B$5:$C$47='Classement automatique'!R12)*('Scores des matchs'!$D$5:$E$47<>""))} -> 0 | T12: {=SUMPRODUCT(('Scores des matchs'!$B$5:$B$47='Classement automatique'!R12)*('Scores des matchs'!$D$5:$D$47>'Scores des matchs'!$E$5:$E$47))+SUMPRODUCT(('Scores des matchs'!$C$5:$C$47='Classement automatique'!R12)*('Scores des matchs'!$D$5:$D$47<'Scores des matchs'!$E$5:$E$47))} -> 0 | U12: =S12-T12-V12 -> 0 | V12: {=SUMPRODUCT(('Scores des matchs'!$B$5:$C$47='Classement automatique'!R12)*('Scores des matchs'!$D$5:$D$47='Scores des matchs'!$E$5:$E$47)*('Scores des matchs'!$D$5:$D$47<>""))} -> 0 | W12: {=SUMPRODUCT(('Scores des matchs'!$B$5:$B$47='Classement automatique'!R12)*('Scores des matchs'!$D$5:$D$47))+SUMPRODUCT(('Scores des matchs'!$C$5:$C$47='Classement automatique'!R12)*('Scores des matchs'!$E$5:$E$47))} -> 0 | X12: {=SUMPRODUCT(('Scores des matchs'!$B$5:$B$47='Classement automatique'!R12)*('Scores des matchs'!$E$5:$E$47))+SUMPRODUCT(('Scores des matchs'!$C$5:$C$47='Classement automatique'!R12)*('Scores des matchs'!$D$5:$D$47))} -> 0 | Y12: =W12-X12 -> 0 | Z12: =T12*3+V12 -> 0 | AB12: =Z12*10000+Y12*100+W12-(ROW()/1000) -> -0.012
B13: 2 | C13: =VLOOKUP($B13,$Q$12:$Z$18,COLUMN(B2),FALSE) -> Alerion | D13: =VLOOKUP($B13,$Q$12:$Z$18,COLUMN(C2),FALSE) -> 1 | E13: =VLOOKUP($B13,$Q$12:$Z$18,COLUMN(D2),FALSE) -> 0 | F13: =VLOOKUP($B13,$Q$12:$Z$18,COLUMN(E2),FALSE) -> 0 | G13: =VLOOKUP($B13,$Q$12:$Z$18,COLUMN(F2),FALSE) -> 1 | H13: =VLOOKUP($B13,$Q$12:$Z$18,COLUMN(G2),FALSE) -> 3 | I13: =VLOOKUP($B13,$Q$12:$Z$18,COLUMN(H2),FALSE) -> 3 | J13: =VLOOKUP($B13,$Q$12:$Z$18,COLUMN(I2),FALSE) -> 0 | K13: =VLOOKUP($B13,$Q$12:$Z$18,COLUMN(J2),FALSE) -> 1 | Q13: =RANK(AB13,$AB$12:$AB$18) -> 4 | R13: SOS Football | S13: {=SUMPRODUCT(('Scores des matchs'!$B$5:$C$47='Classement automatique'!R13)*('Scores des matchs'!$D$5:$E$47<>""))} -> 0 | T13: {=SUMPRODUCT(('Scores des matchs'!$B$5:$B$47='Classement automatique'!R13)*('Scores des matchs'!$D$5:$D$47>'Scores des matchs'!$E$5:$E$47))+SUMPRODUCT(('Scores des matchs'!$C$5:$C$47='Classement automatique'!R13)*('Scores des matchs'!$D$5:$D$47<'Scores des matchs'!$E$5:$E$47))} -> 0 | U13: =S13-T13-V13 -> 0 | V13: {=SUMPRODUCT(('Scores des matchs'!$B$5:$C$47='Classement automatique'!R13)*('Scores des matchs'!$D$5:$D$47='Scores des matchs'!$E$5:$E$47)*('Scores des matchs'!$D$5:$D$47<>""))} -> 0 | W13: {=SUMPRODUCT(('Scores des matchs'!$B$5:$B$47='Classement automatique'!R13)*('Scores des matchs'!$D$5:$D$47))+SUMPRODUCT(('Scores des matchs'!$C$5:$C$47='Classement automatique'!R13)*('Scores des matchs'!$E$5:$E$47))} -> 0 | X13: {=SUMPRODUCT(('Scores des matchs'!$B$5:$B$47='Classement automatique'!R13)*('Scores des matchs'!$E$5:$E$47))+SUMPRODUCT(('Scores des matchs'!$C$5:$C$47='Classement automatique'!R13)*('Scores des matchs'!$D$5:$D$47))} -> 0 | Y13: =W13-X13 -> 0 | Z13: =T13*3+V13 -> 0 | AB13: =Z13*10000+Y13*100+W13-(ROW()/1000) -> -0.013
B14: 3 | C14: =VLOOKUP($B14,$Q$12:$Z$18,COLUMN(B3),FALSE) -> Vétérans 2 | D14: =VLOOKUP($B14,$Q$12:$Z$18,COLUMN(C3),FALSE) -> 0 | E14: =VLOOKUP($B14,$Q$12:$Z$18,COLUMN(D3),FALSE) -> 0 | F14: =VLOOKUP($B14,$Q$12:$Z$18,COLUMN(E3),FALSE) -> 0 | G14: =VLOOKUP($B14,$Q$12:$Z$18,COLUMN(F3),FALSE) -> 0 | H14: =VLOOKUP($B14,$Q$12:$Z$18,COLUMN(G3),FALSE) -> 0 | I14: =VLOOKUP($B14,$Q$12:$Z$18,COLUMN(H3),FALSE) -> 0 | J14: =VLOOKUP($B14,$Q$12:$Z$18,COLUMN(I3),FALSE) -> 0 | K14: =VLOOKUP($B14,$Q$12:$Z$18,COLUMN(J3),FALSE) -> 0 | N14: Points : | Q14: =RANK(AB14,$AB$12:$AB$18) -> 5 | R14: F.C Bellevue | S14: {=SUMPRODUCT(('Scores des matchs'!$B$5:$C$47='Classement automatique'!R14)*('Scores des matchs'!$D$5:$E$47<>""))} -> 0 | T14: {=SUMPRODUCT(('Scores des matchs'!$B$5:$B$47='Classement automatique'!R14)*('Scores des matchs'!$D$5:$D$47>'Scores des matchs'!$E$5:$E$47))+SUMPRODUCT(('Scores des matchs'!$C$5:$C$47='Classement automatique'!R14)*('Scores des matchs'!$D$5:$D$47<'Scores des matchs'!$E$5:$E$47))} -> 0 | U14: =S14-T14-V14 -> 0 | V14: {=SUMPRODUCT(('Scores des matchs'!$B$5:$C$47='Classement automatique'!R14)*('Scores des matchs'!$D$5:$D$47='Scores des matchs'!$E$5:$E$47)*('Scores des matchs'!$D$5:$D$47<>""))} -> 0 | W14: {=SUMPRODUCT(('Scores des matchs'!$B$5:$B$47='Classement automatique'!R14)*('Scores des matchs'!$D$5:$D$47))+SUMPRODUCT(('Scores des matchs'!$C$5:$C$47='Classement automatique'!R14)*('Scores des matchs'!$E$5:$E$47))} -> 0 | X14: {=SUMPRODUCT(('Scores des matchs'!$B$5:$B$47='Classement automatique'!R14)*('Scores des matchs'!$E$5:$E$47))+SUMPRODUCT(('Scores des matchs'!$C$5:$C$47='Classement automatique'!R14)*('Scores des matchs'!$D$5:$D$47))} -> 0 | Y14: =W14-X14 -> 0 | Z14: =T14*3+V14 -> 0 | AB14: =Z14*10000+Y14*100+W14-(ROW()/1000) -> -0.014
B15: 4 | C15: =VLOOKUP($B15,$Q$12:$Z$18,COLUMN(B4),FALSE) -> SOS Football | D15: =VLOOKUP($B15,$Q$12:$Z$18,COLUMN(C4),FALSE) -> 0 | E15: =VLOOKUP($B15,$Q$12:$Z$18,COLUMN(D4),FALSE) -> 0 | F15: =VLOOKUP($B15,$Q$12:$Z$18,COLUMN(E4),FALSE) -> 0 | G15: =VLOOKUP($B15,$Q$12:$Z$18,COLUMN(F4),FALSE) -> 0 | H15: =VLOOKUP($B15,$Q$12:$Z$18,COLUMN(G4),FALSE) -> 0 | I15: =VLOOKUP($B15,$Q$12:$Z$18,COLUMN(H4),FALSE) -> 0 | J15: =VLOOKUP($B15,$Q$12:$Z$18,COLUMN(I4),FALSE) -> 0 | K15: =VLOOKUP($B15,$Q$12:$Z$18,COLUMN(J4),FALSE) -> 0 | N15: Match gagné : 3 points | Q15: =RANK(AB15,$AB$12:$AB$18) -> 1 | R15: Sobeca | S15: {=SUMPRODUCT(('Scores des matchs'!$B$5:$C$47='Classement automatique'!R15)*('Scores des matchs'!$D$5:$E$47<>""))} -> 1 | T15: {=SUMPRODUCT(('Scores des matchs'!$B$5:$B$47='Classement automatique'!R15)*('Scores des matchs'!$D$5:$D$47>'Scores des matchs'!$E$5:$E$47))+SUMPRODUCT(('Scores des matchs'!$C$5:$C$47='Classement automatique'!R15)*('Scores des matchs'!$D$5:$D$47<'Scores des matchs'!$E$5:$E$47))} -> 0 | U15: =S15-T15-V15 -> 0 | V15: {=SUMPRODUCT(('Scores des matchs'!$B$5:$C$47='Classement automatique'!R15)*('Scores des matchs'!$D$5:$D$47='Scores des matchs'!$E$5:$E$47)*('Scores des matchs'!$D$5:$D$47<>""))} -> 1 | W15: {=SUMPRODUCT(('Scores des matchs'!$B$5:$B$47='Classement automatique'!R15)*('Scores des matchs'!$D$5:$D$47))+SUMPRODUCT(('Scores des matchs'!$C$5:$C$47='Classement automatique'!R15)*('Scores des matchs'!$E$5:$E$47))} -> 3 | X15: {=SUMPRODUCT(('Scores des matchs'!$B$5:$B$47='Classement automatique'!R15)*('Scores des matchs'!$E$5:$E$47))+SUMPRODUCT(('Scores des matchs'!$C$5:$C$47='Classement automatique'!R15)*('Scores des matchs'!$D$5:$D$47))} -> 3 | Y15: =W15-X15 -> 0 | Z15: =T15*3+V15 -> 1 | AB15: =Z15*10000+Y15*100+W15-(ROW()/1000) -> 10002.985
B16: 5 | C16: =VLOOKUP($B16,$Q$12:$Z$18,COLUMN(B5),FALSE) -> F.C Bellevue | D16: =VLOOKUP($B16,$Q$12:$Z$18,COLUMN(C5),FALSE) -> 0 | E16: =VLOOKUP($B16,$Q$12:$Z$18,COLUMN(D5),FALSE) -> 0 | F16: =VLOOKUP($B16,$Q$12:$Z$18,COLUMN(E5),FALSE) -> 0 | G16: =VLOOKUP($B16,$Q$12:$Z$18,COLUMN(F5),FALSE) -> 0 | H16: =VLOOKUP($B16,$Q$12:$Z$18,COLUMN(G5),FALSE) -> 0 | I16: =VLOOKUP($B16,$Q$12:$Z$18,COLUMN(H5),FALSE) -> 0 | J16: =VLOOKUP($B16,$Q$12:$Z$18,COLUMN(I5),FALSE) -> 0 | K16: =VLOOKUP($B16,$Q$12:$Z$18,COLUMN(J5),FALSE) -> 0 | N16: Match nul : 1 point | Q16: =RANK(AB16,$AB$12:$AB$18) -> 2 | R16: Alerion | S16: {=SUMPRODUCT(('Scores des matchs'!$B$5:$C$47='Classement automatique'!R16)*('Scores des matchs'!$D$5:$E$47<>""))} -> 1 | T16: {=SUMPRODUCT(('Scores des matchs'!$B$5:$B$47='Classement automatique'!R16)*('Scores des matchs'!$D$5:$D$47>'Scores des matchs'!$E$5:$E$47))+SUMPRODUCT(('Scores des matchs'!$C$5:$C$47='Classement automatique'!R16)*('Scores des matchs'!$D$5:$D$47<'Scores des matchs'!$E$5:$E$47))} -> 0 | U16: =S16-T16-V16 -> 0 | V16: {=SUMPRODUCT(('Scores des matchs'!$B$5:$C$47='Classement automatique'!R16)*('Scores des matchs'!$D$5:$D$47='Scores des matchs'!$E$5:$E$47)*('Scores des matchs'!$D$5:$D$47<>""))} -> 1 | W16: {=SUMPRODUCT(('Scores des matchs'!$B$5:$B$47='Classement automatique'!R16)*('Scores des matchs'!$D$5:$D$47))+SUMPRODUCT(('Scores des matchs'!$C$5:$C$47='Classement automatique'!R16)*('Scores des matchs'!$E$5:$E$47))} -> 3 | X16: {=SUMPRODUCT(('Scores des matchs'!$B$5:$B$47='Classement automatique'!R16)*('Scores des matchs'!$E$5:$E$47))+SUMPRODUCT(('Scores des matchs'!$C$5:$C$47='Classement automatique'!R16)*('Scores des matchs'!$D$5:$D$47))} -> 3 | Y16: =W16-X16 -> 0 | Z16: =T16*3+V16 -> 1 | AB16: =Z16*10000+Y16*100+W16-(ROW()/1000) -> 10002.984
B17: 6 | C17: =VLOOKUP($B17,$Q$12:$Z$18,COLUMN(B6),FALSE) -> Gronaldo | D17: =VLOOKUP($B17,$Q$12:$Z$18,COLUMN(C6),FALSE) -> 0 | E17: =VLOOKUP($B17,$Q$12:$Z$18,COLUMN(D6),FALSE) -> 0 | F17: =VLOOKUP($B17,$Q$12:$Z$18,COLUMN(E6),FALSE) -> 0 | G17: =VLOOKUP($B17,$Q$12:$Z$18,COLUMN(F6),FALSE) -> 0 | H17: =VLOOKUP($B17,$Q$12:$Z$18,COLUMN(G6),FALSE) -> 0 | I17: =VLOOKUP($B17,$Q$12:$Z$18,COLUMN(H6),FALSE) -> 0 | J17: =VLOOKUP($B17,$Q$12:$Z$18,COLUMN(I6),FALSE) -> 0 | K17: =VLOOKUP($B17,$Q$12:$Z$18,COLUMN(J6),FALSE) -> 0 | N17: Match perdu : 0 point | Q17: =RANK(AB17,$AB$12:$AB$18) -> 6 | R17: Gronaldo | S17: {=SUMPRODUCT(('Scores des matchs'!$B$5:$C$47='Classement automatique'!R17)*('Scores des matchs'!$D$5:$E$47<>""))} -> 0 | T17: {=SUMPRODUCT(('Scores des matchs'!$B$5:$B$47='Classement automatique'!R17)*('Scores des matchs'!$D$5:$D$47>'Scores des matchs'!$E$5:$E$47))+SUMPRODUCT(('Scores des matchs'!$C$5:$C$47='Classement automatique'!R17)*('Scores des matchs'!$D$5:$D$47<'Scores des matchs'!$E$5:$E$47))} -> 0 | U17: =S17-T17-V17 -> 0 | V17: {=SUMPRODUCT(('Scores des matchs'!$B$5:$C$47='Classement automatique'!R17)*('Scores des matchs'!$D$5:$D$47='Scores des matchs'!$E$5:$E$47)*('Scores des matchs'!$D$5:$D$47<>""))} -> 0 | W17: {=SUMPRODUCT(('Scores des matchs'!$B$5:$B$47='Classement automatique'!R17)*('Scores des matchs'!$D$5:$D$47))+SUMPRODUCT(('Scores des matchs'!$C$5:$C$47='Classement automatique'!R17)*('Scores des matchs'!$E$5:$E$47))} -> 0 | X17: {=SUMPRODUCT(('Scores des matchs'!$B$5:$B$47='Classement automatique'!R17)*('Scores des matchs'!$E$5:$E$47))+SUMPRODUCT(('Scores des matchs'!$C$5:$C$47='Classement automatique'!R17)*('Scores des matchs'!$D$5:$D$47))} -> 0 | Y17: =W17-X17 -> 0 | Z17: =T17*3+V17 -> 0 | AB17: =Z17*10000+Y17*100+W17-(ROW()/1000) -> -0.017
B18: 7 | C18: =VLOOKUP($B18,$Q$12:$Z$18,COLUMN(B7),FALSE) -> King Jong Team | D18: =VLOOKUP($B18,$Q$12:$Z$18,COLUMN(C7),FALSE) -> 0 | E18: =VLOOKUP($B18,$Q$12:$Z$18,COLUMN(D7),FALSE) -> 0 | F18: =VLOOKUP($B18,$Q$12:$Z$18,COLUMN(E7),FALSE) -> 0 | G18: =VLOOKUP($B18,$Q$12:$Z$18,COLUMN(F7),FALSE) -> 0 | H18: =VLOOKUP($B18,$Q$12:$Z$18,COLUMN(G7),FALSE) -> 0 | I18: =VLOOKUP($B18,$Q$12:$Z$18,COLUMN(H7),FALSE) -> 0 | J18: =VLOOKUP($B18,$Q$12:$Z$18,COLUMN(I7),FALSE) -> 0 | K18: =VLOOKUP($B18,$Q$12:$Z$18,COLUMN(J7),FALSE) -> 0 | Q18: =RANK(AB18,$AB$12:$AB$18) -> 7 | R18: King Jong Team | S18: {=SUMPRODUCT(('Scores des matchs'!$B$5:$C$47='Classement automatique'!R18)*('Scores des matchs'!$D$5:$E$47<>""))} -> 0 | T18: {=SUMPRODUCT(('Scores des matchs'!$B$5:$B$47='Classement automatique'!R18)*('Scores des matchs'!$D$5:$D$47>'Scores des matchs'!$E$5:$E$47))+SUMPRODUCT(('Scores des matchs'!$C$5:$C$47='Classement automatique'!R18)*('Scores des matchs'!$D$5:$D$47<'Scores des matchs'!$E$5:$E$47))} -> 0 | U18: =S18-T18-V18 -> 0 | V18: {=SUMPRODUCT(('Scores des matchs'!$B$5:$C$47='Classement automatique'!R18)*('Scores des matchs'!$D$5:$D$47='Scores des matchs'!$E$5:$E$47)*('Scores des matchs'!$D$5:$D$47<>""))} -> 0 | W18: {=SUMPRODUCT(('Scores des matchs'!$B$5:$B$47='Classement automatique'!R18)*('Scores des matchs'!$D$5:$D$47))+SUMPRODUCT(('Scores des matchs'!$C$5:$C$47='Classement automatique'!R18)*('Scores des matchs'!$E$5:$E$47))} -> 0 | X18: {=SUMPRODUCT(('Scores des matchs'!$B$5:$B$47='Classement automatique'!R18)*('Scores des matchs'!$E$5:$E$47))+SUMPRODUCT(('Scores des matchs'!$C$5:$C$47='Classement automatique'!R18)*('Scores des matchs'!$D$5:$D$47))} -> 0 | Y18: =W18-X18 -> 0 | Z18: =T18*3+V18 -> 0 | AB18: =Z18*10000+Y18*100+W18-(ROW()/1000) -> -0.018
