Workbook

Sheet Tableau des matchs
A1: GROUPE A
A3: Equipes | B3: Vétérans 1 | C3: Gladiateurs | D3: Walker Texas Soccer | E3: La familia | F3: Un Monde Sans Muco | G3: Michelin | H3: FFF
A5: Vétérans 1
A6: Gladiateurs | B6: 1
A7: Walker Texas Soccer | B7: 8 | C7: 5
A8: La familia | B8: 13 | C8: 9 | D8: 2
A9: Un Monde Sans Muco | B9: 17 | C9: 14 | D9: 10 | E9: 6
A10: Michelin | B10: 20 | C10: 18 | D10: 15 | E10: 11 | F10: 3
A11: FFF | B11: 4 | C11: 21 | D11: 12 | E11: 16 | F11: 19 | G11: 7
A14: GROUPE B
A16: Equipes | B16: Vétérans 2 | C16: SOS Football | D16: F.C Bellevue | E16: Sobeca | F16: Alerion | G16: Gronaldo | H16: King Jong Team
A18: Vétérans 2
A19: SOS Football | B19: 1
A20: F.C Bellevue | B20: 8 | C20: 5
A21: Sobeca | B21: 13 | C21: 9 | D21: 2
A22: Alerion | B22: 17 | C22: 14 | D22: 10 | E22: 6
A23: Gronaldo | B23: 20 | C23: 18 | D23: 15 | E23: 11 | F23: 3
A24: King Jong Team | B24: 4 | C24: 21 | D24: 12 | E24: 16 | F24: 19 | G24: 7

Sheet Scores des matchs
A1: Feuille de match
A4: Horaire | B4: Equipe 1 | C4: Equipe 2 | D4: Score E1 | E4: Score E2
A5: 10h25 | B5: Vétérans 1 | C5: Gladiateurs | D5: 1 | E5: 1
A6: 10h34 | B6: Vétérans 2 | C6: SOS Football | D6: 3 | E6: 0
A7: 10h43 | B7: Walker Texas Soccer | C7: La familia | D7: 3 | E7: 0
A8: 10h52 | B8: F.C Bellevue | C8: Sobeca | D8: 3 | E8: 0
A9: 11h01 | B9: Un Monde Sans Muco | C9: Michelin | D9: 3 | E9: 0
A10: 11h10 | B10: Alerion | C10: Gronaldo | D10: 3 | E10: 0
A11: 11h19 | B11: Vétérans 1 | C11: FFF | D11: 3 | E11: 0
A12: 11h28 | B12: Vétérans 2 | C12: King Jong Team | D12: 3 | E12: 0
A13: 11h37 | B13: Gladiateurs | C13: Walker Texas Soccer | D13: 7 | E13: 2
A14: 11h46 | B14: SOS Football | C14: F.C Bellevue | D14: 3 | E14: 0
A15: 11h55 | B15: La familia | C15: Un Monde Sans Muco | D15: 0 | E15: 3
A16: PAUSE 12h à 12h30
A17: 12h30 | B17: Sobeca | C17: Alerion | D17: 3 | E17: 0
A18: 12h39 | B18: Michelin | C18: FFF | D18: 3 | E18: 0
A19: 12h48 | B19: Gronaldo | C19: King Jong Team | D19: 3 | E19: 0
A20: 12h57 | B20: Vétérans 1 | C20: Walker Texas Soccer | D20: 3 | E20: 0
A21: 13h06 | B21: Vétérans 2 | C21: F.C Bellevue | D21: 3 | E21: 0
A22: 13h15 | B22: Gladiateurs | C22: La familia | D22: 3 | E22: 0
A23: 13h24 | B23: SOS Football | C23: Sobeca | D23: 0 | E23: 3
A24: 13h33 | B24: Walker Texas Soccer | C24: Un Monde Sans Muco | D24: 0 | E24: 1
A25: 13h42 | B25: F.C Bellevue | C25: Alerion | D25: 3 | E25: 0
A26: 13h51 | B26: La familia | C26: Michelin | D26: 3 | E26: 0
A27: 14h00 | B27: Sobeca | C27: Gronaldo | D27: 3 | E27: 0
A28: 14h09 | B28: Walker Texas Soccer | C28: FFF | D28: 3 | E28: 0
... A47: 17h00 | B47: SOS Football | C47: King Jong Team | D47: 3 | E47: 0

Sheet Classement automatique
A1: CALCUL POINTS AUTO
B4: Rang | C4: Equipes | D4: Points marqués | J4: Total | K4: But pour | Q4: Total | R4: But contre | X4: Total | Y4: Diff | AB4: Groupe A | AC4: Groupe B | AH4: magic
A5: Groupe A | B5: =RANK(AH5,AH$5:AH$11) -> 2 | C5: Vétérans 1 | D5: =IF('Scores des matchs'!D5>'Scores des matchs'!E5,3,IF('Scores des matchs'!D5='Scores des matchs'!E5,1,0)) -> 1 | E5: =IF('Scores des matchs'!D11>'Scores des matchs'!E11,3,IF('Scores des matchs'!D11='Scores des matchs'!E11,1,0)) -> 3 | F5: =IF('Scores des matchs'!D20>'Scores des matchs'!E20,3,IF('Scores des matchs'!D20='Scores des matchs'!E20,1,0)) -> 3 | G5: =IF('Scores des matchs'!D30>'Scores des matchs'!E30,3,IF('Scores des matchs'!D30='Scores des matchs'!E30,1,0)) -> 3 | H5: =IF('Scores des matchs'!D38>'Scores des matchs'!E38,3,IF('Scores des matchs'!D38='Scores des matchs'!E38,1,0)) -> 3 | I5: =IF('Scores des matchs'!D44>'Scores des matchs'!E44,3,IF('Scores des matchs'!D44='Scores des matchs'!E44,1,0)) -> 3 | J5: =SUM(D5:I5) -> 16 | K5: ='Scores des matchs'!D5 -> 1 | L5: ='Scores des matchs'!D11 -> 3 | M5: ='Scores des matchs'!D20 -> 3 | N5: ='Scores des matchs'!D30 -> 3 | O5: ='Scores des matchs'!D38 -> 3 | P5: ='Scores des matchs'!D44 -> 3 | Q5: =SUM(K5:P5) -> 16 | R5: ='Scores des matchs'!E5 -> 1 | S5: ='Scores des matchs'!E11 -> 0 | T5: ='Scores des matchs'!E20 -> 0 | U5: ='Scores des matchs'!E30 -> 0 | V5: ='Scores des matchs'!E38 -> 0 | W5: ='Scores des matchs'!E44 -> 0 | X5: =SUM(R5:W5) -> 1 | Y5: =SUM(Q5-X5) -> 15 | AA5: 1 | AB5: =VLOOKUP(AA5,B$5:C$11,2,FALSE) -> Gladiateurs | AC5: =VLOOKUP(AA5,B$12:C$18,2,FALSE) -> Sobeca | AH5: =J5*100+Y5-ROW()/100 -> 1614.95
B6: =RANK(AH6,AH$5:AH$11) -> 1 | C6: Gladiateurs | D6: =IF('Scores des matchs'!D5<'Scores des matchs'!E5,3,IF('Scores des matchs'!D5='Scores des matchs'!E5,1,0)) -> 1 | E6: =IF('Scores des matchs'!D13>'Scores des matchs'!E13,3,IF('Scores des matchs'!D13='Scores des matchs'!E13,1,0)) -> 3 | F6: =IF('Scores des matchs'!D22>'Scores des matchs'!E22,3,IF('Scores des matchs'!D22='Scores des matchs'!E22,1,0)) -> 3 | G6: =IF('Scores des matchs'!D32>'Scores des matchs'!E32,3,IF('Scores des matchs'!D32='Scores des matchs'!E32,1,0)) -> 3 | H6: =IF('Scores des matchs'!D40>'Scores des matchs'!E40,3,IF('Scores des matchs'!D40='Scores des matchs'!E40,1,0)) -> 3 | I6: =IF('Scores des matchs'!D46>'Scores des matchs'!E46,3,IF('Scores des matchs'!D46='Scores des matchs'!E46,1,0)) -> 3 | J6: =SUM(D6:I6) -> 16 | K6: ='Scores des matchs'!E5 -> 1 | L6: ='Scores des matchs'!D13 -> 7 | M6: ='Scores des matchs'!D18 -> 3 | N6: ='Scores des matchs'!D22 -> 3 | O6: ='Scores des matchs'!D32 -> 3 | P6: ='Scores des matchs'!D40 -> 3 | Q6: =SUM(K6:P6) -> 20 | R6: ='Scores des matchs'!D5 -> 1 | S6: ='Scores des matchs'!E13 -> 2 | T6: ='Scores des matchs'!E18 -> 0 | U6: ='Scores des matchs'!E22 -> 0 | V6: ='Scores des matchs'!E32 -> 0 | W6: ='Scores des matchs'!E40 -> 0 | X6: =SUM(R6:W6) -> 3 | Y6: =SUM(Q6-X6) -> 17 | AA6: 2 | AB6: =VLOOKUP(AA6,B$5:C$11,2,FALSE) -> Vétérans 1 | AC6: =VLOOKUP(AA6,B$12:C$18,2,FALSE) -> Vétérans 2 | AH6: =J6*100+Y6-ROW()/100 -> 1616.94
B7: =RANK(AH7,AH$5:AH$11) -> 4 | C7: Walker Texas Soccer | D7: =IF('Scores des matchs'!D7>'Scores des matchs'!E7,3,IF('Scores des matchs'!D7='Scores des matchs'!E7,1,0)) -> 3 | E7: =IF('Scores des matchs'!D13<'Scores des matchs'!E13,3,IF('Scores des matchs'!D13='Scores des matchs'!E13,1,0)) -> 0 | F7: =IF('Scores des matchs'!D20<'Scores des matchs'!E20,3,IF('Scores des matchs'!D20='Scores des matchs'!E20,1,0)) -> 0 | G7: =IF('Scores des matchs'!D24>'Scores des matchs'!E24,3,IF('Scores des matchs'!D24='Scores des matchs'!E24,1,0)) -> 0 | H7: =IF('Scores des matchs'!D28>'Scores des matchs'!E28,3,IF('Scores des matchs'!D28='Scores des matchs'!E28,1,0)) -> 3 | I7: =IF('Scores des matchs'!D34>'Scores des matchs'!E34,3,IF('Scores des matchs'!D34='Scores des matchs'!E34,1,0)) -> 3 | J7: =SUM(D7:I7) -> 9 | K7: ='Scores des matchs'!D7 -> 3 | L7: ='Scores des matchs'!E13 -> 2 | M7: ='Scores des matchs'!E20 -> 0 | N7: ='Scores des matchs'!D24 -> 0 | O7: ='Scores des matchs'!D28 -> 3 | P7: ='Scores des matchs'!D34 -> 3 | Q7: =SUM(K7:P7) -> 11 | R7: ='Scores des matchs'!E7 -> 0 | S7: ='Scores des matchs'!D13 -> 7 | T7: ='Scores des matchs'!D20 -> 3 | U7: ='Scores des matchs'!E24 -> 1 | V7: ='Scores des matchs'!E28 -> 0 | W7: ='Scores des matchs'!E34 -> 0 | X7: =SUM(R7:W7) -> 11 | Y7: =SUM(Q7-X7) -> 0 | AA7: 3 | AB7: =VLOOKUP(AA7,B$5:C$11,2,FALSE) -> Un Monde Sans Muco | AC7: =VLOOKUP(AA7,B$12:C$18,2,FALSE) -> SOS Football | AH7: =J7*100+Y7-ROW()/100 -> 899.93
B8: =RANK(AH8,AH$5:AH$11) -> 5 | C8: La familia | D8: =IF('Scores des matchs'!D7<'Scores des matchs'!E7,3,IF('Scores des matchs'!D7='Scores des matchs'!E7,1,0)) -> 0 | E8: =IF('Scores des matchs'!D15>'Scores des matchs'!E15,3,IF('Scores des matchs'!D15='Scores des matchs'!E15,1,0)) -> 0 | F8: =IF('Scores des matchs'!D22<'Scores des matchs'!E22,3,IF('Scores des matchs'!D22='Scores des matchs'!E22,1,0)) -> 0 | G8: =IF('Scores des matchs'!D26>'Scores des matchs'!E26,3,IF('Scores des matchs'!D26='Scores des matchs'!E26,1,0)) -> 3 | H8: =IF('Scores des matchs'!D30<'Scores des matchs'!E30,3,IF('Scores des matchs'!D30='Scores des matchs'!E30,1,0)) -> 0 | I8: =IF('Scores des matchs'!D36>'Scores des matchs'!E36,3,IF('Scores des matchs'!D36='Scores des matchs'!E36,1,0)) -> 3 | J8: =SUM(D8:I8) -> 6 | K8: ='Scores des matchs'!E7 -> 0 | L8: ='Scores des matchs'!D15 -> 0 | M8: ='Scores des matchs'!E22 -> 0 | N8: ='Scores des matchs'!D26 -> 3 | O8: ='Scores des matchs'!E30 -> 0 | P8: ='Scores des matchs'!D36 -> 3 | Q8: =SUM(K8:P8) -> 6 | R8: ='Scores des matchs'!D7 -> 3 | S8: ='Scores des matchs'!E15 -> 3 | T8: ='Scores des matchs'!D22 -> 3 | U8: ='Scores des matchs'!E26 -> 0 | V8: ='Scores des matchs'!D30 -> 3 | W8: ='Scores des matchs'!E36 -> 0 | X8: =SUM(R8:W8) -> 12 | Y8: =SUM(Q8-X8) -> -6 | AA8: 4 | AB8: =VLOOKUP(AA8,B$5:C$11,2,FALSE) -> Walker Texas Soccer | AC8: =VLOOKUP(AA8,B$12:C$18,2,FALSE) -> F.C Bellevue | AH8: =J8*100+Y8-ROW()/100 -> 593.92
B9: =RANK(AH9,AH$5:AH$11) -> 3 | C9: Un Monde Sans Muco | D9: =IF('Scores des matchs'!D9>'Scores des matchs'!E9,3,IF('Scores des matchs'!D9='Scores des matchs'!E9,1,0)) -> 3 | E9: =IF('Scores des matchs'!D15<'Scores des matchs'!E15,3,IF('Scores des matchs'!D15='Scores des matchs'!E15,1,0)) -> 3 | F9: =IF('Scores des matchs'!D24<'Scores des matchs'!E24,3,IF('Scores des matchs'!D24='Scores des matchs'!E24,1,0)) -> 3 | G9: =IF('Scores des matchs'!D32<'Scores des matchs'!E32,3,IF('Scores des matchs'!D32='Scores des matchs'!E32,1,0)) -> 0 | H9: =IF('Scores des matchs'!D38<'Scores des matchs'!E38,3,IF('Scores des matchs'!D38='Scores des matchs'!E38,1,0)) -> 0 | I9: =IF('Scores des matchs'!D42>'Scores des matchs'!E42,3,IF('Scores des matchs'!D42='Scores des matchs'!E42,1,0)) -> 3 | J9: =SUM(D9:I9) -> 12 | K9: ='Scores des matchs'!D9 -> 3 | L9: ='Scores des matchs'!E15 -> 3 | M9: ='Scores des matchs'!E24 -> 1 | N9: ='Scores des matchs'!E32 -> 0 | O9: ='Scores des matchs'!E38 -> 0 | P9: ='Scores des matchs'!D42 -> 3 | Q9: =SUM(K9:P9) -> 10 | R9: ='Scores des matchs'!E9 -> 0 | S9: ='Scores des matchs'!D15 -> 0 | T9: ='Scores des matchs'!D24 -> 0 | U9: ='Scores des matchs'!D32 -> 3 | V9: ='Scores des matchs'!D38 -> 3 | W9: ='Scores des matchs'!E42 -> 0 | X9: =SUM(R9:W9) -> 6 | Y9: =SUM(Q9-X9) -> 4 | AA9: 5 | AB9: =VLOOKUP(AA9,B$5:C$11,2,FALSE) -> La familia | AC9: =VLOOKUP(AA9,B$12:C$18,2,FALSE) -> Alerion | AH9: =J9*100+Y9-ROW()/100 -> 1203.91
B10: =RANK(AH10,AH$5:AH$11) -> 6 | C10: Michelin | D10: =IF('Scores des matchs'!D9<'Scores des matchs'!E9,3,IF('Scores des matchs'!D9='Scores des matchs'!E9,1,0)) -> 0 | E10: =IF('Scores des matchs'!D18>'Scores des matchs'!E18,3,IF('Scores des matchs'!D18='Scores des matchs'!E18,1,0)) -> 3 | F10: =IF('Scores des matchs'!D26<'Scores des matchs'!E26,3,IF('Scores des matchs'!D26='Scores des matchs'!E26,1,0)) -> 0 | G10: =IF('Scores des matchs'!D34<'Scores des matchs'!E34,3,IF('Scores des matchs'!D34='Scores des matchs'!E34,1,0)) -> 0 | H10: =IF('Scores des matchs'!D40<'Scores des matchs'!E40,3,IF('Scores des matchs'!D40='Scores des matchs'!E40,1,0)) -> 0 | I10: =IF('Scores des matchs'!D44<'Scores des matchs'!E44,3,IF('Scores des matchs'!D44='Scores des matchs'!E44,1,0)) -> 0 | J10: =SUM(D10:I10) -> 3 | K10: ='Scores des matchs'!E9 -> 0 | L10: ='Scores des matchs'!E26 -> 0 | M10: ='Scores des matchs'!E34 -> 0 | N10: ='Scores des matchs'!E40 -> 0 | O10: ='Scores des matchs'!E44 -> 0 | P10: ='Scores des matchs'!D46 -> 3 | Q10: =SUM(K10:P10) -> 3 | R10: ='Scores des matchs'!D9 -> 3 | S10: ='Scores des matchs'!D26 -> 3 | T10: ='Scores des matchs'!D34 -> 3 | U10: ='Scores des matchs'!D40 -> 3 | V10: ='Scores des matchs'!D44 -> 3 | W10: ='Scores des matchs'!E46 -> 0 | X10: =SUM(R10:W10) -> 15 | Y10: =SUM(Q10-X10) -> -12 | AA10: 6 | AB10: =VLOOKUP(AA10,B$5:C$11,2,FALSE) -> Michelin | AC10: =VLOOKUP(AA10,B$12:C$18,2,FALSE) -> Gronaldo | AH10: =J10*100+Y10-ROW()/100 -> 287.9
B11: =RANK(AH11,AH$5:AH$11) -> 7 | C11: FFF | D11: =IF('Scores des matchs'!D11<'Scores des matchs'!E11,3,IF('Scores des matchs'!D11='Scores des matchs'!E11,1,0)) -> 0 | E11: =IF('Scores des matchs'!D18<'Scores des matchs'!E18,3,IF('Scores des matchs'!D18='Scores des matchs'!E18,1,0)) -> 0 | F11: =IF('Scores des matchs'!D28<'Scores des matchs'!E28,3,IF('Scores des matchs'!D28='Scores des matchs'!E28,1,0)) -> 0 | G11: =IF('Scores des matchs'!D36<'Scores des matchs'!E36,3,IF('Scores des matchs'!D36='Scores des matchs'!E36,1,0)) -> 0 | H11: =IF('Scores des matchs'!D42<'Scores des matchs'!E42,3,IF('Scores des matchs'!D42='Scores des matchs'!E42,1,0)) -> 0 | I11: =IF('Scores des matchs'!D46<'Scores des matchs'!E46,3,IF('Scores des matchs'!D46='Scores des matchs'!E46,1,0)) -> 0 | J11: =SUM(D11:I11) -> 0 | K11: ='Scores des matchs'!E11 -> 0 | L11: ='Scores des matchs'!E18 -> 0 | M11: ='Scores des matchs'!E28 -> 0 | N11: ='Scores des matchs'!E36 -> 0 | O11: ='Scores des matchs'!E42 -> 0 | P11: ='Scores des matchs'!E46 -> 0 | Q11: =SUM(K11:P11) -> 0 | R11: ='Scores des matchs'!D11 -> 3 | S11: ='Scores des matchs'!D18 -> 3 | T11: ='Scores des matchs'!D28 -> 3 | U11: ='Scores des matchs'!D36 -> 3 | V11: ='Scores des matchs'!D42 -> 3 | W11: ='Scores des matchs'!D46 -> 3 | X11: =SUM(R11:W11) -> 18 | Y11: =SUM(Q11-X11) -> -18 | AA11: 7 | AB11: =VLOOKUP(AA11,B$5:C$11,2,FALSE) -> FFF | AC11: =VLOOKUP(AA11,B$12:C$18,2,FALSE) -> King Jong Team | AH11: =J11*100+Y11-ROW()/100 -> -18.11
A12: Groupe B | B12: =RANK(AH12,AH$12:AH$18) -> 2 | C12: Vétérans 2 | D12: =IF('Scores des matchs'!D6>'Scores des matchs'!E6,3,IF('Scores des matchs'!D6='Scores des matchs'!E6,1,0)) -> 3 | E12: =IF('Scores des matchs'!D12>'Scores des matchs'!E12,3,IF('Scores des matchs'!D12='Scores des matchs'!E12,1,0)) -> 3 | F12: =IF('Scores des matchs'!D21>'Scores des matchs'!E21,3,IF('Scores des matchs'!D21='Scores des matchs'!E21,1,0)) -> 3 | G12: =IF('Scores des matchs'!D31>'Scores des matchs'!E31,3,IF('Scores des matchs'!D31='Scores des matchs'!E31,1,0)) -> 0 | H12: =IF('Scores des matchs'!D39>'Scores des matchs'!E39,3,IF('Scores des matchs'!D39='Scores des matchs'!E39,1,0)) -> 3 | I12: =IF('Scores des matchs'!D45>'Scores des matchs'!E45,3,IF('Scores des matchs'!D45='Scores des matchs'!E45,1,0)) -> 0 | J12: =SUM(D12:I12) -> 12 | K12: ='Scores des matchs'!D6 -> 3 | L12: ='Scores des matchs'!D12 -> 3 | M12: ='Scores des matchs'!D21 -> 3 | N12: ='Scores des matchs'!D31 -> 0 | O12: ='Scores des matchs'!D39 -> 3 | P12: ='Scores des matchs'!D45 -> 0 | Q12: =SUM(K12:P12) -> 12 | R12: ='Scores des matchs'!E6 -> 0 | S12: ='Scores des matchs'!E12 -> 0 | T12: ='Scores des matchs'!E21 -> 0 | U12: ='Scores des matchs'!E31 -> 4 | V12: ='Scores des matchs'!E39 -> 0 | W12: ='Scores des matchs'!E45 -> 1 | X12: =SUM(R12:W12) -> 5 | Y12: =SUM(Q12-X12) -> 7 | AH12: =J12*100+Y12-ROW()/100 -> 1206.88
B13: =RANK(AH13,AH$12:AH$18) -> 3 | C13: SOS Football | D13: =IF('Scores des matchs'!D6<'Scores des matchs'!E6,3,IF('Scores des matchs'!D6='Scores des matchs'!E6,1,0)) -> 0 | E13: =IF('Scores des matchs'!D14>'Scores des matchs'!E14,3,IF('Scores des matchs'!D14='Scores des matchs'!E14,1,0)) -> 3 | F13: =IF('Scores des matchs'!D23>'Scores des matchs'!E23,3,IF('Scores des matchs'!D23='Scores des matchs'!E23,1,0)) -> 0 | G13: =IF('Scores des matchs'!D33>'Scores des matchs'!E33,3,IF('Scores des matchs'!D33='Scores des matchs'!E33,1,0)) -> 3 | H13: =IF('Scores des matchs'!D41>'Scores des matchs'!E41,3,IF('Scores des matchs'!D41='Scores des matchs'!E41,1,0)) -> 3 | I13: =IF('Scores des matchs'!D47>'Scores des matchs'!E47,3,IF('Scores des matchs'!D47='Scores des matchs'!E47,1,0)) -> 3 | J13: =SUM(D13:I13) -> 12 | K13: ='Scores des matchs'!E6 -> 0 | L13: ='Scores des matchs'!D14 -> 3 | M13: ='Scores des matchs'!D19 -> 3 | N13: ='Scores des matchs'!D23 -> 0 | O13: ='Scores des matchs'!D33 -> 3 | P13: ='Scores des matchs'!D41 -> 3 | Q13: =SUM(K13:P13) -> 12 | R13: ='Scores des matchs'!D6 -> 3 | S13: ='Scores des matchs'!E14 -> 0 | T13: ='Scores des matchs'!E19 -> 0 | U13: ='Scores des matchs'!E23 -> 3 | V13: ='Scores des matchs'!E33 -> 0 | W13: ='Scores des matchs'!E41 -> 0 | X13: =SUM(R13:W13) -> 6 | Y13: =SUM(Q13-X13) -> 6 | AH13: =J13*100+Y13-ROW()/100 -> 1205.87
B14: =RANK(AH14,AH$12:AH$18) -> 4 | C14: F.C Bellevue | D14: =IF('Scores des matchs'!D8>'Scores des matchs'!E8,3,IF('Scores des matchs'!D8='Scores des matchs'!E8,1,0)) -> 3 | E14: =IF('Scores des matchs'!D14<'Scores des matchs'!E14,3,IF('Scores des matchs'!D14='Scores des matchs'!E14,1,0)) -> 0 | F14: =IF('Scores des matchs'!D21<'Scores des matchs'!E21,3,IF('Scores des matchs'!D21='Scores des matchs'!E21,1,0)) -> 0 | G14: =IF('Scores des matchs'!D25>'Scores des matchs'!E25,3,IF('Scores des matchs'!D25='Scores des matchs'!E25,1,0)) -> 3 | H14: =IF('Scores des matchs'!D29>'Scores des matchs'!E29,3,IF('Scores des matchs'!D29='Scores des matchs'!E29,1,0)) -> 3 | I14: =IF('Scores des matchs'!D35>'Scores des matchs'!E35,3,IF('Scores des matchs'!D35='Scores des matchs'!E35,1,0)) -> 3 | J14: =SUM(D14:I14) -> 12 | K14: ='Scores des matchs'!D8 -> 3 | L14: ='Scores des matchs'!E14 -> 0 | M14: ='Scores des matchs'!E21 -> 0 | N14: ='Scores des matchs'!D25 -> 3 | O14: ='Scores des matchs'!D29 -> 3 | P14: ='Scores des matchs'!D35 -> 3 | Q14: =SUM(K14:P14) -> 12 | R14: ='Scores des matchs'!E8 -> 0 | S14: ='Scores des matchs'!D14 -> 3 | T14: ='Scores des matchs'!D21 -> 3 | U14: ='Scores des matchs'!E25 -> 0 | V14: ='Scores des matchs'!E29 -> 0 | W14: ='Scores des matchs'!E35 -> 0 | X14: =SUM(R14:W14) -> 6 | Y14: =SUM(Q14-X14) -> 6 | AB14: Points : | AH14: =J14*100+Y14-ROW()/100 -> 1205.86
B15: =RANK(AH15,AH$12:AH$18) -> 1 | C15: Sobeca | D15: =IF('Scores des matchs'!D8<'Scores des matchs'!E8,3,IF('Scores des matchs'!D8='Scores des matchs'!E8,1,0)) -> 0 | E15: =IF('Scores des matchs'!D17>'Scores des matchs'!E17,3,IF('Scores des matchs'!D17='Scores des matchs'!E17,1,0)) -> 3 | F15: =IF('Scores des matchs'!D23<'Scores des matchs'!E23,3,IF('Scores des matchs'!D23='Scores des matchs'!E23,1,0)) -> 3 | G15: =IF('Scores des matchs'!D27>'Scores des matchs'!E27,3,IF('Scores des matchs'!D27='Scores des matchs'!E27,1,0)) -> 3 | H15: =IF('Scores des matchs'!D31<'Scores des matchs'!E31,3,IF('Scores des matchs'!D31='Scores des matchs'!E31,1,0)) -> 3 | I15: =IF('Scores des matchs'!D37>'Scores des matchs'!E37,3,IF('Scores des matchs'!D37='Scores des matchs'!E37,1,0)) -> 3 | J15: =SUM(D15:I15) -> 15 | K15: ='Scores des matchs'!E8 -> 0 | L15: ='Scores des matchs'!D17 -> 3 | M15: ='Scores des matchs'!E23 -> 3 | N15: ='Scores des matchs'!D27 -> 3 | O15: ='Scores des matchs'!E31 -> 4 | P15: ='Scores des matchs'!D37 -> 3 | Q15: =SUM(K15:P15) -> 16 | R15: ='Scores des matchs'!D8 -> 3 | S15: ='Scores des matchs'!E17 -> 0 | T15: ='Scores des matchs'!D23 -> 0 | U15: ='Scores des matchs'!E27 -> 0 | V15: ='Scores des matchs'!D31 -> 0 | W15: ='Scores des matchs'!E37 -> 0 | X15: =SUM(R15:W15) -> 3 | Y15: =SUM(Q15-X15) -> 13 | AB15: Match gagné : 3 points | AH15: =J15*100+Y15-ROW()/100 -> 1512.85
B16: =RANK(AH16,AH$12:AH$18) -> 5 | C16: Alerion | D16: =IF('Scores des matchs'!D10>'Scores des matchs'!E10,3,IF('Scores des matchs'!D10='Scores des matchs'!E10,1,0)) -> 3 | E16: =IF('Scores des matchs'!D17<'Scores des matchs'!E17,3,IF('Scores des matchs'!D17='Scores des matchs'!E17,1,0)) -> 0 | F16: =IF('Scores des matchs'!D25<'Scores des matchs'!E25,3,IF('Scores des matchs'!D25='Scores des matchs'!E25,1,0)) -> 0 | G16: =IF('Scores des matchs'!D33<'Scores des matchs'!E33,3,IF('Scores des matchs'!D33='Scores des matchs'!E33,1,0)) -> 0 | H16: =IF('Scores des matchs'!D39<'Scores des matchs'!E39,3,IF('Scores des matchs'!D39='Scores des matchs'!E39,1,0)) -> 0 | I16: =IF('Scores des matchs'!D43>'Scores des matchs'!E43,3,IF('Scores des matchs'!D43='Scores des matchs'!E43,1,0)) -> 3 | J16: =SUM(D16:I16) -> 6 | K16: ='Scores des matchs'!D10 -> 3 | L16: ='Scores des matchs'!E17 -> 0 | M16: ='Scores des matchs'!E25 -> 0 | N16: ='Scores des matchs'!E33 -> 0 | O16: ='Scores des matchs'!E39 -> 0 | P16: ='Scores des matchs'!D43 -> 3 | Q16: =SUM(K16:P16) -> 6 | R16: ='Scores des matchs'!E10 -> 0 | S16: ='Scores des matchs'!D17 -> 3 | T16: ='Scores des matchs'!D25 -> 3 | U16: ='Scores des matchs'!D33 -> 3 | V16: ='Scores des matchs'!D39 -> 3 | W16: ='Scores des matchs'!E43 -> 0 | X16: =SUM(R16:W16) -> 12 | Y16: =SUM(Q16-X16) -> -6 | AB16: Match nul : 1 point | AH16: =J16*100+Y16-ROW()/100 -> 593.84
B17: =RANK(AH17,AH$12:AH$18) -> 6 | C17: Gronaldo | D17: =IF('Scores des matchs'!D10<'Scores des matchs'!E10,3,IF('Scores des matchs'!D10='Scores des matchs'!E10,1,0)) -> 0 | E17: =IF('Scores des matchs'!D19>'Scores des matchs'!E19,3,IF('Scores des matchs'!D19='Scores des matchs'!E19,1,0)) -> 3 | F17: =IF('Scores des matchs'!D27<'Scores des matchs'!E27,3,IF('Scores des matchs'!D27='Scores des matchs'!E27,1,0)) -> 0 | G17: =IF('Scores des matchs'!D35<'Scores des matchs'!E35,3,IF('Scores des matchs'!D35='Scores des matchs'!E35,1,0)) -> 0 | H17: =IF('Scores des matchs'!D41<'Scores des matchs'!E41,3,IF('Scores des matchs'!D41='Scores des matchs'!E41,1,0)) -> 0 | I17: =IF('Scores des matchs'!D45<'Scores des matchs'!E45,3,IF('Scores des matchs'!D45='Scores des matchs'!E45,1,0)) -> 3 | J17: =SUM(D17:I17) -> 6 | K17: ='Scores des matchs'!E10 -> 0 | L17: ='Scores des matchs'!E27 -> 0 | M17: ='Scores des matchs'!E35 -> 0 | N17: ='Scores des matchs'!E41 -> 0 | O17: ='Scores des matchs'!E45 -> 1 | P17: ='Scores des matchs'!D47 -> 3 | Q17: =SUM(K17:P17) -> 4 | R17: ='Scores des matchs'!D10 -> 3 | S17: ='Scores des matchs'!D27 -> 3 | T17: ='Scores des matchs'!D35 -> 3 | U17: ='Scores des matchs'!D41 -> 3 | V17: ='Scores des matchs'!D45 -> 0 | W17: ='Scores des matchs'!E47 -> 0 | X17: =SUM(R17:W17) -> 12 | Y17: =SUM(Q17-X17) -> -8 | AB17: Match perdu : 0 point | AH17: =J17*100+Y17-ROW()/100 -> 591.83
B18: =RANK(AH18,AH$12:AH$18) -> 7 | C18: King Jong Team | D18: =IF('Scores des matchs'!D12<'Scores des matchs'!E12,3,IF('Scores des matchs'!D12='Scores des matchs'!E12,1,0)) -> 0 | E18: =IF('Scores des matchs'!D19<'Scores des matchs'!E19,3,IF('Scores des matchs'!D19='Scores des matchs'!E19,1,0)) -> 0 | F18: =IF('Scores des matchs'!D29<'Scores des matchs'!E29,3,IF('Scores des matchs'!D29='Scores des matchs'!E29,1,0)) -> 0 | G18: =IF('Scores des matchs'!D37<'Scores des matchs'!E37,3,IF('Scores des matchs'!D37='Scores des matchs'!E37,1,0)) -> 0 | H18: =IF('Scores des matchs'!D43<'Scores des matchs'!E43,3,IF('Scores des matchs'!D43='Scores des matchs'!E43,1,0)) -> 0 | I18: =IF('Scores des matchs'!D47<'Scores des matchs'!E47,3,IF('Scores des matchs'!D47='Scores des matchs'!E47,1,0)) -> 0 | J18: =SUM(D18:I18) -> 0 | K18: ='Scores des matchs'!E12 -> 0 | L18: ='Scores des matchs'!E19 -> 0 | M18: ='Scores des matchs'!E29 -> 0 | N18: ='Scores des matchs'!E37 -> 0 | O18: ='Scores des matchs'!E43 -> 0 | P18: ='Scores des matchs'!E47 -> 0 | Q18: =SUM(K18:P18) -> 0 | R18: ='Scores des matchs'!D12 -> 3 | S18: ='Scores des matchs'!D19 -> 3 | T18: ='Scores des matchs'!D29 -> 3 | U18: ='Scores des matchs'!D37 -> 3 | V18: ='Scores des matchs'!D43 -> 3 | W18: ='Scores des matchs'!D47 -> 3 | X18: =SUM(R18:W18) -> 18 | Y18: =SUM(Q18-X18) -> -18 | AH18: =J18*100+Y18-ROW()/100 -> -18.18
