Workbook

Sheet Equipement
A1: {=IF(COUNTA('Tous éléments'!$A$1:$A$5)>=ROW(A1),INDEX('Tous éléments'!$A$1:$A$5,LARGE(('Tous éléments'!$A$1:$A$5<>"")*ROW('Tous éléments'!$A$1:$A$5),ROW(A1))),"")} -> Boulonnerie | B1: =IFERROR(INDEX('Tous éléments'!B$1:B$5,MATCH(Equipement!$A1,'Tous éléments'!$A$1:$A$5,0)),"") -> VIS FILETEES ISO+ ROND.EPAULEES,,,_VERRE_15 <= d <= 300 | C1: =IFERROR(INDEX('Tous éléments'!C$1:C$5,MATCH(Equipement!$A1,'Tous éléments'!$A$1:$A$5,0)),"") -> CONSTR. | D1: =IFERROR(INDEX('Tous éléments'!D$1:D$5,MATCH(Equipement!$A1,'Tous éléments'!$A$1:$A$5,0)),"") -> - | E1: =IFERROR(INDEX('Tous éléments'!E$1:E$5,MATCH(Equipement!$A1,'Tous éléments'!$A$1:$A$5,0)),"") -> INOX | F1: =IFERROR(INDEX('Tous éléments'!F$1:F$5,MATCH(Equipement!$A1,'Tous éléments'!$A$1:$A$5,0)),"") -> ESP : Fluide groupe 1 - Etat gaz | G1: =IFERROR(INDEX('Tous éléments'!G$1:G$5,MATCH(Equipement!$A1,'Tous éléments'!$A$1:$A$5,0)),"") | H1: =IFERROR(INDEX('Tous éléments'!H$1:H$5,MATCH(Equipement!$A1,'Tous éléments'!$A$1:$A$5,0)),"") | I1: =IFERROR(INDEX('Tous éléments'!I$1:I$5,MATCH(Equipement!$A1,'Tous éléments'!$A$1:$A$5,0)),"") -> SGI 2010 TUY et SGI 2010 MAS | ... M1: =IFERROR(INDEX('Tous éléments'!M$1:M$5,MATCH(Equipement!$A1,'Tous éléments'!$A$1:$A$5,0)),"") -> Oui
A2: {=IF(COUNTA('Tous éléments'!$A$1:$A$5)>=ROW(A2),INDEX('Tous éléments'!$A$1:$A$5,LARGE(('Tous éléments'!$A$1:$A$5<>"")*ROW('Tous éléments'!$A$1:$A$5),ROW(A2))),"")} -> Tubes | B2: =IFERROR(INDEX('Tous éléments'!B$1:B$5,MATCH(Equipement!$A2,'Tous éléments'!$A$1:$A$5,0)),"") -> TUBE,,,_VERRE_15 <= DN <= 300 | C2: =IFERROR(INDEX('Tous éléments'!C$1:C$5,MATCH(Equipement!$A2,'Tous éléments'!$A$1:$A$5,0)),"") -> NF EN 12585 | D2: =IFERROR(INDEX('Tous éléments'!D$1:D$5,MATCH(Equipement!$A2,'Tous éléments'!$A$1:$A$5,0)),"") | E2: =IFERROR(INDEX('Tous éléments'!E$1:E$5,MATCH(Equipement!$A2,'Tous éléments'!$A$1:$A$5,0)),"") -> Verre Borossilicaté 3.3/EN1595 | F2: =IFERROR(INDEX('Tous éléments'!F$1:F$5,MATCH(Equipement!$A2,'Tous éléments'!$A$1:$A$5,0)),"") -> ESP : Fluide groupe 1 - Etat gaz | G2: =IFERROR(INDEX('Tous éléments'!G$1:G$5,MATCH(Equipement!$A2,'Tous éléments'!$A$1:$A$5,0)),"") | H2: =IFERROR(INDEX('Tous éléments'!H$1:H$5,MATCH(Equipement!$A2,'Tous éléments'!$A$1:$A$5,0)),"") | I2: =IFERROR(INDEX('Tous éléments'!I$1:I$5,MATCH(Equipement!$A2,'Tous éléments'!$A$1:$A$5,0)),"") -> SGI 2010 TUY et SGI 2010 MAS | ... M2: =IFERROR(INDEX('Tous éléments'!M$1:M$5,MATCH(Equipement!$A2,'Tous éléments'!$A$1:$A$5,0)),"") -> Oui
A3: {=IF(COUNTA('Tous éléments'!$A$1:$A$5)>=ROW(A3),INDEX('Tous éléments'!$A$1:$A$5,LARGE(('Tous éléments'!$A$1:$A$5<>"")*ROW('Tous éléments'!$A$1:$A$5),ROW(A3))),"")} | B3: =IFERROR(INDEX('Tous éléments'!B$1:B$5,MATCH(Equipement!$A3,'Tous éléments'!$A$1:$A$5,0)),"") | C3: =IFERROR(INDEX('Tous éléments'!C$1:C$5,MATCH(Equipement!$A3,'Tous éléments'!$A$1:$A$5,0)),"") | D3: =IFERROR(INDEX('Tous éléments'!D$1:D$5,MATCH(Equipement!$A3,'Tous éléments'!$A$1:$A$5,0)),"") | E3: =IFERROR(INDEX('Tous éléments'!E$1:E$5,MATCH(Equipement!$A3,'Tous éléments'!$A$1:$A$5,0)),"") | F3: =IFERROR(INDEX('Tous éléments'!F$1:F$5,MATCH(Equipement!$A3,'Tous éléments'!$A$1:$A$5,0)),"") | G3: =IFERROR(INDEX('Tous éléments'!G$1:G$5,MATCH(Equipement!$A3,'Tous éléments'!$A$1:$A$5,0)),"") | H3: =IFERROR(INDEX('Tous éléments'!H$1:H$5,MATCH(Equipement!$A3,'Tous éléments'!$A$1:$A$5,0)),"") | I3: =IFERROR(INDEX('Tous éléments'!I$1:I$5,MATCH(Equipement!$A3,'Tous éléments'!$A$1:$A$5,0)),"") | ... M3: =IFERROR(INDEX('Tous éléments'!M$1:M$5,MATCH(Equipement!$A3,'Tous éléments'!$A$1:$A$5,0)),"")
A4: {=IF(COUNTA('Tous éléments'!$A$1:$A$5)>=ROW(A4),INDEX('Tous éléments'!$A$1:$A$5,LARGE(('Tous éléments'!$A$1:$A$5<>"")*ROW('Tous éléments'!$A$1:$A$5),ROW(A4))),"")} | B4: =IFERROR(INDEX('Tous éléments'!B$1:B$5,MATCH(Equipement!$A4,'Tous éléments'!$A$1:$A$5,0)),"") | C4: =IFERROR(INDEX('Tous éléments'!C$1:C$5,MATCH(Equipement!$A4,'Tous éléments'!$A$1:$A$5,0)),"") | D4: =IFERROR(INDEX('Tous éléments'!D$1:D$5,MATCH(Equipement!$A4,'Tous éléments'!$A$1:$A$5,0)),"") | E4: =IFERROR(INDEX('Tous éléments'!E$1:E$5,MATCH(Equipement!$A4,'Tous éléments'!$A$1:$A$5,0)),"") | F4: =IFERROR(INDEX('Tous éléments'!F$1:F$5,MATCH(Equipement!$A4,'Tous éléments'!$A$1:$A$5,0)),"") | G4: =IFERROR(INDEX('Tous éléments'!G$1:G$5,MATCH(Equipement!$A4,'Tous éléments'!$A$1:$A$5,0)),"") | H4: =IFERROR(INDEX('Tous éléments'!H$1:H$5,MATCH(Equipement!$A4,'Tous éléments'!$A$1:$A$5,0)),"") | I4: =IFERROR(INDEX('Tous éléments'!I$1:I$5,MATCH(Equipement!$A4,'Tous éléments'!$A$1:$A$5,0)),"") | ... M4: =IFERROR(INDEX('Tous éléments'!M$1:M$5,MATCH(Equipement!$A4,'Tous éléments'!$A$1:$A$5,0)),"")
A5: {=IF(COUNTA('Tous éléments'!$A$1:$A$5)>=ROW(A5),INDEX('Tous éléments'!$A$1:$A$5,LARGE(('Tous éléments'!$A$1:$A$5<>"")*ROW('Tous éléments'!$A$1:$A$5),ROW(A5))),"")} | B5: =IFERROR(INDEX('Tous éléments'!B$1:B$5,MATCH(Equipement!$A5,'Tous éléments'!$A$1:$A$5,0)),"") | C5: =IFERROR(INDEX('Tous éléments'!C$1:C$5,MATCH(Equipement!$A5,'Tous éléments'!$A$1:$A$5,0)),"") | D5: =IFERROR(INDEX('Tous éléments'!D$1:D$5,MATCH(Equipement!$A5,'Tous éléments'!$A$1:$A$5,0)),"") | E5: =IFERROR(INDEX('Tous éléments'!E$1:E$5,MATCH(Equipement!$A5,'Tous éléments'!$A$1:$A$5,0)),"") | F5: =IFERROR(INDEX('Tous éléments'!F$1:F$5,MATCH(Equipement!$A5,'Tous éléments'!$A$1:$A$5,0)),"") | G5: =IFERROR(INDEX('Tous éléments'!G$1:G$5,MATCH(Equipement!$A5,'Tous éléments'!$A$1:$A$5,0)),"") | H5: =IFERROR(INDEX('Tous éléments'!H$1:H$5,MATCH(Equipement!$A5,'Tous éléments'!$A$1:$A$5,0)),"") | I5: =IFERROR(INDEX('Tous éléments'!I$1:I$5,MATCH(Equipement!$A5,'Tous éléments'!$A$1:$A$5,0)),"") | ... M5: =IFERROR(INDEX('Tous éléments'!M$1:M$5,MATCH(Equipement!$A5,'Tous éléments'!$A$1:$A$5,0)),"")
A6: {=IF(COUNTA('Tous éléments'!$A$1:$A$5)>=ROW(A6),INDEX('Tous éléments'!$A$1:$A$5,LARGE(('Tous éléments'!$A$1:$A$5<>"")*ROW('Tous éléments'!$A$1:$A$5),ROW(A6))),"")} | B6: =IFERROR(INDEX('Tous éléments'!B$1:B$5,MATCH(Equipement!$A6,'Tous éléments'!$A$1:$A$5,0)),"") | C6: =IFERROR(INDEX('Tous éléments'!C$1:C$5,MATCH(Equipement!$A6,'Tous éléments'!$A$1:$A$5,0)),"") | D6: =IFERROR(INDEX('Tous éléments'!D$1:D$5,MATCH(Equipement!$A6,'Tous éléments'!$A$1:$A$5,0)),"") | E6: =IFERROR(INDEX('Tous éléments'!E$1:E$5,MATCH(Equipement!$A6,'Tous éléments'!$A$1:$A$5,0)),"") | F6: =IFERROR(INDEX('Tous éléments'!F$1:F$5,MATCH(Equipement!$A6,'Tous éléments'!$A$1:$A$5,0)),"") | G6: =IFERROR(INDEX('Tous éléments'!G$1:G$5,MATCH(Equipement!$A6,'Tous éléments'!$A$1:$A$5,0)),"") | H6: =IFERROR(INDEX('Tous éléments'!H$1:H$5,MATCH(Equipement!$A6,'Tous éléments'!$A$1:$A$5,0)),"") | I6: =IFERROR(INDEX('Tous éléments'!I$1:I$5,MATCH(Equipement!$A6,'Tous éléments'!$A$1:$A$5,0)),"") | ... M6: =IFERROR(INDEX('Tous éléments'!M$1:M$5,MATCH(Equipement!$A6,'Tous éléments'!$A$1:$A$5,0)),"")
A7: {=IF(COUNTA('Tous éléments'!$A$1:$A$5)>=ROW(A7),INDEX('Tous éléments'!$A$1:$A$5,LARGE(('Tous éléments'!$A$1:$A$5<>"")*ROW('Tous éléments'!$A$1:$A$5),ROW(A7))),"")} | B7: =IFERROR(INDEX('Tous éléments'!B$1:B$5,MATCH(Equipement!$A7,'Tous éléments'!$A$1:$A$5,0)),"") | C7: =IFERROR(INDEX('Tous éléments'!C$1:C$5,MATCH(Equipement!$A7,'Tous éléments'!$A$1:$A$5,0)),"") | D7: =IFERROR(INDEX('Tous éléments'!D$1:D$5,MATCH(Equipement!$A7,'Tous éléments'!$A$1:$A$5,0)),"") | E7: =IFERROR(INDEX('Tous éléments'!E$1:E$5,MATCH(Equipement!$A7,'Tous éléments'!$A$1:$A$5,0)),"") | F7: =IFERROR(INDEX('Tous éléments'!F$1:F$5,MATCH(Equipement!$A7,'Tous éléments'!$A$1:$A$5,0)),"") | G7: =IFERROR(INDEX('Tous éléments'!G$1:G$5,MATCH(Equipement!$A7,'Tous éléments'!$A$1:$A$5,0)),"") | H7: =IFERROR(INDEX('Tous éléments'!H$1:H$5,MATCH(Equipement!$A7,'Tous éléments'!$A$1:$A$5,0)),"") | I7: =IFERROR(INDEX('Tous éléments'!I$1:I$5,MATCH(Equipement!$A7,'Tous éléments'!$A$1:$A$5,0)),"") | ... M7: =IFERROR(INDEX('Tous éléments'!M$1:M$5,MATCH(Equipement!$A7,'Tous éléments'!$A$1:$A$5,0)),"")
A8: {=IF(COUNTA('Tous éléments'!$A$1:$A$5)>=ROW(A8),INDEX('Tous éléments'!$A$1:$A$5,LARGE(('Tous éléments'!$A$1:$A$5<>"")*ROW('Tous éléments'!$A$1:$A$5),ROW(A8))),"")} | B8: =IFERROR(INDEX('Tous éléments'!B$1:B$5,MATCH(Equipement!$A8,'Tous éléments'!$A$1:$A$5,0)),"") | C8: =IFERROR(INDEX('Tous éléments'!C$1:C$5,MATCH(Equipement!$A8,'Tous éléments'!$A$1:$A$5,0)),"") | D8: =IFERROR(INDEX('Tous éléments'!D$1:D$5,MATCH(Equipement!$A8,'Tous éléments'!$A$1:$A$5,0)),"") | E8: =IFERROR(INDEX('Tous éléments'!E$1:E$5,MATCH(Equipement!$A8,'Tous éléments'!$A$1:$A$5,0)),"") | F8: =IFERROR(INDEX('Tous éléments'!F$1:F$5,MATCH(Equipement!$A8,'Tous éléments'!$A$1:$A$5,0)),"") | G8: =IFERROR(INDEX('Tous éléments'!G$1:G$5,MATCH(Equipement!$A8,'Tous éléments'!$A$1:$A$5,0)),"") | H8: =IFERROR(INDEX('Tous éléments'!H$1:H$5,MATCH(Equipement!$A8,'Tous éléments'!$A$1:$A$5,0)),"") | I8: =IFERROR(INDEX('Tous éléments'!I$1:I$5,MATCH(Equipement!$A8,'Tous éléments'!$A$1:$A$5,0)),"") | ... M8: =IFERROR(INDEX('Tous éléments'!M$1:M$5,MATCH(Equipement!$A8,'Tous éléments'!$A$1:$A$5,0)),"")
A9: {=IF(COUNTA('Tous éléments'!$A$1:$A$5)>=ROW(A9),INDEX('Tous éléments'!$A$1:$A$5,LARGE(('Tous éléments'!$A$1:$A$5<>"")*ROW('Tous éléments'!$A$1:$A$5),ROW(A9))),"")} | B9: =IFERROR(INDEX('Tous éléments'!B$1:B$5,MATCH(Equipement!$A9,'Tous éléments'!$A$1:$A$5,0)),"") | C9: =IFERROR(INDEX('Tous éléments'!C$1:C$5,MATCH(Equipement!$A9,'Tous éléments'!$A$1:$A$5,0)),"") | D9: =IFERROR(INDEX('Tous éléments'!D$1:D$5,MATCH(Equipement!$A9,'Tous éléments'!$A$1:$A$5,0)),"") | E9: =IFERROR(INDEX('Tous éléments'!E$1:E$5,MATCH(Equipement!$A9,'Tous éléments'!$A$1:$A$5,0)),"") | F9: =IFERROR(INDEX('Tous éléments'!F$1:F$5,MATCH(Equipement!$A9,'Tous éléments'!$A$1:$A$5,0)),"") | G9: =IFERROR(INDEX('Tous éléments'!G$1:G$5,MATCH(Equipement!$A9,'Tous éléments'!$A$1:$A$5,0)),"") | H9: =IFERROR(INDEX('Tous éléments'!H$1:H$5,MATCH(Equipement!$A9,'Tous éléments'!$A$1:$A$5,0)),"") | I9: =IFERROR(INDEX('Tous éléments'!I$1:I$5,MATCH(Equipement!$A9,'Tous éléments'!$A$1:$A$5,0)),"") | ... M9: =IFERROR(INDEX('Tous éléments'!M$1:M$5,MATCH(Equipement!$A9,'Tous éléments'!$A$1:$A$5,0)),"")

Sheet Tous éléments
B1: Nom de la ressource | C1: Norme : | D1: Standard : | E1: Matière : | F1: Reglementation : | G1: Spécifications applicables : | H1: Limite d'utilisation : | I1: Installation tuyau. : | J1: Notes | K1: Particularités : | L1: Observations | M1: Souhaitez-vous choisir cet élément ?
A2: Tubes | B2: TUBE,,,_VERRE_15 <= DN <= 300 | C2: NF EN 12585 | E2: Verre Borossilicaté 3.3/EN1595 | F2: ESP : Fluide groupe 1 - Etat gaz | I2: SGI 2010 TUY et SGI 2010 MAS | J2: Pression admissible 3 bar pour DN <=80 ; Pression admissible 1 bar pour DN >= 200 | L2: SOUFFLET DE DILATATION : Raccordement verre / verre ; Raccordement verre / PN en PTFE Chocs thermiques à proscrire pour température >=120° Les soufflets de DN >= 80 sont limités à 100°C lorsqu'ils fonctionnent à vide. Se conformer pour le détail au catalogue fournisseur. Pour raccordement Verre / Verre : PJ Verrier NF EN 1595 et perçage Verrier Pour raccordement Verre / autre Matériau : PJ Verrier NF EN 1595 et perçage Bride PN10 NF EN 1092 | M2: Oui
A5: Boulonnerie | B5: VIS FILETEES ISO+ ROND.EPAULEES,,,_VERRE_15 <= d <= 300 | C5: CONSTR. | D5: - | E5: INOX | F5: ESP : Fluide groupe 1 - Etat gaz | I5: SGI 2010 TUY et SGI 2010 MAS | L5: SOUFFLET DE DILATATION : Raccordement verre / verre ; Raccordement verre / PN en PTFE Chocs thermiques à proscrire pour température >=120° Les soufflets de DN >= 80 sont limités à 100°C lorsqu'ils fonctionnent à vide. Se conformer pour le détail au catalogue fournisseur. Pour raccordement Verre / Verre : PJ Verrier NF EN 1595 et perçage Verrier Pour raccordement Verre / autre Matériau : PJ Verrier NF EN 1595 et perçage Bride PN10 NF EN 1092 | M5: Oui
B9: =COUNTA(A1:A5) -> 2
