Workbook

Sheet planning
B15: =IF(B16="","",UPPER(LEFT(TEXT(B16,"jjjj"),8))) -> MERCREDI | J15: =IF(J16="","",UPPER(LEFT(TEXT(J16,"jjjj"),8))) -> JEUDI | R15: =IF(R16="","",UPPER(LEFT(TEXT(R16,"jjjj"),8))) -> VENDREDI | Z15: =IF(Z16="","",UPPER(LEFT(TEXT(Z16,"jjjj"),8))) -> LUNDI | AH15: =IF(AH16="","",UPPER(LEFT(TEXT(AH16,"jjjj"),8))) -> MARDI | AP15: =IF(AP16="","",UPPER(LEFT(TEXT(AP16,"jjjj"),8))) -> MERCREDI | AX15: =IF(AX16="","",UPPER(LEFT(TEXT(AX16,"jjjj"),8))) -> JEUDI | BF15: =IF(BF16="","",UPPER(LEFT(TEXT(BF16,"jjjj"),8))) -> VENDREDI | BN15: =IF(BN16="","",UPPER(LEFT(TEXT(BN16,"jjjj"),8))) -> LUNDI | BV15: =IF(BV16="","",UPPER(LEFT(TEXT(BV16,"jjjj"),8))) -> MARDI | CD15: =IF(CD16="","",UPPER(LEFT(TEXT(CD16,"jjjj"),8))) -> MERCREDI | CL15: =IF(CL16="","",UPPER(LEFT(TEXT(CL16,"jjjj"),8))) -> JEUDI | CT15: =IF(CT16="","",UPPER(LEFT(TEXT(CT16,"jjjj"),8))) -> VENDREDI | DB15: =IF(DB16="","",UPPER(LEFT(TEXT(DB16,"jjjj"),8))) -> LUNDI | DJ15: =IF(DJ16="","",UPPER(LEFT(TEXT(DJ16,"jjjj"),8))) -> MARDI | DR15: =IF(DR16="","",UPPER(LEFT(TEXT(DR16,"jjjj"),8))) -> MERCREDI | DZ15: =IF(DZ16="","",UPPER(LEFT(TEXT(DZ16,"jjjj"),8))) -> JEUDI | EH15: =IF(EH16="","",UPPER(LEFT(TEXT(EH16,"jjjj"),8))) -> VENDREDI | EP15: =IF(EP16="","",UPPER(LEFT(TEXT(EP16,"jjjj"),8))) -> LUNDI | EX15: =IF(EX16="","",UPPER(LEFT(TEXT(EX16,"jjjj"),8))) -> MARDI | FF15: =IF(FF16="","",UPPER(LEFT(TEXT(FF16,"jjjj"),8))) -> MERCREDI | FN15: =IF(FN16="","",UPPER(LEFT(TEXT(FN16,"jjjj"),8))) -> JEUDI | FV15: =IF(FV16="","",UPPER(LEFT(TEXT(FV16,"jjjj"),8))) -> VENDREDI
B16: 44531 | J16: 44532 | R16: 44533 | Z16: 44536 | AH16: 44537 | AP16: 44538 | AX16: 44539 | BF16: 44540 | BN16: 44543 | BV16: 44544 | CD16: 44545 | CL16: 44546 | CT16: 44547 | DB16: 44550 | DJ16: 44551 | DR16: 44552 | DZ16: 44553 | EH16: 44554 | EP16: 44557 | EX16: 44558 | FF16: 44559 | FN16: 44560 | FV16: 44561
B17: matin | F17: apres midi | J17: matin | N17: apres midi | R17: matin | V17: apres midi | Z17: matin | AD17: apres midi | AH17: matin | AL17: apres midi | AP17: matin | AT17: apres midi | AX17: matin | BB17: apres midi | BF17: matin | BJ17: apres midi | BN17: matin | BR17: apres midi | BV17: matin | BZ17: apres midi | CD17: matin | CH17: apres midi | CL17: matin | CP17: apres midi | CT17: matin | CX17: apres midi | DB17: matin | DF17: apres midi | DJ17: matin | DN17: apres midi | DR17: matin | DV17: apres midi | DZ17: matin | ED17: apres midi | EH17: matin | EL17: apres midi | EP17: matin | ET17: apres midi | EX17: matin | FB17: apres midi | FF17: matin | FJ17: apres midi | FN17: matin | FR17: apres midi | FV17: matin | FZ17: apres midi
B18: 1 | C18: 2 | D18: 3 | E18: 4 | F18: 5 | G18: 6 | H18: 7 | I18: 8 | J18: 1 | K18: 2 | L18: 3 | M18: 4 | N18: 5 | O18: 6 | P18: 7 | Q18: 8 | R18: 1 | S18: 2 | T18: 3 | U18: 4 | V18: 5 | W18: 6 | X18: 7 | Y18: 8 | Z18: 1 | AA18: 2 | AB18: 3 | AC18: 4 | AD18: 5 | AE18: 6 | AF18: 7 | AG18: 8 | AH18: 1 | AI18: 2 | AJ18: 3 | AK18: 4 | AL18: 5 | AM18: 6 | AN18: 7 | AO18: 8 | AP18: 1 | AQ18: 2 | AR18: 3 | AS18: 4 | AT18: 5 | AU18: 6 | AV18: 7 | AW18: 8 | AX18: 1 | AY18: 2 | AZ18: 3 | BA18: 4 | BB18: 5 | BC18: 6 | BD18: 7 | BE18: 8 | BF18: 1 | BG18: 2 | BH18: 3 | BI18: 4 | BJ18: 5 | BK18: 6 | BL18: 7 | BM18: 8 | BN18: 1 | BO18: 2 | BP18: 3 | BQ18: 4 | BR18: 5 | BS18: 6 | BT18: 7 | BU18: 8 | BV18: 1 | BW18: 2 | BX18: 3 | BY18: 4 | BZ18: 5 | CA18: 6 | CB18: 7 | CC18: 8 | CD18: 1 | CE18: 2 | CF18: 3 | CG18: 4 | CH18: 5 | CI18: 6 | CJ18: 7 | CK18: 8 | CL18: 1 | CM18: 2 | CN18: 3 | CO18: 4 | CP18: 5 | CQ18: 6 | CR18: 7 | CS18: 8 | CT18: 1 | CU18: 2 | CV18: 3 | CW18: 4 | CX18: 5 | CY18: 6 | CZ18: 7 | DA18: 8 | DB18: 1 | DC18: 2 | DD18: 3 | DE18: 4 | DF18: 5 | DG18: 6 | DH18: 7 | DI18: 8 | DJ18: 1 | DK18: 2 | DL18: 3 | DM18: 4 | DN18: 5 | DO18: 6 | DP18: 7 | DQ18: 8 | DR18: 1 | DS18: 2 | DT18: 3 | DU18: 4 | DV18: 5 | DW18: 6 | DX18: 7 | DY18: 8 | DZ18: 1 | EA18: 2 | EB18: 3 | EC18: 4 | ED18: 5 | EE18: 6 | EF18: 7 | EG18: 8 | EH18: 1 | EI18: 2 | EJ18: 3 | EK18: 4 | EL18: 5 | EM18: 6 | EN18: 7 | EO18: 8 | EP18: 1 | EQ18: 2 | ER18: 3 | ES18: 4 | ET18: 5 | EU18: 6 | EV18: 7 | EW18: 8 | EX18: 1 | EY18: 2 | EZ18: 3 | FA18: 4 | FB18: 5 | FC18: 6 | FD18: 7 | FE18: 8 | FF18: 1 | FG18: 2 | FH18: 3 | FI18: 4 | FJ18: 5 | FK18: 6 | FL18: 7 | FM18: 8 | FN18: 1 | FO18: 2 | FP18: 3 | FQ18: 4 | FR18: 5 | FS18: 6 | FT18: 7 | FU18: 8 | FV18: 1 | FW18: 2 | FX18: 3 | FY18: 4 | FZ18: 5 | GA18: 6 | GB18: 7 | GC18: 8
A19: 1 | B19: BT | C19: T | D19: TT | E19: Fl
A20: 2 | B20: PA | C20: PA | D20: IC | E20: IC
A21: 3 | B21: CT | C21: CT | D21: CT | E21: CT | F21: CT | G21: CT | H21: IC | I21: IC
A22: 4 | B22: BT | C22: BT | D22: TT | E22: Fl

Sheet recapitulation 1
A1: 1 | B1: 44531 | C1: 44532 | D1: 44533
A2: G | B2: =COUNTIF(OFFSET(planning!$A$18,1,(COLUMN(A1)-1)*8+1,$A$1,8),$A2) -> 0 | C2: =COUNTIF(OFFSET(planning!$A$18,1,(COLUMN(B1)-1)*8+1,$A$1,8),$A2) -> 0 | D2: =COUNTIF(OFFSET(planning!$A$18,1,(COLUMN(C1)-1)*8+1,$A$1,8),$A2) -> 0 | E2: =COUNTIF(OFFSET(planning!$A$18,1,(COLUMN(D1)-1)*8+1,$A$1,8),$A2) -> 0 | F2: =COUNTIF(OFFSET(planning!$A$18,1,(COLUMN(E1)-1)*8+1,$A$1,8),$A2) -> 0 | G2: =COUNTIF(OFFSET(planning!$A$18,1,(COLUMN(F1)-1)*8+1,$A$1,8),$A2) -> 0
A3: Fl | B3: =COUNTIF(OFFSET(planning!$A$18,1,(COLUMN(A2)-1)*8+1,$A$1,8),$A3) -> 1 | C3: =COUNTIF(OFFSET(planning!$A$18,1,(COLUMN(B2)-1)*8+1,$A$1,8),$A3) -> 0 | D3: =COUNTIF(OFFSET(planning!$A$18,1,(COLUMN(C2)-1)*8+1,$A$1,8),$A3) -> 0 | E3: =COUNTIF(OFFSET(planning!$A$18,1,(COLUMN(D2)-1)*8+1,$A$1,8),$A3) -> 0 | F3: =COUNTIF(OFFSET(planning!$A$18,1,(COLUMN(E2)-1)*8+1,$A$1,8),$A3) -> 0 | G3: =COUNTIF(OFFSET(planning!$A$18,1,(COLUMN(F2)-1)*8+1,$A$1,8),$A3) -> 0
A4: FC | B4: =COUNTIF(OFFSET(planning!$A$18,1,(COLUMN(A3)-1)*8+1,$A$1,8),$A4) -> 0 | C4: =COUNTIF(OFFSET(planning!$A$18,1,(COLUMN(B3)-1)*8+1,$A$1,8),$A4) -> 0 | D4: =COUNTIF(OFFSET(planning!$A$18,1,(COLUMN(C3)-1)*8+1,$A$1,8),$A4) -> 0 | E4: =COUNTIF(OFFSET(planning!$A$18,1,(COLUMN(D3)-1)*8+1,$A$1,8),$A4) -> 0 | F4: =COUNTIF(OFFSET(planning!$A$18,1,(COLUMN(E3)-1)*8+1,$A$1,8),$A4) -> 0 | G4: =COUNTIF(OFFSET(planning!$A$18,1,(COLUMN(F3)-1)*8+1,$A$1,8),$A4) -> 0
A5: CT | B5: =COUNTIF(OFFSET(planning!$A$18,1,(COLUMN(A4)-1)*8+1,$A$1,8),$A5) -> 0 | C5: =COUNTIF(OFFSET(planning!$A$18,1,(COLUMN(B4)-1)*8+1,$A$1,8),$A5) -> 0 | D5: =COUNTIF(OFFSET(planning!$A$18,1,(COLUMN(C4)-1)*8+1,$A$1,8),$A5) -> 0 | E5: =COUNTIF(OFFSET(planning!$A$18,1,(COLUMN(D4)-1)*8+1,$A$1,8),$A5) -> 0 | F5: =COUNTIF(OFFSET(planning!$A$18,1,(COLUMN(E4)-1)*8+1,$A$1,8),$A5) -> 0 | G5: =COUNTIF(OFFSET(planning!$A$18,1,(COLUMN(F4)-1)*8+1,$A$1,8),$A5) -> 0
A6: BT | B6: =COUNTIF(OFFSET(planning!$A$18,1,(COLUMN(A5)-1)*8+1,$A$1,8),$A6) -> 1 | C6: =COUNTIF(OFFSET(planning!$A$18,1,(COLUMN(B5)-1)*8+1,$A$1,8),$A6) -> 0 | D6: =COUNTIF(OFFSET(planning!$A$18,1,(COLUMN(C5)-1)*8+1,$A$1,8),$A6) -> 0 | E6: =COUNTIF(OFFSET(planning!$A$18,1,(COLUMN(D5)-1)*8+1,$A$1,8),$A6) -> 0 | F6: =COUNTIF(OFFSET(planning!$A$18,1,(COLUMN(E5)-1)*8+1,$A$1,8),$A6) -> 0 | G6: =COUNTIF(OFFSET(planning!$A$18,1,(COLUMN(F5)-1)*8+1,$A$1,8),$A6) -> 0
A7: T | B7: =COUNTIF(OFFSET(planning!$A$18,1,(COLUMN(A6)-1)*8+1,$A$1,8),$A7) -> 1 | C7: =COUNTIF(OFFSET(planning!$A$18,1,(COLUMN(B6)-1)*8+1,$A$1,8),$A7) -> 0 | D7: =COUNTIF(OFFSET(planning!$A$18,1,(COLUMN(C6)-1)*8+1,$A$1,8),$A7) -> 0 | E7: =COUNTIF(OFFSET(planning!$A$18,1,(COLUMN(D6)-1)*8+1,$A$1,8),$A7) -> 0 | F7: =COUNTIF(OFFSET(planning!$A$18,1,(COLUMN(E6)-1)*8+1,$A$1,8),$A7) -> 0 | G7: =COUNTIF(OFFSET(planning!$A$18,1,(COLUMN(F6)-1)*8+1,$A$1,8),$A7) -> 0
A8: TT | B8: =COUNTIF(OFFSET(planning!$A$18,1,(COLUMN(A7)-1)*8+1,$A$1,8),$A8) -> 1 | C8: =COUNTIF(OFFSET(planning!$A$18,1,(COLUMN(B7)-1)*8+1,$A$1,8),$A8) -> 0 | D8: =COUNTIF(OFFSET(planning!$A$18,1,(COLUMN(C7)-1)*8+1,$A$1,8),$A8) -> 0 | E8: =COUNTIF(OFFSET(planning!$A$18,1,(COLUMN(D7)-1)*8+1,$A$1,8),$A8) -> 0 | F8: =COUNTIF(OFFSET(planning!$A$18,1,(COLUMN(E7)-1)*8+1,$A$1,8),$A8) -> 0 | G8: =COUNTIF(OFFSET(planning!$A$18,1,(COLUMN(F7)-1)*8+1,$A$1,8),$A8) -> 0
A9: PA | B9: =COUNTIF(OFFSET(planning!$A$18,1,(COLUMN(A8)-1)*8+1,$A$1,8),$A9) -> 0 | C9: =COUNTIF(OFFSET(planning!$A$18,1,(COLUMN(B8)-1)*8+1,$A$1,8),$A9) -> 0 | D9: =COUNTIF(OFFSET(planning!$A$18,1,(COLUMN(C8)-1)*8+1,$A$1,8),$A9) -> 0 | E9: =COUNTIF(OFFSET(planning!$A$18,1,(COLUMN(D8)-1)*8+1,$A$1,8),$A9) -> 0 | F9: =COUNTIF(OFFSET(planning!$A$18,1,(COLUMN(E8)-1)*8+1,$A$1,8),$A9) -> 0 | G9: =COUNTIF(OFFSET(planning!$A$18,1,(COLUMN(F8)-1)*8+1,$A$1,8),$A9) -> 0
A10: IC | B10: =COUNTIF(OFFSET(planning!$A$18,1,(COLUMN(A9)-1)*8+1,$A$1,8),$A10) -> 0 | C10: =COUNTIF(OFFSET(planning!$A$18,1,(COLUMN(B9)-1)*8+1,$A$1,8),$A10) -> 0 | D10: =COUNTIF(OFFSET(planning!$A$18,1,(COLUMN(C9)-1)*8+1,$A$1,8),$A10) -> 0 | E10: =COUNTIF(OFFSET(planning!$A$18,1,(COLUMN(D9)-1)*8+1,$A$1,8),$A10) -> 0 | F10: =COUNTIF(OFFSET(planning!$A$18,1,(COLUMN(E9)-1)*8+1,$A$1,8),$A10) -> 0 | G10: =COUNTIF(OFFSET(planning!$A$18,1,(COLUMN(F9)-1)*8+1,$A$1,8),$A10) -> 0

Sheet recapitulation 2
A1: 2 | B1: 44531 | C1: 44532 | D1: 44533
A2: G | B2: =COUNTIF(OFFSET(planning!$A$18,1,(COLUMN(A1)-1)*8+1,$A$1,8),$A2) -> 0 | C2: =COUNTIF(OFFSET(planning!$A$18,1,(COLUMN(B1)-1)*8+1,$A$1,8),$A2) -> 0 | D2: =COUNTIF(OFFSET(planning!$A$18,1,(COLUMN(C1)-1)*8+1,$A$1,8),$A2) -> 0 | E2: =COUNTIF(OFFSET(planning!$A$18,1,(COLUMN(D1)-1)*8+1,$A$1,8),$A2) -> 0 | F2: =COUNTIF(OFFSET(planning!$A$18,1,(COLUMN(E1)-1)*8+1,$A$1,8),$A2) -> 0 | G2: =COUNTIF(OFFSET(planning!$A$18,1,(COLUMN(F1)-1)*8+1,$A$1,8),$A2) -> 0
A3: Fl | B3: =COUNTIF(OFFSET(planning!$A$18,1,(COLUMN(A2)-1)*8+1,$A$1,8),$A3) -> 1 | C3: =COUNTIF(OFFSET(planning!$A$18,1,(COLUMN(B2)-1)*8+1,$A$1,8),$A3) -> 0 | D3: =COUNTIF(OFFSET(planning!$A$18,1,(COLUMN(C2)-1)*8+1,$A$1,8),$A3) -> 0 | E3: =COUNTIF(OFFSET(planning!$A$18,1,(COLUMN(D2)-1)*8+1,$A$1,8),$A3) -> 0 | F3: =COUNTIF(OFFSET(planning!$A$18,1,(COLUMN(E2)-1)*8+1,$A$1,8),$A3) -> 0 | G3: =COUNTIF(OFFSET(planning!$A$18,1,(COLUMN(F2)-1)*8+1,$A$1,8),$A3) -> 0
A4: FC | B4: =COUNTIF(OFFSET(planning!$A$18,1,(COLUMN(A3)-1)*8+1,$A$1,8),$A4) -> 0 | C4: =COUNTIF(OFFSET(planning!$A$18,1,(COLUMN(B3)-1)*8+1,$A$1,8),$A4) -> 0 | D4: =COUNTIF(OFFSET(planning!$A$18,1,(COLUMN(C3)-1)*8+1,$A$1,8),$A4) -> 0 | E4: =COUNTIF(OFFSET(planning!$A$18,1,(COLUMN(D3)-1)*8+1,$A$1,8),$A4) -> 0 | F4: =COUNTIF(OFFSET(planning!$A$18,1,(COLUMN(E3)-1)*8+1,$A$1,8),$A4) -> 0 | G4: =COUNTIF(OFFSET(planning!$A$18,1,(COLUMN(F3)-1)*8+1,$A$1,8),$A4) -> 0
A5: CT | B5: =COUNTIF(OFFSET(planning!$A$18,1,(COLUMN(A4)-1)*8+1,$A$1,8),$A5) -> 0 | C5: =COUNTIF(OFFSET(planning!$A$18,1,(COLUMN(B4)-1)*8+1,$A$1,8),$A5) -> 0 | D5: =COUNTIF(OFFSET(planning!$A$18,1,(COLUMN(C4)-1)*8+1,$A$1,8),$A5) -> 0 | E5: =COUNTIF(OFFSET(planning!$A$18,1,(COLUMN(D4)-1)*8+1,$A$1,8),$A5) -> 0 | F5: =COUNTIF(OFFSET(planning!$A$18,1,(COLUMN(E4)-1)*8+1,$A$1,8),$A5) -> 0 | G5: =COUNTIF(OFFSET(planning!$A$18,1,(COLUMN(F4)-1)*8+1,$A$1,8),$A5) -> 0
A6: BT | B6: =COUNTIF(OFFSET(planning!$A$18,1,(COLUMN(A5)-1)*8+1,$A$1,8),$A6) -> 1 | C6: =COUNTIF(OFFSET(planning!$A$18,1,(COLUMN(B5)-1)*8+1,$A$1,8),$A6) -> 0 | D6: =COUNTIF(OFFSET(planning!$A$18,1,(COLUMN(C5)-1)*8+1,$A$1,8),$A6) -> 0 | E6: =COUNTIF(OFFSET(planning!$A$18,1,(COLUMN(D5)-1)*8+1,$A$1,8),$A6) -> 0 | F6: =COUNTIF(OFFSET(planning!$A$18,1,(COLUMN(E5)-1)*8+1,$A$1,8),$A6) -> 0 | G6: =COUNTIF(OFFSET(planning!$A$18,1,(COLUMN(F5)-1)*8+1,$A$1,8),$A6) -> 0
A7: T | B7: =COUNTIF(OFFSET(planning!$A$18,1,(COLUMN(A6)-1)*8+1,$A$1,8),$A7) -> 1 | C7: =COUNTIF(OFFSET(planning!$A$18,1,(COLUMN(B6)-1)*8+1,$A$1,8),$A7) -> 0 | D7: =COUNTIF(OFFSET(planning!$A$18,1,(COLUMN(C6)-1)*8+1,$A$1,8),$A7) -> 0 | E7: =COUNTIF(OFFSET(planning!$A$18,1,(COLUMN(D6)-1)*8+1,$A$1,8),$A7) -> 0 | F7: =COUNTIF(OFFSET(planning!$A$18,1,(COLUMN(E6)-1)*8+1,$A$1,8),$A7) -> 0 | G7: =COUNTIF(OFFSET(planning!$A$18,1,(COLUMN(F6)-1)*8+1,$A$1,8),$A7) -> 0
A8: TT | B8: =COUNTIF(OFFSET(planning!$A$18,1,(COLUMN(A7)-1)*8+1,$A$1,8),$A8) -> 1 | C8: =COUNTIF(OFFSET(planning!$A$18,1,(COLUMN(B7)-1)*8+1,$A$1,8),$A8) -> 0 | D8: =COUNTIF(OFFSET(planning!$A$18,1,(COLUMN(C7)-1)*8+1,$A$1,8),$A8) -> 0 | E8: =COUNTIF(OFFSET(planning!$A$18,1,(COLUMN(D7)-1)*8+1,$A$1,8),$A8) -> 0 | F8: =COUNTIF(OFFSET(planning!$A$18,1,(COLUMN(E7)-1)*8+1,$A$1,8),$A8) -> 0 | G8: =COUNTIF(OFFSET(planning!$A$18,1,(COLUMN(F7)-1)*8+1,$A$1,8),$A8) -> 0
A9: PA | B9: =COUNTIF(OFFSET(planning!$A$18,1,(COLUMN(A8)-1)*8+1,$A$1,8),$A9) -> 2 | C9: =COUNTIF(OFFSET(planning!$A$18,1,(COLUMN(B8)-1)*8+1,$A$1,8),$A9) -> 0 | D9: =COUNTIF(OFFSET(planning!$A$18,1,(COLUMN(C8)-1)*8+1,$A$1,8),$A9) -> 0 | E9: =COUNTIF(OFFSET(planning!$A$18,1,(COLUMN(D8)-1)*8+1,$A$1,8),$A9) -> 0 | F9: =COUNTIF(OFFSET(planning!$A$18,1,(COLUMN(E8)-1)*8+1,$A$1,8),$A9) -> 0 | G9: =COUNTIF(OFFSET(planning!$A$18,1,(COLUMN(F8)-1)*8+1,$A$1,8),$A9) -> 0
A10: IC | B10: =COUNTIF(OFFSET(planning!$A$18,1,(COLUMN(A9)-1)*8+1,$A$1,8),$A10) -> 2 | C10: =COUNTIF(OFFSET(planning!$A$18,1,(COLUMN(B9)-1)*8+1,$A$1,8),$A10) -> 0 | D10: =COUNTIF(OFFSET(planning!$A$18,1,(COLUMN(C9)-1)*8+1,$A$1,8),$A10) -> 0 | E10: =COUNTIF(OFFSET(planning!$A$18,1,(COLUMN(D9)-1)*8+1,$A$1,8),$A10) -> 0 | F10: =COUNTIF(OFFSET(planning!$A$18,1,(COLUMN(E9)-1)*8+1,$A$1,8),$A10) -> 0 | G10: =COUNTIF(OFFSET(planning!$A$18,1,(COLUMN(F9)-1)*8+1,$A$1,8),$A10) -> 0

Sheet recapitulation 3
A1: 3 | B1: 44531 | C1: 44532 | D1: 44533
A2: G | B2: =COUNTIF(OFFSET(planning!$A$18,1,(COLUMN(A1)-1)*8+1,$A$1,8),$A2) -> 0 | C2: =COUNTIF(OFFSET(planning!$A$18,1,(COLUMN(B1)-1)*8+1,$A$1,8),$A2) -> 0 | D2: =COUNTIF(OFFSET(planning!$A$18,1,(COLUMN(C1)-1)*8+1,$A$1,8),$A2) -> 0 | E2: =COUNTIF(OFFSET(planning!$A$18,1,(COLUMN(D1)-1)*8+1,$A$1,8),$A2) -> 0 | F2: =COUNTIF(OFFSET(planning!$A$18,1,(COLUMN(E1)-1)*8+1,$A$1,8),$A2) -> 0 | G2: =COUNTIF(OFFSET(planning!$A$18,1,(COLUMN(F1)-1)*8+1,$A$1,8),$A2) -> 0
A3: Fl | B3: =COUNTIF(OFFSET(planning!$A$18,1,(COLUMN(A2)-1)*8+1,$A$1,8),$A3) -> 1 | C3: =COUNTIF(OFFSET(planning!$A$18,1,(COLUMN(B2)-1)*8+1,$A$1,8),$A3) -> 0 | D3: =COUNTIF(OFFSET(planning!$A$18,1,(COLUMN(C2)-1)*8+1,$A$1,8),$A3) -> 0 | E3: =COUNTIF(OFFSET(planning!$A$18,1,(COLUMN(D2)-1)*8+1,$A$1,8),$A3) -> 0 | F3: =COUNTIF(OFFSET(planning!$A$18,1,(COLUMN(E2)-1)*8+1,$A$1,8),$A3) -> 0 | G3: =COUNTIF(OFFSET(planning!$A$18,1,(COLUMN(F2)-1)*8+1,$A$1,8),$A3) -> 0
A4: FC | B4: =COUNTIF(OFFSET(planning!$A$18,1,(COLUMN(A3)-1)*8+1,$A$1,8),$A4) -> 0 | C4: =COUNTIF(OFFSET(planning!$A$18,1,(COLUMN(B3)-1)*8+1,$A$1,8),$A4) -> 0 | D4: =COUNTIF(OFFSET(planning!$A$18,1,(COLUMN(C3)-1)*8+1,$A$1,8),$A4) -> 0 | E4: =COUNTIF(OFFSET(planning!$A$18,1,(COLUMN(D3)-1)*8+1,$A$1,8),$A4) -> 0 | F4: =COUNTIF(OFFSET(planning!$A$18,1,(COLUMN(E3)-1)*8+1,$A$1,8),$A4) -> 0 | G4: =COUNTIF(OFFSET(planning!$A$18,1,(COLUMN(F3)-1)*8+1,$A$1,8),$A4) -> 0
A5: CT | B5: =COUNTIF(OFFSET(planning!$A$18,1,(COLUMN(A4)-1)*8+1,$A$1,8),$A5) -> 6 | C5: =COUNTIF(OFFSET(planning!$A$18,1,(COLUMN(B4)-1)*8+1,$A$1,8),$A5) -> 0 | D5: =COUNTIF(OFFSET(planning!$A$18,1,(COLUMN(C4)-1)*8+1,$A$1,8),$A5) -> 0 | E5: =COUNTIF(OFFSET(planning!$A$18,1,(COLUMN(D4)-1)*8+1,$A$1,8),$A5) -> 0 | F5: =COUNTIF(OFFSET(planning!$A$18,1,(COLUMN(E4)-1)*8+1,$A$1,8),$A5) -> 0 | G5: =COUNTIF(OFFSET(planning!$A$18,1,(COLUMN(F4)-1)*8+1,$A$1,8),$A5) -> 0
A6: BT | B6: =COUNTIF(OFFSET(planning!$A$18,1,(COLUMN(A5)-1)*8+1,$A$1,8),$A6) -> 1 | C6: =COUNTIF(OFFSET(planning!$A$18,1,(COLUMN(B5)-1)*8+1,$A$1,8),$A6) -> 0 | D6: =COUNTIF(OFFSET(planning!$A$18,1,(COLUMN(C5)-1)*8+1,$A$1,8),$A6) -> 0 | E6: =COUNTIF(OFFSET(planning!$A$18,1,(COLUMN(D5)-1)*8+1,$A$1,8),$A6) -> 0 | F6: =COUNTIF(OFFSET(planning!$A$18,1,(COLUMN(E5)-1)*8+1,$A$1,8),$A6) -> 0 | G6: =COUNTIF(OFFSET(planning!$A$18,1,(COLUMN(F5)-1)*8+1,$A$1,8),$A6) -> 0
A7: T | B7: =COUNTIF(OFFSET(planning!$A$18,1,(COLUMN(A6)-1)*8+1,$A$1,8),$A7) -> 1 | C7: =COUNTIF(OFFSET(planning!$A$18,1,(COLUMN(B6)-1)*8+1,$A$1,8),$A7) -> 0 | D7: =COUNTIF(OFFSET(planning!$A$18,1,(COLUMN(C6)-1)*8+1,$A$1,8),$A7) -> 0 | E7: =COUNTIF(OFFSET(planning!$A$18,1,(COLUMN(D6)-1)*8+1,$A$1,8),$A7) -> 0 | F7: =COUNTIF(OFFSET(planning!$A$18,1,(COLUMN(E6)-1)*8+1,$A$1,8),$A7) -> 0 | G7: =COUNTIF(OFFSET(planning!$A$18,1,(COLUMN(F6)-1)*8+1,$A$1,8),$A7) -> 0
A8: TT | B8: =COUNTIF(OFFSET(planning!$A$18,1,(COLUMN(A7)-1)*8+1,$A$1,8),$A8) -> 1 | C8: =COUNTIF(OFFSET(planning!$A$18,1,(COLUMN(B7)-1)*8+1,$A$1,8),$A8) -> 0 | D8: =COUNTIF(OFFSET(planning!$A$18,1,(COLUMN(C7)-1)*8+1,$A$1,8),$A8) -> 0 | E8: =COUNTIF(OFFSET(planning!$A$18,1,(COLUMN(D7)-1)*8+1,$A$1,8),$A8) -> 0 | F8: =COUNTIF(OFFSET(planning!$A$18,1,(COLUMN(E7)-1)*8+1,$A$1,8),$A8) -> 0 | G8: =COUNTIF(OFFSET(planning!$A$18,1,(COLUMN(F7)-1)*8+1,$A$1,8),$A8) -> 0
A9: PA | B9: =COUNTIF(OFFSET(planning!$A$18,1,(COLUMN(A8)-1)*8+1,$A$1,8),$A9) -> 2 | C9: =COUNTIF(OFFSET(planning!$A$18,1,(COLUMN(B8)-1)*8+1,$A$1,8),$A9) -> 0 | D9: =COUNTIF(OFFSET(planning!$A$18,1,(COLUMN(C8)-1)*8+1,$A$1,8),$A9) -> 0 | E9: =COUNTIF(OFFSET(planning!$A$18,1,(COLUMN(D8)-1)*8+1,$A$1,8),$A9) -> 0 | F9: =COUNTIF(OFFSET(planning!$A$18,1,(COLUMN(E8)-1)*8+1,$A$1,8),$A9) -> 0 | G9: =COUNTIF(OFFSET(planning!$A$18,1,(COLUMN(F8)-1)*8+1,$A$1,8),$A9) -> 0
A10: IC | B10: =COUNTIF(OFFSET(planning!$A$18,1,(COLUMN(A9)-1)*8+1,$A$1,8),$A10) -> 4 | C10: =COUNTIF(OFFSET(planning!$A$18,1,(COLUMN(B9)-1)*8+1,$A$1,8),$A10) -> 0 | D10: =COUNTIF(OFFSET(planning!$A$18,1,(COLUMN(C9)-1)*8+1,$A$1,8),$A10) -> 0 | E10: =COUNTIF(OFFSET(planning!$A$18,1,(COLUMN(D9)-1)*8+1,$A$1,8),$A10) -> 0 | F10: =COUNTIF(OFFSET(planning!$A$18,1,(COLUMN(E9)-1)*8+1,$A$1,8),$A10) -> 0 | G10: =COUNTIF(OFFSET(planning!$A$18,1,(COLUMN(F9)-1)*8+1,$A$1,8),$A10) -> 0

Sheet recapitulation 4
A1: 4 | B1: 44531 | C1: 44532 | D1: 44533
A2: G | B2: =COUNTIF(OFFSET(planning!$A$18,1,(COLUMN(A1)-1)*8+1,$A$1,8),$A2) -> 0 | C2: =COUNTIF(OFFSET(planning!$A$18,1,(COLUMN(B1)-1)*8+1,$A$1,8),$A2) -> 0 | D2: =COUNTIF(OFFSET(planning!$A$18,1,(COLUMN(C1)-1)*8+1,$A$1,8),$A2) -> 0 | E2: =COUNTIF(OFFSET(planning!$A$18,1,(COLUMN(D1)-1)*8+1,$A$1,8),$A2) -> 0 | F2: =COUNTIF(OFFSET(planning!$A$18,1,(COLUMN(E1)-1)*8+1,$A$1,8),$A2) -> 0 | G2: =COUNTIF(OFFSET(planning!$A$18,1,(COLUMN(F1)-1)*8+1,$A$1,8),$A2) -> 0
A3: Fl | B3: =COUNTIF(OFFSET(planning!$A$18,1,(COLUMN(A2)-1)*8+1,$A$1,8),$A3) -> 2 | C3: =COUNTIF(OFFSET(planning!$A$18,1,(COLUMN(B2)-1)*8+1,$A$1,8),$A3) -> 0 | D3: =COUNTIF(OFFSET(planning!$A$18,1,(COLUMN(C2)-1)*8+1,$A$1,8),$A3) -> 0 | E3: =COUNTIF(OFFSET(planning!$A$18,1,(COLUMN(D2)-1)*8+1,$A$1,8),$A3) -> 0 | F3: =COUNTIF(OFFSET(planning!$A$18,1,(COLUMN(E2)-1)*8+1,$A$1,8),$A3) -> 0 | G3: =COUNTIF(OFFSET(planning!$A$18,1,(COLUMN(F2)-1)*8+1,$A$1,8),$A3) -> 0
A4: FC | B4: =COUNTIF(OFFSET(planning!$A$18,1,(COLUMN(A3)-1)*8+1,$A$1,8),$A4) -> 0 | C4: =COUNTIF(OFFSET(planning!$A$18,1,(COLUMN(B3)-1)*8+1,$A$1,8),$A4) -> 0 | D4: =COUNTIF(OFFSET(planning!$A$18,1,(COLUMN(C3)-1)*8+1,$A$1,8),$A4) -> 0 | E4: =COUNTIF(OFFSET(planning!$A$18,1,(COLUMN(D3)-1)*8+1,$A$1,8),$A4) -> 0 | F4: =COUNTIF(OFFSET(planning!$A$18,1,(COLUMN(E3)-1)*8+1,$A$1,8),$A4) -> 0 | G4: =COUNTIF(OFFSET(planning!$A$18,1,(COLUMN(F3)-1)*8+1,$A$1,8),$A4) -> 0
A5: CT | B5: =COUNTIF(OFFSET(planning!$A$18,1,(COLUMN(A4)-1)*8+1,$A$1,8),$A5) -> 6 | C5: =COUNTIF(OFFSET(planning!$A$18,1,(COLUMN(B4)-1)*8+1,$A$1,8),$A5) -> 0 | D5: =COUNTIF(OFFSET(planning!$A$18,1,(COLUMN(C4)-1)*8+1,$A$1,8),$A5) -> 0 | E5: =COUNTIF(OFFSET(planning!$A$18,1,(COLUMN(D4)-1)*8+1,$A$1,8),$A5) -> 0 | F5: =COUNTIF(OFFSET(planning!$A$18,1,(COLUMN(E4)-1)*8+1,$A$1,8),$A5) -> 0 | G5: =COUNTIF(OFFSET(planning!$A$18,1,(COLUMN(F4)-1)*8+1,$A$1,8),$A5) -> 0
A6: BT | B6: =COUNTIF(OFFSET(planning!$A$18,1,(COLUMN(A5)-1)*8+1,$A$1,8),$A6) -> 3 | C6: =COUNTIF(OFFSET(planning!$A$18,1,(COLUMN(B5)-1)*8+1,$A$1,8),$A6) -> 0 | D6: =COUNTIF(OFFSET(planning!$A$18,1,(COLUMN(C5)-1)*8+1,$A$1,8),$A6) -> 0 | E6: =COUNTIF(OFFSET(planning!$A$18,1,(COLUMN(D5)-1)*8+1,$A$1,8),$A6) -> 0 | F6: =COUNTIF(OFFSET(planning!$A$18,1,(COLUMN(E5)-1)*8+1,$A$1,8),$A6) -> 0 | G6: =COUNTIF(OFFSET(planning!$A$18,1,(COLUMN(F5)-1)*8+1,$A$1,8),$A6) -> 0
A7: T | B7: =COUNTIF(OFFSET(planning!$A$18,1,(COLUMN(A6)-1)*8+1,$A$1,8),$A7) -> 1 | C7: =COUNTIF(OFFSET(planning!$A$18,1,(COLUMN(B6)-1)*8+1,$A$1,8),$A7) -> 0 | D7: =COUNTIF(OFFSET(planning!$A$18,1,(COLUMN(C6)-1)*8+1,$A$1,8),$A7) -> 0 | E7: =COUNTIF(OFFSET(planning!$A$18,1,(COLUMN(D6)-1)*8+1,$A$1,8),$A7) -> 0 | F7: =COUNTIF(OFFSET(planning!$A$18,1,(COLUMN(E6)-1)*8+1,$A$1,8),$A7) -> 0 | G7: =COUNTIF(OFFSET(planning!$A$18,1,(COLUMN(F6)-1)*8+1,$A$1,8),$A7) -> 0
A8: TT | B8: =COUNTIF(OFFSET(planning!$A$18,1,(COLUMN(A7)-1)*8+1,$A$1,8),$A8) -> 2 | C8: =COUNTIF(OFFSET(planning!$A$18,1,(COLUMN(B7)-1)*8+1,$A$1,8),$A8) -> 0 | D8: =COUNTIF(OFFSET(planning!$A$18,1,(COLUMN(C7)-1)*8+1,$A$1,8),$A8) -> 0 | E8: =COUNTIF(OFFSET(planning!$A$18,1,(COLUMN(D7)-1)*8+1,$A$1,8),$A8) -> 0 | F8: =COUNTIF(OFFSET(planning!$A$18,1,(COLUMN(E7)-1)*8+1,$A$1,8),$A8) -> 0 | G8: =COUNTIF(OFFSET(planning!$A$18,1,(COLUMN(F7)-1)*8+1,$A$1,8),$A8) -> 0
A9: PA | B9: =COUNTIF(OFFSET(planning!$A$18,1,(COLUMN(A8)-1)*8+1,$A$1,8),$A9) -> 2 | C9: =COUNTIF(OFFSET(planning!$A$18,1,(COLUMN(B8)-1)*8+1,$A$1,8),$A9) -> 0 | D9: =COUNTIF(OFFSET(planning!$A$18,1,(COLUMN(C8)-1)*8+1,$A$1,8),$A9) -> 0 | E9: =COUNTIF(OFFSET(planning!$A$18,1,(COLUMN(D8)-1)*8+1,$A$1,8),$A9) -> 0 | F9: =COUNTIF(OFFSET(planning!$A$18,1,(COLUMN(E8)-1)*8+1,$A$1,8),$A9) -> 0 | G9: =COUNTIF(OFFSET(planning!$A$18,1,(COLUMN(F8)-1)*8+1,$A$1,8),$A9) -> 0
A10: IC | B10: =COUNTIF(OFFSET(planning!$A$18,1,(COLUMN(A9)-1)*8+1,$A$1,8),$A10) -> 4 | C10: =COUNTIF(OFFSET(planning!$A$18,1,(COLUMN(B9)-1)*8+1,$A$1,8),$A10) -> 0 | D10: =COUNTIF(OFFSET(planning!$A$18,1,(COLUMN(C9)-1)*8+1,$A$1,8),$A10) -> 0 | E10: =COUNTIF(OFFSET(planning!$A$18,1,(COLUMN(D9)-1)*8+1,$A$1,8),$A10) -> 0 | F10: =COUNTIF(OFFSET(planning!$A$18,1,(COLUMN(E9)-1)*8+1,$A$1,8),$A10) -> 0 | G10: =COUNTIF(OFFSET(planning!$A$18,1,(COLUMN(F9)-1)*8+1,$A$1,8),$A10) -> 0
