Workbook

Sheet Feuil1
A1: N° Sujet | B1: Nom | C1: Prénom | D1: Initiales | E1: Date d'inclusion | F1: Type d'anticoagulant | G1: AOD | H1: Hémorragie | I1: Appel M+1 | J1: Date Appel | K1: Heure d'appel | L1: N° téléphone | M1: Médecin inclueur | N1: Commentaires
A2: A-01-001 | D2: =LEFT(B2)&LEFT(C2) | F2: AVK | H2: Intracérébrale | I2: =E2+30 -> 30
A3: A-01-002 | D3: =LEFT(B3)&LEFT(C3) | F3: AOD | G3: APIXABAN | H3: Digestive | I3: =E3+30 -> 30
A4: A-01-003 | D4: =LEFT(B4)&LEFT(C4) | F4: AVK | H4: Digestive | I4: =E4+30 -> 30
A5: A-01-004 | D5: =LEFT(B5)&LEFT(C5) | F5: AVK | H5: Intracérébrale | I5: =E5+30 -> 30
A6: A-01-005 | D6: =LEFT(B6)&LEFT(C6) | F6: AVK | H6: Intracérébrale | I6: =E6+30 -> 30
A7: A-01-006 | D7: =LEFT(B7)&LEFT(C7) | F7: AVK | H7: Intracérébrale | I7: =E7+30 -> 30
A8: A-01-007 | D8: =LEFT(B8)&LEFT(C8) | F8: AVK | H8: Intracérébrale | I8: =E8+30 -> 30
A9: A-01-008 | D9: =LEFT(B9)&LEFT(C9) | F9: AVK | H9: Intracérébrale | I9: =E9+30 -> 30
A10: A-01-009 | D10: =LEFT(B10)&LEFT(C10) | F10: AVK | H10: Intracérébrale | I10: =E10+30 -> 30
A11: A-01-010 | D11: =LEFT(B11)&LEFT(C11) | F11: AVK | H11: Intracérébrale | I11: =E11+30 -> 30

Sheet Feuil2
C1: A | D1: B | E1: C | F1: D | G1: E | H1: Total
B2: Octobre | C2: 0 | H2: =SUM(C2:G2) -> 0
B3: Novembre | H3: =SUM(C3:G3) -> 0
B4: Décembre | H4: =SUM(C4:G4) -> 0
A5: 2022 | B5: Janvier | H5: =SUM(C5:G5) -> 0
B6: Février | H6: =SUM(C6:G6) -> 0
B7: Mars | H7: =SUM(C7:G7) -> 0
B8: Avril | H8: =SUM(C8:G8) -> 0
B9: Mai | H9: =SUM(C9:G9) -> 0
B10: Juin | H10: =SUM(C10:G10) -> 0
B11: Juillet | H11: =SUM(C11:G11) -> 0
B12: Août | H12: =SUM(C12:G12) -> 0
B13: Septembre | H13: =SUM(C13:G13) -> 0
B14: Octobre | H14: =SUM(C14:G14) -> 0
B15: Novembre | H15: =SUM(C15:G15) -> 0
B16: Décembre | H16: =SUM(C16:G16) -> 0
A17: 2023 | B17: Janvier | H17: =SUM(C17:G17) -> 0
B18: Février | H18: =SUM(C18:G18) -> 0
B19: Mars | H19: =SUM(C19:G19) -> 0
B20: Avril | H20: =SUM(C20:G20) -> 0
B21: Mai | H21: =SUM(C21:G21) -> 0
B22: Juin | H22: =SUM(C22:G22) -> 0
B23: Juillet | H23: =SUM(C23:G23) -> 0
B24: Août | H24: =SUM(C24:G24) -> 0
B25: Septembre | H25: =SUM(C25:G25) -> 0
B26: Octobre | H26: =SUM(C26:G26) -> 0
B27: Novembre | H27: =SUM(C27:G27) -> 0
B28: Décembre | H28: =SUM(C28:G28) -> 0
B29: Total | C29: =SUM(C2:C28) -> 0 | D29: =SUM(D2:D28) -> 0 | E29: =SUM(E2:E28) -> 0 | F29: =SUM(F2:F28) -> 0 | G29: =SUM(G2:G28) -> 0 | H29: =SUM(H2:H28) -> 0

Sheet Feuil3
A3: Octobre | B3: 1
A4: Novembre | B4: 3
A5: Décembre | B5: 6
A6: Janvier | B6: 12
A7: Février | B7: 18
A8: Mars | B8: 24
A9: Avril | B9: 30
A10: Mai | B10: 36
A11: Juin | B11: 42
A12: Juillet | B12: 48
A13: Août | B13: 54
A14: Septembre | B14: 60
... A29: Décembre | B29: 150

Sheet Feuil4
D1: A | E1: B | F1: C | G1: D | H1: E | I1: TOTAL | J1: ATTENDU
A2: AVK | C2: Intracérébrale | D2: {=SUMPRODUCT((Feuil1!$F$2:$F$11=A2)*(Feuil1!$G$2:$G$11=B2)*(Feuil1!$H$2:$H$11=C2)*1)} -> 8 | I2: =SUM(D2:H2) -> 8 | J2: 25 | K2: 75
A3: AVK | C3: Digestive | D3: {=SUMPRODUCT((Feuil1!$F$2:$F$11=A3)*(Feuil1!$G$2:$G$11=B3)*(Feuil1!$H$2:$H$11=C3)*1)} -> 1 | I3: =SUM(D3:H3) -> 1 | J3: 25
A4: AVK | C4: Intramusculaire | D4: {=SUMPRODUCT((Feuil1!$F$2:$F$11=A4)*(Feuil1!$G$2:$G$11=B4)*(Feuil1!$H$2:$H$11=C4)*1)} -> 0 | I4: =SUM(D4:H4) -> 0 | J4: 25
A5: AOD | B5: RIVAROXABAN | C5: Intracérébrale | D5: {=SUMPRODUCT((Feuil1!$F$2:$F$11=A5)*(Feuil1!$G$2:$G$11=B5)*(Feuil1!$H$2:$H$11=C5)*1)} -> 0 | I5: =SUM(D5:H5) -> 0 | J5: 8.3 | K5: 25 | L5: 75
A6: AOD | B6: RIVAROXABAN | C6: Digestive | D6: {=SUMPRODUCT((Feuil1!$F$2:$F$11=A6)*(Feuil1!$G$2:$G$11=B6)*(Feuil1!$H$2:$H$11=C6)*1)} -> 0 | I6: =SUM(D6:H6) -> 0 | J6: 8.3
A7: AOD | B7: RIVAROXABAN | C7: Intramusculaire | D7: {=SUMPRODUCT((Feuil1!$F$2:$F$11=A7)*(Feuil1!$G$2:$G$11=B7)*(Feuil1!$H$2:$H$11=C7)*1)} -> 0 | I7: =SUM(D7:H7) -> 0 | J7: 8.3
A8: AOD | B8: APIXABAN | C8: Intracérébrale | D8: {=SUMPRODUCT((Feuil1!$F$2:$F$11=A8)*(Feuil1!$G$2:$G$11=B8)*(Feuil1!$H$2:$H$11=C8)*1)} -> 0 | I8: =SUM(D8:H8) -> 0 | J8: 8.3 | K8: 25
A9: AOD | B9: APIXABAN | C9: Digestive | D9: {=SUMPRODUCT((Feuil1!$F$2:$F$11=A9)*(Feuil1!$G$2:$G$11=B9)*(Feuil1!$H$2:$H$11=C9)*1)} -> 1 | I9: =SUM(D9:H9) -> 1 | J9: 8.3
A10: AOD | B10: APIXABAN | C10: Intramusculaire | D10: {=SUMPRODUCT((Feuil1!$F$2:$F$11=A10)*(Feuil1!$G$2:$G$11=B10)*(Feuil1!$H$2:$H$11=C10)*1)} -> 0 | I10: =SUM(D10:H10) -> 0 | J10: 8.3
A11: AOD | B11: DABIGATRAN | C11: Intracérébrale | D11: {=SUMPRODUCT((Feuil1!$F$2:$F$11=A11)*(Feuil1!$G$2:$G$11=B11)*(Feuil1!$H$2:$H$11=C11)*1)} -> 0 | I11: =SUM(D11:H11) -> 0 | J11: 8.3 | K11: 25
A12: AOD | B12: DABIGATRAN | C12: Digestive | D12: {=SUMPRODUCT((Feuil1!$F$2:$F$11=A12)*(Feuil1!$G$2:$G$11=B12)*(Feuil1!$H$2:$H$11=C12)*1)} -> 0 | I12: =SUM(D12:H12) -> 0 | J12: 8.3
A13: AOD | B13: DABIGATRAN | C13: Intramusculaire | D13: {=SUMPRODUCT((Feuil1!$F$2:$F$11=A13)*(Feuil1!$G$2:$G$11=B13)*(Feuil1!$H$2:$H$11=C13)*1)} -> 0 | I13: =SUM(D13:H13) -> 0 | J13: 8.3
