Workbook
Name _Hlk293490954: 'P3'!#REF!
Name _Hlk293490954: 'P3-Obj. OP'!#REF!

Sheet Couverture
B1: GESTION ET ÉVALUATION DE LA PERFORMANCE INDIVIDUELLE
B10: Support aux ventes, Librairies et Magasins Spécialiés
B11: Équipe des leaders
D15: Année /
D27: Évaluation mi-annuelle | G27: Évaluation annuelle
B28: Prénom & Nom
B30: Titre du poste
B32: Service
B34: Date de l'évaluation
B36: Superviseur / Évaluateur

Sheet P2-Guide
B1: GESTION ET ÉVALUATION DE LA PERFORMANCE INDIVIDUELLE
B4: Pour vous guider dans l'évaluation
A5: L'évaluation de votre rendement vous permet d'évaluer le travail de chaque employé, de déterminer s'il est un leader ou un leader en devenir et aussi déterminer s'il rencontre les exigences et les objectifs de son poste.
A7: Une évaluation périodique, une fois par six mois, permet un suivi de l'évolution des compétences managériales de votre employé et d'identifier les points forts et ceux à améliorer.
A9: Ce sont des facteurs essentiels pour préciser les points à developper chez l'employé pour devenir un leader et les besoins de formation.
A11: Dans les pages suivantes, vous trouverez une série d'objectifs et de compétences managériales au travail que vous devez évaluer.
A13: Pour évaluer l'orientation vers les résultats opérationnels et financiers , merci d'utiliser l'échelle suivante:
C15: 1 | D15: Très faible maîtrise | F15: Il n'a pas atteint ses objectifs (moins de 94,99%)
C16: 2 | D16: Maîtrise | F16: Il a atteint ses objectifs (entre 95% et 100%)
C17: 3 | D17: Excellente maîtrise | F17: Il a dépassé ses objectifs (plus de 100%)
A19: Pour évaluer les compétences de managériales, merci d'utiliser l'échelle suivante:
A21: 1 | B21: Ne maîtrise pas | D21: Il a un besoin sérieux et pressant d’amélioration dans ce domaine. Cela affecte son rendement. Il a du mal à comprendre ce champ d’activités, il a de la difficulté à accepter ce besoin ou il ne sait pas vraiment quoi faire. Il aurait avantage à se développer dans ce domaine.
A22: 2 | B22: Faible maîtrise | D22: Les résultats escomptés n’ont pas été obtenus, il a éprouvé certains problèmes à cause de cette faiblesse. Il travaille à améliorer cette compétence. Avec un réel effort de développement, il pourrait maîtriser cette compétence.
A23: 3 | B23: En maîtrise | D23: Sa performance dans ce domaine est conforme aux attentes de l’organisation. L’utilisation qu’il fait de cette compétence est comparable à celle des gens reconnus et compétents dans ce domaine. Il possède une force appréciable dans ce domaine. Il pourrait être formateur dans ce domaine ou être choisi dans une équipe pour ce talent spécial.
A24: 4 | B24: En forte maîtrise | D24: Son niveau de maîtrise est exceptionnel, il est reconnu comme un des meilleurs et on lui demande conseil sur une base régulière dans ce domaine.
A26: En matière d’évaluation, il est important d’être le plus réaliste que possible, afin d’éviter toute forme de sur ou de sous-évaluation pour que le plan de développement reflète les besoins réels de perfectionnement de votre employé.
A28: Veuillez indiquer à la fin de ce document vos commentaires dans l'espace réservé à cet effet. Les commentaires sont une part essentielle de l'évaluation. Ils doivent être utilisés pour expliquer la notation lorsque nécessaire et pour présenter des suggestions, améliorations ou développements.
A30: Les pages suivantes doivent être complétées à la fois par le superviseur et l'employé(e) séparément.
A32: Par la suite, ils doivent comparer leurs résultats durant l'entrevue d'évaluation
A34: Ce document est strictement confidentiel. Une fois complétée par l'employé(e) et le superviseur, ce document doit être signé et classé au dossier de l'employé.

Sheet P1
A14: GESTION ET ÉVALUATION DE LA PERFORMANCE INDIVIDUELLE
A15: Support aux ventes & magasin GGC
A17: Équipe des leaders
A21: Année ………./…………
B38: Évaluation mi-annuelle | C38: Évaluation annuelle
A39: Prénom & Nom
A40: Titre
A41: Service
A42: Date :

Sheet P2
A3: L'évaluation de votre rendement vous permet d'évaluer le travail de chaque employé, de déterminer s'il est un leader ou un leader en devenir et aussi
A4: déterminer s'il rencontre les exigences et les objectifs de son poste .
A6: Une évaluation périodique, une fois par six mois, permet un suivi de l'évolution des compétences managériales de votre employé
A7: et d'identifier les points forts et ceux à améliorer.
A9: Ce sont des facteurs essentiels pour préciser les points à developper chez l'employé pour devenir un leader et les besoins de formation
A11: Dans les pages suivantes, vous trouverez une série d'objectifs et de compétences managériales au travail que vous devez évaluer.
A13: Pour évaluer l'orientation vers les résultats opérationnels et financiers , merci d'utiliser l'échelle suivante:
A15: 1 | B15: 1 | C15: N'atteint pas l'objectif
A16: 2 | B16: 2 | C16: Atteint son objectif
A17: 3 | B17: 3 | C17: Depasse son objectif
A19: Pour évaluer les compétences de managériales, merci d'utiliser l'échelle suivante:
A21: 1 | B21: Ne maîtrise pas | C21: Il a un besoin sérieux et pressant d’amélioration dans ce domaine. Cela affecte son rendement. Il a du mal à comprendre ce champ d’activités, il a de la difficulté à accepter ce besoin ou il ne sait pas vraiment quoi faire. Il aurait avantage à se développer dans ce domaine.
A22: 2 | B22: Faible maîtrise | C22: Les résultats escomptés n’ont pas été obtenus, il a éprouvé certains problèmes à cause de cette faiblesse. Il travaille à améliorer cette compétence. Avec un réel effort de développement, il pourrait maîtriser cette compétence.
A23: 3 | B23: maîtrise | C23: Sa performance dans ce domaine est conforme aux attentes de l’organisation. L’utilisation qu’il fait de cette compétence est comparable à celle des gens reconnus et compétents dans ce domaine.Il possède une force appréciable dans ce domaine. Il pourrait être formateur dans ce domaine ou être choisi dans une équipe pour ce talent spécial.
A24: 4 | B24: Forte Maîtrise | C24: Son niveau de maîtrise est exceptionnel, il est reconnu comme un des meilleurs et on lui demande conseil sur une base régulière dans ce domaine.
A26: En matière d’évaluation, il est important d’être le plus réaliste que possible, afin d’éviter toute forme de sur ou de sous-évaluation pour
A27: que le plan de développement reflète les besoins réels de perfectionnement de votre employé.
A29: Veuillez indiquer à la fin de ce document vos commentaires dans l'espace réservé à cet effet. Les commentaires sont une
A30: part essentielle de l'évaluation. Ils doivent être utilisés pour expliquer la notation lorsque nécessaire et pour présenter
A31: des suggestions, améliorations ou développements
A33: Les pages suivantes doivent être complétées à la fois par le superviseur et l'employé(e) séparément.
A35: Par la suite, ils doivent comparer leurs résultats durant l'entrevue d'évaluation
A37: Ce document est strictement confidentiel. Une fois complétée par l'employé(e) et le superviseur,
A38: ce document doit être signé et classé au dossier de l'employé.

Sheet P3-Obj. OP
A2: GESTION ET ÉVALUATION DE LA PERFORMANCE INDIVIDUELLE
B5: Objectifs opérationnels et financiers
C9: 1 | E9: 2 | G9: 3
C10: N'atteint pas l'objectif | E10: Atteint l'objectif | G10: Dépasse l'objectif
A12: Objectifs | B12: Indicateur au 30 septembre | C12: Résultat au 30 septembre | D12: Évaluation mi- annuelle | E12: Pondération | F12: Résultat de l'évaluation du 30 septembre | G12: Indicateur au 31 mars | H12: Résultat au 31 mars | I12: Évaluation annuelle | J12: Pondération | K12: Résultat de l'évaluation du 31 mars
A13: Objectif 1 : UPT | D13: 3 | E13: 0.2 | F13: =IF(D13="","",(E13*D13)) -> 0.6 | I13: 3 | J13: 0.2 | K13: =IF(I13="","",(J13*I13)) -> 0.6
A14: Objectif 2 : Valeur de la transaction | D14: 3 | E14: 0.2 | F14: =IF(D14="","",(E14*D14)) -> 0.6 | I14: 3 | J14: 0.2 | K14: =IF(I14="","",(J14*I14)) -> 0.6
A15: Objectif 3 : Propreté | D15: 3 | E15: 0.2 | F15: =IF(D15="","",(E15*D15)) -> 0.6 | I15: 3 | J15: 0.2 | K15: =IF(I15="","",(J15*I15)) -> 0.6
A16: Objectif 4 : Taux d'accident du travail | D16: 3 | E16: 0.2 | F16: =IF(D16="","",(E16*D16)) -> 0.6 | I16: 3 | J16: 0.2 | K16: =IF(I16="","",(J16*I16)) -> 0.6
A17: Objectif 5 : Taux de fidélisation | D17: 3 | E17: 0.2 | F17: =IF(D17="","",(E17*D17)) -> 0.6 | I17: 3 | J17: 0.2 | K17: =IF(I17="","",(J17*I17)) -> 0.6
A18: MOYENNE = Somme des points divisée par le nombre d'objectifs | E18: =SUM(E13:E17) -> 1 | F18: =IF(COUNTA(D13:D17)=0,"",AVERAGE(F13:F17)*(COUNTA(D13:D17))) -> 3 | J18: =SUM(J13:J17) -> 1 | K18: =IF(COUNTA(I13:I17)=0,"",AVERAGE(K13:K17)*(COUNTA(I13:I17))) -> 3

Sheet P3
B4: Objectifs opérationnels et financiers
D6: 1 | F6: 2 | H6: 3
D7: N'atteint pas l'objectif | F7: Atteint son objectif | H7: Depasse son objectif
B10: Objectifs | D10: Indicateur au 31 mars | E10: Résultat au 31 mars | F10: Évaluation annuelle | G10: Pondération | H10: Résultat de l'évaluation du 31 mars
B11: Objectif 1: UPT | G11: 0.2 | H11: =(F11*G11) -> 0
B12: Objectif 2: Valeur de la transaction | G12: 0.2 | H12: =(F12*G12) -> 0
B13: Objectif 3: Propreté | G13: 0.2 | H13: =(F13*G13) -> 0
B14: Objectif 4: Taux d'accident de travail | G14: 0.2 | H14: =(F14*G14) -> 0
B15: Objectif 5: Taux de fidélisation | G15: 0.2 | H15: =(F15*G15) -> 0
B16: MOYENNE = Somme des points divisée par le nombre d'objectifs | G16: =SUM(G11:G15) -> 1 | H16: =SUM(H11:H15) -> 0

Sheet P4-Comp. Manag
B1: GESTION ET ÉVALUATION DE LA PERFORMANCE INDIVIDUELLE
B4: Les compétences managerialles
B9: 1 | D9: 2 | F9: 3 | H9: 4
B10: Ne maîtrise pas | D10: Faible maîtrise | F10: Maîtrise | H10: Forte maîtrise
A13: Compétences | C13: Définition | F13: Indicateurs | I13: Évaluation mi- annuelle | J13: Évaluation annuelle
A14: Relations interpersonnelles et interservices | C14: Travailler efficacement et en collaboration avec les autres. Établir et entretenir de bonnes relations de travail, renforcer la confiance et le respect envers les autres, appuyer activement les autres et faire preuve d’intégrité. | F14: Analyse la situation | I14: 4
F15: Trouve des solutions optimales | I15: 4
F16: Applique une action corrective | I16: 4
F17: Traitement efficace des demandes des autres départements | I17: 4
F18: Garde l’esprit ouvert et aide les autres | I18: 4
F19: Accueille les commentaires et les utilise dans le but d'améliorer les services | I19: 4
F20: Maintien un climat de collaboration | I20: 4
I21: =IF(COUNTA(I14:I20)=0,"",AVERAGE(I14:I20)) -> 4 | J21: =IF(COUNTA(J14:J20)=0,"",AVERAGE(J14:J20))
A23: Compétences | C23: Définition | F23: Indicateurs | I23: Évaluation mi- annuelle | J23: Évaluation annuelle
A24: Autonomie/Pensée critique | C24: Prendre des décisions et agir par soi-même de façon fiable. | F24: Analyse la situation | I24: 4
F25: Trouve des solutions aux problèmes rencontrés | I25: 4
F26: Ne cherche pas constamment l’approbation des autres pour tout ce qui est fait | I26: 4
F27: Assume ses décisions | I27: 4
F28: Est en mesure de prendre du recul avant d'agir | I28: 4
F29: Est capable d’exprimer son désaccord de façon constructive | I29: 4
I30: =IF(COUNTA(I24:I29)=0,"",AVERAGE(I24:I29)) -> 4 | J30: =IF(COUNTA(J24:J29)=0,"",AVERAGE(J24:J29))
A33: Compétences | C33: Définitions | F33: Indicateurs | I33: Évaluation mi- annuelle | J33: Évaluation annuelle
A34: Gestion des opérations | C34: Capacité de gérer les opérations de son unité avec efficience en utilisant les ressources matérielles et humaines d'une façon efficace | F34: Gestion des dépenses (commandes de fournitures et matériels) | I34: 4
F35: Gestion ADP | I35: 4
F36: Maitrise du recrutement | I36: 4
F37: Gestion disciplinaire | I37: 4
F38: Gestion de SST | I38: 4
F39: Prévention des pertes | I39: 4
F40: Faire respecter les politiques et procédures | I40: 4
I41: =IF(COUNTA(I34:I40)=0,"",AVERAGE(I34:I40)) -> 4 | J41: =IF(COUNTA(J34:J40)=0,"",AVERAGE(J34:J40))
A43: Compétences | C43: Définitions | F43: Indicateurs | I43: Évaluation mi- annuelle | J43: Évaluation annuelle
A44: Orientation performance et résultats | C44: Planifier des actions et mobiliser ses collègues pour atteindre ses objectifs d plateaux, les objectifs de son département et ceux de l'organisation | F44: Planification : Il sait planifier les tâches à effectuer ou les projets à réaliser et en fait le suivi. | I44: 4
F45: Il sait converger ses efforts et ceux de ses collègues en fonction des résultats visés. | I45: 4
F46: Il applique le mode de gestion axé sur les résultats de son service. | I46: 4
F47: Il apporte rapidement des solutions efficaces en situations d’urgence, tout en minimisant les risques. | I47: 4
I48: =IF(COUNTA(I44:I47)=0,"",AVERAGE(I44:I47)) -> 4 | J48: =IF(COUNTA(J44:J47)=0,"",AVERAGE(J44:J47))

Sheet P5-Comp. Manag
B1: GESTION ET ÉVALUATION DE LA PERFORMANCE INDIVIDUELLE
B4: Les compétences managerialles
B9: 1 | D9: 2 | F9: 3 | H9: 4
B10: Ne maîtrise pas | D10: Faible maîtrise | F10: Maîtrise | H10: Forte maîtrise
A13: Compétences | C13: Définitions | F13: Indicateurs | I13: Évaluation mi- annuelle | J13: Évaluation annuelle
A14: Leadership | C14: Capacité d’influencer et d’orienter les actions et les décisions de ses collègues en partageant sa vision et en mobilisant l’effort collectif ou individuel autour d’objectifs communs. | F14: Confiance en soi | I14: 4
F15: Compétitif | I15: 4
F16: Courageux / aime et accepte les défi | I16: 4
F17: Communique de façon claire et transmet l'information pertinente | I17: 4
F18: Définit clairement les objectifs | I18: 4
F19: Bon formateur | I19: 4
F20: Bon sens d’écoute | I20: 4
F21: Empatique | I21: 4
F22: Capacité de rassembler son équipe vers un objectif commun | I22: 4
F23: Fait un suivi quotidien des objectifs opérationnels | I23: 4
F24: Est un ambassadeur de Renaissance, un fier représentant. | I24: 4
F25: Capable de mettre la pression avec diligence sur son équipe | I25: 4
I26: =IF(COUNTA(I14:I25)=0,"",AVERAGE(I14:I25)) -> 4 | J26: =IF(COUNTA(J14:J25)=0,"",AVERAGE(J14:J25))
A28: Compétences | C28: Définitions | F28: Indicateurs | I28: Évaluation mi- annuelle | J28: Évaluation annuelle
A29: Orientation client | C29: Accorder de l’attention aux clients et à leurs besoins, développer et entretenir des relations fructueuses avec eux en assumant la responsabilité de leur satisfaction et de leur fidélité. | F29: Aligne l’élaboration et la prestation des services sur les besoins et les priorités des clients | I29: 4
F30: Cherche à comprendre les clients, à répondre à leurs besoins et à satisfaire leurs attentes | I30: 4
F31: Communique efficacement et de façon enthousiaste | I31: 4
F32: Établit des rapports de collaboration | I32: 4
F33: S’assure de la satisfaction des clients et prendre les choses en main, afin de fournir un service à la clientèle de haut niveau | I33: 4
I34: =IF(COUNTA(I29:I33)=0,"",AVERAGE(I29:I33)) -> 4 | J34: =IF(COUNTA(J29:J33)=0,"",AVERAGE(J29:J33))
A37: Compétences | C37: Définitions | F37: Indicateurs | I37: Évaluation mi- annuelle | J37: Évaluation annuelle
A38: Résolution de problème/Jugement et prise de décision | C38: Appliquer des méthodes appropriées de résolution de problèmes | F38: Déterminer le problème | I38: 4
C39: Indicateurs : | F39: Analyser la situation | I39: 4
F40: Trouver des solutions | I40: 4
F41: Choisir la solution optimale | I41: 4
F42: Planifier une action corrective | I42: 4
F43: Exécuter le plan | I43: 4
F44: Fait le suivi des actions mises en place | I44: 4
I45: =IF(COUNTA(I38:I44)=0,"",AVERAGE(I38:I44)) -> 4 | J45: =IF(COUNTA(J38:J44)=0,"",AVERAGE(J38:J44))
A48: Compétences | C48: Définitions | F48: Indicateurs | I48: Évaluation mi- annuelle | J48: Évaluation annuelle
A49: Soutien à la mission de Réinsertion | C49: Supporter la mission de Renaissance afin d'offrir le meilleur parcours aux participants pour réintegrer le marché du travail et maintenir son emploi. | F49: Donner la bonne information aux publics | I49: 4
F50: Comprend bien la mission | I50: 4
F51: Donne des formations efficaces * | I51: 4
F52: Met l'emphase sur la formation * | I52: 4
F53: Donne envie au participant de se dépasser * | I53: 4
F54: Contribue au succès des réunions et y particpe * | I54: 4
F55: Est en mesure de nommer 5 points forts pour un point à améliorer d'un participant * | I55: 4
F56: Est en mesure d'aller chercher le meilleur * | I56: 4
F57: Être un modèle pour les participants * | I57: 4
F58: Collaborer sainement avec l'équipe SSP * | I58: 4
C59: * Les plateaux ayant un ou plusieurs participants | I59: =IF(COUNTA(I49:I58)=0,"",AVERAGE(I49:I58)) -> 4 | J59: =IF(COUNTA(J49:J58)=0,"",AVERAGE(J49:J58))

Sheet P6-Résultats
B1: GESTION ET ÉVALUATION DE LA PERFORMANCE INDIVIDUELLE
B4: Résultat de l'évaluation
A7: Volet leadership
B9: Résultat | E9: Pondération | F9: Évaluation mi-annuelle | H9: Évaluation annuelle
F10: Points | G10: Résultat en % | H10: Points | I10: Résultat en % | K10: score max
B11: Relations interpersonnelles et interservices | E11: 0.1 | F11: =IF('P4-Comp. Manag'!I21="","",'P4-Comp. Manag'!I21*$E11) -> 0.4 | G11: =F11/K11 -> 1 | H11: =IF('P4-Comp. Manag'!J21="","",'P4-Comp. Manag'!J21*$E11) | I11: =H11 | K11: =E11*4 -> 0.4
B12: Autonomie/Pensée critique | E12: 0.1 | F12: =IF('P4-Comp. Manag'!I30="","",'P4-Comp. Manag'!I30*$E12) -> 0.4 | G12: =F12/K12 -> 1 | H12: =IF('P4-Comp. Manag'!J30="","",'P4-Comp. Manag'!J30*$E12) | I12: =H12 | K12: =E12*4 -> 0.4
B13: Gestion des opérations | E13: 0.1 | F13: =IF('P4-Comp. Manag'!I41="","",'P4-Comp. Manag'!I41*$E13) -> 0.4 | G13: =F13/K13 -> 1 | H13: =IF('P4-Comp. Manag'!J41="","",'P4-Comp. Manag'!J41*$E13) | I13: =H13 | K13: =E13*4 -> 0.4
B14: Orientation performance et résultats | E14: 0.1 | F14: =IF('P4-Comp. Manag'!I48="","",'P4-Comp. Manag'!I48*$E14) -> 0.4 | G14: =F14/K14 -> 1 | H14: =IF('P4-Comp. Manag'!J48="","",'P4-Comp. Manag'!J48*$E14) | I14: =H14 | K14: =E14*4 -> 0.4
B15: Leadership | E15: 0.1 | F15: =IF('P5-Comp. Manag'!I26="","",'P5-Comp. Manag'!I26*$E15) -> 0.4 | G15: =F15/K15 -> 1 | H15: =IF('P5-Comp. Manag'!J26="","",'P5-Comp. Manag'!J26*$E15) | I15: =H15 | K15: =E15*4 -> 0.4
B16: Orientation client | E16: 0.1 | F16: =IF('P5-Comp. Manag'!I34="","",'P5-Comp. Manag'!I34*$E16) -> 0.4 | G16: =F16/K16 -> 1 | H16: =IF('P5-Comp. Manag'!J34="","",'P5-Comp. Manag'!J34*$E16) | I16: =H16 | K16: =E16*4 -> 0.4
B17: Résolution de problème/Jugement et prise de décision | E17: 0.1 | F17: =IF('P5-Comp. Manag'!I45="","",'P5-Comp. Manag'!I45*$E17) -> 0.4 | G17: =F17/K17 -> 1 | H17: =IF('P5-Comp. Manag'!J45="","",'P5-Comp. Manag'!J45*$E17) | I17: =H17 | K17: =E17*4 -> 0.4
B18: Soutien à la mission de Réinsertion | E18: 0.15 | F18: =IF('P5-Comp. Manag'!I59="","",'P5-Comp. Manag'!I59*$E18) -> 0.6 | G18: =F18/K18 -> 1 | H18: =IF('P5-Comp. Manag'!J59="","",'P5-Comp. Manag'!J59*$E18) | I18: =H18 | K18: =E18*4 -> 0.6
F19: =SUM(F11:F18) -> 3.4 | G19: =IF(COUNTA(G11:G18)=0,"",AVERAGE(G11:G18)) -> 1 | H19: =SUM(H11:H18) -> 0 | I19: =IF(H19=0,"",H19/K19) | K19: =SUM(K11:K18) -> 3.4
C21: Résultat uniquement volet leadership | F21: =F19 -> 3.4 | G21: =G19 -> 1 | H21: =H19 -> 0 | I21: =I19
A28: Volet opérations
B30: Résultat | E30: Pondération | F30: Évaluation mi-annuelle | H30: Évaluation annuelle
F31: Points | G31: Résultat en % | H31: Points | I31: Résultat en %
B32: Atteinte des objectifs opérationnels et financiers | E32: 0.15 | F32: =IF('P3-Obj. OP'!F18="","",'P3-Obj. OP'!F18*E32) -> 0.45 | G32: =F32/K32 -> 1 | H32: =IF('P3-Obj. OP'!K18="","",'P3-Obj. OP'!K18*E32) -> 0.45 | I32: =H32/K32 -> 1 | K32: =E32*3 -> 0.45
C34: Résultat uniquement Atteinte des objectifs opérationnels et financiers | F34: =F32 -> 0.45 | G34: =G32 -> 1 | H34: =H32 -> 0.45 | I34: =I32 -> 1
D39: Résultat mi-annuel | E39: =SUM(B19:B32) -> 0 | F39: =F34+F21 -> 3.85 | G39: =F39/K39 -> 1 | K39: =K19+K32 -> 3.85
D41: Résultat annuel | E41: =SUM(B21:B34) -> 0 | F41: =H34+H21 -> 0.45 | G41: =F41/K41 -> 0.11688312 | K41: =K39 -> 3.85

Sheet P7-Interprétation
B1: GESTION ET ÉVALUATION DE LA PERFORMANCE INDIVIDUELLE
B4: interprétation APPRÉCIATION GLOBALE DU RENDEMENT
A9: Zone 1: Employé ne répond pas aux attentes | C9: Moins de 59,99% | D9: L’employé fournit un rendement insuffisant. Il n’arrive pas à atteindre ses objectifs. Il doit s’améliorer nettement dans des délais préétablis , sinon son emploi est compromis. Un plan d'action doit être établis immédiatement par écrit.
A11: Zone 2 : Nouveau employé en développement ou un ancien employé sous performant | C11: De 60% à 69,99% | D11: L’employé fournit un rendement moyen. Il n’arrive pas à atteindre tous ses objectifs. Il doit s’améliorer, sinon son emploi est compromis. Pour le nouveau employé un plan de développement doit être établi immédiatement par écrit, Pour l'ancien employé un plan d'action doit être établi immédiatement par écrit.
A13: Zone 3 : Employé en stade de maitrise | C13: De 70% à 79,99% | D13: L’employé fournit un bon rendement. Il atteint ses objectifs malgré quelques aspects qui demandent à être améliorés (sans que cela ne l’empêche à réaliser son travail de façon satisfaisante).
A15: Zone 4 : Employé en stade de forte maitrise | C15: De 80% à 89,99% | D15: L’employé fournit un très bon rendement. Il dépasse constamment la plupart ou tous ses objectifs, en dépit de conditions difficiles et il exerce ses compétences avec grande efficacité
A17: Zone 5 : Employé en stade d'excellente maitrise | C17: 90% et plus | D17: L’employé fournit un rendement exceptionnel. Il est reconnu pour son excellente maitrise des tâches de son poste. Il est la référence professionnelle pour ses collègues et prêt à jouer un rôle plus important dans l'organisation
A20: (1) il est de la responsabilité du supérieur immédiat d'établir et de suivre le plan d'action ou celui de développement de son employé. Une copie de ce plan doit être transmise au service des ressources humaines

Sheet P8-Résumé
B1: GESTION ET ÉVALUATION DE LA PERFORMANCE INDIVIDUELLE
B4: Résumé de l'évaluation
A6: Points forts
B7: Évaluation mi-annuelle | F7: Évaluation annuelle
A26: Points à améliorer
B27: Évaluation mi-annuelle | F27: Évaluation annuelle

Sheet P9- Besoins
B1: GESTION ET ÉVALUATION DE LA PERFORMANCE INDIVIDUELLE
B4: Besoins en perfectionnement
C7: Évaluation mi-annuelle
C26: Évaluation annuelle
A50: Évaluation mi-annuelle
B52: Prénom & Nom | F52: Signature
B54: Superviseur / Évaluateur | F54: Signature
A56: Évaluation annuelle
B58: Prénom & Nom | F58: Signature
B60: Superviseur / Évaluateur | F60: Signature
