Workbook

Sheet Matching
A1: Nom du voyageur : | C1: X
A2: Profil | C2: A | D2: 2 | E2: B | F2: 3 | G2: C | H2: 3 | I2: D | J2: 3 | K2: E | L2: 1 | M2: F | N2: 3 | O2: G | P2: 1 | Q2: H | R2: 4
B7: Critères | C7: A | E7: B | G7: C | I7: D | K7: E | M7: F | O7: G | Q7: H | U7: Total pondéré
B8: Pondération | C8: =D2 -> 2 | E8: =F2 -> 3 | G8: =H2 -> 3 | I8: =J2 -> 3 | K8: =L2 -> 1 | M8: =N2 -> 3 | O8: =P2 -> 1 | Q8: =R2 -> 4
B9: R | C9: =('Autres voyageurs'!D3-D$2)^2 -> 1 | D9: =C9*C$8 -> 2 | E9: =('Autres voyageurs'!F3-F$2)^2 -> 4 | F9: =E9*E$8 -> 12 | G9: =('Autres voyageurs'!H3-H$2)^2 -> 1 | H9: =G9*G$8 -> 3 | I9: =('Autres voyageurs'!J3-J$2)^2 -> 4 | J9: =I9*I$8 -> 12 | K9: =('Autres voyageurs'!L3-L$2)^2 -> 16 | L9: =K9*K$8 -> 16 | M9: =('Autres voyageurs'!N3-N$2)^2 -> 4 | N9: =M9*M$8 -> 12 | O9: =('Autres voyageurs'!P3-P$2)^2 -> 4 | P9: =O9*O$8 -> 4 | Q9: =('Autres voyageurs'!R3-R$2)^2 -> 4 | R9: =Q9*Q$8 -> 16 | T9: =S9*S8 -> 0 | U9: =D9+F9+H9+J9+N9+P9+R9 -> 61
B10: S | C10: =('Autres voyageurs'!D4-D$2)^2 -> 1 | D10: =C10*C$8 -> 2 | E10: =('Autres voyageurs'!F4-F$2)^2 -> 4 | F10: =E10*E$8 -> 12 | G10: =('Autres voyageurs'!H4-H$2)^2 -> 4 | H10: =G10*G$8 -> 12 | I10: =('Autres voyageurs'!J4-J$2)^2 -> 4 | J10: =I10*I$8 -> 12 | K10: =('Autres voyageurs'!L4-L$2)^2 -> 0 | L10: =K10*K$8 -> 0 | M10: =('Autres voyageurs'!N4-N$2)^2 -> 4 | N10: =M10*M$8 -> 12 | O10: =('Autres voyageurs'!P4-P$2)^2 -> 4 | P10: =O10*O$8 -> 4 | Q10: =('Autres voyageurs'!R4-R$2)^2 -> 0 | R10: =Q10*Q$8 -> 0 | T10: =S10*S8 -> 0 | U10: =D10+F10+H10+J10+N10+P10+R10 -> 54
B11: T | C11: =('Autres voyageurs'!D5-D$2)^2 -> 1 | D11: =C11*C$8 -> 2 | E11: =('Autres voyageurs'!F5-F$2)^2 -> 4 | F11: =E11*E$8 -> 12 | G11: =('Autres voyageurs'!H5-H$2)^2 -> 1 | H11: =G11*G$8 -> 3 | I11: =('Autres voyageurs'!J5-J$2)^2 -> 4 | J11: =I11*I$8 -> 12 | K11: =('Autres voyageurs'!L5-L$2)^2 -> 0 | L11: =K11*K$8 -> 0 | M11: =('Autres voyageurs'!N5-N$2)^2 -> 1 | N11: =M11*M$8 -> 3 | O11: =('Autres voyageurs'!P5-P$2)^2 -> 0 | P11: =O11*O$8 -> 0 | Q11: =('Autres voyageurs'!R5-R$2)^2 -> 1 | R11: =Q11*Q$8 -> 4 | T11: =S11*S10 -> 0 | U11: =D11+F11+H11+J11+N11+P11+R11 -> 36
B12: U | C12: =('Autres voyageurs'!D6-D$2)^2 -> 9 | D12: =C12*C$8 -> 18 | E12: =('Autres voyageurs'!F6-F$2)^2 -> 4 | F12: =E12*E$8 -> 12 | G12: =('Autres voyageurs'!H6-H$2)^2 -> 4 | H12: =G12*G$8 -> 12 | I12: =('Autres voyageurs'!J6-J$2)^2 -> 0 | J12: =I12*I$8 -> 0 | K12: =('Autres voyageurs'!L6-L$2)^2 -> 0 | L12: =K12*K$8 -> 0 | M12: =('Autres voyageurs'!N6-N$2)^2 -> 1 | N12: =M12*M$8 -> 3 | O12: =('Autres voyageurs'!P6-P$2)^2 -> 1 | P12: =O12*O$8 -> 1 | Q12: =('Autres voyageurs'!R6-R$2)^2 -> 9 | R12: =Q12*Q$8 -> 36 | T12: =S12*S10 -> 0 | U12: =D12+F12+H12+J12+N12+P12+R12 -> 82
D13: =C13*C12 -> 0 | F13: =E13*E12 -> 0 | H13: =G13*G12 -> 0 | J13: =I13*I12 -> 0 | L13: =K13*K12 -> 0 | N13: =M13*M12 -> 0 | P13: =O13*O12 -> 0 | R13: =Q13*Q12 -> 0 | T13: =S13*S12 -> 0 | U13: =D13+F13+H13+J13+L13+T13 -> 0
D14: =C14*C12 -> 0 | F14: =E14*E12 -> 0 | H14: =G14*G12 -> 0 | J14: =I14*I12 -> 0 | L14: =K14*K12 -> 0 | N14: =M14*M12 -> 0 | P14: =O14*O12 -> 0 | R14: =Q14*Q12 -> 0 | T14: =S14*S12 -> 0 | U14: =D14+F14+H14+J14+L14+T14 -> 0
D15: =C15*C14 -> 0 | F15: =E15*E14 -> 0 | H15: =G15*G14 -> 0 | J15: =I15*I14 -> 0 | L15: =K15*K14 -> 0 | N15: =M15*M14 -> 0 | P15: =O15*O14 -> 0 | R15: =Q15*Q14 -> 0 | T15: =S15*S14 -> 0 | U15: =D15+F15+H15+J15+L15+T15 -> 0
D16: =C16*C14 -> 0 | F16: =E16*E14 -> 0 | H16: =G16*G14 -> 0 | J16: =I16*I14 -> 0 | L16: =K16*K14 -> 0 | N16: =M16*M14 -> 0 | P16: =O16*O14 -> 0 | R16: =Q16*Q14 -> 0 | T16: =S16*S14 -> 0 | U16: =D16+F16+H16+J16+L16+T16 -> 0
D17: =C17*C16 -> 0 | F17: =E17*E16 -> 0 | H17: =G17*G16 -> 0 | J17: =I17*I16 -> 0 | L17: =K17*K16 -> 0 | N17: =M17*M16 -> 0 | P17: =O17*O16 -> 0 | R17: =Q17*Q16 -> 0 | T17: =S17*S16 -> 0 | U17: =D17+F17+H17+J17+L17+T17 -> 0
D18: =C18*C16 -> 0 | F18: =E18*E16 -> 0 | H18: =G18*G16 -> 0 | J18: =I18*I16 -> 0 | L18: =K18*K16 -> 0 | N18: =M18*M16 -> 0 | P18: =O18*O16 -> 0 | R18: =Q18*Q16 -> 0 | T18: =S18*S16 -> 0 | U18: =D18+F18+H18+J18+L18+T18 -> 0
D19: =C19*C18 -> 0 | F19: =E19*E18 -> 0 | H19: =G19*G18 -> 0 | J19: =I19*I18 -> 0 | L19: =K19*K18 -> 0 | N19: =M19*M18 -> 0 | P19: =O19*O18 -> 0 | R19: =Q19*Q18 -> 0 | T19: =S19*S18 -> 0 | U19: =D19+F19+H19+J19+L19+T19 -> 0
D20: =C20*C18 -> 0 | F20: =E20*E18 -> 0 | H20: =G20*G18 -> 0 | J20: =I20*I18 -> 0 | L20: =K20*K18 -> 0 | N20: =M20*M18 -> 0 | P20: =O20*O18 -> 0 | R20: =Q20*Q18 -> 0 | T20: =S20*S18 -> 0 | U20: =D20+F20+H20+J20+L20+T20 -> 0
D21: =C21*C20 -> 0 | F21: =E21*E20 -> 0 | H21: =G21*G20 -> 0 | J21: =I21*I20 -> 0 | L21: =K21*K20 -> 0 | N21: =M21*M20 -> 0 | P21: =O21*O20 -> 0 | R21: =Q21*Q20 -> 0 | T21: =S21*S20 -> 0 | U21: =D21+F21+H21+J21+L21+T21 -> 0

Sheet Critères
B2: QUESTIONS | C2: POINTS
C3: 1 | D3: 2 | E3: 3 | F3: 4 | G3: 5
A4: A | B4: Sur une note de 1 à 5, 1 plutôt maniaque et 5 plutôt bordélique
A5: B | B5: Sur une note de 1 à 5, 1 plutôt timide et 5 plutôt sociable
A6: C | B6: Sur une note de 1 à 5, 1 plutôt loin des réseaux et 5 plutôt hyperconnecté
A7: D | B7: Sur une note de 1 à 5, 1 plutôt couche tard et 5 couche tôt
A8: E | B8: Sur une note de 1 à 5, votre tolérence vis à vis de la cigarette 1 pas du tout et 5 fumeur
A9: F | B9: Sur une note de 1 à 5, 1 plutôt soirée maison et 5 plutôt fétard
A10: G | B10: Mon type de vancances | C10: Aventurier | D10: Détente | E10: Culture | F10: Festive | G10: Autre
A11: H | B11: Je préfère des vancances | C11: Mer | D11: Montagne | E11: Canpagne | F11: Ville | G11: Autre

Sheet Autres voyageurs
A3: R | C3: A | D3: 1 | E3: B | F3: 5 | G3: C | H3: 2 | I3: D | J3: 5 | K3: E | L3: 5 | M3: F | N3: 5 | O3: G | P3: 3 | Q3: H | R3: 2
A4: S | C4: A | D4: 3 | E4: B | F4: 5 | G4: C | H4: 5 | I4: D | J4: 1 | K4: E | L4: 1 | M4: F | N4: 1 | O4: G | P4: 3 | Q4: H | R4: 4
A5: T | C5: A | D5: 3 | E5: B | F5: 5 | G5: C | H5: 4 | I5: D | J5: 1 | K5: E | L5: 1 | M5: F | N5: 4 | O5: G | P5: 1 | Q5: H | R5: 3
A6: U | C6: A | D6: 5 | E6: B | F6: 5 | G6: C | H6: 5 | I6: D | J6: 3 | K6: E | L6: 1 | M6: F | N6: 4 | O6: G | P6: 2 | Q6: H | R6: 1
