Workbook
Name Année: '[1]Tableau des congés'!$B$6
Name Année: 'Tableau des congés'!$B$6

Sheet config
B1: 2021
B2: date d'entrée | C2: =DATE(2021,1,1) -> 44197
C4: start | D4: stop
B5: janvier | C5: =C2 -> 44197 | D5: =EOMONTH(C5,0) -> 44227 | F5: =C5 -> 44197 | G5: =F5+1 -> 44198 | H5: =G5+1 -> 44199 | I5: =H5+1 -> 44200 | J5: =I5+1 -> 44201 | K5: =J5+1 -> 44202 | L5: =K5+1 -> 44203 | M5: =L5+1 -> 44204 | N5: =M5+1 -> 44205 | ... AG5: =AF5+1 -> 44224 | AH5: =IFERROR(IF(AG5+1>$D$5,"",AG5+1),"") -> 44225 | AI5: =IFERROR(IF(AH5+1>$D$5,"",AH5+1),"") -> 44226 | AJ5: =IFERROR(IF(AI5+1>$D$5,"",AI5+1),"") -> 44227
B6: février | C6: =EDATE(C5,1) -> 44228 | D6: =EOMONTH(C6,0) -> 44255 | F6: =C6 -> 44228 | G6: =F6+1 -> 44229 | H6: =G6+1 -> 44230 | I6: =H6+1 -> 44231 | J6: =I6+1 -> 44232 | K6: =J6+1 -> 44233 | L6: =K6+1 -> 44234 | M6: =L6+1 -> 44235 | N6: =M6+1 -> 44236 | ... AG6: =AF6+1 -> 44255 | AH6: =IFERROR(IF(AG6+1>D6,"",AG6+1),"") | AI6: =IFERROR(IF(AH6+1>E6,"",AH6+1),"") | AJ6: =IFERROR(IF(AI6+1>F6,"",AI6+1),"")
B7: mars | C7: =EDATE(C6,1) -> 44256 | D7: =EOMONTH(C7,0) -> 44286 | F7: =C7 -> 44256 | G7: =F7+1 -> 44257 | H7: =G7+1 -> 44258 | I7: =H7+1 -> 44259 | J7: =I7+1 -> 44260 | K7: =J7+1 -> 44261 | L7: =K7+1 -> 44262 | M7: =L7+1 -> 44263 | N7: =M7+1 -> 44264 | ... AG7: =AF7+1 -> 44283 | AH7: =IFERROR(IF(AG7+1>D7,"",AG7+1),"") -> 44284 | AI7: =IFERROR(IF(AH7+1>D7,"",AH7+1),"") -> 44285 | AJ7: =IFERROR(IF(AI7+1>D7,"",AI7+1),"") -> 44286
B8: avril | C8: =EDATE(C7,1) -> 44287 | D8: =EOMONTH(C8,0) -> 44316 | F8: =C8 -> 44287 | G8: =F8+1 -> 44288 | H8: =G8+1 -> 44289 | I8: =H8+1 -> 44290 | J8: =I8+1 -> 44291 | K8: =J8+1 -> 44292 | L8: =K8+1 -> 44293 | M8: =L8+1 -> 44294 | N8: =M8+1 -> 44295 | ... AG8: =AF8+1 -> 44314 | AH8: =IFERROR(IF(AG8+1>$D$8,"",AG8+1),"") -> 44315 | AI8: =IFERROR(IF(AH8+1>$D$8,"",AH8+1),"") -> 44316 | AJ8: =IFERROR(IF(AI8+1>$D$8,"",AI8+1),"")
B9: mai | C9: =EDATE(C8,1) -> 44317 | D9: =EOMONTH(C9,0) -> 44347 | F9: =C9 -> 44317 | G9: =F9+1 -> 44318 | H9: =G9+1 -> 44319 | I9: =H9+1 -> 44320 | J9: =I9+1 -> 44321 | K9: =J9+1 -> 44322 | L9: =K9+1 -> 44323 | M9: =L9+1 -> 44324 | N9: =M9+1 -> 44325 | ... AG9: =AF9+1 -> 44344 | AH9: =IFERROR(IF(AG9+1>$D$9,"",AG9+1),"") -> 44345 | AI9: =IFERROR(IF(AH9+1>$D$9,"",AH9+1),"") -> 44346 | AJ9: =IFERROR(IF(AI9+1>$D$9,"",AI9+1),"") -> 44347
B10: juin | C10: =EDATE(C9,1) -> 44348 | D10: =EOMONTH(C10,0) -> 44377 | F10: =C10 -> 44348 | G10: =F10+1 -> 44349 | H10: =G10+1 -> 44350 | I10: =H10+1 -> 44351 | J10: =I10+1 -> 44352 | K10: =J10+1 -> 44353 | L10: =K10+1 -> 44354 | M10: =L10+1 -> 44355 | N10: =M10+1 -> 44356 | ... AG10: =AF10+1 -> 44375 | AH10: =IFERROR(IF(AG10+1>$D$10,"",AG10+1),"") -> 44376 | AI10: =IFERROR(IF(AH10+1>$D$10,"",AH10+1),"") -> 44377 | AJ10: =IFERROR(IF(AI10+1>$D$10,"",AI10+1),"")
B11: juillet | C11: =EDATE(C10,1) -> 44378 | D11: =EOMONTH(C11,0) -> 44408 | F11: =C11 -> 44378 | G11: =F11+1 -> 44379 | H11: =G11+1 -> 44380 | I11: =H11+1 -> 44381 | J11: =I11+1 -> 44382 | K11: =J11+1 -> 44383 | L11: =K11+1 -> 44384 | M11: =L11+1 -> 44385 | N11: =M11+1 -> 44386 | ... AG11: =AF11+1 -> 44405 | AH11: =IFERROR(IF(AG11+1>$D$11,"",AG11+1),"") -> 44406 | AI11: =IFERROR(IF(AH11+1>$D$11,"",AH11+1),"") -> 44407 | AJ11: =IFERROR(IF(AI11+1>$D$11,"",AI11+1),"") -> 44408
B12: août | C12: =EDATE(C11,1) -> 44409 | D12: =EOMONTH(C12,0) -> 44439 | F12: =C12 -> 44409 | G12: =F12+1 -> 44410 | H12: =G12+1 -> 44411 | I12: =H12+1 -> 44412 | J12: =I12+1 -> 44413 | K12: =J12+1 -> 44414 | L12: =K12+1 -> 44415 | M12: =L12+1 -> 44416 | N12: =M12+1 -> 44417 | ... AG12: =AF12+1 -> 44436 | AH12: =IFERROR(IF(AG12+1>$D$12,"",AG12+1),"") -> 44437 | AI12: =IFERROR(IF(AH12+1>$D$12,"",AH12+1),"") -> 44438 | AJ12: =IFERROR(IF(AI12+1>$D$12,"",AI12+1),"") -> 44439
B13: septembre | C13: =EDATE(C12,1) -> 44440 | D13: =EOMONTH(C13,0) -> 44469 | F13: =C13 -> 44440 | G13: =F13+1 -> 44441 | H13: =G13+1 -> 44442 | I13: =H13+1 -> 44443 | J13: =I13+1 -> 44444 | K13: =J13+1 -> 44445 | L13: =K13+1 -> 44446 | M13: =L13+1 -> 44447 | N13: =M13+1 -> 44448 | ... AG13: =AF13+1 -> 44467 | AH13: =IFERROR(IF(AG13+1>$D$13,"",AG13+1),"") -> 44468 | AI13: =IFERROR(IF(AH13+1>$D$13,"",AH13+1),"") -> 44469 | AJ13: =IFERROR(IF(AI13+1>$D$13,"",AI13+1),"")
B14: octobre | C14: =EDATE(C13,1) -> 44470 | D14: =EOMONTH(C14,0) -> 44500 | F14: =C14 -> 44470 | G14: =F14+1 -> 44471 | H14: =G14+1 -> 44472 | I14: =H14+1 -> 44473 | J14: =I14+1 -> 44474 | K14: =J14+1 -> 44475 | L14: =K14+1 -> 44476 | M14: =L14+1 -> 44477 | N14: =M14+1 -> 44478 | ... AG14: =AF14+1 -> 44497 | AH14: =IFERROR(IF(AG14+1>$D$14,"",AG14+1),"") -> 44498 | AI14: =IFERROR(IF(AH14+1>$D$14,"",AH14+1),"") -> 44499 | AJ14: =IFERROR(IF(AI14+1>$D$14,"",AI14+1),"") -> 44500
B15: novembre | C15: =EDATE(C14,1) -> 44501 | D15: =EOMONTH(C15,0) -> 44530 | F15: =C15 -> 44501 | G15: =F15+1 -> 44502 | H15: =G15+1 -> 44503 | I15: =H15+1 -> 44504 | J15: =I15+1 -> 44505 | K15: =J15+1 -> 44506 | L15: =K15+1 -> 44507 | M15: =L15+1 -> 44508 | N15: =M15+1 -> 44509 | ... AG15: =AF15+1 -> 44528 | AH15: =IFERROR(IF(AG15+1>$D$15,"",AG15+1),"") -> 44529 | AI15: =IFERROR(IF(AH15+1>$D$15,"",AH15+1),"") -> 44530 | AJ15: =IFERROR(IF(AI15+1>$D$15,"",AI15+1),"")
B16: décembre | C16: =EDATE(C15,1) -> 44531 | D16: =EOMONTH(C16,0) -> 44561 | F16: =C16 -> 44531 | G16: =F16+1 -> 44532 | H16: =G16+1 -> 44533 | I16: =H16+1 -> 44534 | J16: =I16+1 -> 44535 | K16: =J16+1 -> 44536 | L16: =K16+1 -> 44537 | M16: =L16+1 -> 44538 | N16: =M16+1 -> 44539 | ... AG16: =AF16+1 -> 44558 | AH16: =IFERROR(IF(AG16+1>$D$16,"",AG16+1),"") -> 44559 | AI16: =IFERROR(IF(AH16+1>$D$16,"",AH16+1),"") -> 44560 | AJ16: =IFERROR(IF(AI16+1>$D$16,"",AI16+1),"") -> 44561
A18: Jours ouvrés | B18: Mercredis | D18: Jours fériés | F18: lundi | G18: 1 | H18: 9
A19: =NETWORKDAYS(C5,D16,D19:D31) -> 254 | B19: =SUMPRODUCT(N(WEEKDAY(ROW(INDIRECT(C5&":"&D16)),2)=3)) -> 52 | C19: Jour de l'an | D19: =DATE(B1,1,1) -> 44197 | F19: mardi | G19: 2 | H19: 9
C20: Pâques | D20: =ROUND(DATE(B1,4,MOD(234-11*MOD(B1,19),30))/7,0)*7-6 -> 44290 | F20: mercredi | G20: 3 | H20: 3
A21: Jours ouvrés sans mercredis | C21: Lundi de Pâques | D21: =D20+1 -> 44291 | F21: jeudi | G21: 4 | H21: 9
A22: =A19-B19 -> 202 | C22: Fête du travail | D22: =DATE(B1,5,1) -> 44317 | F22: vendredi | G22: 5 | H22: 9
C23: Victoire 1945 | D23: =DATE(B1,5,8) -> 44324 | F23: samedi | G23: 6 | H23: 0
C24: Ascension | D24: =D20+39 -> 44329 | F24: dimanche | G24: 7 | H24: 0
C25: Pentecôte | D25: =D20+49 -> 44339 | F25: error | G25: 8 | H25: 0
C26: Lundi de Pentecôte | D26: =D25+1 -> 44340
C27: Fête nationale | D27: =DATE(B1,7,14) -> 44391
C28: Assomption | D28: =DATE(B1,8,15) -> 44423
C29: Toussaint | D29: =DATE(B1,11,1) -> 44501
C30: Armistice 1918 | D30: =DATE(B1,11,11) -> 44511
C31: Noël | D31: =DATE(B1,12,25) -> 44555

Sheet Tableau des congés
B2: TABLEAU DES CONGES
B6: 2021
B7: JANVIER
B9: =config!F5 -> 44197 | C9: =config!G5 -> 44198 | D9: =config!H5 -> 44199 | E9: =config!I5 -> 44200 | F9: =config!J5 -> 44201 | G9: =config!K5 -> 44202 | H9: =config!L5 -> 44203 | I9: =config!M5 -> 44204 | ... AF9: =config!AJ5 -> 44227 | AG9: TOTAL | AH9: Nombre d'heures totales : | AK9: {=SUMPRODUCT(VLOOKUP(IFERROR(WEEKDAY(B9:AF9,2),8),config!$G$18:$H$25,2,FALSE)*(IFERROR(IF(MATCH(B9:AF9,config!$D$19:$D$31,0)>0,0,1),1)))} -> 156
B10: =B9 -> 44197 | C10: =C9 -> 44198 | D10: =D9 -> 44199 | E10: =E9 -> 44200 | F10: =F9 -> 44201 | G10: =G9 -> 44202 | H10: =H9 -> 44203 | I10: =I9 -> 44204 | ... AF10: =AF9 -> 44227 | AG10: =COUNTA(B11:AF11) -> 0 | AH10: Nombre d'heures effectuées : | AK10: {=SUMPRODUCT(VLOOKUP(IFERROR(WEEKDAY(B9:AF9,2),8),config!$G$18:$H$25,2,FALSE)*(IFERROR(IF(MATCH(B9:AF9,config!$D$19:$D$31,0)>0,0,1),1))*(B9:AF9<=TODAY())*(B11:AF11=""))} -> 156
AG11: =SUM(B11:AF11) -> 0 | AH11: Nombre d'heures restantes : | AK11: =AK9-AK10 -> 0
B12: FEVRIER
B14: =config!F6 -> 44228 | C14: =config!G6 -> 44229 | D14: =config!H6 -> 44230 | E14: =config!I6 -> 44231 | F14: =config!J6 -> 44232 | G14: =config!K6 -> 44233 | H14: =config!L6 -> 44234 | I14: =config!M6 -> 44235 | ... AF14: =config!AJ6 | AG14: TOTAL | AH14: Nombre d'heures totales : | AK14: {=SUMPRODUCT(VLOOKUP(IFERROR(WEEKDAY(B14:AF14,2),8),config!$G$18:$H$25,2,FALSE)*(IFERROR(IF(MATCH(B14:AF14,config!$D$19:$D$31,0)>0,0,1),1)))} -> 156
B15: =B14 -> 44228 | C15: =C14 -> 44229 | D15: =D14 -> 44230 | E15: =E14 -> 44231 | F15: =F14 -> 44232 | G15: =G14 -> 44233 | H15: =H14 -> 44234 | I15: =I14 -> 44235 | ... AF15: =AF14 | AG15: =COUNTA(B16:AF16) -> 0 | AH15: Nombre d'heures effectuées : | AK15: {=SUMPRODUCT(VLOOKUP(IFERROR(WEEKDAY(B14:AF14,2),8),config!$G$18:$H$25,2,FALSE)*(IFERROR(IF(MATCH(B14:AF14,config!$D$19:$D$31,0)>0,0,1),1))*(B14:AF14<=TODAY())*(B16:AF16=""))} -> 156
AG16: =SUM(B16:AF16) -> 0 | AH16: Nombre d'heures restantes : | AK16: =AK14-AK15 -> 0
B17: MARS
B19: =config!F7 -> 44256 | C19: =config!G7 -> 44257 | D19: =config!H7 -> 44258 | E19: =config!I7 -> 44259 | F19: =config!J7 -> 44260 | G19: =config!K7 -> 44261 | H19: =config!L7 -> 44262 | I19: =config!M7 -> 44263 | ... AF19: =config!AJ7 -> 44286 | AG19: TOTAL | AH19: Nombre d'heures totales : | AK19: {=SUMPRODUCT(VLOOKUP(IFERROR(WEEKDAY(B19:AF19,2),8),config!$G$18:$H$25,2,FALSE)*(IFERROR(IF(MATCH(B19:AF19,config!$D$19:$D$31,0)>0,0,1),1)))} -> 177
B20: =B19 -> 44256 | C20: =C19 -> 44257 | D20: =D19 -> 44258 | E20: =E19 -> 44259 | F20: =F19 -> 44260 | G20: =G19 -> 44261 | H20: =H19 -> 44262 | I20: =I19 -> 44263 | ... AF20: =AF19 -> 44286 | AG20: =COUNTA(B21:AF21) -> 0 | AH20: Nombre d'heures effectuées : | AK20: {=SUMPRODUCT(VLOOKUP(IFERROR(WEEKDAY(B19:AF19,2),8),config!$G$18:$H$25,2,FALSE)*(IFERROR(IF(MATCH(B19:AF19,config!$D$19:$D$31,0)>0,0,1),1))*(B19:AF19<=TODAY())*(B21:AF21=""))} -> 147
AG21: =SUM(B21:AF21) -> 0 | AH21: Nombre d'heures restantes : | AK21: =AK19-AK20 -> 30
B22: AVRIL
B24: =config!F8 -> 44287 | C24: =config!G8 -> 44288 | D24: =config!H8 -> 44289 | E24: =config!I8 -> 44290 | F24: =config!J8 -> 44291 | G24: =config!K8 -> 44292 | H24: =config!L8 -> 44293 | I24: =config!M8 -> 44294 | ... AF24: =config!AJ8 | AG24: TOTAL | AH24: Nombre d'heures totales : | AK24: {=SUMPRODUCT(VLOOKUP(IFERROR(WEEKDAY(B24:AF24,2),8),config!$G$18:$H$25,2,FALSE)*(IFERROR(IF(MATCH(B24:AF24,config!$D$19:$D$31,0)>0,0,1),1)))} -> 165
B25: =B24 -> 44287 | C25: =C24 -> 44288 | D25: =D24 -> 44289 | E25: =E24 -> 44290 | F25: =F24 -> 44291 | G25: =G24 -> 44292 | H25: =H24 -> 44293 | I25: =I24 -> 44294 | ... AF25: =AF24 | AG25: =COUNTA(B26:AF26) -> 0 | AH25: Nombre d'heures effectuées : | AK25: {=SUMPRODUCT(VLOOKUP(IFERROR(WEEKDAY(B24:AF24,2),8),config!$G$18:$H$25,2,FALSE)*(IFERROR(IF(MATCH(B24:AF24,config!$D$19:$D$31,0)>0,0,1),1))*(B24:AF24<=TODAY())*(B26:AF26=""))} -> 0
AG26: =SUM(B26:AF26) -> 0 | AH26: Nombre d'heures restantes : | AK26: =AK24-AK25 -> 165
B27: MAI
B29: =config!F9 -> 44317 | C29: =config!G9 -> 44318 | D29: =config!H9 -> 44319 | E29: =config!I9 -> 44320 | F29: =config!J9 -> 44321 | G29: =config!K9 -> 44322 | H29: =config!L9 -> 44323 | I29: =config!M9 -> 44324 | ... AF29: =config!AJ9 -> 44347 | AG29: TOTAL | AH29: Nombre d'heures totales : | AK29: {=SUMPRODUCT(VLOOKUP(IFERROR(WEEKDAY(B29:AF29,2),8),config!$G$18:$H$25,2,FALSE)*(IFERROR(IF(MATCH(B29:AF29,config!$D$19:$D$31,0)>0,0,1),1)))} -> 147
B30: =B29 -> 44317 | C30: =C29 -> 44318 | D30: =D29 -> 44319 | E30: =E29 -> 44320 | F30: =F29 -> 44321 | G30: =G29 -> 44322 | H30: =H29 -> 44323 | I30: =I29 -> 44324 | ... AF30: =AF29 -> 44347 | AG30: =COUNTA(B31:AF31) -> 0 | AH30: Nombre d'heures effectuées : | AK30: {=SUMPRODUCT(VLOOKUP(IFERROR(WEEKDAY(B29:AF29,2),8),config!$G$18:$H$25,2,FALSE)*(IFERROR(IF(MATCH(B29:AF29,config!$D$19:$D$31,0)>0,0,1),1))*(B29:AF29<=TODAY())*(B31:AF31=""))} -> 0
AG31: =SUM(B31:AF31) -> 0 | AH31: Nombre d'heures restantes : | AK31: =AK29-AK30 -> 147
B32: JUIN
B34: =config!F10 -> 44348 | C34: =config!G10 -> 44349 | D34: =config!H10 -> 44350 | E34: =config!I10 -> 44351 | F34: =config!J10 -> 44352 | G34: =config!K10 -> 44353 | H34: =config!L10 -> 44354 | I34: =config!M10 -> 44355 | ... AF34: =config!AJ10 | AG34: TOTAL | AH34: Nombre d'heures totales : | AK34: {=SUMPRODUCT(VLOOKUP(IFERROR(WEEKDAY(B34:AF34,2),8),config!$G$18:$H$25,2,FALSE)*(IFERROR(IF(MATCH(B34:AF34,config!$D$19:$D$31,0)>0,0,1),1)))} -> 168
B35: =B34 -> 44348 | C35: =C34 -> 44349 | D35: =D34 -> 44350 | E35: =E34 -> 44351 | F35: =F34 -> 44352 | G35: =G34 -> 44353 | H35: =H34 -> 44354 | I35: =I34 -> 44355 | ... AF35: =AF34 | AG35: =COUNTA(B36:AF36) -> 0 | AH35: Nombre d'heures effectuées : | AK35: {=SUMPRODUCT(VLOOKUP(IFERROR(WEEKDAY(B34:AF34,2),8),config!$G$18:$H$25,2,FALSE)*(IFERROR(IF(MATCH(B34:AF34,config!$D$19:$D$31,0)>0,0,1),1))*(B34:AF34<=TODAY())*(B36:AF36=""))} -> 0
AG36: =SUM(B36:AF36) -> 0 | AH36: Nombre d'heures restantes : | AK36: =AK34-AK35 -> 168
B37: JUILLET
B39: =config!F11 -> 44378 | C39: =config!G11 -> 44379 | D39: =config!H11 -> 44380 | E39: =config!I11 -> 44381 | F39: =config!J11 -> 44382 | G39: =config!K11 -> 44383 | H39: =config!L11 -> 44384 | I39: =config!M11 -> 44385 | ... AF39: =config!AJ11 -> 44408 | AG39: TOTAL | AH39: Nombre d'heures totales : | AK39: {=SUMPRODUCT(VLOOKUP(IFERROR(WEEKDAY(B39:AF39,2),8),config!$G$18:$H$25,2,FALSE)*(IFERROR(IF(MATCH(B39:AF39,config!$D$19:$D$31,0)>0,0,1),1)))} -> 171
B40: =B39 -> 44378 | C40: =C39 -> 44379 | D40: =D39 -> 44380 | E40: =E39 -> 44381 | F40: =F39 -> 44382 | G40: =G39 -> 44383 | H40: =H39 -> 44384 | I40: =I39 -> 44385 | ... AF40: =AF39 -> 44408 | AG40: =COUNTA(B41:AF41) -> 0 | AH40: Nombre d'heures effectuées : | AK40: {=SUMPRODUCT(VLOOKUP(IFERROR(WEEKDAY(B39:AF39,2),8),config!$G$18:$H$25,2,FALSE)*(IFERROR(IF(MATCH(B39:AF39,config!$D$19:$D$31,0)>0,0,1),1))*(B39:AF39<=TODAY())*(B41:AF41=""))} -> 0
AG41: =SUM(B41:AF41) -> 0 | AH41: Nombre d'heures restantes : | AK41: =AK39-AK40 -> 171
B42: AOUT
B44: =config!F12 -> 44409 | C44: =config!G12 -> 44410 | D44: =config!H12 -> 44411 | E44: =config!I12 -> 44412 | F44: =config!J12 -> 44413 | G44: =config!K12 -> 44414 | H44: =config!L12 -> 44415 | I44: =config!M12 -> 44416 | ... AF44: =config!AJ12 -> 44439 | AG44: TOTAL | AH44: Nombre d'heures totales : | AK44: {=SUMPRODUCT(VLOOKUP(IFERROR(WEEKDAY(B44:AF44,2),8),config!$G$18:$H$25,2,FALSE)*(IFERROR(IF(MATCH(B44:AF44,config!$D$19:$D$31,0)>0,0,1),1)))} -> 174
B45: =B44 -> 44409 | C45: =C44 -> 44410 | D45: =D44 -> 44411 | E45: =E44 -> 44412 | F45: =F44 -> 44413 | G45: =G44 -> 44414 | H45: =H44 -> 44415 | I45: =I44 -> 44416 | ... AF45: =AF44 -> 44439 | AG45: =COUNTA(B46:AF46) -> 0 | AH45: Nombre d'heures effectuées : | AK45: {=SUMPRODUCT(VLOOKUP(IFERROR(WEEKDAY(B44:AF44,2),8),config!$G$18:$H$25,2,FALSE)*(IFERROR(IF(MATCH(B44:AF44,config!$D$19:$D$31,0)>0,0,1),1))*(B44:AF44<=TODAY())*(B46:AF46=""))} -> 0
AG46: =SUM(B46:AF46) -> 0 | AH46: Nombre d'heures restantes : | AK46: =AK44-AK45 -> 174
B47: SEPTEMBRE
B49: =config!F13 -> 44440 | C49: =config!G13 -> 44441 | D49: =config!H13 -> 44442 | E49: =config!I13 -> 44443 | F49: =config!J13 -> 44444 | G49: =config!K13 -> 44445 | H49: =config!L13 -> 44446 | I49: =config!M13 -> 44447 | ... AF49: =config!AJ13 | AG49: TOTAL | AH49: Nombre d'heures totales : | AK49: {=SUMPRODUCT(VLOOKUP(IFERROR(WEEKDAY(B49:AF49,2),8),config!$G$18:$H$25,2,FALSE)*(IFERROR(IF(MATCH(B49:AF49,config!$D$19:$D$31,0)>0,0,1),1)))} -> 168
B50: =B49 -> 44440 | C50: =C49 -> 44441 | D50: =D49 -> 44442 | E50: =E49 -> 44443 | F50: =F49 -> 44444 | G50: =G49 -> 44445 | H50: =H49 -> 44446 | I50: =I49 -> 44447 | ... AF50: =AF49 | AG50: =COUNTA(B51:AF51) -> 0 | AH50: Nombre d'heures effectuées : | AK50: {=SUMPRODUCT(VLOOKUP(IFERROR(WEEKDAY(B49:AF49,2),8),config!$G$18:$H$25,2,FALSE)*(IFERROR(IF(MATCH(B49:AF49,config!$D$19:$D$31,0)>0,0,1),1))*(B49:AF49<=TODAY())*(B51:AF51=""))} -> 0
AG51: =SUM(B51:AF51) -> 0 | AH51: Nombre d'heures restantes : | AK51: =AK49-AK50 -> 168
B52: OCTOBRE
B54: =config!F14 -> 44470 | C54: =config!G14 -> 44471 | D54: =config!H14 -> 44472 | E54: =config!I14 -> 44473 | F54: =config!J14 -> 44474 | G54: =config!K14 -> 44475 | H54: =config!L14 -> 44476 | I54: =config!M14 -> 44477 | ... AF54: =config!AJ14 -> 44500 | AG54: TOTAL | AH54: Nombre d'heures totales : | AK54: {=SUMPRODUCT(VLOOKUP(IFERROR(WEEKDAY(B54:AF54,2),8),config!$G$18:$H$25,2,FALSE)*(IFERROR(IF(MATCH(B54:AF54,config!$D$19:$D$31,0)>0,0,1),1)))} -> 165
...
