Workbook
Name An: FdGarde!$A$1

Sheet Fonctions
A1: Equipier Feu | C1: Equipier Sap | E1: Equipier VPR | G1: Equipier VTU | I1: Equipier CCF | K1: Cond FPTGP | M1: Cond CCF | O1: Cond VSAV | Q1: Cond VTU | S1: Cond VPR | U1: Cond VPCS | W1: Cond EPS | Y1: CA1 | AA1: CATE | AC1: CA CCF | AE1: CA VPCS
A2: DONZEL-GARGAND | C2: DONZEL-GARGAND | E2: DONZEL-GARGAND | G2: EERQBA-VLTXPXW | I2: SEOYOQ-TJVXOWV | K2: MSQEMA-JGACMNG | M2: FTAVPC-MQSOLEJ | O2: CVJWIX-YGXUTZQ | Q2: QXQUWH-GBAGQWX | S2: XVMPPP-GSCOBAP | U2: TJNBEV-IWIMQDE | W2: GQWWHV-JMCQEDB | Y2: GBNLLN-CKMEUQD | AA2: DKHVSM-HFUCUCC | AC2: XHUTDF-BWSRMGJ | AE2: GOGNLU-XOYKRWA
A3: ESQUER | C3: ESQUER | E3: ESQUER | G3: CXELRX | I3: DTKYVL | O3: LNHEWT | Q3: ARFWFS | S3: LOPMUQ | Y3: ZHFGVW | AA3: QUVNAM | AC3: AQHQFW | AE3: ZTLGUG
A4: RACHEX | C4: RACHEX | E4: RACHEX | G4: YXJAKT | I4: YZIIQP | Y4: JLEZAI | AA4: LHDTMA | AC4: XQHMBK | AE4: KSSZAZ
A5: DE SAINT JEAN | C5: DE SAINT JEAN | E5: DE SAINT JEAN | G5: MB LEGAN TFWK | I5: OP NINIB XAXS | K5: JG QAPJI DJJQ | M5: YS VOIMN AKDK | O5: PL JERQK FQPL | Q5: LQ IYHXX NDXE | S5: ZQ PNWVQ WAUS | U5: RT ENXNZ NABF | W5: MM AAODY AWXP | Y5: PI CGJLV EBDM | AA5: QC TBLXC ATTE | AC5: BW QYDAE QOGU
A6: ROQUES | C6: ROQUES | E6: ROQUES | G6: SOTZKT | I6: LCLZEJ | K6: QOJEPL | M6: CUVBLF | O6: JIBUPC | Q6: NOPCVG | S6: QARQAH | U6: PIOZXH | W6: COMKWM | Y6: TEIQYH | AA6: CIWXKK | AC6: SXGSOB | AE6: SAODRM
A7: CORBASSIERE | C7: CORBASSIERE | E7: CORBASSIERE | G7: LKZLVKOPCTC | I7: KPEESUWAHUX | K7: VHSMXQRLRZN | M7: DGQITYDKTKP | O7: KGUSZCHOWCN | Q7: QKDWUSTHAHK | S7: SOIFZCWYTAO | W7: FOOSBFADACC | Y7: DENPHXTXZZL | AA7: OLDPLPB | AC7: QJPUHTX | AE7: KNCXUZRK
A8: DEMMERLE | C8: DEMMERLE | E8: DEMMERLE | G8: EIWVCBFU | I8: BBJIZNQG | K8: YGTOFWQM | O8: ZHBQSPFF | Q8: IGEDFKRG | S8: XKIWTOCC | U8: EYGXKKFQ | Y8: IOSLWIMB | AE8: YCKGXD
A9: DUPONT | C9: DUPONT | E9: DUPONT | G9: KUTMSM | I9: OSVZHH | K9: FIXIFF | M9: ARLBRO | O9: CYCADK | Q9: SEXYNO | S9: ANJFYQ | U9: RUEXVP | W9: WSMBMF | Y9: PDVDXL | AE9: EQDDD
A10: FAFIN | C10: FAFIN | E10: FAFIN | G10: PCMZS | I10: HONZA | K10: YWIFM | M10: JASTI | O10: IJECO | Q10: ORKNF | S10: JRHCQ | U10: GSXHD | W10: TQHDA | Y10: JBDIK | AE10: ICDBH
A11: RIVAL | C11: RIVAL | E11: RIVAL | G11: RMWHX | I11: RRIMK | K11: BTPWY | M11: ZAFGV | O11: XOZAI | Q11: CRHQB | S11: KUZIL | W11: FMVNK | Y11: MQKFE | AE11: IEEKK
A12: PIOLI | C12: PIOLI | E12: PIOLI | G12: ABRSP | I12: QRTMB | K12: ZQADH | M12: ANCQA | O12: OEGRV | Q12: AVIVD | S12: CZFMF | U12: NIZYF | W12: KCBJY | Y12: DFQJQ | AE12: XBFLWT UBXAS
A13: SALLA | C13: SALLA | E13: SALLA | G13: NACWO | I13: CBEPR | K13: PHXXL | M13: QOPMA | O13: RKLDT | Q13: QSIUF | S13: CBKAM | U13: GEHXD | W13: PRSSJ | Y13: JGIID
A14: SEIGLE VATTE | C14: SEIGLE VATTE | E14: SEIGLE VATTE | G14: OCTLGW DZJXM | I14: TUTVFB JIHAJ | K14: HNARER YKMOY | M14: JELRHD NFYNW | O14: ZOPINO RQTAV | Q14: XVKUXH FSNYU | S14: YRDJWG KWBFC | U14: BOTKVG GCLPV | W14: LRCZTJ AJOOL | Y14: PBTBOF HOOVU
A15: HAZOTTE | C15: HAZOTTE | E15: HAZOTTE | G15: KRRJUJV | I15: AUVYYPV | K15: KARPQGS | O15: XKFXHJR | Q15: MBVTONN | S15: NPOQUNW | Y15: AYNJMQU
A16: PERRAND | C16: PERRAND | E16: PERRAND | G16: MJUVJJN | I16: CFBKFRB | K16: NCSHSIA | M16: LKAYDIP | O16: IPHFHPV | Q16: WMSZRMK | S16: IWGPRBC | W16: UMMUNST
O17: OLDPLPB

Sheet FdGarde
A1: 2021 | B1: VSAV 1 | F1: VSAV 2 | J1: VPR | L1: FPTGP | R1: EPS | T1: CCF | X1: VTU | Z1: VPCS | AB1: SoG | AC1: Stationnaire
A2: Nom | B2: C/A VSAV1 | C2: Cond VSAV1 | D2: Equ1 VSAV1 | E2: Equ 2 VSAV1 | F2: C/A VSAV2 | G2: Cond VSAV2 | H2: Equ1 VSAV2 | I2: Equ 2 VSAV2 | J2: C/A VPR | K2: Cond VPR | L2: C/A FPTGP | M2: Cond FPTGP | N2: CBAT | O2: EBAT | P2: CBAL | Q2: EBAL | R2: C/A EPS | S2: Cond EPS | T2: C/A CCF | U2: Cond CCF | V2: Equi 1 CCF | W2: Equ 2 CCF | X2: C/A VTU | Y2: Cond VTU | Z2: C/A VPCS | AA2: Cond VPCS | AB2: SoG | AC2: Stats
A3: {=DATE(An,1,1)} -> 44197
A4: =A3+1 -> 44198
A5: =A4+1 -> 44199
A6: =A5+1 -> 44200
A7: =A6+1 -> 44201
A8: =A7+1 -> 44202
A9: =A8+1 -> 44203
A10: =A9+1 -> 44204
A11: =A10+1 -> 44205
A12: =A11+1 -> 44206
A13: =A12+1 -> 44207
A14: =A13+1 -> 44208
A15: =A14+1 -> 44209
... A26: =A25+1 -> 44220
A27: =A26+1 -> 44221 | B27: RYVSM | C27: SXHYAMEPIFO | D27: SWSQMAA | F27: HBYYNW | G27: MOPJOUB | J27: JSQFYE | K27: UYWIW | L27: ESOCCB | M27: QHUDQ | N27: DYLZRHA | O27: NBZXZJW | P27: OVPFQE | U27: OMMDJ | V27: LXWHZJYQLYO | X27: MSICB
A28: =A27+1 -> 44222 | B28: RMYFCW | F28: HWRVYF | G28: ARFVJ | J28: FFYISY | K28: UXNTVFW | L28: EZ CGOON QFYB | N28: GBYFR | P28: PWVRBQ | Q28: IQSTVSM | T28: EWECGO | U28: WHBOZ | V28: BJVHDK | W28: BGYXYQO | Y28: ZWRFRIP
A29: =A28+1 -> 44223 | B29: NXQCI | C29: UPWUYWP | G29: OVFAT | H29: ZFTDRHC | K29: ZBQGX | L29: KXECKQ | N29: UJNCW | P29: FCGYISX | U29: GESZD | V29: WDBXBFX | X29: RXGWU
A30: =A29+1 -> 44224 | B30: VC CAVEX RXIN | C30: JHCKJ | F30: NGNXE | G30: AWQRKUA | H30: VPNDUJO | J30: MUFOE | K30: DKDTTSR | L30: NBZKSS | M30: LZDYCSL | N30: GVHXG | P30: YKRIJEY | T30: KD DVFHX ZMYW | U30: GEAFN | V30: ZROONM | X30: PKSHU | Y30: KLVBGCY
A31: =A30+1 -> 44225 | D31: FTKULVM | F31: OL URVZX TUMJ | G31: JUCMFA | H31: BDSCC | J31: KV YIFYV UMLE | K31: CZHKX | L31: EHXNOK | M31: LNJKYL | N31: VB OCZTN ICII | O31: QVICPFC | P31: QIIKE | Q31: LWDMB | U31: WGGPN | V31: UHCBGZ | W31: PBJFU | X31: QSSMB | Y31: DWPTX
A32: =A31+1 -> 44226
A33: =A32+1 -> 44227
A34: =A33+1 -> 44228 | B34: YZKOCP | C34: HRCLJUIT | F34: EHMMAA | G34: IUYYQXQ | J34: KK VHTNK QOWB | K34: WVOWEM | L34: WHEQTF | M34: GURLKSM | N34: NKXKXH | P34: CS LVBNC JNCS | T34: OC LGBIR FADG | U34: QTDAUK | V34: TSJUEIE | X34: JX LVCBJ JAPU | Y34: QUEAJPQ | Z34: KIPPPN | AA34: QETDQQKG
A35: =A34+1 -> 44229 | B35: GEEBZI FUVPS | C35: RBNRO | D35: YHTWB | F35: HPUAOS | G35: ALODTEINCIZ | H35: JPXLEOI | J35: ITPRPICAXZW | K35: FLOSP | L35: GU ZKBKM SMFG | M35: CTCNZO CZGDE | N35: CKJUFHIFYVO | O35: TJFSC | P35: FMTTI | Q35: YZPVCQK | T35: AZDQCX | U35: UZACQCZXSMG | V35: TPLTW | W35: EOAELYG | X35: VSNTH | Y35: LXKLWBZ | Z35: EOMOUT MLZBG | AA35: LQNFK
A36: =A35+1 -> 44230 | B36: QVPFLM | C36: DZJXRBMUVKK | D36: ZLQMNJJ | F36: AQKFWR ROVHX | G36: PXFYJ | H36: OFBIC | J36: RVYKH | K36: IFXAM | L36: TQLSEV-HBCSMRG | M36: AXXSK | N36: RKFXPV AVPZM | O36: GWBLKEF | P36: OJJXRK | Q36: QYITIIUMGAE | U36: MCENX | V36: BKJPG | W36: QRLFHQN | X36: JTVAC | Y36: CLQRN | Z36: VCXKNB UOHXO | AA36: JYTKV
A37: =A36+1 -> 44231
A38: =A37+1 -> 44232
A39: =A38+1 -> 44233
A40: =A39+1 -> 44234
A41: =A40+1 -> 44235
A42: =A41+1 -> 44236
A43: =A42+1 -> 44237
A44: =A43+1 -> 44238
A45: =A44+1 -> 44239
A46: =A45+1 -> 44240
A47: =A46+1 -> 44241
A48: =A47+1 -> 44242
... A367: =A366+1 -> 44561

Sheet Semaine 5
A1: Garde du : | C1: 44228
A2: VSAV 1 | E2: FPTP
B3: C/A VSAV1 | C3: =INDEX(FdGarde[[C/A VSAV1]:[Stats]],MATCH('Semaine 5'!$C$1,FdGarde[Nom],0),MATCH('Semaine 5'!B3,FdGarde!$B$2:$AC$2,0)) -> YZKOCP | F3: C/A FPTGP | G3: =INDEX(FdGarde[[C/A VSAV1]:[Stats]],MATCH('Semaine 5'!$C$1,FdGarde[Nom],0),MATCH('Semaine 5'!F3,FdGarde!$B$2:$AC$2,0)) -> WHEQTF
B4: Cond VSAV1 | C4: =INDEX(FdGarde[[C/A VSAV1]:[Stats]],MATCH('Semaine 5'!$C$1,FdGarde[Nom],0),MATCH('Semaine 5'!B4,FdGarde!$B$2:$AC$2,0)) -> HRCLJUIT | F4: Cond FPTGP | G4: =INDEX(FdGarde[[C/A VSAV1]:[Stats]],MATCH('Semaine 5'!$C$1,FdGarde[Nom],0),MATCH('Semaine 5'!F4,FdGarde!$B$2:$AC$2,0)) -> GURLKSM
B5: Equ1 VSAV1 | C5: =INDEX(FdGarde[[C/A VSAV1]:[Stats]],MATCH('Semaine 5'!$C$1,FdGarde[Nom],0),MATCH('Semaine 5'!B5,FdGarde!$B$2:$AC$2,0)) -> 0 | F5: CBAT | G5: =INDEX(FdGarde[[C/A VSAV1]:[Stats]],MATCH('Semaine 5'!$C$1,FdGarde[Nom],0),MATCH('Semaine 5'!F5,FdGarde!$B$2:$AC$2,0)) -> NKXKXH
B6: Equ 2 VSAV1 | C6: =INDEX(FdGarde[[C/A VSAV1]:[Stats]],MATCH('Semaine 5'!$C$1,FdGarde[Nom],0),MATCH('Semaine 5'!B6,FdGarde!$B$2:$AC$2,0)) -> 0 | F6: EBAT | G6: =INDEX(FdGarde[[C/A VSAV1]:[Stats]],MATCH('Semaine 5'!$C$1,FdGarde[Nom],0),MATCH('Semaine 5'!F6,FdGarde!$B$2:$AC$2,0)) -> 0
A7: VSAV 2 | F7: CBAL | G7: =INDEX(FdGarde[[C/A VSAV1]:[Stats]],MATCH('Semaine 5'!$C$1,FdGarde[Nom],0),MATCH('Semaine 5'!F7,FdGarde!$B$2:$AC$2,0)) -> CS LVBNC JNCS
B8: C/A VSAV2 | C8: =INDEX(FdGarde[[C/A VSAV1]:[Stats]],MATCH('Semaine 5'!$C$1,FdGarde[Nom],0),MATCH('Semaine 5'!B8,FdGarde!$B$2:$AC$2,0)) -> EHMMAA | F8: EBAL | G8: =INDEX(FdGarde[[C/A VSAV1]:[Stats]],MATCH('Semaine 5'!$C$1,FdGarde[Nom],0),MATCH('Semaine 5'!F8,FdGarde!$B$2:$AC$2,0)) -> 0
B9: Cond VSAV2 | C9: =INDEX(FdGarde[[C/A VSAV1]:[Stats]],MATCH('Semaine 5'!$C$1,FdGarde[Nom],0),MATCH('Semaine 5'!B9,FdGarde!$B$2:$AC$2,0)) -> IUYYQXQ | E9: EPSA
B10: Equ1 VSAV2 | C10: =INDEX(FdGarde[[C/A VSAV1]:[Stats]],MATCH('Semaine 5'!$C$1,FdGarde[Nom],0),MATCH('Semaine 5'!B10,FdGarde!$B$2:$AC$2,0)) -> 0 | F10: C/A EPS | G10: =INDEX(FdGarde[[C/A VSAV1]:[Stats]],MATCH('Semaine 5'!$C$1,FdGarde[Nom],0),MATCH('Semaine 5'!F10,FdGarde!$B$2:$AC$2,0)) -> 0
B11: Equ 2 VSAV2 | C11: =INDEX(FdGarde[[C/A VSAV1]:[Stats]],MATCH('Semaine 5'!$C$1,FdGarde[Nom],0),MATCH('Semaine 5'!B11,FdGarde!$B$2:$AC$2,0)) -> 0 | F11: Cond EPS | G11: =INDEX(FdGarde[[C/A VSAV1]:[Stats]],MATCH('Semaine 5'!$C$1,FdGarde[Nom],0),MATCH('Semaine 5'!F11,FdGarde!$B$2:$AC$2,0)) -> 0
A12: VPR | E12: CCF4000
B13: C/A VPR | C13: =INDEX(FdGarde[[C/A VSAV1]:[Stats]],MATCH('Semaine 5'!$C$1,FdGarde[Nom],0),MATCH('Semaine 5'!B13,FdGarde!$B$2:$AC$2,0)) -> KK VHTNK QOWB | F13: C/A CCF | G13: =INDEX(FdGarde[[C/A VSAV1]:[Stats]],MATCH('Semaine 5'!$C$1,FdGarde[Nom],0),MATCH('Semaine 5'!F13,FdGarde!$B$2:$AC$2,0)) -> OC LGBIR FADG
B14: Cond VPR | C14: =INDEX(FdGarde[[C/A VSAV1]:[Stats]],MATCH('Semaine 5'!$C$1,FdGarde[Nom],0),MATCH('Semaine 5'!B14,FdGarde!$B$2:$AC$2,0)) -> WVOWEM | F14: Cond CCF | G14: =INDEX(FdGarde[[C/A VSAV1]:[Stats]],MATCH('Semaine 5'!$C$1,FdGarde[Nom],0),MATCH('Semaine 5'!F14,FdGarde!$B$2:$AC$2,0)) -> QTDAUK
A15: VTU | F15: Equi 1 CCF | G15: =INDEX(FdGarde[[C/A VSAV1]:[Stats]],MATCH('Semaine 5'!$C$1,FdGarde[Nom],0),MATCH('Semaine 5'!F15,FdGarde!$B$2:$AC$2,0)) -> TSJUEIE
B16: C/A VTU | C16: =INDEX(FdGarde[[C/A VSAV1]:[Stats]],MATCH('Semaine 5'!$C$1,FdGarde[Nom],0),MATCH('Semaine 5'!B16,FdGarde!$B$2:$AC$2,0)) -> JX LVCBJ JAPU | F16: Equ 2 CCF | G16: =INDEX(FdGarde[[C/A VSAV1]:[Stats]],MATCH('Semaine 5'!$C$1,FdGarde[Nom],0),MATCH('Semaine 5'!F16,FdGarde!$B$2:$AC$2,0)) -> 0
B17: Cond VTU | C17: =INDEX(FdGarde[[C/A VSAV1]:[Stats]],MATCH('Semaine 5'!$C$1,FdGarde[Nom],0),MATCH('Semaine 5'!B17,FdGarde!$B$2:$AC$2,0)) -> QUEAJPQ | E17: Stationnaire
A18: VPCS
B19: C/A VPCS | C19: =INDEX(FdGarde[[C/A VSAV1]:[Stats]],MATCH('Semaine 5'!$C$1,FdGarde[Nom],0),MATCH('Semaine 5'!B19,FdGarde!$B$2:$AC$2,0)) -> KIPPPN | E19: Sous-officier de garde
B20: Cond VPCS | C20: =INDEX(FdGarde[[C/A VSAV1]:[Stats]],MATCH('Semaine 5'!$C$1,FdGarde[Nom],0),MATCH('Semaine 5'!B20,FdGarde!$B$2:$AC$2,0)) -> QETDQQKG
