Workbook

Sheet Simplifier
A2: Horaires possibles | D2: posé | E2: récupère | G2: J1 | H2: J1 | I2: 0.29513889 | J2: 0.6875 | K2: =SUM(J2-I2) -> 0.39236111
G3: J1 | H3: J2 | I3: 0.29513889 | J3: 0.6875 | K3: =SUM(J3-I3) -> 0.39236111 | M3: J2 | N3: J2 | O3: 0.29513889 | P3: 0.70833333 | Q3: =SUM(P3-O3) -> 0.41319444
A4: 8 | B4: 16 | C4: J1 | D4: 0.29513889 | E4: 0.6875 | G4: J1 | H4: J3 | I4: 0.29513889 | J4: 0.64583333 | K4: =SUM(J4-I4) -> 0.35069444 | M4: J2 | N4: J3 | O4: 0.29513889 | P4: 0.64583333 | Q4: =SUM(P4-O4) -> 0.35069444 | S4: J3 | T4: J3 | U4: 0.29513889 | V4: 0.64583333 | W4: =SUM(V4-U4) -> 0.35069444
A5: 8 | B5: 16.5 | C5: J2 | D5: 0.29513889 | E5: 0.70833333 | G5: J1 | H5: J4 | I5: 0.29513889 | J5: 0.66666667 | K5: =SUM(J5-I5) -> 0.37152778 | M5: J2 | N5: J4 | O5: 0.29513889 | P5: 0.66666667 | Q5: =SUM(P5-O5) -> 0.37152778 | S5: J3 | T5: J4 | U5: 0.29513889 | V5: 0.64583333 | W5: =SUM(V5-U5) -> 0.35069444 | Y5: J4 | Z5: J4 | AA5: 0.29513889 | AB5: 0.66666667 | AC5: =SUM(AB5-AA5) -> 0.37152778
A6: 8 | B6: 15 | C6: J3 | D6: 0.29513889 | E6: 0.64583333 | G6: J1 | H6: S1 | I6: 0.50347222 | J6: 0.6875 | K6: =SUM(J6-I6) -> 0.18402778 | M6: J2 | N6: S1 | O6: 0.50347222 | P6: 0.70833333 | Q6: =SUM(P6-O6) -> 0.20486111 | S6: J3 | T6: S1 | U6: 0.50347222 | V6: 0.64583333 | W6: =SUM(V6-U6) -> 0.14236111 | Y6: J4 | Z6: S1 | AA6: 0.50347222 | AB6: 0.66666667 | AC6: =SUM(AB6-AA6) -> 0.16319444
A7: 8 | B7: 15.5 | C7: J4 | D7: 0.29513889 | E7: 0.66666667 | G7: J1 | H7: S2 | I7: 0.50347222 | J7: 0.6875 | K7: =SUM(J7-I7) -> 0.18402778 | M7: J2 | N7: S2 | O7: 0.50347222 | P7: 0.70833333 | Q7: =SUM(P7-O7) -> 0.20486111 | S7: J3 | T7: S2 | U7: 0.50347222 | V7: 0.64583333 | W7: =SUM(V7-U7) -> 0.14236111 | Y7: J4 | Z7: S2 | AA7: 0.50347222 | AB7: 0.66666667 | AC7: =SUM(AB7-AA7) -> 0.16319444
A8: 13 | B8: 21 | C8: S1 | D8: 0.50347222 | E8: 0.89583333 | G8: J1 | H8: S3 | I8: 0.46180556 | J8: 0.6875 | K8: =SUM(J8-I8) -> 0.22569444 | M8: J2 | N8: S3 | O8: 0.46180556 | P8: 0.70833333 | Q8: =SUM(P8-O8) -> 0.24652778 | S8: J3 | T8: S3 | U8: 0.46180556 | V8: 0.64583333 | W8: =SUM(V8-U8) -> 0.18402778 | Y8: J4 | Z8: S3 | AA8: 0.46180556 | AB8: 0.66666667 | AC8: =SUM(AB8-AA8) -> 0.20486111
A9: 13 | B9: 20 | C9: S2 | D9: 0.50347222 | E9: 0.85416667 | G9: J1 | H9: S4 | I9: 0.50347222 | J9: 0.6875 | K9: =SUM(J9-I9) -> 0.18402778 | M9: J2 | N9: S4 | O9: 0.50347222 | P9: 0.70833333 | Q9: =SUM(P9-O9) -> 0.20486111 | S9: J3 | T9: S4 | U9: 0.50347222 | V9: 0.64583333 | W9: =SUM(V9-U9) -> 0.14236111 | Y9: J4 | Z9: S4 | AA9: 0.50347222 | AB9: 0.66666667 | AC9: =SUM(AB9-AA9) -> 0.16319444
A10: 12 | B10: 19 | C10: S3 | D10: 0.46180556 | E10: 0.8125 | G10: J1 | H10: M1 | I10: 0.29513889 | J10: 0.5625 | K10: =SUM(J10-I10) -> 0.26736111 | M10: J2 | N10: M1 | O10: 0.29513889 | P10: 0.5625 | Q10: =SUM(P10-O10) -> 0.26736111 | S10: J3 | T10: M1 | U10: 0.29513889 | V10: 0.5625 | W10: =SUM(V10-U10) -> 0.26736111 | Y10: J4 | Z10: M1 | AA10: 0.29513889 | AB10: 0.5625 | AC10: =SUM(AB10-AA10) -> 0.26736111
A11: 13 | B11: 20.5 | C11: S4 | D11: 0.50347222 | E11: 0.875 | G11: J1 | H11: M2 | I11: 0.29513889 | J11: 0.60416667 | K11: =SUM(J11-I11) -> 0.30902778 | M11: J2 | N11: M2 | O11: 0.29513889 | P11: 0.60416667 | Q11: =SUM(P11-O11) -> 0.30902778 | S11: J3 | T11: M2 | U11: 0.29513889 | V11: 0.60416667 | W11: =SUM(V11-U11) -> 0.30902778 | Y11: J4 | Z11: M2 | AA11: 0.29513889 | AB11: 0.60416667 | AC11: =SUM(AB11-AA11) -> 0.30902778
A12: 5 | B12: 13 | C12: M1 | D12: 0.17013889 | E12: 0.5625 | G12: J1 | H12: M3 | I12: 0.29513889 | J12: 0.5625 | K12: =SUM(J12-I12) -> 0.26736111 | M12: J2 | N12: M3 | O12: 0.29513889 | P12: 0.5625 | Q12: =SUM(P12-O12) -> 0.26736111 | S12: J3 | T12: M3 | U12: 0.29513889 | V12: 0.5625 | W12: =SUM(V12-U12) -> 0.26736111 | Y12: J4 | Z12: M3 | AA12: 0.29513889 | AB12: 0.5625 | AC12: =SUM(AB12-AA12) -> 0.26736111
A13: 6 | B13: 14 | C13: M2 | D13: 0.21527778 | E13: 0.60416667 | G13: J1 | H13: M4 | I13: 0.29513889 | J13: 0.52083333 | K13: =SUM(J13-I13) -> 0.22569444 | M13: J2 | N13: M4 | O13: 0.29513889 | P13: 0.52083333 | Q13: =SUM(P13-O13) -> 0.22569444 | S13: J3 | T13: M4 | U13: 0.29513889 | V13: 0.52083333 | W13: =SUM(V13-U13) -> 0.22569444 | Y13: J4 | Z13: M4 | AA13: 0.29513889 | AB13: 0.52083333 | AC13: =SUM(AB13-AA13) -> 0.22569444
A14: 6 | B14: 13 | C14: M3 | D14: 0.21527778 | E14: 0.5625 | G14: J1 | H14: M5 | I14: 0.29513889 | J14: 0.58333333 | K14: =SUM(J14-I14) -> 0.28819444 | M14: J2 | N14: M5 | O14: 0.29513889 | P14: 0.58333333 | Q14: =SUM(P14-O14) -> 0.28819444 | S14: J3 | T14: M5 | U14: 0.29513889 | V14: 0.58333333 | W14: =SUM(V14-U14) -> 0.28819444 | Y14: J4 | Z14: M5 | AA14: 0.29513889 | AB14: 0.58333333 | AC14: =SUM(AB14-AA14) -> 0.28819444
A15: 5 | B15: 12 | C15: M4 | D15: 0.17013889 | E15: 0.52083333 | G15: J1 | H15: N1 | I15: 0.29513889 | J15: 0.60416667 | K15: =SUM(J15-I15) -> 0.30902778 | M15: J2 | N15: N1 | O15: 0.29513889 | P15: 0.60416667 | Q15: =SUM(P15-O15) -> 0.30902778 | S15: J3 | T15: N1 | U15: 0.29513889 | V15: 0.60416667 | W15: =SUM(V15-U15) -> 0.30902778 | Y15: J4 | Z15: N1 | AA15: 0.29513889 | AB15: 0.60416667 | AC15: =SUM(AB15-AA15) -> 0.30902778
A16: 6 | B16: 13.5 | C16: M5 | D16: 0.21527778 | E16: 0.58333333 | G16: J1 | H16: N2 | I16: 0.29513889 | J16: 0.60416667 | K16: =SUM(J16-I16) -> 0.30902778 | M16: J2 | N16: N2 | O16: 0.29513889 | P16: 0.60416667 | Q16: =SUM(P16-O16) -> 0.30902778 | S16: J3 | T16: N2 | U16: 0.29513889 | V16: 0.60416667 | W16: =SUM(V16-U16) -> 0.30902778 | Y16: J4 | Z16: N2 | AA16: 0.29513889 | AB16: 0.60416667 | AC16: =SUM(AB16-AA16) -> 0.30902778
A17: 21 | B17: 5 | C17: N1 | D17: 0.83680556 | E17: 0.22916667
A18: 19 | B18: 2 | C18: N2 | D18: 0.75347222 | E18: 0.10416667
G23: S1 | H23: S1 | I23: 0.50347222 | J23: 0.89583333 | K23: =SUM(J23-I23) -> 0.39236111
G24: S1 | H24: S2 | I24: 0.50347222 | J24: 0.85416667 | K24: =SUM(J24-I24) -> 0.35069444 | M24: S2 | N24: S2 | O24: 0.50347222 | P24: 0.85416667 | Q24: =SUM(P24-O24) -> 0.35069444
G25: S1 | H25: S3 | I25: 0.50347222 | J25: 0.8125 | K25: =SUM(J25-I25) -> 0.30902778 | M25: S2 | N25: S3 | O25: 0.50347222 | P25: 0.8125 | Q25: =SUM(P25-O25) -> 0.30902778 | S25: S3 | T25: S3 | U25: 0.46180556 | V25: 0.8125 | W25: =SUM(V25-U25) -> 0.35069444
G26: S1 | H26: S4 | I26: 0.50347222 | J26: 0.875 | K26: =SUM(J26-I26) -> 0.37152778 | M26: S2 | N26: S4 | O26: 0.50347222 | P26: 0.85416667 | Q26: =SUM(P26-O26) -> 0.35069444 | S26: S3 | T26: S4 | U26: 0.50347222 | V26: 0.8125 | W26: =SUM(V26-U26) -> 0.30902778 | Y26: S4 | Z26: S4 | AA26: 0.50347222 | AB26: 0.875 | AC26: =SUM(AB26-AA26) -> 0.37152778
G27: S1 | H27: M1 | I27: 0.50347222 | J27: 0.5625 | K27: =SUM(J27-I27) -> 0.059027778 | M27: S2 | N27: M1 | O27: 0.50347222 | P27: 0.5625 | Q27: =SUM(P27-O27) -> 0.059027778 | S27: S3 | T27: M1 | U27: 0.46180556 | V27: 0.5625 | W27: =SUM(V27-U27) -> 0.10069444 | Y27: S4 | Z27: M1 | AA27: 0.50347222 | AB27: 0.5625 | AC27: =SUM(AB27-AA27) -> 0.059027778
G28: S1 | H28: M2 | I28: 0.50347222 | J28: 0.60416667 | K28: =SUM(J28-I28) -> 0.10069444 | M28: S2 | N28: M2 | O28: 0.50347222 | P28: 0.60416667 | Q28: =SUM(P28-O28) -> 0.10069444 | S28: S3 | T28: M2 | U28: 0.46180556 | V28: 0.60416667 | W28: =SUM(V28-U28) -> 0.14236111 | Y28: S4 | Z28: M2 | AA28: 0.50347222 | AB28: 0.60416667 | AC28: =SUM(AB28-AA28) -> 0.10069444
G29: S1 | H29: M3 | I29: 0.50347222 | J29: 0.5625 | K29: =SUM(J29-I29) -> 0.059027778 | M29: S2 | N29: M3 | O29: 0.50347222 | P29: 0.5625 | Q29: =SUM(P29-O29) -> 0.059027778 | S29: S3 | T29: M3 | U29: 0.46180556 | V29: 0.5625 | W29: =SUM(V29-U29) -> 0.10069444 | Y29: S4 | Z29: M3 | AA29: 0.50347222 | AB29: 0.5625 | AC29: =SUM(AB29-AA29) -> 0.059027778
G30: S1 | H30: M4 | I30: 0.50347222 | J30: 0.52083333 | K30: =SUM(J30-I30) -> 0.017361111 | M30: S2 | N30: M4 | O30: 0.50347222 | P30: 0.52083333 | Q30: =SUM(P30-O30) -> 0.017361111 | S30: S3 | T30: M4 | U30: 0.46180556 | V30: 0.52083333 | W30: =SUM(V30-U30) -> 0.059027778 | Y30: S4 | Z30: M4 | AA30: 0.50347222 | AB30: 0.52083333 | AC30: =SUM(AB30-AA30) -> 0.017361111
G31: S1 | H31: M5 | I31: 0.50347222 | J31: 0.58333333 | K31: =SUM(J31-I31) -> 0.079861111 | M31: S2 | N31: M5 | O31: 0.50347222 | P31: 0.58333333 | Q31: =SUM(P31-O31) -> 0.079861111 | S31: S3 | T31: M5 | U31: 0.46180556 | V31: 0.58333333 | W31: =SUM(V31-U31) -> 0.12152778 | Y31: S4 | Z31: M5 | AA31: 0.50347222 | AB31: 0.58333333 | AC31: =SUM(AB31-AA31) -> 0.079861111
G32: S1 | H32: N1 | I32: 0.50347222 | J32: 0.60416667 | K32: =SUM(J32-I32) -> 0.10069444 | M32: S2 | N32: N1 | O32: 0.50347222 | P32: 0.60416667 | Q32: =SUM(P32-O32) -> 0.10069444 | S32: S3 | T32: N1 | U32: 0.50347222 | V32: 0.60416667 | W32: =SUM(V32-U32) -> 0.10069444 | Y32: S4 | Z32: N1 | AA32: 0.50347222 | AB32: 0.60416667 | AC32: =SUM(AB32-AA32) -> 0.10069444
G33: S1 | H33: N2 | I33: 0.50347222 | J33: 0.60416667 | K33: =SUM(J33-I33) -> 0.10069444 | M33: S2 | N33: N2 | O33: 0.50347222 | P33: 0.60416667 | Q33: =SUM(P33-O33) -> 0.10069444 | S33: S3 | T33: N2 | U33: 0.50347222 | V33: 0.60416667 | W33: =SUM(V33-U33) -> 0.10069444 | Y33: S4 | Z33: N2 | AA33: 0.50347222 | AB33: 0.60416667 | AC33: =SUM(AB33-AA33) -> 0.10069444
G44: M1 | H44: M1 | I44: 0.17013889 | J44: 0.5625 | K44: =SUM(J44-I44) -> 0.39236111
G45: M1 | H45: M2 | I45: 0.21527778 | J45: 0.5625 | K45: =SUM(J45-I45) -> 0.34722222 | M45: M2 | N45: M2 | O45: 0.21527778 | P45: 0.60416667 | Q45: =SUM(P45-O45) -> 0.38888889
G46: M1 | H46: M3 | I46: 0.21527778 | J46: 0.5625 | K46: =SUM(J46-I46) -> 0.34722222 | M46: M2 | N46: M3 | O46: 0.21527778 | P46: 0.5625 | Q46: =SUM(P46-O46) -> 0.34722222 | S46: M3 | T46: M3 | U46: 0.21527778 | V46: 0.5625 | W46: =SUM(V46-U46) -> 0.34722222
G47: M1 | H47: M4 | I47: 0.17013889 | J47: 0.52083333 | K47: =SUM(J47-I47) -> 0.35069444 | M47: M2 | N47: M4 | O47: 0.21527778 | P47: 0.52083333 | Q47: =SUM(P47-O47) -> 0.30555556 | S47: M3 | T47: M4 | U47: 0.21527778 | V47: 0.52083333 | W47: =SUM(V47-U47) -> 0.30555556 | Y47: M4 | Z47: M4 | AA47: 0.17013889 | AB47: 0.52083333 | AC47: =SUM(AB47-AA47) -> 0.35069444
G48: M1 | H48: M5 | I48: 0.21527778 | J48: 0.5625 | K48: =SUM(J48-I48) -> 0.34722222 | M48: M2 | N48: M5 | O48: 0.21527778 | P48: 0.58333333 | Q48: =SUM(P48-O48) -> 0.36805556 | S48: M3 | T48: M5 | U48: 0.21527778 | V48: 0.5625 | W48: =SUM(V48-U48) -> 0.34722222 | Y48: M4 | Z48: M5 | AA48: 0.21527778 | AB48: 0.52083333 | AC48: =SUM(AB48-AA48) -> 0.30555556 | AE48: M5 | AF48: M5 | AG48: 0.21527778 | AH48: 0.58333333 | AI48: =SUM(AH48-AG48) -> 0.36805556
G49: M1 | H49: N1 | I49: 0.25 | J49: 0.5625 | K49: =SUM(J49-I49) -> 0.3125 | M49: M2 | N49: N1 | O49: 0.25 | P49: 0.60416667 | Q49: =SUM(P49-O49) -> 0.35416667 | S49: M3 | T49: N1 | U49: 0.25 | V49: 0.5625 | W49: =SUM(V49-U49) -> 0.3125 | Y49: M4 | Z49: N1 | AA49: 0.25 | AB49: 0.52083333 | AC49: =SUM(AB49-AA49) -> 0.27083333 | AE49: M5 | AF49: N1 | AG49: 0.25 | AH49: 0.58333333 | AI49: =SUM(AH49-AG49) -> 0.33333333
G50: M1 | H50: N2 | I50: 0.17013889 | J50: 0.4375 | K50: =SUM(J50-I50) -> 0.26736111 | M50: M2 | N50: N2 | O50: 0.21527778 | P50: 0.4375 | Q50: =SUM(P50-O50) -> 0.22222222 | S50: M3 | T50: N2 | U50: 0.21527778 | V50: 0.4375 | W50: =SUM(V50-U50) -> 0.22222222 | Y50: M4 | Z50: N2 | AA50: 0.17013889 | AB50: 0.4375 | AC50: =SUM(AB50-AA50) -> 0.26736111 | AE50: M5 | AF50: N2 | AG50: 0.21527778 | AH50: 0.4375 | AI50: =SUM(AH50-AG50) -> 0.22222222
G53: N1 | H53: N1 | I53: 0.83680556 | J53: 0.22916667 | K53: 0.35416667
G54: N1 | H54: N2 | I54: 0.83680556 | J54: 0.10416667 | K54: 0.27430556 | M54: N2 | N54: N2 | O54: 0.75347222 | P54: 0.10416667 | Q54: 0.35763889
B90: alice | C90: seb | G90: alice | H90: seb | K90: alice | L90: seb
B91: M5 | C91: J1
B92: M5 | C92: J2
B93: M5 | C93: J3
B94: M5 | C94: J4
B95: M5 | C95: S1
B96: M5 | C96: S2
B97: M5 | C97: S3
B98: M5 | C98: S4
B99: M5 | C99: M1
B100: M5 | C100: M2
B101: M5 | C101: M3
B102: M5 | C102: M4
... B105: M5 | C105: N2

Sheet Combinaison
A2: Horaires possibles | D2: posé | E2: récupère | H2: J1 | I2: J1 | J2: 0.29513889 | K2: 0.6875 | L2: =SUM(K2-J2) -> 0.39236111 | N2: J2 | O2: J1 | P2: 0.29513889 | Q2: 0.6875 | R2: =SUM(Q2-P2) -> 0.39236111 | T2: J3 | U2: J1 | V2: 0.29513889 | W2: 0.64583333 | X2: =SUM(W2-V2) -> 0.35069444 | Z2: J4 | AA2: J1 | AB2: 0.29513889 | AC2: 0.66666667 | AD2: =SUM(AC2-AB2) -> 0.37152778
H3: J1 | I3: J2 | J3: 0.29513889 | K3: 0.6875 | L3: =SUM(K3-J3) -> 0.39236111 | N3: J2 | O3: J2 | P3: 0.29513889 | Q3: 0.70833333 | R3: =SUM(Q3-P3) -> 0.41319444 | T3: J3 | U3: J2 | V3: 0.29513889 | W3: 0.64583333 | X3: =SUM(W3-V3) -> 0.35069444 | Z3: J4 | AA3: J2 | AB3: 0.29513889 | AC3: 0.66666667 | AD3: =SUM(AC3-AB3) -> 0.37152778
A4: 8 | B4: 16 | C4: J1 | D4: 0.29513889 | E4: 0.6875 | H4: J1 | I4: J3 | J4: 0.29513889 | K4: 0.64583333 | L4: =SUM(K4-J4) -> 0.35069444 | N4: J2 | O4: J3 | P4: 0.29513889 | Q4: 0.64583333 | R4: =SUM(Q4-P4) -> 0.35069444 | T4: J3 | U4: J3 | V4: 0.29513889 | W4: 0.64583333 | X4: =SUM(W4-V4) -> 0.35069444 | Z4: J4 | AA4: J3 | AB4: 0.29513889 | AC4: 0.64583333 | AD4: =SUM(AC4-AB4) -> 0.35069444
A5: 8 | B5: 16.5 | C5: J2 | D5: 0.29513889 | E5: 0.70833333 | H5: J1 | I5: J4 | J5: 0.29513889 | K5: 0.66666667 | L5: =SUM(K5-J5) -> 0.37152778 | N5: J2 | O5: J4 | P5: 0.29513889 | Q5: 0.66666667 | R5: =SUM(Q5-P5) -> 0.37152778 | T5: J3 | U5: J4 | V5: 0.29513889 | W5: 0.64583333 | X5: =SUM(W5-V5) -> 0.35069444 | Z5: J4 | AA5: J4 | AB5: 0.29513889 | AC5: 0.66666667 | AD5: =SUM(AC5-AB5) -> 0.37152778
A6: 8 | B6: 15 | C6: J3 | D6: 0.29513889 | E6: 0.64583333 | H6: J1 | I6: S1 | J6: 0.50347222 | K6: 0.6875 | L6: =SUM(K6-J6) -> 0.18402778 | N6: J2 | O6: S1 | P6: 0.50347222 | Q6: 0.70833333 | R6: =SUM(Q6-P6) -> 0.20486111 | T6: J3 | U6: S1 | V6: 0.50347222 | W6: 0.64583333 | X6: =SUM(W6-V6) -> 0.14236111 | Z6: J4 | AA6: S1 | AB6: 0.50347222 | AC6: 0.66666667 | AD6: =SUM(AC6-AB6) -> 0.16319444
A7: 8 | B7: 15.5 | C7: J4 | D7: 0.29513889 | E7: 0.66666667 | H7: J1 | I7: S2 | J7: 0.50347222 | K7: 0.6875 | L7: =SUM(K7-J7) -> 0.18402778 | N7: J2 | O7: S2 | P7: 0.50347222 | Q7: 0.70833333 | R7: =SUM(Q7-P7) -> 0.20486111 | T7: J3 | U7: S2 | V7: 0.50347222 | W7: 0.64583333 | X7: =SUM(W7-V7) -> 0.14236111 | Z7: J4 | AA7: S2 | AB7: 0.50347222 | AC7: 0.66666667 | AD7: =SUM(AC7-AB7) -> 0.16319444
A8: 13 | B8: 21 | C8: S1 | D8: 0.50347222 | E8: 0.89583333 | H8: J1 | I8: S3 | J8: 0.46180556 | K8: 0.6875 | L8: =SUM(K8-J8) -> 0.22569444 | N8: J2 | O8: S3 | P8: 0.46180556 | Q8: 0.70833333 | R8: =SUM(Q8-P8) -> 0.24652778 | T8: J3 | U8: S3 | V8: 0.46180556 | W8: 0.64583333 | X8: =SUM(W8-V8) -> 0.18402778 | Z8: J4 | AA8: S3 | AB8: 0.46180556 | AC8: 0.66666667 | AD8: =SUM(AC8-AB8) -> 0.20486111
A9: 13 | B9: 20 | C9: S2 | D9: 0.50347222 | E9: 0.85416667 | H9: J1 | I9: S4 | J9: 0.50347222 | K9: 0.6875 | L9: =SUM(K9-J9) -> 0.18402778 | N9: J2 | O9: S4 | P9: 0.50347222 | Q9: 0.70833333 | R9: =SUM(Q9-P9) -> 0.20486111 | T9: J3 | U9: S4 | V9: 0.50347222 | W9: 0.64583333 | X9: =SUM(W9-V9) -> 0.14236111 | Z9: J4 | AA9: S4 | AB9: 0.50347222 | AC9: 0.66666667 | AD9: =SUM(AC9-AB9) -> 0.16319444
A10: 12 | B10: 19 | C10: S3 | D10: 0.46180556 | E10: 0.8125 | H10: J1 | I10: M1 | J10: 0.29513889 | K10: 0.5625 | L10: =SUM(K10-J10) -> 0.26736111 | N10: J2 | O10: M1 | P10: 0.29513889 | Q10: 0.5625 | R10: =SUM(Q10-P10) -> 0.26736111 | T10: J3 | U10: M1 | V10: 0.29513889 | W10: 0.5625 | X10: =SUM(W10-V10) -> 0.26736111 | Z10: J4 | AA10: M1 | AB10: 0.29513889 | AC10: 0.5625 | AD10: =SUM(AC10-AB10) -> 0.26736111
A11: 13 | B11: 20.5 | C11: S4 | D11: 0.50347222 | E11: 0.875 | H11: J1 | I11: M2 | J11: 0.29513889 | K11: 0.60416667 | L11: =SUM(K11-J11) -> 0.30902778 | N11: J2 | O11: M2 | P11: 0.29513889 | Q11: 0.60416667 | R11: =SUM(Q11-P11) -> 0.30902778 | T11: J3 | U11: M2 | V11: 0.29513889 | W11: 0.60416667 | X11: =SUM(W11-V11) -> 0.30902778 | Z11: J4 | AA11: M2 | AB11: 0.29513889 | AC11: 0.60416667 | AD11: =SUM(AC11-AB11) -> 0.30902778
A12: 5 | B12: 13 | C12: M1 | D12: 0.17013889 | E12: 0.5625 | H12: J1 | I12: M3 | J12: 0.29513889 | K12: 0.5625 | L12: =SUM(K12-J12) -> 0.26736111 | N12: J2 | O12: M3 | P12: 0.29513889 | Q12: 0.5625 | R12: =SUM(Q12-P12) -> 0.26736111 | T12: J3 | U12: M3 | V12: 0.29513889 | W12: 0.5625 | X12: =SUM(W12-V12) -> 0.26736111 | Z12: J4 | AA12: M3 | AB12: 0.29513889 | AC12: 0.5625 | AD12: =SUM(AC12-AB12) -> 0.26736111
A13: 6 | B13: 14 | C13: M2 | D13: 0.21527778 | E13: 0.60416667 | H13: J1 | I13: M4 | J13: 0.29513889 | K13: 0.52083333 | L13: =SUM(K13-J13) -> 0.22569444 | N13: J2 | O13: M4 | P13: 0.29513889 | Q13: 0.52083333 | R13: =SUM(Q13-P13) -> 0.22569444 | T13: J3 | U13: M4 | V13: 0.29513889 | W13: 0.52083333 | X13: =SUM(W13-V13) -> 0.22569444 | Z13: J4 | AA13: M4 | AB13: 0.29513889 | AC13: 0.52083333 | AD13: =SUM(AC13-AB13) -> 0.22569444
A14: 6 | B14: 13 | C14: M3 | D14: 0.21527778 | E14: 0.5625 | H14: J1 | I14: M5 | J14: 0.29513889 | K14: 0.58333333 | L14: =SUM(K14-J14) -> 0.28819444 | N14: J2 | O14: M5 | P14: 0.29513889 | Q14: 0.58333333 | R14: =SUM(Q14-P14) -> 0.28819444 | T14: J3 | U14: M5 | V14: 0.29513889 | W14: 0.58333333 | X14: =SUM(W14-V14) -> 0.28819444 | Z14: J4 | AA14: M5 | AB14: 0.29513889 | AC14: 0.58333333 | AD14: =SUM(AC14-AB14) -> 0.28819444
A15: 5 | B15: 12 | C15: M4 | D15: 0.17013889 | E15: 0.52083333 | H15: J1 | I15: N1 | J15: 0.29513889 | K15: 0.60416667 | L15: =SUM(K15-J15) -> 0.30902778 | N15: J2 | O15: N1 | T15: J3 | U15: N1 | Z15: J4 | AA15: N1
A16: 6 | B16: 13.5 | C16: M5 | D16: 0.21527778 | E16: 0.58333333 | H16: J1 | I16: N2 | J16: 0.29513889 | K16: 0.60416667 | L16: =SUM(K16-J16) -> 0.30902778 | N16: J2 | O16: N2 | T16: J3 | U16: N2 | Z16: J4 | AA16: N2
A17: 21 | B17: 5 | C17: N1 | D17: 0.83680556 | E17: 0.22916667
A18: 19 | B18: 2 | C18: N2 | D18: 0.75347222 | E18: 0.10416667
H19: S1 | I19: J1 | J19: 0.50347222 | K19: 0.6875 | L19: =SUM(K19-J19) -> 0.18402778 | N19: S2 | O19: J1 | P19: 0.50347222 | Q19: 0.6875 | R19: =SUM(Q19-P19) -> 0.18402778 | T19: S3 | U19: J1 | V19: 0.46180556 | W19: 0.6875 | X19: =SUM(W19-V19) -> 0.22569444 | Z19: S4 | AA19: J1 | AB19: 0.50347222 | AC19: 0.6875 | AD19: =SUM(AC19-AB19) -> 0.18402778
H20: S1 | I20: J2 | J20: 0.50347222 | K20: 0.70833333 | L20: =SUM(K20-J20) -> 0.20486111 | N20: S2 | O20: J2 | P20: 0.50347222 | Q20: 0.70833333 | R20: =SUM(Q20-P20) -> 0.20486111 | T20: S3 | U20: J2 | V20: 0.46180556 | W20: 0.70833333 | X20: =SUM(W20-V20) -> 0.24652778 | Z20: S4 | AA20: J2 | AB20: 0.50347222 | AC20: 0.70833333 | AD20: =SUM(AC20-AB20) -> 0.20486111
H21: S1 | I21: J3 | J21: 0.50347222 | K21: 0.64583333 | L21: =SUM(K21-J21) -> 0.14236111 | N21: S2 | O21: J3 | P21: 0.50347222 | Q21: 0.64583333 | R21: =SUM(Q21-P21) -> 0.14236111 | T21: S3 | U21: J3 | V21: 0.46180556 | W21: 0.64583333 | X21: =SUM(W21-V21) -> 0.18402778 | Z21: S4 | AA21: J3 | AB21: 0.50347222 | AC21: 0.64583333 | AD21: =SUM(AC21-AB21) -> 0.14236111
H22: S1 | I22: J4 | J22: 0.50347222 | K22: 0.66666667 | L22: =SUM(K22-J22) -> 0.16319444 | N22: S2 | O22: J4 | P22: 0.50347222 | Q22: 0.66666667 | R22: =SUM(Q22-P22) -> 0.16319444 | T22: S3 | U22: J4 | V22: 0.46180556 | W22: 0.66666667 | X22: =SUM(W22-V22) -> 0.20486111 | Z22: S4 | AA22: J4 | AB22: 0.50347222 | AC22: 0.66666667 | AD22: =SUM(AC22-AB22) -> 0.16319444
H23: S1 | I23: S1 | J23: 0.50347222 | K23: 0.89583333 | L23: =SUM(K23-J23) -> 0.39236111 | N23: S2 | O23: S1 | P23: 0.50347222 | Q23: 0.85416667 | R23: =SUM(Q23-P23) -> 0.35069444 | T23: S3 | U23: S1 | V23: 0.50347222 | W23: 0.8125 | X23: =SUM(W23-V23) -> 0.30902778 | Z23: S4 | AA23: S1 | AB23: 0.50347222 | AC23: 0.875 | AD23: =SUM(AC23-AB23) -> 0.37152778
H24: S1 | I24: S2 | J24: 0.50347222 | K24: 0.85416667 | L24: =SUM(K24-J24) -> 0.35069444 | N24: S2 | O24: S2 | P24: 0.50347222 | Q24: 0.85416667 | R24: =SUM(Q24-P24) -> 0.35069444 | T24: S3 | U24: S2 | V24: 0.50347222 | W24: 0.8125 | X24: =SUM(W24-V24) -> 0.30902778 | Z24: S4 | AA24: S2 | AB24: 0.50347222 | AC24: 0.85416667 | AD24: =SUM(AC24-AB24) -> 0.35069444
H25: S1 | I25: S3 | J25: 0.50347222 | K25: 0.8125 | L25: =SUM(K25-J25) -> 0.30902778 | N25: S2 | O25: S3 | P25: 0.50347222 | Q25: 0.8125 | R25: =SUM(Q25-P25) -> 0.30902778 | T25: S3 | U25: S3 | V25: 0.46180556 | W25: 0.8125 | X25: =SUM(W25-V25) -> 0.35069444 | Z25: S4 | AA25: S3 | AB25: 0.50347222 | AC25: 0.8125 | AD25: =SUM(AC25-AB25) -> 0.30902778
H26: S1 | I26: S4 | J26: 0.50347222 | K26: 0.875 | L26: =SUM(K26-J26) -> 0.37152778 | N26: S2 | O26: S4 | P26: 0.50347222 | Q26: 0.85416667 | R26: =SUM(Q26-P26) -> 0.35069444 | T26: S3 | U26: S4 | V26: 0.50347222 | W26: 0.8125 | X26: =SUM(W26-V26) -> 0.30902778 | Z26: S4 | AA26: S4 | AB26: 0.50347222 | AC26: 0.875 | AD26: =SUM(AC26-AB26) -> 0.37152778
H27: S1 | I27: M1 | J27: 0.50347222 | K27: 0.5625 | L27: =SUM(K27-J27) -> 0.059027778 | N27: S2 | O27: M1 | P27: 0.50347222 | Q27: 0.5625 | R27: =SUM(Q27-P27) -> 0.059027778 | T27: S3 | U27: M1 | V27: 0.46180556 | W27: 0.5625 | X27: =SUM(W27-V27) -> 0.10069444 | Z27: S4 | AA27: M1 | AB27: 0.50347222 | AC27: 0.5625 | AD27: =SUM(AC27-AB27) -> 0.059027778
H28: S1 | I28: M2 | J28: 0.50347222 | K28: 0.60416667 | L28: =SUM(K28-J28) -> 0.10069444 | N28: S2 | O28: M2 | P28: 0.50347222 | Q28: 0.60416667 | R28: =SUM(Q28-P28) -> 0.10069444 | T28: S3 | U28: M2 | V28: 0.46180556 | W28: 0.60416667 | X28: =SUM(W28-V28) -> 0.14236111 | Z28: S4 | AA28: M2 | AB28: 0.50347222 | AC28: 0.60416667 | AD28: =SUM(AC28-AB28) -> 0.10069444
H29: S1 | I29: M3 | J29: 0.50347222 | K29: 0.5625 | L29: =SUM(K29-J29) -> 0.059027778 | N29: S2 | O29: M3 | P29: 0.50347222 | Q29: 0.5625 | R29: =SUM(Q29-P29) -> 0.059027778 | T29: S3 | U29: M3 | V29: 0.46180556 | W29: 0.5625 | X29: =SUM(W29-V29) -> 0.10069444 | Z29: S4 | AA29: M3 | AB29: 0.50347222 | AC29: 0.5625 | AD29: =SUM(AC29-AB29) -> 0.059027778
H30: S1 | I30: M4 | J30: 0.50347222 | K30: 0.52083333 | L30: =SUM(K30-J30) -> 0.017361111 | N30: S2 | O30: M4 | P30: 0.50347222 | Q30: 0.52083333 | R30: =SUM(Q30-P30) -> 0.017361111 | T30: S3 | U30: M4 | V30: 0.46180556 | W30: 0.52083333 | X30: =SUM(W30-V30) -> 0.059027778 | Z30: S4 | AA30: M4 | AB30: 0.50347222 | AC30: 0.52083333 | AD30: =SUM(AC30-AB30) -> 0.017361111
H31: S1 | I31: M5 | J31: 0.50347222 | K31: 0.58333333 | L31: =SUM(K31-J31) -> 0.079861111 | N31: S2 | O31: M5 | P31: 0.50347222 | Q31: 0.58333333 | R31: =SUM(Q31-P31) -> 0.079861111 | T31: S3 | U31: M5 | V31: 0.46180556 | W31: 0.58333333 | X31: =SUM(W31-V31) -> 0.12152778 | Z31: S4 | AA31: M5 | AB31: 0.50347222 | AC31: 0.58333333 | AD31: =SUM(AC31-AB31) -> 0.079861111
H32: S1 | I32: N1 | N32: S2 | O32: N1 | T32: S3 | U32: N1 | Z32: S4 | AA32: N1
H33: S1 | I33: N2 | N33: S2 | O33: N2 | T33: S3 | U33: N2 | Z33: S4 | AA33: N2
H36: M1 | I36: J1 | J36: 0.29513889 | K36: 0.5625 | L36: =SUM(K36-J36) -> 0.26736111 | N36: M2 | O36: J1 | P36: 0.29513889 | Q36: 0.60416667 | R36: =SUM(Q36-P36) -> 0.30902778 | T36: M3 | U36: J1 | V36: 0.29513889 | W36: 0.5625 | X36: =SUM(W36-V36) -> 0.26736111 | Z36: M4 | AA36: J1 | AB36: 0.29513889 | AC36: 0.52083333 | AD36: =SUM(AC36-AB36) -> 0.22569444 | AF36: M5 | AG36: J1 | AH36: 0.29513889 | AI36: 0.58333333 | AJ36: =SUM(AI36-AH36) -> 0.28819444
H37: M1 | I37: J2 | J37: 0.29513889 | K37: 0.5625 | L37: =SUM(K37-J37) -> 0.26736111 | N37: M2 | O37: J2 | P37: 0.29513889 | Q37: 0.60416667 | R37: =SUM(Q37-P37) -> 0.30902778 | T37: M3 | U37: J2 | V37: 0.29513889 | W37: 0.5625 | X37: =SUM(W37-V37) -> 0.26736111 | Z37: M4 | AA37: J2 | AB37: 0.29513889 | AC37: 0.52083333 | AD37: =SUM(AC37-AB37) -> 0.22569444 | AF37: M5 | AG37: J2 | AH37: 0.29513889 | AI37: 0.58333333 | AJ37: =SUM(AI37-AH37) -> 0.28819444
H38: M1 | I38: J3 | J38: 0.29513889 | K38: 0.5625 | L38: =SUM(K38-J38) -> 0.26736111 | N38: M2 | O38: J3 | P38: 0.29513889 | Q38: 0.60416667 | R38: =SUM(Q38-P38) -> 0.30902778 | T38: M3 | U38: J3 | V38: 0.29513889 | W38: 0.5625 | X38: =SUM(W38-V38) -> 0.26736111 | Z38: M4 | AA38: J3 | AB38: 0.29513889 | AC38: 0.52083333 | AD38: =SUM(AC38-AB38) -> 0.22569444 | AF38: M5 | AG38: J3 | AH38: 0.29513889 | AI38: 0.58333333 | AJ38: =SUM(AI38-AH38) -> 0.28819444
H39: M1 | I39: J4 | J39: 0.29513889 | K39: 0.5625 | L39: =SUM(K39-J39) -> 0.26736111 | N39: M2 | O39: J4 | P39: 0.29513889 | Q39: 0.60416667 | R39: =SUM(Q39-P39) -> 0.30902778 | T39: M3 | U39: J4 | V39: 0.29513889 | W39: 0.5625 | X39: =SUM(W39-V39) -> 0.26736111 | Z39: M4 | AA39: J4 | AB39: 0.29513889 | AC39: 0.52083333 | AD39: =SUM(AC39-AB39) -> 0.22569444 | AF39: M5 | AG39: J4 | AH39: 0.29513889 | AI39: 0.58333333 | AJ39: =SUM(AI39-AH39) -> 0.28819444
H40: M1 | I40: S1 | J40: 0.50347222 | K40: 0.5625 | L40: =SUM(K40-J40) -> 0.059027778 | N40: M2 | O40: S1 | P40: 0.50347222 | Q40: 0.60416667 | R40: =SUM(Q40-P40) -> 0.10069444 | T40: M3 | U40: S1 | V40: 0.50347222 | W40: 0.5625 | X40: =SUM(W40-V40) -> 0.059027778 | Z40: M4 | AA40: S1 | AB40: 0.50347222 | AC40: 0.52083333 | AD40: =SUM(AC40-AB40) -> 0.017361111 | AF40: M5 | AG40: S1 | AH40: 0.50347222 | AI40: 0.58333333 | AJ40: =SUM(AI40-AH40) -> 0.079861111
H41: M1 | I41: S2 | J41: 0.50347222 | K41: 0.5625 | L41: =SUM(K41-J41) -> 0.059027778 | N41: M2 | O41: S2 | P41: 0.50347222 | Q41: 0.60416667 | R41: =SUM(Q41-P41) -> 0.10069444 | T41: M3 | U41: S2 | V41: 0.50347222 | W41: 0.5625 | X41: =SUM(W41-V41) -> 0.059027778 | Z41: M4 | AA41: S2 | AB41: 0.50347222 | AC41: 0.52083333 | AD41: =SUM(AC41-AB41) -> 0.017361111 | AF41: M5 | AG41: S2 | AH41: 0.50347222 | AI41: 0.58333333 | AJ41: =SUM(AI41-AH41) -> 0.079861111
H42: M1 | I42: S3 | J42: 0.46180556 | K42: 0.5625 | L42: =SUM(K42-J42) -> 0.10069444 | N42: M2 | O42: S3 | P42: 0.46180556 | Q42: 0.60416667 | R42: =SUM(Q42-P42) -> 0.14236111 | T42: M3 | U42: S3 | V42: 0.46180556 | W42: 0.5625 | X42: =SUM(W42-V42) -> 0.10069444 | Z42: M4 | AA42: S3 | AB42: 0.46180556 | AC42: 0.52083333 | AD42: =SUM(AC42-AB42) -> 0.059027778 | AF42: M5 | AG42: S3 | AH42: 0.46180556 | AI42: 0.58333333 | AJ42: =SUM(AI42-AH42) -> 0.12152778
H43: M1 | I43: S4 | J43: 0.50347222 | K43: 0.5625 | L43: =SUM(K43-J43) -> 0.059027778 | N43: M2 | O43: S4 | P43: 0.50347222 | Q43: 0.60416667 | R43: =SUM(Q43-P43) -> 0.10069444 | T43: M3 | U43: S4 | V43: 0.50347222 | W43: 0.5625 | X43: =SUM(W43-V43) -> 0.059027778 | Z43: M4 | AA43: S4 | AB43: 0.50347222 | AC43: 0.52083333 | AD43: =SUM(AC43-AB43) -> 0.017361111 | AF43: M5 | AG43: S4 | AH43: 0.50347222 | AI43: 0.58333333 | AJ43: =SUM(AI43-AH43) -> 0.079861111
H44: M1 | I44: M1 | J44: 0.17013889 | K44: 0.5625 | L44: =SUM(K44-J44) -> 0.39236111 | N44: M2 | O44: M1 | P44: 0.21527778 | Q44: 0.5625 | R44: =SUM(Q44-P44) -> 0.34722222 | T44: M3 | U44: M1 | V44: 0.17013889 | W44: 0.5625 | X44: =SUM(W44-V44) -> 0.39236111 | Z44: M4 | AA44: M1 | AB44: 0.17013889 | AC44: 0.52083333 | AD44: =SUM(AC44-AB44) -> 0.35069444 | AF44: M5 | AG44: M1 | AH44: 0.17013889 | AI44: 0.5625 | AJ44: =SUM(AI44-AH44) -> 0.39236111
H45: M1 | I45: M2 | J45: 0.21527778 | K45: 0.5625 | L45: =SUM(K45-J45) -> 0.34722222 | N45: M2 | O45: M2 | P45: 0.21527778 | Q45: 0.60416667 | R45: =SUM(Q45-P45) -> 0.38888889 | T45: M3 | U45: M2 | V45: 0.21527778 | W45: 0.5625 | X45: =SUM(W45-V45) -> 0.34722222 | Z45: M4 | AA45: M2 | AB45: 0.21527778 | AC45: 0.52083333 | AD45: =SUM(AC45-AB45) -> 0.30555556 | AF45: M5 | AG45: M2 | AH45: 0.21527778 | AI45: 0.58333333 | AJ45: =SUM(AI45-AH45) -> 0.36805556
H46: M1 | I46: M3 | J46: 0.21527778 | K46: 0.5625 | L46: =SUM(K46-J46) -> 0.34722222 | N46: M2 | O46: M3 | P46: 0.21527778 | Q46: 0.5625 | R46: =SUM(Q46-P46) -> 0.34722222 | T46: M3 | U46: M3 | V46: 0.21527778 | W46: 0.5625 | X46: =SUM(W46-V46) -> 0.34722222 | Z46: M4 | AA46: M3 | AB46: 0.21527778 | AC46: 0.52083333 | AD46: =SUM(AC46-AB46) -> 0.30555556 | AF46: M5 | AG46: M3 | AH46: 0.21527778 | AI46: 0.5625 | AJ46: =SUM(AI46-AH46) -> 0.34722222
H47: M1 | I47: M4 | J47: 0.17013889 | K47: 0.52083333 | L47: =SUM(K47-J47) -> 0.35069444 | N47: M2 | O47: M4 | P47: 0.21527778 | Q47: 0.52083333 | R47: =SUM(Q47-P47) -> 0.30555556 | T47: M3 | U47: M4 | V47: 0.21527778 | W47: 0.52083333 | X47: =SUM(W47-V47) -> 0.30555556 | Z47: M4 | AA47: M4 | AB47: 0.17013889 | AC47: 0.52083333 | AD47: =SUM(AC47-AB47) -> 0.35069444 | AF47: M5 | AG47: M4 | AH47: 0.21527778 | AI47: 0.52083333 | AJ47: =SUM(AI47-AH47) -> 0.30555556
H48: M1 | I48: M5 | J48: 0.21527778 | K48: 0.5625 | L48: =SUM(K48-J48) -> 0.34722222 | N48: M2 | O48: M5 | P48: 0.21527778 | Q48: 0.58333333 | R48: =SUM(Q48-P48) -> 0.36805556 | T48: M3 | U48: M5 | V48: 0.21527778 | W48: 0.5625 | X48: =SUM(W48-V48) -> 0.34722222 | Z48: M4 | AA48: M5 | AB48: 0.21527778 | AC48: 0.52083333 | AD48: =SUM(AC48-AB48) -> 0.30555556 | AF48: M5 | AG48: M5 | AH48: 0.21527778 | AI48: 0.58333333 | AJ48: =SUM(AI48-AH48) -> 0.36805556
H49: M1 | I49: N1 | N49: M2 | O49: N1 | T49: M3 | U49: N1 | Z49: M4 | AA49: N1 | AF49: M5 | AG49: N1
H50: M1 | I50: N2 | N50: M2 | O50: N2 | T50: M3 | U50: N2 | Z50: M4 | AA50: N2 | AF50: M5 | AG50: N2
H53: N1 | I53: N1 | N53: N2 | O53: N1
H54: N1 | I54: N2 | N54: N2 | O54: N2
B90: alice | C90: seb | H90: alice | I90: seb | L90: alice | M90: seb
B91: M5 | C91: J1
B92: M5 | C92: J2
B93: M5 | C93: J3
B94: M5 | C94: J4
B95: M5 | C95: S1
B96: M5 | C96: S2
B97: M5 | C97: S3
B98: M5 | C98: S4
B99: M5 | C99: M1
B100: M5 | C100: M2
B101: M5 | C101: M3
B102: M5 | C102: M4
... B105: M5 | C105: N2

Sheet Feuil1
A1: 1 | B1: alice | C1: S1 | D1: =MIN(ABS(VLOOKUP(C1,Combinaison!$C$4:$E$18,3,FALSE)-VLOOKUP(C2,Combinaison!$C$4:$E$18,2,FALSE)),ABS(VLOOKUP(C2,Combinaison!$C$4:$E$18,3,FALSE)-VLOOKUP(C1,Combinaison!$C$4:$E$18,2,FALSE))) -> 0.16319444 | F1: 16 | G1: alice | I1: =MIN(ABS(VLOOKUP(H1,Combinaison!$C$4:$E$18,3,FALSE)-VLOOKUP(H2,Combinaison!$C$4:$E$18,2,FALSE)),ABS(VLOOKUP(H2,Combinaison!$C$4:$E$18,3,FALSE)-VLOOKUP(H1,Combinaison!$C$4:$E$18,2,FALSE))) -> #N/A | N1: 1 | O1: {=INDEX(Combinaison!$C$4:$C$18,MOD(N1-1,15)+1)} -> J1 | P1: {=INDEX(Combinaison!$C$4:$C$18,INT(N1/15)+1)} -> J1 | Q1: =MIN(ABS(VLOOKUP(O1,Combinaison!$C$4:$E$18,3,FALSE)-VLOOKUP(P1,Combinaison!$C$4:$E$18,2,FALSE)),ABS(VLOOKUP(P1,Combinaison!$C$4:$E$18,3,FALSE)-VLOOKUP(O1,Combinaison!$C$4:$E$18,2,FALSE))) -> 0.39236111
B2: seb | C2: J4 | G2: seb | N2: 2 | O2: {=INDEX(Combinaison!$C$4:$C$18,MOD(N2-1,15)+1)} -> J2 | P2: {=INDEX(Combinaison!$C$4:$C$18,INT(N2/15)+1)} -> J1 | Q2: =MIN(ABS(VLOOKUP(O2,Combinaison!$C$4:$E$18,3,FALSE)-VLOOKUP(P2,Combinaison!$C$4:$E$18,2,FALSE)),ABS(VLOOKUP(P2,Combinaison!$C$4:$E$18,3,FALSE)-VLOOKUP(O2,Combinaison!$C$4:$E$18,2,FALSE))) -> 0.39236111
A3: 2 | B3: alice | C3: S2 | D3: =MIN(ABS(VLOOKUP(C3,Combinaison!$C$4:$E$18,3,FALSE)-VLOOKUP(C4,Combinaison!$C$4:$E$18,2,FALSE)),ABS(VLOOKUP(C4,Combinaison!$C$4:$E$18,3,FALSE)-VLOOKUP(C3,Combinaison!$C$4:$E$18,2,FALSE))) -> 0.30902778 | F3: 17 | G3: alice | I3: =MIN(ABS(VLOOKUP(H3,Combinaison!$C$4:$E$18,3,FALSE)-VLOOKUP(H4,Combinaison!$C$4:$E$18,2,FALSE)),ABS(VLOOKUP(H4,Combinaison!$C$4:$E$18,3,FALSE)-VLOOKUP(H3,Combinaison!$C$4:$E$18,2,FALSE))) -> #N/A | N3: 3 | O3: {=INDEX(Combinaison!$C$4:$C$18,MOD(N3-1,15)+1)} -> J3 | P3: {=INDEX(Combinaison!$C$4:$C$18,INT(N3/15)+1)} -> J1 | Q3: =MIN(ABS(VLOOKUP(O3,Combinaison!$C$4:$E$18,3,FALSE)-VLOOKUP(P3,Combinaison!$C$4:$E$18,2,FALSE)),ABS(VLOOKUP(P3,Combinaison!$C$4:$E$18,3,FALSE)-VLOOKUP(O3,Combinaison!$C$4:$E$18,2,FALSE))) -> 0.35069444
B4: seb | C4: S3 | G4: seb | N4: 4 | O4: {=INDEX(Combinaison!$C$4:$C$18,MOD(N4-1,15)+1)} -> J4 | P4: {=INDEX(Combinaison!$C$4:$C$18,INT(N4/15)+1)} -> J1 | Q4: =MIN(ABS(VLOOKUP(O4,Combinaison!$C$4:$E$18,3,FALSE)-VLOOKUP(P4,Combinaison!$C$4:$E$18,2,FALSE)),ABS(VLOOKUP(P4,Combinaison!$C$4:$E$18,3,FALSE)-VLOOKUP(O4,Combinaison!$C$4:$E$18,2,FALSE))) -> 0.37152778
A5: 3 | B5: alice | C5: M4 | D5: =MIN(ABS(VLOOKUP(C5,Combinaison!$C$4:$E$18,3,FALSE)-VLOOKUP(C6,Combinaison!$C$4:$E$18,2,FALSE)),ABS(VLOOKUP(C6,Combinaison!$C$4:$E$18,3,FALSE)-VLOOKUP(C5,Combinaison!$C$4:$E$18,2,FALSE))) -> 0.017361111 | F5: 18 | G5: alice | I5: =MIN(ABS(VLOOKUP(H5,Combinaison!$C$4:$E$18,3,FALSE)-VLOOKUP(H6,Combinaison!$C$4:$E$18,2,FALSE)),ABS(VLOOKUP(H6,Combinaison!$C$4:$E$18,3,FALSE)-VLOOKUP(H5,Combinaison!$C$4:$E$18,2,FALSE))) -> #N/A | N5: 5 | O5: {=INDEX(Combinaison!$C$4:$C$18,MOD(N5-1,15)+1)} -> S1 | P5: {=INDEX(Combinaison!$C$4:$C$18,INT(N5/15)+1)} -> J1 | Q5: =MIN(ABS(VLOOKUP(O5,Combinaison!$C$4:$E$18,3,FALSE)-VLOOKUP(P5,Combinaison!$C$4:$E$18,2,FALSE)),ABS(VLOOKUP(P5,Combinaison!$C$4:$E$18,3,FALSE)-VLOOKUP(O5,Combinaison!$C$4:$E$18,2,FALSE))) -> 0.18402778
B6: seb | C6: S4 | G6: seb | N6: 6 | O6: {=INDEX(Combinaison!$C$4:$C$18,MOD(N6-1,15)+1)} -> S2 | P6: {=INDEX(Combinaison!$C$4:$C$18,INT(N6/15)+1)} -> J1 | Q6: =MIN(ABS(VLOOKUP(O6,Combinaison!$C$4:$E$18,3,FALSE)-VLOOKUP(P6,Combinaison!$C$4:$E$18,2,FALSE)),ABS(VLOOKUP(P6,Combinaison!$C$4:$E$18,3,FALSE)-VLOOKUP(O6,Combinaison!$C$4:$E$18,2,FALSE))) -> 0.18402778
A7: 4 | B7: alice | D7: =MIN(ABS(VLOOKUP(C7,Combinaison!$C$4:$E$18,3,FALSE)-VLOOKUP(C8,Combinaison!$C$4:$E$18,2,FALSE)),ABS(VLOOKUP(C8,Combinaison!$C$4:$E$18,3,FALSE)-VLOOKUP(C7,Combinaison!$C$4:$E$18,2,FALSE))) -> #N/A | F7: 19 | G7: alice | I7: =MIN(ABS(VLOOKUP(H7,Combinaison!$C$4:$E$18,3,FALSE)-VLOOKUP(H8,Combinaison!$C$4:$E$18,2,FALSE)),ABS(VLOOKUP(H8,Combinaison!$C$4:$E$18,3,FALSE)-VLOOKUP(H7,Combinaison!$C$4:$E$18,2,FALSE))) -> #N/A | N7: 7 | O7: {=INDEX(Combinaison!$C$4:$C$18,MOD(N7-1,15)+1)} -> S3 | P7: {=INDEX(Combinaison!$C$4:$C$18,INT(N7/15)+1)} -> J1 | Q7: =MIN(ABS(VLOOKUP(O7,Combinaison!$C$4:$E$18,3,FALSE)-VLOOKUP(P7,Combinaison!$C$4:$E$18,2,FALSE)),ABS(VLOOKUP(P7,Combinaison!$C$4:$E$18,3,FALSE)-VLOOKUP(O7,Combinaison!$C$4:$E$18,2,FALSE))) -> 0.22569444
B8: seb | G8: seb | N8: 8 | O8: {=INDEX(Combinaison!$C$4:$C$18,MOD(N8-1,15)+1)} -> S4 | P8: {=INDEX(Combinaison!$C$4:$C$18,INT(N8/15)+1)} -> J1 | Q8: =MIN(ABS(VLOOKUP(O8,Combinaison!$C$4:$E$18,3,FALSE)-VLOOKUP(P8,Combinaison!$C$4:$E$18,2,FALSE)),ABS(VLOOKUP(P8,Combinaison!$C$4:$E$18,3,FALSE)-VLOOKUP(O8,Combinaison!$C$4:$E$18,2,FALSE))) -> 0.18402778
A9: 5 | B9: alice | D9: =MIN(ABS(VLOOKUP(C9,Combinaison!$C$4:$E$18,3,FALSE)-VLOOKUP(C10,Combinaison!$C$4:$E$18,2,FALSE)),ABS(VLOOKUP(C10,Combinaison!$C$4:$E$18,3,FALSE)-VLOOKUP(C9,Combinaison!$C$4:$E$18,2,FALSE))) -> #N/A | F9: 20 | G9: alice | I9: =MIN(ABS(VLOOKUP(H9,Combinaison!$C$4:$E$18,3,FALSE)-VLOOKUP(H10,Combinaison!$C$4:$E$18,2,FALSE)),ABS(VLOOKUP(H10,Combinaison!$C$4:$E$18,3,FALSE)-VLOOKUP(H9,Combinaison!$C$4:$E$18,2,FALSE))) -> #N/A | N9: 9 | O9: {=INDEX(Combinaison!$C$4:$C$18,MOD(N9-1,15)+1)} -> M1 | P9: {=INDEX(Combinaison!$C$4:$C$18,INT(N9/15)+1)} -> J1 | Q9: =MIN(ABS(VLOOKUP(O9,Combinaison!$C$4:$E$18,3,FALSE)-VLOOKUP(P9,Combinaison!$C$4:$E$18,2,FALSE)),ABS(VLOOKUP(P9,Combinaison!$C$4:$E$18,3,FALSE)-VLOOKUP(O9,Combinaison!$C$4:$E$18,2,FALSE))) -> 0.26736111
B10: seb | G10: seb | N10: 10 | O10: {=INDEX(Combinaison!$C$4:$C$18,MOD(N10-1,15)+1)} -> M2 | P10: {=INDEX(Combinaison!$C$4:$C$18,INT(N10/15)+1)} -> J1 | Q10: =MIN(ABS(VLOOKUP(O10,Combinaison!$C$4:$E$18,3,FALSE)-VLOOKUP(P10,Combinaison!$C$4:$E$18,2,FALSE)),ABS(VLOOKUP(P10,Combinaison!$C$4:$E$18,3,FALSE)-VLOOKUP(O10,Combinaison!$C$4:$E$18,2,FALSE))) -> 0.30902778
A11: 6 | B11: alice | D11: =MIN(ABS(VLOOKUP(C11,Combinaison!$C$4:$E$18,3,FALSE)-VLOOKUP(C12,Combinaison!$C$4:$E$18,2,FALSE)),ABS(VLOOKUP(C12,Combinaison!$C$4:$E$18,3,FALSE)-VLOOKUP(C11,Combinaison!$C$4:$E$18,2,FALSE))) -> #N/A | F11: 21 | G11: alice | I11: =MIN(ABS(VLOOKUP(H11,Combinaison!$C$4:$E$18,3,FALSE)-VLOOKUP(H12,Combinaison!$C$4:$E$18,2,FALSE)),ABS(VLOOKUP(H12,Combinaison!$C$4:$E$18,3,FALSE)-VLOOKUP(H11,Combinaison!$C$4:$E$18,2,FALSE))) -> #N/A | N11: 11 | O11: {=INDEX(Combinaison!$C$4:$C$18,MOD(N11-1,15)+1)} -> M3 | P11: {=INDEX(Combinaison!$C$4:$C$18,INT(N11/15)+1)} -> J1 | Q11: =MIN(ABS(VLOOKUP(O11,Combinaison!$C$4:$E$18,3,FALSE)-VLOOKUP(P11,Combinaison!$C$4:$E$18,2,FALSE)),ABS(VLOOKUP(P11,Combinaison!$C$4:$E$18,3,FALSE)-VLOOKUP(O11,Combinaison!$C$4:$E$18,2,FALSE))) -> 0.26736111
B12: seb | G12: seb | N12: 12 | O12: {=INDEX(Combinaison!$C$4:$C$18,MOD(N12-1,15)+1)} -> M4 | P12: {=INDEX(Combinaison!$C$4:$C$18,INT(N12/15)+1)} -> J1 | Q12: =MIN(ABS(VLOOKUP(O12,Combinaison!$C$4:$E$18,3,FALSE)-VLOOKUP(P12,Combinaison!$C$4:$E$18,2,FALSE)),ABS(VLOOKUP(P12,Combinaison!$C$4:$E$18,3,FALSE)-VLOOKUP(O12,Combinaison!$C$4:$E$18,2,FALSE))) -> 0.22569444
A13: 7 | B13: alice | D13: =MIN(ABS(VLOOKUP(C13,Combinaison!$C$4:$E$18,3,FALSE)-VLOOKUP(C14,Combinaison!$C$4:$E$18,2,FALSE)),ABS(VLOOKUP(C14,Combinaison!$C$4:$E$18,3,FALSE)-VLOOKUP(C13,Combinaison!$C$4:$E$18,2,FALSE))) -> #N/A | F13: 22 | G13: alice | I13: =MIN(ABS(VLOOKUP(H13,Combinaison!$C$4:$E$18,3,FALSE)-VLOOKUP(H14,Combinaison!$C$4:$E$18,2,FALSE)),ABS(VLOOKUP(H14,Combinaison!$C$4:$E$18,3,FALSE)-VLOOKUP(H13,Combinaison!$C$4:$E$18,2,FALSE))) -> #N/A | N13: 13 | O13: {=INDEX(Combinaison!$C$4:$C$18,MOD(N13-1,15)+1)} -> M5 | P13: {=INDEX(Combinaison!$C$4:$C$18,INT(N13/15)+1)} -> J1 | Q13: =MIN(ABS(VLOOKUP(O13,Combinaison!$C$4:$E$18,3,FALSE)-VLOOKUP(P13,Combinaison!$C$4:$E$18,2,FALSE)),ABS(VLOOKUP(P13,Combinaison!$C$4:$E$18,3,FALSE)-VLOOKUP(O13,Combinaison!$C$4:$E$18,2,FALSE))) -> 0.28819444
B14: seb | G14: seb | N14: 14 | O14: {=INDEX(Combinaison!$C$4:$C$18,MOD(N14-1,15)+1)} -> N1 | P14: {=INDEX(Combinaison!$C$4:$C$18,INT(N14/15)+1)} -> J1 | Q14: =MIN(ABS(VLOOKUP(O14,Combinaison!$C$4:$E$18,3,FALSE)-VLOOKUP(P14,Combinaison!$C$4:$E$18,2,FALSE)),ABS(VLOOKUP(P14,Combinaison!$C$4:$E$18,3,FALSE)-VLOOKUP(O14,Combinaison!$C$4:$E$18,2,FALSE))) -> 0.065972222
A15: 8 | B15: alice | D15: =MIN(ABS(VLOOKUP(C15,Combinaison!$C$4:$E$18,3,FALSE)-VLOOKUP(C16,Combinaison!$C$4:$E$18,2,FALSE)),ABS(VLOOKUP(C16,Combinaison!$C$4:$E$18,3,FALSE)-VLOOKUP(C15,Combinaison!$C$4:$E$18,2,FALSE))) -> #N/A | F15: 23 | G15: alice | I15: =MIN(ABS(VLOOKUP(H15,Combinaison!$C$4:$E$18,3,FALSE)-VLOOKUP(H16,Combinaison!$C$4:$E$18,2,FALSE)),ABS(VLOOKUP(H16,Combinaison!$C$4:$E$18,3,FALSE)-VLOOKUP(H15,Combinaison!$C$4:$E$18,2,FALSE))) -> #N/A | N15: 15 | O15: {=INDEX(Combinaison!$C$4:$C$18,MOD(N15-1,15)+1)} -> N2 | P15: {=INDEX(Combinaison!$C$4:$C$18,INT(N15/15)+1)} -> J2 | Q15: =MIN(ABS(VLOOKUP(O15,Combinaison!$C$4:$E$18,3,FALSE)-VLOOKUP(P15,Combinaison!$C$4:$E$18,2,FALSE)),ABS(VLOOKUP(P15,Combinaison!$C$4:$E$18,3,FALSE)-VLOOKUP(O15,Combinaison!$C$4:$E$18,2,FALSE))) -> 0.045138889
B16: seb | G16: seb | N16: 16 | O16: {=INDEX(Combinaison!$C$4:$C$18,MOD(N16-1,15)+1)} -> J1 | P16: {=INDEX(Combinaison!$C$4:$C$18,INT(N16/15)+1)} -> J2 | Q16: =MIN(ABS(VLOOKUP(O16,Combinaison!$C$4:$E$18,3,FALSE)-VLOOKUP(P16,Combinaison!$C$4:$E$18,2,FALSE)),ABS(VLOOKUP(P16,Combinaison!$C$4:$E$18,3,FALSE)-VLOOKUP(O16,Combinaison!$C$4:$E$18,2,FALSE))) -> 0.39236111
A17: 9 | B17: alice | D17: =MIN(ABS(VLOOKUP(C17,Combinaison!$C$4:$E$18,3,FALSE)-VLOOKUP(C18,Combinaison!$C$4:$E$18,2,FALSE)),ABS(VLOOKUP(C18,Combinaison!$C$4:$E$18,3,FALSE)-VLOOKUP(C17,Combinaison!$C$4:$E$18,2,FALSE))) -> #N/A | F17: 24 | G17: alice | I17: =MIN(ABS(VLOOKUP(H17,Combinaison!$C$4:$E$18,3,FALSE)-VLOOKUP(H18,Combinaison!$C$4:$E$18,2,FALSE)),ABS(VLOOKUP(H18,Combinaison!$C$4:$E$18,3,FALSE)-VLOOKUP(H17,Combinaison!$C$4:$E$18,2,FALSE))) -> #N/A | N17: 17 | O17: {=INDEX(Combinaison!$C$4:$C$18,MOD(N17-1,15)+1)} -> J2 | P17: {=INDEX(Combinaison!$C$4:$C$18,INT(N17/15)+1)} -> J2 | Q17: =MIN(ABS(VLOOKUP(O17,Combinaison!$C$4:$E$18,3,FALSE)-VLOOKUP(P17,Combinaison!$C$4:$E$18,2,FALSE)),ABS(VLOOKUP(P17,Combinaison!$C$4:$E$18,3,FALSE)-VLOOKUP(O17,Combinaison!$C$4:$E$18,2,FALSE))) -> 0.41319444
B18: seb | G18: seb | N18: 18 | O18: {=INDEX(Combinaison!$C$4:$C$18,MOD(N18-1,15)+1)} -> J3 | P18: {=INDEX(Combinaison!$C$4:$C$18,INT(N18/15)+1)} -> J2 | Q18: =MIN(ABS(VLOOKUP(O18,Combinaison!$C$4:$E$18,3,FALSE)-VLOOKUP(P18,Combinaison!$C$4:$E$18,2,FALSE)),ABS(VLOOKUP(P18,Combinaison!$C$4:$E$18,3,FALSE)-VLOOKUP(O18,Combinaison!$C$4:$E$18,2,FALSE))) -> 0.35069444
A19: 10 | B19: alice | D19: =MIN(ABS(VLOOKUP(C19,Combinaison!$C$4:$E$18,3,FALSE)-VLOOKUP(C20,Combinaison!$C$4:$E$18,2,FALSE)),ABS(VLOOKUP(C20,Combinaison!$C$4:$E$18,3,FALSE)-VLOOKUP(C19,Combinaison!$C$4:$E$18,2,FALSE))) -> #N/A | F19: 25 | G19: alice | I19: =MIN(ABS(VLOOKUP(H19,Combinaison!$C$4:$E$18,3,FALSE)-VLOOKUP(H20,Combinaison!$C$4:$E$18,2,FALSE)),ABS(VLOOKUP(H20,Combinaison!$C$4:$E$18,3,FALSE)-VLOOKUP(H19,Combinaison!$C$4:$E$18,2,FALSE))) -> #N/A | N19: 19 | O19: {=INDEX(Combinaison!$C$4:$C$18,MOD(N19-1,15)+1)} -> J4 | P19: {=INDEX(Combinaison!$C$4:$C$18,INT(N19/15)+1)} -> J2 | Q19: =MIN(ABS(VLOOKUP(O19,Combinaison!$C$4:$E$18,3,FALSE)-VLOOKUP(P19,Combinaison!$C$4:$E$18,2,FALSE)),ABS(VLOOKUP(P19,Combinaison!$C$4:$E$18,3,FALSE)-VLOOKUP(O19,Combinaison!$C$4:$E$18,2,FALSE))) -> 0.37152778
B20: seb | G20: seb | N20: 20 | O20: {=INDEX(Combinaison!$C$4:$C$18,MOD(N20-1,15)+1)} -> S1 | P20: {=INDEX(Combinaison!$C$4:$C$18,INT(N20/15)+1)} -> J2 | Q20: =MIN(ABS(VLOOKUP(O20,Combinaison!$C$4:$E$18,3,FALSE)-VLOOKUP(P20,Combinaison!$C$4:$E$18,2,FALSE)),ABS(VLOOKUP(P20,Combinaison!$C$4:$E$18,3,FALSE)-VLOOKUP(O20,Combinaison!$C$4:$E$18,2,FALSE))) -> 0.20486111
A21: 11 | B21: alice | D21: =MIN(ABS(VLOOKUP(C21,Combinaison!$C$4:$E$18,3,FALSE)-VLOOKUP(C22,Combinaison!$C$4:$E$18,2,FALSE)),ABS(VLOOKUP(C22,Combinaison!$C$4:$E$18,3,FALSE)-VLOOKUP(C21,Combinaison!$C$4:$E$18,2,FALSE))) -> #N/A | F21: 26 | G21: alice | I21: =MIN(ABS(VLOOKUP(H21,Combinaison!$C$4:$E$18,3,FALSE)-VLOOKUP(H22,Combinaison!$C$4:$E$18,2,FALSE)),ABS(VLOOKUP(H22,Combinaison!$C$4:$E$18,3,FALSE)-VLOOKUP(H21,Combinaison!$C$4:$E$18,2,FALSE))) -> #N/A | N21: 21 | O21: {=INDEX(Combinaison!$C$4:$C$18,MOD(N21-1,15)+1)} -> S2 | P21: {=INDEX(Combinaison!$C$4:$C$18,INT(N21/15)+1)} -> J2 | Q21: =MIN(ABS(VLOOKUP(O21,Combinaison!$C$4:$E$18,3,FALSE)-VLOOKUP(P21,Combinaison!$C$4:$E$18,2,FALSE)),ABS(VLOOKUP(P21,Combinaison!$C$4:$E$18,3,FALSE)-VLOOKUP(O21,Combinaison!$C$4:$E$18,2,FALSE))) -> 0.20486111
B22: seb | G22: seb | N22: 22 | O22: {=INDEX(Combinaison!$C$4:$C$18,MOD(N22-1,15)+1)} -> S3 | P22: {=INDEX(Combinaison!$C$4:$C$18,INT(N22/15)+1)} -> J2 | Q22: =MIN(ABS(VLOOKUP(O22,Combinaison!$C$4:$E$18,3,FALSE)-VLOOKUP(P22,Combinaison!$C$4:$E$18,2,FALSE)),ABS(VLOOKUP(P22,Combinaison!$C$4:$E$18,3,FALSE)-VLOOKUP(O22,Combinaison!$C$4:$E$18,2,FALSE))) -> 0.24652778
A23: 12 | B23: alice | D23: =MIN(ABS(VLOOKUP(C23,Combinaison!$C$4:$E$18,3,FALSE)-VLOOKUP(C24,Combinaison!$C$4:$E$18,2,FALSE)),ABS(VLOOKUP(C24,Combinaison!$C$4:$E$18,3,FALSE)-VLOOKUP(C23,Combinaison!$C$4:$E$18,2,FALSE))) -> #N/A | F23: 27 | G23: alice | I23: =MIN(ABS(VLOOKUP(H23,Combinaison!$C$4:$E$18,3,FALSE)-VLOOKUP(H24,Combinaison!$C$4:$E$18,2,FALSE)),ABS(VLOOKUP(H24,Combinaison!$C$4:$E$18,3,FALSE)-VLOOKUP(H23,Combinaison!$C$4:$E$18,2,FALSE))) -> #N/A | N23: 23 | O23: {=INDEX(Combinaison!$C$4:$C$18,MOD(N23-1,15)+1)} -> S4 | P23: {=INDEX(Combinaison!$C$4:$C$18,INT(N23/15)+1)} -> J2 | Q23: =MIN(ABS(VLOOKUP(O23,Combinaison!$C$4:$E$18,3,FALSE)-VLOOKUP(P23,Combinaison!$C$4:$E$18,2,FALSE)),ABS(VLOOKUP(P23,Combinaison!$C$4:$E$18,3,FALSE)-VLOOKUP(O23,Combinaison!$C$4:$E$18,2,FALSE))) -> 0.20486111
B24: seb | G24: seb | N24: 24 | O24: {=INDEX(Combinaison!$C$4:$C$18,MOD(N24-1,15)+1)} -> M1 | P24: {=INDEX(Combinaison!$C$4:$C$18,INT(N24/15)+1)} -> J2 | Q24: =MIN(ABS(VLOOKUP(O24,Combinaison!$C$4:$E$18,3,FALSE)-VLOOKUP(P24,Combinaison!$C$4:$E$18,2,FALSE)),ABS(VLOOKUP(P24,Combinaison!$C$4:$E$18,3,FALSE)-VLOOKUP(O24,Combinaison!$C$4:$E$18,2,FALSE))) -> 0.26736111
A25: 13 | B25: alice | D25: =MIN(ABS(VLOOKUP(C25,Combinaison!$C$4:$E$18,3,FALSE)-VLOOKUP(C26,Combinaison!$C$4:$E$18,2,FALSE)),ABS(VLOOKUP(C26,Combinaison!$C$4:$E$18,3,FALSE)-VLOOKUP(C25,Combinaison!$C$4:$E$18,2,FALSE))) -> #N/A | F25: 28 | G25: alice | I25: =MIN(ABS(VLOOKUP(H25,Combinaison!$C$4:$E$18,3,FALSE)-VLOOKUP(H26,Combinaison!$C$4:$E$18,2,FALSE)),ABS(VLOOKUP(H26,Combinaison!$C$4:$E$18,3,FALSE)-VLOOKUP(H25,Combinaison!$C$4:$E$18,2,FALSE))) -> #N/A | N25: 25 | O25: {=INDEX(Combinaison!$C$4:$C$18,MOD(N25-1,15)+1)} -> M2 | P25: {=INDEX(Combinaison!$C$4:$C$18,INT(N25/15)+1)} -> J2 | Q25: =MIN(ABS(VLOOKUP(O25,Combinaison!$C$4:$E$18,3,FALSE)-VLOOKUP(P25,Combinaison!$C$4:$E$18,2,FALSE)),ABS(VLOOKUP(P25,Combinaison!$C$4:$E$18,3,FALSE)-VLOOKUP(O25,Combinaison!$C$4:$E$18,2,FALSE))) -> 0.30902778
B26: seb | G26: seb | N26: 26 | O26: {=INDEX(Combinaison!$C$4:$C$18,MOD(N26-1,15)+1)} -> M3 | P26: {=INDEX(Combinaison!$C$4:$C$18,INT(N26/15)+1)} -> J2 | Q26: =MIN(ABS(VLOOKUP(O26,Combinaison!$C$4:$E$18,3,FALSE)-VLOOKUP(P26,Combinaison!$C$4:$E$18,2,FALSE)),ABS(VLOOKUP(P26,Combinaison!$C$4:$E$18,3,FALSE)-VLOOKUP(O26,Combinaison!$C$4:$E$18,2,FALSE))) -> 0.26736111
A27: 14 | B27: alice | D27: =MIN(ABS(VLOOKUP(C27,Combinaison!$C$4:$E$18,3,FALSE)-VLOOKUP(C28,Combinaison!$C$4:$E$18,2,FALSE)),ABS(VLOOKUP(C28,Combinaison!$C$4:$E$18,3,FALSE)-VLOOKUP(C27,Combinaison!$C$4:$E$18,2,FALSE))) -> #N/A | F27: 29 | G27: alice | I27: =MIN(ABS(VLOOKUP(H27,Combinaison!$C$4:$E$18,3,FALSE)-VLOOKUP(H28,Combinaison!$C$4:$E$18,2,FALSE)),ABS(VLOOKUP(H28,Combinaison!$C$4:$E$18,3,FALSE)-VLOOKUP(H27,Combinaison!$C$4:$E$18,2,FALSE))) -> #N/A | N27: 27 | O27: {=INDEX(Combinaison!$C$4:$C$18,MOD(N27-1,15)+1)} -> M4 | P27: {=INDEX(Combinaison!$C$4:$C$18,INT(N27/15)+1)} -> J2 | Q27: =MIN(ABS(VLOOKUP(O27,Combinaison!$C$4:$E$18,3,FALSE)-VLOOKUP(P27,Combinaison!$C$4:$E$18,2,FALSE)),ABS(VLOOKUP(P27,Combinaison!$C$4:$E$18,3,FALSE)-VLOOKUP(O27,Combinaison!$C$4:$E$18,2,FALSE))) -> 0.22569444
B28: seb | G28: seb | N28: 28 | O28: {=INDEX(Combinaison!$C$4:$C$18,MOD(N28-1,15)+1)} -> M5 | P28: {=INDEX(Combinaison!$C$4:$C$18,INT(N28/15)+1)} -> J2 | Q28: =MIN(ABS(VLOOKUP(O28,Combinaison!$C$4:$E$18,3,FALSE)-VLOOKUP(P28,Combinaison!$C$4:$E$18,2,FALSE)),ABS(VLOOKUP(P28,Combinaison!$C$4:$E$18,3,FALSE)-VLOOKUP(O28,Combinaison!$C$4:$E$18,2,FALSE))) -> 0.28819444
A29: 15 | B29: alice | D29: =MIN(ABS(VLOOKUP(C29,Combinaison!$C$4:$E$18,3,FALSE)-VLOOKUP(C30,Combinaison!$C$4:$E$18,2,FALSE)),ABS(VLOOKUP(C30,Combinaison!$C$4:$E$18,3,FALSE)-VLOOKUP(C29,Combinaison!$C$4:$E$18,2,FALSE))) -> #N/A | F29: 30 | G29: alice | I29: =MIN(ABS(VLOOKUP(H29,Combinaison!$C$4:$E$18,3,FALSE)-VLOOKUP(H30,Combinaison!$C$4:$E$18,2,FALSE)),ABS(VLOOKUP(H30,Combinaison!$C$4:$E$18,3,FALSE)-VLOOKUP(H29,Combinaison!$C$4:$E$18,2,FALSE))) -> #N/A | N29: 29 | O29: {=INDEX(Combinaison!$C$4:$C$18,MOD(N29-1,15)+1)} -> N1 | P29: {=INDEX(Combinaison!$C$4:$C$18,INT(N29/15)+1)} -> J2 | Q29: =MIN(ABS(VLOOKUP(O29,Combinaison!$C$4:$E$18,3,FALSE)-VLOOKUP(P29,Combinaison!$C$4:$E$18,2,FALSE)),ABS(VLOOKUP(P29,Combinaison!$C$4:$E$18,3,FALSE)-VLOOKUP(O29,Combinaison!$C$4:$E$18,2,FALSE))) -> 0.065972222
B30: seb | G30: seb | N30: 30 | O30: {=INDEX(Combinaison!$C$4:$C$18,MOD(N30-1,15)+1)} -> N2 | P30: {=INDEX(Combinaison!$C$4:$C$18,INT(N30/15)+1)} -> J3 | Q30: =MIN(ABS(VLOOKUP(O30,Combinaison!$C$4:$E$18,3,FALSE)-VLOOKUP(P30,Combinaison!$C$4:$E$18,2,FALSE)),ABS(VLOOKUP(P30,Combinaison!$C$4:$E$18,3,FALSE)-VLOOKUP(O30,Combinaison!$C$4:$E$18,2,FALSE))) -> 0.10763889
F31: 31 | G31: alice | I31: =MIN(ABS(VLOOKUP(H31,Combinaison!$C$4:$E$18,3,FALSE)-VLOOKUP(H32,Combinaison!$C$4:$E$18,2,FALSE)),ABS(VLOOKUP(H32,Combinaison!$C$4:$E$18,3,FALSE)-VLOOKUP(H31,Combinaison!$C$4:$E$18,2,FALSE))) -> #N/A | N31: 31 | O31: {=INDEX(Combinaison!$C$4:$C$18,MOD(N31-1,15)+1)} -> J1 | P31: {=INDEX(Combinaison!$C$4:$C$18,INT(N31/15)+1)} -> J3 | Q31: =MIN(ABS(VLOOKUP(O31,Combinaison!$C$4:$E$18,3,FALSE)-VLOOKUP(P31,Combinaison!$C$4:$E$18,2,FALSE)),ABS(VLOOKUP(P31,Combinaison!$C$4:$E$18,3,FALSE)-VLOOKUP(O31,Combinaison!$C$4:$E$18,2,FALSE))) -> 0.35069444
G32: seb | N32: 32 | O32: {=INDEX(Combinaison!$C$4:$C$18,MOD(N32-1,15)+1)} -> J2 | P32: {=INDEX(Combinaison!$C$4:$C$18,INT(N32/15)+1)} -> J3 | Q32: =MIN(ABS(VLOOKUP(O32,Combinaison!$C$4:$E$18,3,FALSE)-VLOOKUP(P32,Combinaison!$C$4:$E$18,2,FALSE)),ABS(VLOOKUP(P32,Combinaison!$C$4:$E$18,3,FALSE)-VLOOKUP(O32,Combinaison!$C$4:$E$18,2,FALSE))) -> 0.35069444
N33: 33 | O33: {=INDEX(Combinaison!$C$4:$C$18,MOD(N33-1,15)+1)} -> J3 | P33: {=INDEX(Combinaison!$C$4:$C$18,INT(N33/15)+1)} -> J3 | Q33: =MIN(ABS(VLOOKUP(O33,Combinaison!$C$4:$E$18,3,FALSE)-VLOOKUP(P33,Combinaison!$C$4:$E$18,2,FALSE)),ABS(VLOOKUP(P33,Combinaison!$C$4:$E$18,3,FALSE)-VLOOKUP(O33,Combinaison!$C$4:$E$18,2,FALSE))) -> 0.35069444
N34: 34 | O34: {=INDEX(Combinaison!$C$4:$C$18,MOD(N34-1,15)+1)} -> J4 | P34: {=INDEX(Combinaison!$C$4:$C$18,INT(N34/15)+1)} -> J3 | Q34: =MIN(ABS(VLOOKUP(O34,Combinaison!$C$4:$E$18,3,FALSE)-VLOOKUP(P34,Combinaison!$C$4:$E$18,2,FALSE)),ABS(VLOOKUP(P34,Combinaison!$C$4:$E$18,3,FALSE)-VLOOKUP(O34,Combinaison!$C$4:$E$18,2,FALSE))) -> 0.35069444
N35: 35 | O35: {=INDEX(Combinaison!$C$4:$C$18,MOD(N35-1,15)+1)} -> S1 | P35: {=INDEX(Combinaison!$C$4:$C$18,INT(N35/15)+1)} -> J3 | Q35: =MIN(ABS(VLOOKUP(O35,Combinaison!$C$4:$E$18,3,FALSE)-VLOOKUP(P35,Combinaison!$C$4:$E$18,2,FALSE)),ABS(VLOOKUP(P35,Combinaison!$C$4:$E$18,3,FALSE)-VLOOKUP(O35,Combinaison!$C$4:$E$18,2,FALSE))) -> 0.14236111
N36: 36 | O36: {=INDEX(Combinaison!$C$4:$C$18,MOD(N36-1,15)+1)} -> S2 | P36: {=INDEX(Combinaison!$C$4:$C$18,INT(N36/15)+1)} -> J3 | Q36: =MIN(ABS(VLOOKUP(O36,Combinaison!$C$4:$E$18,3,FALSE)-VLOOKUP(P36,Combinaison!$C$4:$E$18,2,FALSE)),ABS(VLOOKUP(P36,Combinaison!$C$4:$E$18,3,FALSE)-VLOOKUP(O36,Combinaison!$C$4:$E$18,2,FALSE))) -> 0.14236111
N37: 37 | O37: {=INDEX(Combinaison!$C$4:$C$18,MOD(N37-1,15)+1)} -> S3 | P37: {=INDEX(Combinaison!$C$4:$C$18,INT(N37/15)+1)} -> J3 | Q37: =MIN(ABS(VLOOKUP(O37,Combinaison!$C$4:$E$18,3,FALSE)-VLOOKUP(P37,Combinaison!$C$4:$E$18,2,FALSE)),ABS(VLOOKUP(P37,Combinaison!$C$4:$E$18,3,FALSE)-VLOOKUP(O37,Combinaison!$C$4:$E$18,2,FALSE))) -> 0.18402778
N38: 38 | O38: {=INDEX(Combinaison!$C$4:$C$18,MOD(N38-1,15)+1)} -> S4 | P38: {=INDEX(Combinaison!$C$4:$C$18,INT(N38/15)+1)} -> J3 | Q38: =MIN(ABS(VLOOKUP(O38,Combinaison!$C$4:$E$18,3,FALSE)-VLOOKUP(P38,Combinaison!$C$4:$E$18,2,FALSE)),ABS(VLOOKUP(P38,Combinaison!$C$4:$E$18,3,FALSE)-VLOOKUP(O38,Combinaison!$C$4:$E$18,2,FALSE))) -> 0.14236111
N39: 39 | O39: {=INDEX(Combinaison!$C$4:$C$18,MOD(N39-1,15)+1)} -> M1 | P39: {=INDEX(Combinaison!$C$4:$C$18,INT(N39/15)+1)} -> J3 | Q39: =MIN(ABS(VLOOKUP(O39,Combinaison!$C$4:$E$18,3,FALSE)-VLOOKUP(P39,Combinaison!$C$4:$E$18,2,FALSE)),ABS(VLOOKUP(P39,Combinaison!$C$4:$E$18,3,FALSE)-VLOOKUP(O39,Combinaison!$C$4:$E$18,2,FALSE))) -> 0.26736111
N40: 40 | O40: {=INDEX(Combinaison!$C$4:$C$18,MOD(N40-1,15)+1)} -> M2 | P40: {=INDEX(Combinaison!$C$4:$C$18,INT(N40/15)+1)} -> J3 | Q40: =MIN(ABS(VLOOKUP(O40,Combinaison!$C$4:$E$18,3,FALSE)-VLOOKUP(P40,Combinaison!$C$4:$E$18,2,FALSE)),ABS(VLOOKUP(P40,Combinaison!$C$4:$E$18,3,FALSE)-VLOOKUP(O40,Combinaison!$C$4:$E$18,2,FALSE))) -> 0.30902778
N41: 41 | O41: {=INDEX(Combinaison!$C$4:$C$18,MOD(N41-1,15)+1)} -> M3 | P41: {=INDEX(Combinaison!$C$4:$C$18,INT(N41/15)+1)} -> J3 | Q41: =MIN(ABS(VLOOKUP(O41,Combinaison!$C$4:$E$18,3,FALSE)-VLOOKUP(P41,Combinaison!$C$4:$E$18,2,FALSE)),ABS(VLOOKUP(P41,Combinaison!$C$4:$E$18,3,FALSE)-VLOOKUP(O41,Combinaison!$C$4:$E$18,2,FALSE))) -> 0.26736111
N42: 42 | O42: {=INDEX(Combinaison!$C$4:$C$18,MOD(N42-1,15)+1)} -> M4 | P42: {=INDEX(Combinaison!$C$4:$C$18,INT(N42/15)+1)} -> J3 | Q42: =MIN(ABS(VLOOKUP(O42,Combinaison!$C$4:$E$18,3,FALSE)-VLOOKUP(P42,Combinaison!$C$4:$E$18,2,FALSE)),ABS(VLOOKUP(P42,Combinaison!$C$4:$E$18,3,FALSE)-VLOOKUP(O42,Combinaison!$C$4:$E$18,2,FALSE))) -> 0.22569444
N43: 43 | O43: {=INDEX(Combinaison!$C$4:$C$18,MOD(N43-1,15)+1)} -> M5 | P43: {=INDEX(Combinaison!$C$4:$C$18,INT(N43/15)+1)} -> J3 | Q43: =MIN(ABS(VLOOKUP(O43,Combinaison!$C$4:$E$18,3,FALSE)-VLOOKUP(P43,Combinaison!$C$4:$E$18,2,FALSE)),ABS(VLOOKUP(P43,Combinaison!$C$4:$E$18,3,FALSE)-VLOOKUP(O43,Combinaison!$C$4:$E$18,2,FALSE))) -> 0.28819444
N44: 44 | O44: {=INDEX(Combinaison!$C$4:$C$18,MOD(N44-1,15)+1)} -> N1 | P44: {=INDEX(Combinaison!$C$4:$C$18,INT(N44/15)+1)} -> J3 | Q44: =MIN(ABS(VLOOKUP(O44,Combinaison!$C$4:$E$18,3,FALSE)-VLOOKUP(P44,Combinaison!$C$4:$E$18,2,FALSE)),ABS(VLOOKUP(P44,Combinaison!$C$4:$E$18,3,FALSE)-VLOOKUP(O44,Combinaison!$C$4:$E$18,2,FALSE))) -> 0.065972222
... N226: 226 | O226: {=INDEX(Combinaison!$C$4:$C$18,MOD(N226-1,15)+1)} -> J1 | P226: {=INDEX(Combinaison!$C$4:$C$18,INT(N226/15)+1)} -> #REF! | Q226: =MIN(ABS(VLOOKUP(O226,Combinaison!$C$4:$E$18,3,FALSE)-VLOOKUP(P226,Combinaison!$C$4:$E$18,2,FALSE)),ABS(VLOOKUP(P226,Combinaison!$C$4:$E$18,3,FALSE)-VLOOKUP(O226,Combinaison!$C$4:$E$18,2,FALSE))) -> #REF!
