Workbook

Sheet Organisation tournoi
A1: Heure début matin | B1: 0.4375 | D1: Terrain 1 | F1: Victoire | G1: 3
A2: Durée match | B2: 0.0083333333 | D2: Terrain 2 | F2: Nul | G2: 1
A3: Durée entre 2 matches | B3: 0.0020833333 | D3: Terrain 3 | F3: Défaite | G3: 0
A4: Heure début après-midi | B4: 0.54166667 | D4: Terrain 4
A5: Durée match | B5: 0.0083333333 | D5: Terrain 5
A6: Durée entre 2 matches | B6: 0.0020833333 | D6: Terrain 6
A8: Poule A | C8: Poule B | E8: Poule C | G8: Poule D
A9: Dijon | C9: PSG | E9: Strasbourg | G9: Monaco
A10: Marseille | C10: Saint-Etienne | E10: Nantes | G10: Rennes
A11: Lyon | C11: Lille | E11: Montpellier | G11: Nice
A12: Angers | C12: Bordeaux | E12: Metz | G12: Toulouse

Sheet Classement
A1: Classement
A2: Poule A | B2: Equipe | C2: Points | D2: Matches joués | E2: Matches gagnés | F2: Matches nuls | G2: Matches perdus | H2: Buts marqués | I2: Buts encaissés | J2: Diff
A3: 1 | B3: =INDEX(Données!A$2:A$5,MATCH(Classement!$A3,Données!$K$2:$K$5,0)) -> Dijon | C3: =INDEX(Données!B$2:B$5,MATCH(Classement!$A3,Données!$K$2:$K$5,0)) -> 4 | D3: =INDEX(Données!C$2:C$5,MATCH(Classement!$A3,Données!$K$2:$K$5,0)) -> 2 | E3: =INDEX(Données!D$2:D$5,MATCH(Classement!$A3,Données!$K$2:$K$5,0)) -> 1 | F3: =INDEX(Données!E$2:E$5,MATCH(Classement!$A3,Données!$K$2:$K$5,0)) -> 1 | G3: =INDEX(Données!F$2:F$5,MATCH(Classement!$A3,Données!$K$2:$K$5,0)) -> 0 | H3: =INDEX(Données!G$2:G$5,MATCH(Classement!$A3,Données!$K$2:$K$5,0)) -> 6 | I3: =INDEX(Données!H$2:H$5,MATCH(Classement!$A3,Données!$K$2:$K$5,0)) -> 3 | J3: =INDEX(Données!I$2:I$5,MATCH(Classement!$A3,Données!$K$2:$K$5,0)) -> 3
A4: 2 | B4: =INDEX(Données!A$2:A$5,MATCH(Classement!$A4,Données!$K$2:$K$5,0)) -> Marseille | C4: =INDEX(Données!B$2:B$5,MATCH(Classement!$A4,Données!$K$2:$K$5,0)) -> 3 | D4: =INDEX(Données!C$2:C$5,MATCH(Classement!$A4,Données!$K$2:$K$5,0)) -> 2 | E4: =INDEX(Données!D$2:D$5,MATCH(Classement!$A4,Données!$K$2:$K$5,0)) -> 1 | F4: =INDEX(Données!E$2:E$5,MATCH(Classement!$A4,Données!$K$2:$K$5,0)) -> 0 | G4: =INDEX(Données!F$2:F$5,MATCH(Classement!$A4,Données!$K$2:$K$5,0)) -> 1 | H4: =INDEX(Données!G$2:G$5,MATCH(Classement!$A4,Données!$K$2:$K$5,0)) -> 6 | I4: =INDEX(Données!H$2:H$5,MATCH(Classement!$A4,Données!$K$2:$K$5,0)) -> 5 | J4: =INDEX(Données!I$2:I$5,MATCH(Classement!$A4,Données!$K$2:$K$5,0)) -> 1
A5: 3 | B5: =INDEX(Données!A$2:A$5,MATCH(Classement!$A5,Données!$K$2:$K$5,0)) -> Angers | C5: =INDEX(Données!B$2:B$5,MATCH(Classement!$A5,Données!$K$2:$K$5,0)) -> 2 | D5: =INDEX(Données!C$2:C$5,MATCH(Classement!$A5,Données!$K$2:$K$5,0)) -> 2 | E5: =INDEX(Données!D$2:D$5,MATCH(Classement!$A5,Données!$K$2:$K$5,0)) -> 0 | F5: =INDEX(Données!E$2:E$5,MATCH(Classement!$A5,Données!$K$2:$K$5,0)) -> 2 | G5: =INDEX(Données!F$2:F$5,MATCH(Classement!$A5,Données!$K$2:$K$5,0)) -> 0 | H5: =INDEX(Données!G$2:G$5,MATCH(Classement!$A5,Données!$K$2:$K$5,0)) -> 2 | I5: =INDEX(Données!H$2:H$5,MATCH(Classement!$A5,Données!$K$2:$K$5,0)) -> 2 | J5: =INDEX(Données!I$2:I$5,MATCH(Classement!$A5,Données!$K$2:$K$5,0)) -> 0
A6: 4 | B6: =INDEX(Données!A$2:A$5,MATCH(Classement!$A6,Données!$K$2:$K$5,0)) -> Lyon | C6: =INDEX(Données!B$2:B$5,MATCH(Classement!$A6,Données!$K$2:$K$5,0)) -> 1 | D6: =INDEX(Données!C$2:C$5,MATCH(Classement!$A6,Données!$K$2:$K$5,0)) -> 2 | E6: =INDEX(Données!D$2:D$5,MATCH(Classement!$A6,Données!$K$2:$K$5,0)) -> 0 | F6: =INDEX(Données!E$2:E$5,MATCH(Classement!$A6,Données!$K$2:$K$5,0)) -> 1 | G6: =INDEX(Données!F$2:F$5,MATCH(Classement!$A6,Données!$K$2:$K$5,0)) -> 1 | H6: =INDEX(Données!G$2:G$5,MATCH(Classement!$A6,Données!$K$2:$K$5,0)) -> 1 | I6: =INDEX(Données!H$2:H$5,MATCH(Classement!$A6,Données!$K$2:$K$5,0)) -> 5 | J6: =INDEX(Données!I$2:I$5,MATCH(Classement!$A6,Données!$K$2:$K$5,0)) -> -4
A8: Poule B | B8: Equipe | C8: Points | D8: Matches joués | E8: Matches gagnés | F8: Matches nuls | G8: Matches perdus | H8: Buts marqués | I8: Buts encaissés | J8: Diff
A9: 1 | B9: =INDEX(Données!A$6:A$9,MATCH(Classement!$A9,Données!$K$6:$K$9,0)) -> PSG | C9: =INDEX(Données!B$6:B$9,MATCH(Classement!$A9,Données!$K$6:$K$9,0)) -> 4 | D9: =INDEX(Données!C$6:C$9,MATCH(Classement!$A9,Données!$K$6:$K$9,0)) -> 2 | E9: =INDEX(Données!D$6:D$9,MATCH(Classement!$A9,Données!$K$6:$K$9,0)) -> 1 | F9: =INDEX(Données!E$6:E$9,MATCH(Classement!$A9,Données!$K$6:$K$9,0)) -> 1 | G9: =INDEX(Données!F$6:F$9,MATCH(Classement!$A9,Données!$K$6:$K$9,0)) -> 0 | H9: =INDEX(Données!G$6:G$9,MATCH(Classement!$A9,Données!$K$6:$K$9,0)) -> 11 | I9: =INDEX(Données!H$6:H$9,MATCH(Classement!$A9,Données!$K$6:$K$9,0)) -> 1 | J9: =INDEX(Données!I$6:I$9,MATCH(Classement!$A9,Données!$K$6:$K$9,0)) -> 10
A10: 2 | B10: =INDEX(Données!A$6:A$9,MATCH(Classement!$A10,Données!$K$6:$K$9,0)) -> Lille | C10: =INDEX(Données!B$6:B$9,MATCH(Classement!$A10,Données!$K$6:$K$9,0)) -> 4 | D10: =INDEX(Données!C$6:C$9,MATCH(Classement!$A10,Données!$K$6:$K$9,0)) -> 2 | E10: =INDEX(Données!D$6:D$9,MATCH(Classement!$A10,Données!$K$6:$K$9,0)) -> 1 | F10: =INDEX(Données!E$6:E$9,MATCH(Classement!$A10,Données!$K$6:$K$9,0)) -> 1 | G10: =INDEX(Données!F$6:F$9,MATCH(Classement!$A10,Données!$K$6:$K$9,0)) -> 0 | H10: =INDEX(Données!G$6:G$9,MATCH(Classement!$A10,Données!$K$6:$K$9,0)) -> 2 | I10: =INDEX(Données!H$6:H$9,MATCH(Classement!$A10,Données!$K$6:$K$9,0)) -> 0 | J10: =INDEX(Données!I$6:I$9,MATCH(Classement!$A10,Données!$K$6:$K$9,0)) -> 2
A11: 3 | B11: =INDEX(Données!A$6:A$9,MATCH(Classement!$A11,Données!$K$6:$K$9,0)) -> Saint-Etienne | C11: =INDEX(Données!B$6:B$9,MATCH(Classement!$A11,Données!$K$6:$K$9,0)) -> 2 | D11: =INDEX(Données!C$6:C$9,MATCH(Classement!$A11,Données!$K$6:$K$9,0)) -> 2 | E11: =INDEX(Données!D$6:D$9,MATCH(Classement!$A11,Données!$K$6:$K$9,0)) -> 0 | F11: =INDEX(Données!E$6:E$9,MATCH(Classement!$A11,Données!$K$6:$K$9,0)) -> 2 | G11: =INDEX(Données!F$6:F$9,MATCH(Classement!$A11,Données!$K$6:$K$9,0)) -> 0 | H11: =INDEX(Données!G$6:G$9,MATCH(Classement!$A11,Données!$K$6:$K$9,0)) -> 1 | I11: =INDEX(Données!H$6:H$9,MATCH(Classement!$A11,Données!$K$6:$K$9,0)) -> 1 | J11: =INDEX(Données!I$6:I$9,MATCH(Classement!$A11,Données!$K$6:$K$9,0)) -> 0
A12: 4 | B12: =INDEX(Données!A$6:A$9,MATCH(Classement!$A12,Données!$K$6:$K$9,0)) -> Bordeaux | C12: =INDEX(Données!B$6:B$9,MATCH(Classement!$A12,Données!$K$6:$K$9,0)) -> 0 | D12: =INDEX(Données!C$6:C$9,MATCH(Classement!$A12,Données!$K$6:$K$9,0)) -> 2 | E12: =INDEX(Données!D$6:D$9,MATCH(Classement!$A12,Données!$K$6:$K$9,0)) -> 0 | F12: =INDEX(Données!E$6:E$9,MATCH(Classement!$A12,Données!$K$6:$K$9,0)) -> 0 | G12: =INDEX(Données!F$6:F$9,MATCH(Classement!$A12,Données!$K$6:$K$9,0)) -> 2 | H12: =INDEX(Données!G$6:G$9,MATCH(Classement!$A12,Données!$K$6:$K$9,0)) -> 0 | I12: =INDEX(Données!H$6:H$9,MATCH(Classement!$A12,Données!$K$6:$K$9,0)) -> 12 | J12: =INDEX(Données!I$6:I$9,MATCH(Classement!$A12,Données!$K$6:$K$9,0)) -> -12
A14: Poule C | B14: Equipe | C14: Points | D14: Matches joués | E14: Matches gagnés | F14: Matches nuls | G14: Matches perdus | H14: Buts marqués | I14: Buts encaissés | J14: Diff
A15: 1 | B15: =INDEX(Données!A$10:A$13,MATCH(Classement!$A15,Données!$K$10:$K$13,0)) -> Strasbourg | C15: =INDEX(Données!B$10:B$13,MATCH(Classement!$A15,Données!$K$10:$K$13,0)) -> 7 | D15: =INDEX(Données!C$10:C$13,MATCH(Classement!$A15,Données!$K$10:$K$13,0)) -> 3 | E15: =INDEX(Données!D$10:D$13,MATCH(Classement!$A15,Données!$K$10:$K$13,0)) -> 2 | F15: =INDEX(Données!E$10:E$13,MATCH(Classement!$A15,Données!$K$10:$K$13,0)) -> 1 | G15: =INDEX(Données!F$10:F$13,MATCH(Classement!$A15,Données!$K$10:$K$13,0)) -> 0 | H15: =INDEX(Données!G$10:G$13,MATCH(Classement!$A15,Données!$K$10:$K$13,0)) -> 6 | I15: =INDEX(Données!H$10:H$13,MATCH(Classement!$A15,Données!$K$10:$K$13,0)) -> 1 | J15: =INDEX(Données!I$10:I$13,MATCH(Classement!$A15,Données!$K$10:$K$13,0)) -> 5
A16: 2 | B16: =INDEX(Données!A$10:A$13,MATCH(Classement!$A16,Données!$K$10:$K$13,0)) -> Montpellier | C16: =INDEX(Données!B$10:B$13,MATCH(Classement!$A16,Données!$K$10:$K$13,0)) -> 6 | D16: =INDEX(Données!C$10:C$13,MATCH(Classement!$A16,Données!$K$10:$K$13,0)) -> 3 | E16: =INDEX(Données!D$10:D$13,MATCH(Classement!$A16,Données!$K$10:$K$13,0)) -> 2 | F16: =INDEX(Données!E$10:E$13,MATCH(Classement!$A16,Données!$K$10:$K$13,0)) -> 0 | G16: =INDEX(Données!F$10:F$13,MATCH(Classement!$A16,Données!$K$10:$K$13,0)) -> 1 | H16: =INDEX(Données!G$10:G$13,MATCH(Classement!$A16,Données!$K$10:$K$13,0)) -> 10 | I16: =INDEX(Données!H$10:H$13,MATCH(Classement!$A16,Données!$K$10:$K$13,0)) -> 6 | J16: =INDEX(Données!I$10:I$13,MATCH(Classement!$A16,Données!$K$10:$K$13,0)) -> 4
A17: 3 | B17: =INDEX(Données!A$10:A$13,MATCH(Classement!$A17,Données!$K$10:$K$13,0)) -> Nantes | C17: =INDEX(Données!B$10:B$13,MATCH(Classement!$A17,Données!$K$10:$K$13,0)) -> 1 | D17: =INDEX(Données!C$10:C$13,MATCH(Classement!$A17,Données!$K$10:$K$13,0)) -> 2 | E17: =INDEX(Données!D$10:D$13,MATCH(Classement!$A17,Données!$K$10:$K$13,0)) -> 0 | F17: =INDEX(Données!E$10:E$13,MATCH(Classement!$A17,Données!$K$10:$K$13,0)) -> 1 | G17: =INDEX(Données!F$10:F$13,MATCH(Classement!$A17,Données!$K$10:$K$13,0)) -> 1 | H17: =INDEX(Données!G$10:G$13,MATCH(Classement!$A17,Données!$K$10:$K$13,0)) -> 3 | I17: =INDEX(Données!H$10:H$13,MATCH(Classement!$A17,Données!$K$10:$K$13,0)) -> 4 | J17: =INDEX(Données!I$10:I$13,MATCH(Classement!$A17,Données!$K$10:$K$13,0)) -> -1
A18: 4 | B18: =INDEX(Données!A$10:A$13,MATCH(Classement!$A18,Données!$K$10:$K$13,0)) -> Metz | C18: =INDEX(Données!B$10:B$13,MATCH(Classement!$A18,Données!$K$10:$K$13,0)) -> 0 | D18: =INDEX(Données!C$10:C$13,MATCH(Classement!$A18,Données!$K$10:$K$13,0)) -> 2 | E18: =INDEX(Données!D$10:D$13,MATCH(Classement!$A18,Données!$K$10:$K$13,0)) -> 0 | F18: =INDEX(Données!E$10:E$13,MATCH(Classement!$A18,Données!$K$10:$K$13,0)) -> 0 | G18: =INDEX(Données!F$10:F$13,MATCH(Classement!$A18,Données!$K$10:$K$13,0)) -> 2 | H18: =INDEX(Données!G$10:G$13,MATCH(Classement!$A18,Données!$K$10:$K$13,0)) -> 1 | I18: =INDEX(Données!H$10:H$13,MATCH(Classement!$A18,Données!$K$10:$K$13,0)) -> 9 | J18: =INDEX(Données!I$10:I$13,MATCH(Classement!$A18,Données!$K$10:$K$13,0)) -> -8
A20: Poule D | B20: Equipe | C20: Points | D20: Matches joués | E20: Matches gagnés | F20: Matches nuls | G20: Matches perdus | H20: Buts marqués | I20: Buts encaissés | J20: Diff
A21: 1 | B21: =INDEX(Données!A$14:A$17,MATCH(Classement!$A21,Données!$K$14:$K$17,0)) -> Monaco | C21: =INDEX(Données!B$14:B$17,MATCH(Classement!$A21,Données!$K$14:$K$17,0)) -> 6 | D21: =INDEX(Données!C$14:C$17,MATCH(Classement!$A21,Données!$K$14:$K$17,0)) -> 3 | E21: =INDEX(Données!D$14:D$17,MATCH(Classement!$A21,Données!$K$14:$K$17,0)) -> 2 | F21: =INDEX(Données!E$14:E$17,MATCH(Classement!$A21,Données!$K$14:$K$17,0)) -> 0 | G21: =INDEX(Données!F$14:F$17,MATCH(Classement!$A21,Données!$K$14:$K$17,0)) -> 1 | H21: =INDEX(Données!G$14:G$17,MATCH(Classement!$A21,Données!$K$14:$K$17,0)) -> 7 | I21: =INDEX(Données!H$14:H$17,MATCH(Classement!$A21,Données!$K$14:$K$17,0)) -> 3 | J21: =INDEX(Données!I$14:I$17,MATCH(Classement!$A21,Données!$K$14:$K$17,0)) -> 4
A22: 2 | B22: =INDEX(Données!A$14:A$17,MATCH(Classement!$A22,Données!$K$14:$K$17,0)) -> Nice | C22: =INDEX(Données!B$14:B$17,MATCH(Classement!$A22,Données!$K$14:$K$17,0)) -> 4 | D22: =INDEX(Données!C$14:C$17,MATCH(Classement!$A22,Données!$K$14:$K$17,0)) -> 3 | E22: =INDEX(Données!D$14:D$17,MATCH(Classement!$A22,Données!$K$14:$K$17,0)) -> 1 | F22: =INDEX(Données!E$14:E$17,MATCH(Classement!$A22,Données!$K$14:$K$17,0)) -> 1 | G22: =INDEX(Données!F$14:F$17,MATCH(Classement!$A22,Données!$K$14:$K$17,0)) -> 1 | H22: =INDEX(Données!G$14:G$17,MATCH(Classement!$A22,Données!$K$14:$K$17,0)) -> 5 | I22: =INDEX(Données!H$14:H$17,MATCH(Classement!$A22,Données!$K$14:$K$17,0)) -> 7 | J22: =INDEX(Données!I$14:I$17,MATCH(Classement!$A22,Données!$K$14:$K$17,0)) -> -2
A23: 3 | B23: =INDEX(Données!A$14:A$17,MATCH(Classement!$A23,Données!$K$14:$K$17,0)) -> Toulouse | C23: =INDEX(Données!B$14:B$17,MATCH(Classement!$A23,Données!$K$14:$K$17,0)) -> 3 | D23: =INDEX(Données!C$14:C$17,MATCH(Classement!$A23,Données!$K$14:$K$17,0)) -> 2 | E23: =INDEX(Données!D$14:D$17,MATCH(Classement!$A23,Données!$K$14:$K$17,0)) -> 1 | F23: =INDEX(Données!E$14:E$17,MATCH(Classement!$A23,Données!$K$14:$K$17,0)) -> 0 | G23: =INDEX(Données!F$14:F$17,MATCH(Classement!$A23,Données!$K$14:$K$17,0)) -> 1 | H23: =INDEX(Données!G$14:G$17,MATCH(Classement!$A23,Données!$K$14:$K$17,0)) -> 5 | I23: =INDEX(Données!H$14:H$17,MATCH(Classement!$A23,Données!$K$14:$K$17,0)) -> 2 | J23: =INDEX(Données!I$14:I$17,MATCH(Classement!$A23,Données!$K$14:$K$17,0)) -> 3
A24: 4 | B24: =INDEX(Données!A$14:A$17,MATCH(Classement!$A24,Données!$K$14:$K$17,0)) -> Rennes | C24: =INDEX(Données!B$14:B$17,MATCH(Classement!$A24,Données!$K$14:$K$17,0)) -> 1 | D24: =INDEX(Données!C$14:C$17,MATCH(Classement!$A24,Données!$K$14:$K$17,0)) -> 2 | E24: =INDEX(Données!D$14:D$17,MATCH(Classement!$A24,Données!$K$14:$K$17,0)) -> 0 | F24: =INDEX(Données!E$14:E$17,MATCH(Classement!$A24,Données!$K$14:$K$17,0)) -> 1 | G24: =INDEX(Données!F$14:F$17,MATCH(Classement!$A24,Données!$K$14:$K$17,0)) -> 1 | H24: =INDEX(Données!G$14:G$17,MATCH(Classement!$A24,Données!$K$14:$K$17,0)) -> 1 | I24: =INDEX(Données!H$14:H$17,MATCH(Classement!$A24,Données!$K$14:$K$17,0)) -> 6 | J24: =INDEX(Données!I$14:I$17,MATCH(Classement!$A24,Données!$K$14:$K$17,0)) -> -5

Sheet Planning
D1: ='Organisation tournoi'!D1 -> Terrain 1
A2: ='Organisation tournoi'!B$1 -> 0.4375 | D2: ='Organisation tournoi'!A9 -> Dijon | E2: 5 | F2: 2 | G2: ='Organisation tournoi'!A10 -> Marseille
A3: =A2+'Organisation tournoi'!$B$2+'Organisation tournoi'!$B$3 -> 0.44791667 | D3: ='Organisation tournoi'!C9 -> PSG | E3: 1 | F3: 1 | G3: ='Organisation tournoi'!C10 -> Saint-Etienne
A4: =A3+'Organisation tournoi'!$B$2+'Organisation tournoi'!$B$3 -> 0.45833333 | D4: ='Organisation tournoi'!A9 -> Dijon | E4: 1 | F4: 1 | G4: ='Organisation tournoi'!A12 -> Angers
A5: =A4+'Organisation tournoi'!$B$2+'Organisation tournoi'!$B$3 -> 0.46875 | D5: ='Organisation tournoi'!C9 -> PSG | E5: 10 | F5: 0 | G5: ='Organisation tournoi'!C12 -> Bordeaux
A6: =A5+'Organisation tournoi'!$B$2+'Organisation tournoi'!$B$3 -> 0.47916667 | D6: ='Organisation tournoi'!A9 -> Dijon | G6: ='Organisation tournoi'!A11 -> Lyon
A7: =A6+'Organisation tournoi'!$B$2+'Organisation tournoi'!$B$3 -> 0.48958333 | D7: ='Organisation tournoi'!C9 -> PSG | G7: ='Organisation tournoi'!C11 -> Lille
D8: ='Organisation tournoi'!D2 -> Terrain 2
A9: ='Organisation tournoi'!B$1 -> 0.4375 | D9: ='Organisation tournoi'!A11 -> Lyon | E9: 1 | F9: 1 | G9: ='Organisation tournoi'!A12 -> Angers
A10: =A9+'Organisation tournoi'!$B$2+'Organisation tournoi'!$B$3 -> 0.44791667 | D10: ='Organisation tournoi'!C11 -> Lille | E10: 2 | F10: 0 | G10: ='Organisation tournoi'!C12 -> Bordeaux
A11: =A10+'Organisation tournoi'!$B$2+'Organisation tournoi'!$B$3 -> 0.45833333 | D11: ='Organisation tournoi'!A10 -> Marseille | E11: 4 | F11: 0 | G11: ='Organisation tournoi'!A11 -> Lyon
A12: =A11+'Organisation tournoi'!$B$2+'Organisation tournoi'!$B$3 -> 0.46875 | D12: ='Organisation tournoi'!C10 -> Saint-Etienne | E12: 0 | F12: 0 | G12: ='Organisation tournoi'!C11 -> Lille
A13: =A12+'Organisation tournoi'!$B$2+'Organisation tournoi'!$B$3 -> 0.47916667 | D13: ='Organisation tournoi'!A10 -> Marseille | G13: ='Organisation tournoi'!A12 -> Angers
A14: =A13+'Organisation tournoi'!$B$2+'Organisation tournoi'!$B$3 -> 0.48958333 | D14: ='Organisation tournoi'!C10 -> Saint-Etienne | G14: ='Organisation tournoi'!C12 -> Bordeaux
D15: ='Organisation tournoi'!D3 -> Terrain 3
A16: ='Organisation tournoi'!B$1 -> 0.4375 | D16: ='Organisation tournoi'!E9 -> Strasbourg | E16: 1 | F16: 1 | G16: ='Organisation tournoi'!E10 -> Nantes
A17: =A16+'Organisation tournoi'!$B$2+'Organisation tournoi'!$B$3 -> 0.44791667 | D17: ='Organisation tournoi'!G9 -> Monaco | E17: 5 | F17: 0 | G17: ='Organisation tournoi'!G10 -> Rennes
A18: =A17+'Organisation tournoi'!$B$2+'Organisation tournoi'!$B$3 -> 0.45833333 | D18: ='Organisation tournoi'!E9 -> Strasbourg | E18: 2 | F18: 0 | G18: ='Organisation tournoi'!E12 -> Metz
A19: =A18+'Organisation tournoi'!$B$2+'Organisation tournoi'!$B$3 -> 0.46875 | D19: ='Organisation tournoi'!G9 -> Monaco | E19: 1 | F19: 0 | G19: ='Organisation tournoi'!G12 -> Toulouse
A20: =A19+'Organisation tournoi'!$B$2+'Organisation tournoi'!$B$3 -> 0.47916667 | D20: ='Organisation tournoi'!E9 -> Strasbourg | E20: 3 | F20: 0 | G20: ='Organisation tournoi'!E11 -> Montpellier
A21: =A20+'Organisation tournoi'!$B$2+'Organisation tournoi'!$B$3 -> 0.48958333 | D21: ='Organisation tournoi'!G9 -> Monaco | E21: 1 | F21: 3 | G21: ='Organisation tournoi'!G11 -> Nice
D22: ='Organisation tournoi'!D4 -> Terrain 4
A23: ='Organisation tournoi'!B$1 -> 0.4375 | D23: ='Organisation tournoi'!E11 -> Montpellier | E23: 7 | F23: 1 | G23: ='Organisation tournoi'!E12 -> Metz
A24: =A23+'Organisation tournoi'!$B$2+'Organisation tournoi'!$B$3 -> 0.44791667 | D24: ='Organisation tournoi'!G11 -> Nice | E24: 1 | F24: 5 | G24: ='Organisation tournoi'!G12 -> Toulouse
A25: =A24+'Organisation tournoi'!$B$2+'Organisation tournoi'!$B$3 -> 0.45833333 | D25: ='Organisation tournoi'!E10 -> Nantes | E25: 2 | F25: 3 | G25: ='Organisation tournoi'!E11 -> Montpellier
A26: =A25+'Organisation tournoi'!$B$2+'Organisation tournoi'!$B$3 -> 0.46875 | D26: ='Organisation tournoi'!G10 -> Rennes | E26: 1 | F26: 1 | G26: ='Organisation tournoi'!G11 -> Nice
A27: =A26+'Organisation tournoi'!$B$2+'Organisation tournoi'!$B$3 -> 0.47916667 | D27: ='Organisation tournoi'!E10 -> Nantes | G27: ='Organisation tournoi'!E12 -> Metz
A28: =A27+'Organisation tournoi'!$B$2+'Organisation tournoi'!$B$3 -> 0.48958333 | D28: ='Organisation tournoi'!G10 -> Rennes | G28: ='Organisation tournoi'!G12 -> Toulouse

Sheet Données
B1: Points | C1: Matches joués | D1: Matches gagnés | E1: Matches nuls | F1: Matches perdus | G1: Buts marqués | H1: Buts encaissés | I1: Diff | J1: Magic | K1: classement | L1: Poule
A2: ='Organisation tournoi'!A9 -> Dijon | B2: =D2*'Organisation tournoi'!$G$1+Données!E2*'Organisation tournoi'!$G$2 -> 4 | C2: =SUMPRODUCT((Planning!$D$2:$D$28=Données!A2)*(Planning!$E$2:$E$28<>""))+SUMPRODUCT((Planning!$G$2:$G$28=Données!A2)*(Planning!$E$2:$E$28<>"")) -> 2 | D2: =SUMPRODUCT((Planning!$D$2:$D$28=Données!A2)*(Planning!$E$2:$E$28>Planning!$F$2:$F$28)*(Planning!$E$2:$E$28<>""))+SUMPRODUCT((Planning!$G$2:$G$28=Données!A2)*(Planning!$E$2:$E$28<Planning!$F$2:$F$28)*(Planning!$E$2:$E$28<>"")) -> 1 | E2: =SUMPRODUCT((Planning!$D$2:$D$28=Données!A2)*(Planning!$E$2:$E$28=Planning!$F$2:$F$28)*(Planning!$E$2:$E$28<>""))+SUMPRODUCT((Planning!$G$2:$G$28=Données!A2)*(Planning!$E$2:$E$28=Planning!$F$2:$F$28)*(Planning!$E$2:$E$28<>"")) -> 1 | F2: =C2-D2-E2 -> 0 | G2: =SUMPRODUCT((Planning!$D$2:$D$28=Données!A2)*(Planning!$E$2:$E$28))+SUMPRODUCT((Planning!$G$2:$G$28=Données!A2)*(Planning!$F$2:$F$28)) -> 6 | H2: =SUMPRODUCT((Planning!$D$2:$D$28=Données!A2)*(Planning!$F$2:$F$28))+SUMPRODUCT((Planning!$G$2:$G$28=Données!A2)*(Planning!$E$2:$E$28)) -> 3 | I2: =G2-H2 -> 3 | J2: =B2*100000+C2*-10000+I2*1000+G2+ROW()/10 -> 383006.2 | K2: =RANK(J2,$J$2:$J$5) -> 1 | L2: 1
A3: ='Organisation tournoi'!A10 -> Marseille | B3: =D3*'Organisation tournoi'!$G$1+Données!E3*'Organisation tournoi'!$G$2 -> 3 | C3: =SUMPRODUCT((Planning!$D$2:$D$28=Données!A3)*(Planning!$E$2:$E$28<>""))+SUMPRODUCT((Planning!$G$2:$G$28=Données!A3)*(Planning!$E$2:$E$28<>"")) -> 2 | D3: =SUMPRODUCT((Planning!$D$2:$D$28=Données!A3)*(Planning!$E$2:$E$28>Planning!$F$2:$F$28)*(Planning!$E$2:$E$28<>""))+SUMPRODUCT((Planning!$G$2:$G$28=Données!A3)*(Planning!$E$2:$E$28<Planning!$F$2:$F$28)*(Planning!$E$2:$E$28<>"")) -> 1 | E3: =SUMPRODUCT((Planning!$D$2:$D$28=Données!A3)*(Planning!$E$2:$E$28=Planning!$F$2:$F$28)*(Planning!$E$2:$E$28<>""))+SUMPRODUCT((Planning!$G$2:$G$28=Données!A3)*(Planning!$E$2:$E$28=Planning!$F$2:$F$28)*(Planning!$E$2:$E$28<>"")) -> 0 | F3: =C3-D3-E3 -> 1 | G3: =SUMPRODUCT((Planning!$D$2:$D$28=Données!A3)*(Planning!$E$2:$E$28))+SUMPRODUCT((Planning!$G$2:$G$28=Données!A3)*(Planning!$F$2:$F$28)) -> 6 | H3: =SUMPRODUCT((Planning!$D$2:$D$28=Données!A3)*(Planning!$F$2:$F$28))+SUMPRODUCT((Planning!$G$2:$G$28=Données!A3)*(Planning!$E$2:$E$28)) -> 5 | I3: =G3-H3 -> 1 | J3: =B3*100000+C3*-10000+I3*1000+G3+ROW()/10 -> 281006.3 | K3: =RANK(J3,$J$2:$J$5) -> 2 | L3: 1
A4: ='Organisation tournoi'!A11 -> Lyon | B4: =D4*'Organisation tournoi'!$G$1+Données!E4*'Organisation tournoi'!$G$2 -> 1 | C4: =SUMPRODUCT((Planning!$D$2:$D$28=Données!A4)*(Planning!$E$2:$E$28<>""))+SUMPRODUCT((Planning!$G$2:$G$28=Données!A4)*(Planning!$E$2:$E$28<>"")) -> 2 | D4: =SUMPRODUCT((Planning!$D$2:$D$28=Données!A4)*(Planning!$E$2:$E$28>Planning!$F$2:$F$28)*(Planning!$E$2:$E$28<>""))+SUMPRODUCT((Planning!$G$2:$G$28=Données!A4)*(Planning!$E$2:$E$28<Planning!$F$2:$F$28)*(Planning!$E$2:$E$28<>"")) -> 0 | E4: =SUMPRODUCT((Planning!$D$2:$D$28=Données!A4)*(Planning!$E$2:$E$28=Planning!$F$2:$F$28)*(Planning!$E$2:$E$28<>""))+SUMPRODUCT((Planning!$G$2:$G$28=Données!A4)*(Planning!$E$2:$E$28=Planning!$F$2:$F$28)*(Planning!$E$2:$E$28<>"")) -> 1 | F4: =C4-D4-E4 -> 1 | G4: =SUMPRODUCT((Planning!$D$2:$D$28=Données!A4)*(Planning!$E$2:$E$28))+SUMPRODUCT((Planning!$G$2:$G$28=Données!A4)*(Planning!$F$2:$F$28)) -> 1 | H4: =SUMPRODUCT((Planning!$D$2:$D$28=Données!A4)*(Planning!$F$2:$F$28))+SUMPRODUCT((Planning!$G$2:$G$28=Données!A4)*(Planning!$E$2:$E$28)) -> 5 | I4: =G4-H4 -> -4 | J4: =B4*100000+C4*-10000+I4*1000+G4+ROW()/10 -> 76001.4 | K4: =RANK(J4,$J$2:$J$5) -> 4 | L4: 1
A5: ='Organisation tournoi'!A12 -> Angers | B5: =D5*'Organisation tournoi'!$G$1+Données!E5*'Organisation tournoi'!$G$2 -> 2 | C5: =SUMPRODUCT((Planning!$D$2:$D$28=Données!A5)*(Planning!$E$2:$E$28<>""))+SUMPRODUCT((Planning!$G$2:$G$28=Données!A5)*(Planning!$E$2:$E$28<>"")) -> 2 | D5: =SUMPRODUCT((Planning!$D$2:$D$28=Données!A5)*(Planning!$E$2:$E$28>Planning!$F$2:$F$28)*(Planning!$E$2:$E$28<>""))+SUMPRODUCT((Planning!$G$2:$G$28=Données!A5)*(Planning!$E$2:$E$28<Planning!$F$2:$F$28)*(Planning!$E$2:$E$28<>"")) -> 0 | E5: =SUMPRODUCT((Planning!$D$2:$D$28=Données!A5)*(Planning!$E$2:$E$28=Planning!$F$2:$F$28)*(Planning!$E$2:$E$28<>""))+SUMPRODUCT((Planning!$G$2:$G$28=Données!A5)*(Planning!$E$2:$E$28=Planning!$F$2:$F$28)*(Planning!$E$2:$E$28<>"")) -> 2 | F5: =C5-D5-E5 -> 0 | G5: =SUMPRODUCT((Planning!$D$2:$D$28=Données!A5)*(Planning!$E$2:$E$28))+SUMPRODUCT((Planning!$G$2:$G$28=Données!A5)*(Planning!$F$2:$F$28)) -> 2 | H5: =SUMPRODUCT((Planning!$D$2:$D$28=Données!A5)*(Planning!$F$2:$F$28))+SUMPRODUCT((Planning!$G$2:$G$28=Données!A5)*(Planning!$E$2:$E$28)) -> 2 | I5: =G5-H5 -> 0 | J5: =B5*100000+C5*-10000+I5*1000+G5+ROW()/10 -> 180002.5 | K5: =RANK(J5,$J$2:$J$5) -> 3 | L5: 1
A6: ='Organisation tournoi'!C9 -> PSG | B6: =D6*'Organisation tournoi'!$G$1+Données!E6*'Organisation tournoi'!$G$2 -> 4 | C6: =SUMPRODUCT((Planning!$D$2:$D$28=Données!A6)*(Planning!$E$2:$E$28<>""))+SUMPRODUCT((Planning!$G$2:$G$28=Données!A6)*(Planning!$E$2:$E$28<>"")) -> 2 | D6: =SUMPRODUCT((Planning!$D$2:$D$28=Données!A6)*(Planning!$E$2:$E$28>Planning!$F$2:$F$28)*(Planning!$E$2:$E$28<>""))+SUMPRODUCT((Planning!$G$2:$G$28=Données!A6)*(Planning!$E$2:$E$28<Planning!$F$2:$F$28)*(Planning!$E$2:$E$28<>"")) -> 1 | E6: =SUMPRODUCT((Planning!$D$2:$D$28=Données!A6)*(Planning!$E$2:$E$28=Planning!$F$2:$F$28)*(Planning!$E$2:$E$28<>""))+SUMPRODUCT((Planning!$G$2:$G$28=Données!A6)*(Planning!$E$2:$E$28=Planning!$F$2:$F$28)*(Planning!$E$2:$E$28<>"")) -> 1 | F6: =C6-D6-E6 -> 0 | G6: =SUMPRODUCT((Planning!$D$2:$D$28=Données!A6)*(Planning!$E$2:$E$28))+SUMPRODUCT((Planning!$G$2:$G$28=Données!A6)*(Planning!$F$2:$F$28)) -> 11 | H6: =SUMPRODUCT((Planning!$D$2:$D$28=Données!A6)*(Planning!$F$2:$F$28))+SUMPRODUCT((Planning!$G$2:$G$28=Données!A6)*(Planning!$E$2:$E$28)) -> 1 | I6: =G6-H6 -> 10 | J6: =B6*100000+C6*-10000+I6*1000+G6+ROW()/10 -> 390011.6 | K6: =RANK(J6,$J$6:$J$9) -> 1 | L6: 2
A7: ='Organisation tournoi'!C10 -> Saint-Etienne | B7: =D7*'Organisation tournoi'!$G$1+Données!E7*'Organisation tournoi'!$G$2 -> 2 | C7: =SUMPRODUCT((Planning!$D$2:$D$28=Données!A7)*(Planning!$E$2:$E$28<>""))+SUMPRODUCT((Planning!$G$2:$G$28=Données!A7)*(Planning!$E$2:$E$28<>"")) -> 2 | D7: =SUMPRODUCT((Planning!$D$2:$D$28=Données!A7)*(Planning!$E$2:$E$28>Planning!$F$2:$F$28)*(Planning!$E$2:$E$28<>""))+SUMPRODUCT((Planning!$G$2:$G$28=Données!A7)*(Planning!$E$2:$E$28<Planning!$F$2:$F$28)*(Planning!$E$2:$E$28<>"")) -> 0 | E7: =SUMPRODUCT((Planning!$D$2:$D$28=Données!A7)*(Planning!$E$2:$E$28=Planning!$F$2:$F$28)*(Planning!$E$2:$E$28<>""))+SUMPRODUCT((Planning!$G$2:$G$28=Données!A7)*(Planning!$E$2:$E$28=Planning!$F$2:$F$28)*(Planning!$E$2:$E$28<>"")) -> 2 | F7: =C7-D7-E7 -> 0 | G7: =SUMPRODUCT((Planning!$D$2:$D$28=Données!A7)*(Planning!$E$2:$E$28))+SUMPRODUCT((Planning!$G$2:$G$28=Données!A7)*(Planning!$F$2:$F$28)) -> 1 | H7: =SUMPRODUCT((Planning!$D$2:$D$28=Données!A7)*(Planning!$F$2:$F$28))+SUMPRODUCT((Planning!$G$2:$G$28=Données!A7)*(Planning!$E$2:$E$28)) -> 1 | I7: =G7-H7 -> 0 | J7: =B7*100000+C7*-10000+I7*1000+G7+ROW()/10 -> 180001.7 | K7: =RANK(J7,$J$6:$J$9) -> 3 | L7: 2
A8: ='Organisation tournoi'!C11 -> Lille | B8: =D8*'Organisation tournoi'!$G$1+Données!E8*'Organisation tournoi'!$G$2 -> 4 | C8: =SUMPRODUCT((Planning!$D$2:$D$28=Données!A8)*(Planning!$E$2:$E$28<>""))+SUMPRODUCT((Planning!$G$2:$G$28=Données!A8)*(Planning!$E$2:$E$28<>"")) -> 2 | D8: =SUMPRODUCT((Planning!$D$2:$D$28=Données!A8)*(Planning!$E$2:$E$28>Planning!$F$2:$F$28)*(Planning!$E$2:$E$28<>""))+SUMPRODUCT((Planning!$G$2:$G$28=Données!A8)*(Planning!$E$2:$E$28<Planning!$F$2:$F$28)*(Planning!$E$2:$E$28<>"")) -> 1 | E8: =SUMPRODUCT((Planning!$D$2:$D$28=Données!A8)*(Planning!$E$2:$E$28=Planning!$F$2:$F$28)*(Planning!$E$2:$E$28<>""))+SUMPRODUCT((Planning!$G$2:$G$28=Données!A8)*(Planning!$E$2:$E$28=Planning!$F$2:$F$28)*(Planning!$E$2:$E$28<>"")) -> 1 | F8: =C8-D8-E8 -> 0 | G8: =SUMPRODUCT((Planning!$D$2:$D$28=Données!A8)*(Planning!$E$2:$E$28))+SUMPRODUCT((Planning!$G$2:$G$28=Données!A8)*(Planning!$F$2:$F$28)) -> 2 | H8: =SUMPRODUCT((Planning!$D$2:$D$28=Données!A8)*(Planning!$F$2:$F$28))+SUMPRODUCT((Planning!$G$2:$G$28=Données!A8)*(Planning!$E$2:$E$28)) -> 0 | I8: =G8-H8 -> 2 | J8: =B8*100000+C8*-10000+I8*1000+G8+ROW()/10 -> 382002.8 | K8: =RANK(J8,$J$6:$J$9) -> 2 | L8: 2
A9: ='Organisation tournoi'!C12 -> Bordeaux | B9: =D9*'Organisation tournoi'!$G$1+Données!E9*'Organisation tournoi'!$G$2 -> 0 | C9: =SUMPRODUCT((Planning!$D$2:$D$28=Données!A9)*(Planning!$E$2:$E$28<>""))+SUMPRODUCT((Planning!$G$2:$G$28=Données!A9)*(Planning!$E$2:$E$28<>"")) -> 2 | D9: =SUMPRODUCT((Planning!$D$2:$D$28=Données!A9)*(Planning!$E$2:$E$28>Planning!$F$2:$F$28)*(Planning!$E$2:$E$28<>""))+SUMPRODUCT((Planning!$G$2:$G$28=Données!A9)*(Planning!$E$2:$E$28<Planning!$F$2:$F$28)*(Planning!$E$2:$E$28<>"")) -> 0 | E9: =SUMPRODUCT((Planning!$D$2:$D$28=Données!A9)*(Planning!$E$2:$E$28=Planning!$F$2:$F$28)*(Planning!$E$2:$E$28<>""))+SUMPRODUCT((Planning!$G$2:$G$28=Données!A9)*(Planning!$E$2:$E$28=Planning!$F$2:$F$28)*(Planning!$E$2:$E$28<>"")) -> 0 | F9: =C9-D9-E9 -> 2 | G9: =SUMPRODUCT((Planning!$D$2:$D$28=Données!A9)*(Planning!$E$2:$E$28))+SUMPRODUCT((Planning!$G$2:$G$28=Données!A9)*(Planning!$F$2:$F$28)) -> 0 | H9: =SUMPRODUCT((Planning!$D$2:$D$28=Données!A9)*(Planning!$F$2:$F$28))+SUMPRODUCT((Planning!$G$2:$G$28=Données!A9)*(Planning!$E$2:$E$28)) -> 12 | I9: =G9-H9 -> -12 | J9: =B9*100000+C9*-10000+I9*1000+G9+ROW()/10 -> -31999.1 | K9: =RANK(J9,$J$6:$J$9) -> 4 | L9: 2
A10: ='Organisation tournoi'!E9 -> Strasbourg | B10: =D10*'Organisation tournoi'!$G$1+Données!E10*'Organisation tournoi'!$G$2 -> 7 | C10: =SUMPRODUCT((Planning!$D$2:$D$28=Données!A10)*(Planning!$E$2:$E$28<>""))+SUMPRODUCT((Planning!$G$2:$G$28=Données!A10)*(Planning!$E$2:$E$28<>"")) -> 3 | D10: =SUMPRODUCT((Planning!$D$2:$D$28=Données!A10)*(Planning!$E$2:$E$28>Planning!$F$2:$F$28)*(Planning!$E$2:$E$28<>""))+SUMPRODUCT((Planning!$G$2:$G$28=Données!A10)*(Planning!$E$2:$E$28<Planning!$F$2:$F$28)*(Planning!$E$2:$E$28<>"")) -> 2 | E10: =SUMPRODUCT((Planning!$D$2:$D$28=Données!A10)*(Planning!$E$2:$E$28=Planning!$F$2:$F$28)*(Planning!$E$2:$E$28<>""))+SUMPRODUCT((Planning!$G$2:$G$28=Données!A10)*(Planning!$E$2:$E$28=Planning!$F$2:$F$28)*(Planning!$E$2:$E$28<>"")) -> 1 | F10: =C10-D10-E10 -> 0 | G10: =SUMPRODUCT((Planning!$D$2:$D$28=Données!A10)*(Planning!$E$2:$E$28))+SUMPRODUCT((Planning!$G$2:$G$28=Données!A10)*(Planning!$F$2:$F$28)) -> 6 | H10: =SUMPRODUCT((Planning!$D$2:$D$28=Données!A10)*(Planning!$F$2:$F$28))+SUMPRODUCT((Planning!$G$2:$G$28=Données!A10)*(Planning!$E$2:$E$28)) -> 1 | I10: =G10-H10 -> 5 | J10: =B10*100000+C10*-10000+I10*1000+G10+ROW()/10 -> 675007 | K10: =RANK(J10,$J$10:$J$13) -> 1 | L10: 3
A11: ='Organisation tournoi'!E10 -> Nantes | B11: =D11*'Organisation tournoi'!$G$1+Données!E11*'Organisation tournoi'!$G$2 -> 1 | C11: =SUMPRODUCT((Planning!$D$2:$D$28=Données!A11)*(Planning!$E$2:$E$28<>""))+SUMPRODUCT((Planning!$G$2:$G$28=Données!A11)*(Planning!$E$2:$E$28<>"")) -> 2 | D11: =SUMPRODUCT((Planning!$D$2:$D$28=Données!A11)*(Planning!$E$2:$E$28>Planning!$F$2:$F$28)*(Planning!$E$2:$E$28<>""))+SUMPRODUCT((Planning!$G$2:$G$28=Données!A11)*(Planning!$E$2:$E$28<Planning!$F$2:$F$28)*(Planning!$E$2:$E$28<>"")) -> 0 | E11: =SUMPRODUCT((Planning!$D$2:$D$28=Données!A11)*(Planning!$E$2:$E$28=Planning!$F$2:$F$28)*(Planning!$E$2:$E$28<>""))+SUMPRODUCT((Planning!$G$2:$G$28=Données!A11)*(Planning!$E$2:$E$28=Planning!$F$2:$F$28)*(Planning!$E$2:$E$28<>"")) -> 1 | F11: =C11-D11-E11 -> 1 | G11: =SUMPRODUCT((Planning!$D$2:$D$28=Données!A11)*(Planning!$E$2:$E$28))+SUMPRODUCT((Planning!$G$2:$G$28=Données!A11)*(Planning!$F$2:$F$28)) -> 3 | H11: =SUMPRODUCT((Planning!$D$2:$D$28=Données!A11)*(Planning!$F$2:$F$28))+SUMPRODUCT((Planning!$G$2:$G$28=Données!A11)*(Planning!$E$2:$E$28)) -> 4 | I11: =G11-H11 -> -1 | J11: =B11*100000+C11*-10000+I11*1000+G11+ROW()/10 -> 79004.1 | K11: =RANK(J11,$J$10:$J$13) -> 3 | L11: 3
A12: ='Organisation tournoi'!E11 -> Montpellier | B12: =D12*'Organisation tournoi'!$G$1+Données!E12*'Organisation tournoi'!$G$2 -> 6 | C12: =SUMPRODUCT((Planning!$D$2:$D$28=Données!A12)*(Planning!$E$2:$E$28<>""))+SUMPRODUCT((Planning!$G$2:$G$28=Données!A12)*(Planning!$E$2:$E$28<>"")) -> 3 | D12: =SUMPRODUCT((Planning!$D$2:$D$28=Données!A12)*(Planning!$E$2:$E$28>Planning!$F$2:$F$28)*(Planning!$E$2:$E$28<>""))+SUMPRODUCT((Planning!$G$2:$G$28=Données!A12)*(Planning!$E$2:$E$28<Planning!$F$2:$F$28)*(Planning!$E$2:$E$28<>"")) -> 2 | E12: =SUMPRODUCT((Planning!$D$2:$D$28=Données!A12)*(Planning!$E$2:$E$28=Planning!$F$2:$F$28)*(Planning!$E$2:$E$28<>""))+SUMPRODUCT((Planning!$G$2:$G$28=Données!A12)*(Planning!$E$2:$E$28=Planning!$F$2:$F$28)*(Planning!$E$2:$E$28<>"")) -> 0 | F12: =C12-D12-E12 -> 1 | G12: =SUMPRODUCT((Planning!$D$2:$D$28=Données!A12)*(Planning!$E$2:$E$28))+SUMPRODUCT((Planning!$G$2:$G$28=Données!A12)*(Planning!$F$2:$F$28)) -> 10 | H12: =SUMPRODUCT((Planning!$D$2:$D$28=Données!A12)*(Planning!$F$2:$F$28))+SUMPRODUCT((Planning!$G$2:$G$28=Données!A12)*(Planning!$E$2:$E$28)) -> 6 | I12: =G12-H12 -> 4 | J12: =B12*100000+C12*-10000+I12*1000+G12+ROW()/10 -> 574011.2 | K12: =RANK(J12,$J$10:$J$13) -> 2 | L12: 3
A13: ='Organisation tournoi'!E12 -> Metz | B13: =D13*'Organisation tournoi'!$G$1+Données!E13*'Organisation tournoi'!$G$2 -> 0 | C13: =SUMPRODUCT((Planning!$D$2:$D$28=Données!A13)*(Planning!$E$2:$E$28<>""))+SUMPRODUCT((Planning!$G$2:$G$28=Données!A13)*(Planning!$E$2:$E$28<>"")) -> 2 | D13: =SUMPRODUCT((Planning!$D$2:$D$28=Données!A13)*(Planning!$E$2:$E$28>Planning!$F$2:$F$28)*(Planning!$E$2:$E$28<>""))+SUMPRODUCT((Planning!$G$2:$G$28=Données!A13)*(Planning!$E$2:$E$28<Planning!$F$2:$F$28)*(Planning!$E$2:$E$28<>"")) -> 0 | E13: =SUMPRODUCT((Planning!$D$2:$D$28=Données!A13)*(Planning!$E$2:$E$28=Planning!$F$2:$F$28)*(Planning!$E$2:$E$28<>""))+SUMPRODUCT((Planning!$G$2:$G$28=Données!A13)*(Planning!$E$2:$E$28=Planning!$F$2:$F$28)*(Planning!$E$2:$E$28<>"")) -> 0 | F13: =C13-D13-E13 -> 2 | G13: =SUMPRODUCT((Planning!$D$2:$D$28=Données!A13)*(Planning!$E$2:$E$28))+SUMPRODUCT((Planning!$G$2:$G$28=Données!A13)*(Planning!$F$2:$F$28)) -> 1 | H13: =SUMPRODUCT((Planning!$D$2:$D$28=Données!A13)*(Planning!$F$2:$F$28))+SUMPRODUCT((Planning!$G$2:$G$28=Données!A13)*(Planning!$E$2:$E$28)) -> 9 | I13: =G13-H13 -> -8 | J13: =B13*100000+C13*-10000+I13*1000+G13+ROW()/10 -> -27997.7 | K13: =RANK(J13,$J$10:$J$13) -> 4 | L13: 3
A14: ='Organisation tournoi'!G9 -> Monaco | B14: =D14*'Organisation tournoi'!$G$1+Données!E14*'Organisation tournoi'!$G$2 -> 6 | C14: =SUMPRODUCT((Planning!$D$2:$D$28=Données!A14)*(Planning!$E$2:$E$28<>""))+SUMPRODUCT((Planning!$G$2:$G$28=Données!A14)*(Planning!$E$2:$E$28<>"")) -> 3 | D14: =SUMPRODUCT((Planning!$D$2:$D$28=Données!A14)*(Planning!$E$2:$E$28>Planning!$F$2:$F$28)*(Planning!$E$2:$E$28<>""))+SUMPRODUCT((Planning!$G$2:$G$28=Données!A14)*(Planning!$E$2:$E$28<Planning!$F$2:$F$28)*(Planning!$E$2:$E$28<>"")) -> 2 | E14: =SUMPRODUCT((Planning!$D$2:$D$28=Données!A14)*(Planning!$E$2:$E$28=Planning!$F$2:$F$28)*(Planning!$E$2:$E$28<>""))+SUMPRODUCT((Planning!$G$2:$G$28=Données!A14)*(Planning!$E$2:$E$28=Planning!$F$2:$F$28)*(Planning!$E$2:$E$28<>"")) -> 0 | F14: =C14-D14-E14 -> 1 | G14: =SUMPRODUCT((Planning!$D$2:$D$28=Données!A14)*(Planning!$E$2:$E$28))+SUMPRODUCT((Planning!$G$2:$G$28=Données!A14)*(Planning!$F$2:$F$28)) -> 7 | H14: =SUMPRODUCT((Planning!$D$2:$D$28=Données!A14)*(Planning!$F$2:$F$28))+SUMPRODUCT((Planning!$G$2:$G$28=Données!A14)*(Planning!$E$2:$E$28)) -> 3 | I14: =G14-H14 -> 4 | J14: =B14*100000+C14*-10000+I14*1000+G14+ROW()/10 -> 574008.4 | K14: =RANK(J14,$J$14:$J$17) -> 1 | L14: 4
A15: ='Organisation tournoi'!G10 -> Rennes | B15: =D15*'Organisation tournoi'!$G$1+Données!E15*'Organisation tournoi'!$G$2 -> 1 | C15: =SUMPRODUCT((Planning!$D$2:$D$28=Données!A15)*(Planning!$E$2:$E$28<>""))+SUMPRODUCT((Planning!$G$2:$G$28=Données!A15)*(Planning!$E$2:$E$28<>"")) -> 2 | D15: =SUMPRODUCT((Planning!$D$2:$D$28=Données!A15)*(Planning!$E$2:$E$28>Planning!$F$2:$F$28)*(Planning!$E$2:$E$28<>""))+SUMPRODUCT((Planning!$G$2:$G$28=Données!A15)*(Planning!$E$2:$E$28<Planning!$F$2:$F$28)*(Planning!$E$2:$E$28<>"")) -> 0 | E15: =SUMPRODUCT((Planning!$D$2:$D$28=Données!A15)*(Planning!$E$2:$E$28=Planning!$F$2:$F$28)*(Planning!$E$2:$E$28<>""))+SUMPRODUCT((Planning!$G$2:$G$28=Données!A15)*(Planning!$E$2:$E$28=Planning!$F$2:$F$28)*(Planning!$E$2:$E$28<>"")) -> 1 | F15: =C15-D15-E15 -> 1 | G15: =SUMPRODUCT((Planning!$D$2:$D$28=Données!A15)*(Planning!$E$2:$E$28))+SUMPRODUCT((Planning!$G$2:$G$28=Données!A15)*(Planning!$F$2:$F$28)) -> 1 | H15: =SUMPRODUCT((Planning!$D$2:$D$28=Données!A15)*(Planning!$F$2:$F$28))+SUMPRODUCT((Planning!$G$2:$G$28=Données!A15)*(Planning!$E$2:$E$28)) -> 6 | I15: =G15-H15 -> -5 | J15: =B15*100000+C15*-10000+I15*1000+G15+ROW()/10 -> 75002.5 | K15: =RANK(J15,$J$14:$J$17) -> 4 | L15: 4
A16: ='Organisation tournoi'!G11 -> Nice | B16: =D16*'Organisation tournoi'!$G$1+Données!E16*'Organisation tournoi'!$G$2 -> 4 | C16: =SUMPRODUCT((Planning!$D$2:$D$28=Données!A16)*(Planning!$E$2:$E$28<>""))+SUMPRODUCT((Planning!$G$2:$G$28=Données!A16)*(Planning!$E$2:$E$28<>"")) -> 3 | D16: =SUMPRODUCT((Planning!$D$2:$D$28=Données!A16)*(Planning!$E$2:$E$28>Planning!$F$2:$F$28)*(Planning!$E$2:$E$28<>""))+SUMPRODUCT((Planning!$G$2:$G$28=Données!A16)*(Planning!$E$2:$E$28<Planning!$F$2:$F$28)*(Planning!$E$2:$E$28<>"")) -> 1 | E16: =SUMPRODUCT((Planning!$D$2:$D$28=Données!A16)*(Planning!$E$2:$E$28=Planning!$F$2:$F$28)*(Planning!$E$2:$E$28<>""))+SUMPRODUCT((Planning!$G$2:$G$28=Données!A16)*(Planning!$E$2:$E$28=Planning!$F$2:$F$28)*(Planning!$E$2:$E$28<>"")) -> 1 | F16: =C16-D16-E16 -> 1 | G16: =SUMPRODUCT((Planning!$D$2:$D$28=Données!A16)*(Planning!$E$2:$E$28))+SUMPRODUCT((Planning!$G$2:$G$28=Données!A16)*(Planning!$F$2:$F$28)) -> 5 | H16: =SUMPRODUCT((Planning!$D$2:$D$28=Données!A16)*(Planning!$F$2:$F$28))+SUMPRODUCT((Planning!$G$2:$G$28=Données!A16)*(Planning!$E$2:$E$28)) -> 7 | I16: =G16-H16 -> -2 | J16: =B16*100000+C16*-10000+I16*1000+G16+ROW()/10 -> 368006.6 | K16: =RANK(J16,$J$14:$J$17) -> 2 | L16: 4
A17: ='Organisation tournoi'!G12 -> Toulouse | B17: =D17*'Organisation tournoi'!$G$1+Données!E17*'Organisation tournoi'!$G$2 -> 3 | C17: =SUMPRODUCT((Planning!$D$2:$D$28=Données!A17)*(Planning!$E$2:$E$28<>""))+SUMPRODUCT((Planning!$G$2:$G$28=Données!A17)*(Planning!$E$2:$E$28<>"")) -> 2 | D17: =SUMPRODUCT((Planning!$D$2:$D$28=Données!A17)*(Planning!$E$2:$E$28>Planning!$F$2:$F$28)*(Planning!$E$2:$E$28<>""))+SUMPRODUCT((Planning!$G$2:$G$28=Données!A17)*(Planning!$E$2:$E$28<Planning!$F$2:$F$28)*(Planning!$E$2:$E$28<>"")) -> 1 | E17: =SUMPRODUCT((Planning!$D$2:$D$28=Données!A17)*(Planning!$E$2:$E$28=Planning!$F$2:$F$28)*(Planning!$E$2:$E$28<>""))+SUMPRODUCT((Planning!$G$2:$G$28=Données!A17)*(Planning!$E$2:$E$28=Planning!$F$2:$F$28)*(Planning!$E$2:$E$28<>"")) -> 0 | F17: =C17-D17-E17 -> 1 | G17: =SUMPRODUCT((Planning!$D$2:$D$28=Données!A17)*(Planning!$E$2:$E$28))+SUMPRODUCT((Planning!$G$2:$G$28=Données!A17)*(Planning!$F$2:$F$28)) -> 5 | H17: =SUMPRODUCT((Planning!$D$2:$D$28=Données!A17)*(Planning!$F$2:$F$28))+SUMPRODUCT((Planning!$G$2:$G$28=Données!A17)*(Planning!$E$2:$E$28)) -> 2 | I17: =G17-H17 -> 3 | J17: =B17*100000+C17*-10000+I17*1000+G17+ROW()/10 -> 283006.7 | K17: =RANK(J17,$J$14:$J$17) -> 3 | L17: 4
