Workbook

Sheet data
A1: date | B1: heure | C1: heure5min | D1: date_heure5min | E1: co2ref | F1: sr_rate | G1: id_pt_cor | H1: id_pt | I1: id_agri | J1: t | K1: xgps | L1: ygps | M1: tmoy10 | N1: tmoy20 | O1: tmoy30
A2: 43377 | B2: 0.33541667 | C2: 0.33680556 | D2: =A2+C2 -> 43377.337 | E2: 508 | F2: 0.27 | G2: C01 | H2: C01 | I2: AC | J2: 14.2 | K2: -0.2613562 | L2: 43.5146985 | M2: =VLOOKUP($D2,temp!$E$3:$H$343,2,FALSE) -> 11.893333 | N2: =VLOOKUP($D2,temp!$E$3:$H$343,3,FALSE) -> 15.353333 | O2: =VLOOKUP($D2,temp!$E$3:$H$343,4,FALSE) -> 16.586667
A3: 43377 | B3: 0.3375 | C3: 0.34027778 | D3: =A3+C3 -> 43377.34 | E3: 487 | F3: 0.31 | G3: C01 | H3: C01 | I3: AC | J3: 14.2 | K3: -0.2613562 | L3: 43.5146985 | M3: =VLOOKUP($D3,temp!$E$3:$H$343,2,FALSE) -> 11.926667 | N3: =VLOOKUP($D3,temp!$E$3:$H$343,3,FALSE) -> 15.35 | O3: =VLOOKUP($D3,temp!$E$3:$H$343,4,FALSE) -> 16.583333
A4: 43377 | B4: 0.33958333 | C4: 0.34027778 | D4: =A4+C4 -> 43377.34 | E4: 462 | F4: 0.22 | G4: C01 | H4: C01 | I4: AC | J4: 14.2 | K4: -0.2613562 | L4: 43.5146985 | M4: =VLOOKUP($D4,temp!$E$3:$H$343,2,FALSE) -> 11.926667 | N4: =VLOOKUP($D4,temp!$E$3:$H$343,3,FALSE) -> 15.35 | O4: =VLOOKUP($D4,temp!$E$3:$H$343,4,FALSE) -> 16.583333
A5: 43377 | B5: 0.34305556 | C5: 0.34375 | D5: =A5+C5 -> 43377.344 | E5: 457 | F5: 0.16 | G5: C02 | H5: C02 | I5: AC | J5: 15.4 | K5: -0.2616742 | L5: 43.5148175 | M5: =VLOOKUP($D5,temp!$E$3:$H$343,2,FALSE) -> 11.99 | N5: =VLOOKUP($D5,temp!$E$3:$H$343,3,FALSE) -> 15.33 | O5: =VLOOKUP($D5,temp!$E$3:$H$343,4,FALSE) -> 16.576667
A6: 43377 | B6: 0.34583333 | C6: 0.34722222 | D6: =A6+C6 -> 43377.347 | E6: 465 | F6: 0.3 | G6: C02 | H6: C02 | I6: AC | J6: 14.4 | K6: -0.2616742 | L6: 43.5148175 | M6: =VLOOKUP($D6,temp!$E$3:$H$343,2,FALSE) -> 12.06 | N6: =VLOOKUP($D6,temp!$E$3:$H$343,3,FALSE) -> 15.326667 | O6: =VLOOKUP($D6,temp!$E$3:$H$343,4,FALSE) -> 16.563333
A7: 43377 | B7: 0.34791667 | C7: 0.35069444 | D7: =A7+C7 -> 43377.351 | E7: 445 | F7: 0.35 | G7: C02 | H7: C02 | I7: AC | J7: 14.4 | K7: -0.2616742 | L7: 43.5148175 | M7: =VLOOKUP($D7,temp!$E$3:$H$343,2,FALSE) -> 12.13 | N7: =VLOOKUP($D7,temp!$E$3:$H$343,3,FALSE) -> 15.306667 | O7: =VLOOKUP($D7,temp!$E$3:$H$343,4,FALSE) -> 16.556667
A8: 43377 | B8: 0.34791667 | C8: 0.35069444 | D8: =A8+C8 -> 43377.351 | E8: 534 | F8: 0.06 | G8: M01 | H8: M01 | I8: TEM | J8: 14.2 | K8: -0.2618131 | L8: 43.5146405 | M8: =VLOOKUP($D8,temp!$E$3:$H$343,2,FALSE) -> 12.13 | N8: =VLOOKUP($D8,temp!$E$3:$H$343,3,FALSE) -> 15.306667 | O8: =VLOOKUP($D8,temp!$E$3:$H$343,4,FALSE) -> 16.556667
A9: 43377 | B9: 0.35069444 | C9: 0.35069444 | D9: =A9+C9 -> 43377.351 | E9: 443 | F9: 0.17 | G9: C03 | H9: C03 | I9: AC | J9: 15.2 | K9: -0.2620341 | L9: 43.5149005 | M9: =VLOOKUP($D9,temp!$E$3:$H$343,2,FALSE) -> 12.13 | N9: =VLOOKUP($D9,temp!$E$3:$H$343,3,FALSE) -> 15.306667 | O9: =VLOOKUP($D9,temp!$E$3:$H$343,4,FALSE) -> 16.556667
A10: 43377 | B10: 0.35069444 | C10: 0.35069444 | D10: =A10+C10 -> 43377.351 | E10: 460 | F10: 0.13 | G10: M01 | H10: M01 | I10: TEM | J10: 14.1 | K10: -0.2618131 | L10: 43.5146405 | M10: =VLOOKUP($D10,temp!$E$3:$H$343,2,FALSE) -> 12.13 | N10: =VLOOKUP($D10,temp!$E$3:$H$343,3,FALSE) -> 15.306667 | O10: =VLOOKUP($D10,temp!$E$3:$H$343,4,FALSE) -> 16.556667
A11: 43377 | B11: 0.35208333 | C11: 0.35416667 | D11: =A11+C11 -> 43377.354 | E11: 427 | F11: 0.17 | G11: C03 | H11: C03 | I11: AC | J11: 14.9 | K11: -0.2620341 | L11: 43.5149005 | M11: =VLOOKUP($D11,temp!$E$3:$H$343,2,FALSE) -> 12.203333 | N11: =VLOOKUP($D11,temp!$E$3:$H$343,3,FALSE) -> 15.3 | O11: =VLOOKUP($D11,temp!$E$3:$H$343,4,FALSE) -> 16.546667
A12: 43377 | B12: 0.35416667 | C12: 0.35416667 | D12: =A12+C12 -> 43377.354 | E12: 431 | F12: 0.19 | G12: C03 | H12: C03 | I12: AC | J12: 14.9 | K12: -0.2620341 | L12: 43.5149005 | M12: =VLOOKUP($D12,temp!$E$3:$H$343,2,FALSE) -> 12.203333 | N12: =VLOOKUP($D12,temp!$E$3:$H$343,3,FALSE) -> 15.3 | O12: =VLOOKUP($D12,temp!$E$3:$H$343,4,FALSE) -> 16.546667
A13: 43377 | B13: 0.35625 | C13: 0.35763889 | D13: =A13+C13 -> 43377.358 | E13: 459 | F13: 0.13 | G13: M01 | H13: M01 | I13: TEM | J13: 14.1 | K13: -0.2618131 | L13: 43.5146405 | M13: =VLOOKUP($D13,temp!$E$3:$H$343,2,FALSE) -> 12.273333 | N13: =VLOOKUP($D13,temp!$E$3:$H$343,3,FALSE) -> 15.283333 | O13: =VLOOKUP($D13,temp!$E$3:$H$343,4,FALSE) -> 16.536667
A14: 43377 | B14: 0.35694444 | C14: 0.35763889 | D14: =A14+C14 -> 43377.358 | E14: 510 | F14: 0.17 | G14: C04 | H14: C04 | I14: AC | J14: 15 | K14: -0.2623581 | L14: 43.5150485 | M14: =VLOOKUP($D14,temp!$E$3:$H$343,2,FALSE) -> 12.273333 | N14: =VLOOKUP($D14,temp!$E$3:$H$343,3,FALSE) -> 15.283333 | O14: =VLOOKUP($D14,temp!$E$3:$H$343,4,FALSE) -> 16.536667
A15: 43377 | B15: 0.35902778 | C15: 0.36111111 | D15: =A15+C15 -> 43377.361 | E15: 431 | F15: 0.19 | G15: C04 | H15: C04 | I15: AC | J15: 14.8 | K15: -0.2623581 | L15: 43.5150485 | M15: =VLOOKUP($D15,temp!$E$3:$H$343,2,FALSE) -> 12.363333 | N15: =VLOOKUP($D15,temp!$E$3:$H$343,3,FALSE) -> 15.276667 | O15: =VLOOKUP($D15,temp!$E$3:$H$343,4,FALSE) -> 16.536667
A16: 43377 | B16: 0.35972222 | C16: 0.36111111 | D16: =A16+C16 -> 43377.361 | E16: 525 | F16: 0.1 | G16: M02 | H16: M02 | I16: TEM | J16: 14.8 | K16: -0.2621461 | L16: 43.5147375 | M16: =VLOOKUP($D16,temp!$E$3:$H$343,2,FALSE) -> 12.363333 | N16: =VLOOKUP($D16,temp!$E$3:$H$343,3,FALSE) -> 15.276667 | O16: =VLOOKUP($D16,temp!$E$3:$H$343,4,FALSE) -> 16.536667
A17: 43377 | B17: 0.36041667 | C17: 0.36111111 | D17: =A17+C17 -> 43377.361 | E17: 431 | F17: 0.21 | G17: C04 | H17: C04 | I17: AC | J17: 14.8 | K17: -0.2623581 | L17: 43.5150485 | M17: =VLOOKUP($D17,temp!$E$3:$H$343,2,FALSE) -> 12.363333 | N17: =VLOOKUP($D17,temp!$E$3:$H$343,3,FALSE) -> 15.276667 | O17: =VLOOKUP($D17,temp!$E$3:$H$343,4,FALSE) -> 16.536667
A18: 43377 | B18: 0.36180556 | C18: 0.36458333 | D18: =A18+C18 -> 43377.365 | E18: 455 | F18: 0.27 | G18: M02 | H18: M02 | I18: TEM | J18: 14.4 | K18: -0.2621461 | L18: 43.5147375 | M18: =VLOOKUP($D18,temp!$E$3:$H$343,2,FALSE) -> 12.466667 | N18: =VLOOKUP($D18,temp!$E$3:$H$343,3,FALSE) -> 15.273333 | O18: =VLOOKUP($D18,temp!$E$3:$H$343,4,FALSE) -> 16.546667
A19: 43377 | B19: 0.36388889 | C19: 0.36458333 | D19: =A19+C19 -> 43377.365 | E19: 459 | F19: 0.27 | G19: M02 | H19: M02 | I19: TEM | J19: 14.4 | K19: -0.2621461 | L19: 43.5147375 | M19: =VLOOKUP($D19,temp!$E$3:$H$343,2,FALSE) -> 12.466667 | N19: =VLOOKUP($D19,temp!$E$3:$H$343,3,FALSE) -> 15.273333 | O19: =VLOOKUP($D19,temp!$E$3:$H$343,4,FALSE) -> 16.546667
A20: 43377 | B20: 0.36458333 | C20: 0.36458333 | D20: =A20+C20 -> 43377.365 | E20: 503 | F20: 0.09 | G20: C05 | H20: C05 | I20: AC | J20: 14.9 | K20: -0.2627191 | L20: 43.5151655 | M20: =VLOOKUP($D20,temp!$E$3:$H$343,2,FALSE) -> 12.466667 | N20: =VLOOKUP($D20,temp!$E$3:$H$343,3,FALSE) -> 15.273333 | O20: =VLOOKUP($D20,temp!$E$3:$H$343,4,FALSE) -> 16.546667
A21: 43377 | B21: 0.36666667 | C21: 0.36805556 | D21: =A21+C21 -> 43377.368 | E21: 521 | F21: 0.1 | G21: C05 | H21: C05 | I21: AC | J21: 14.5 | K21: -0.2627191 | L21: 43.5151655 | M21: =VLOOKUP($D21,temp!$E$3:$H$343,2,FALSE) -> 12.563333 | N21: =VLOOKUP($D21,temp!$E$3:$H$343,3,FALSE) -> 15.28 | O21: =VLOOKUP($D21,temp!$E$3:$H$343,4,FALSE) -> 16.546667
A22: 43377 | B22: 0.36736111 | C22: 0.36805556 | D22: =A22+C22 -> 43377.368 | E22: 499 | F22: 0.13 | G22: M03 | H22: M03 | I22: TEM | J22: 14.1 | K22: -0.2624941 | L22: 43.5148385 | M22: =VLOOKUP($D22,temp!$E$3:$H$343,2,FALSE) -> 12.563333 | N22: =VLOOKUP($D22,temp!$E$3:$H$343,3,FALSE) -> 15.28 | O22: =VLOOKUP($D22,temp!$E$3:$H$343,4,FALSE) -> 16.546667
A23: 43377 | B23: 0.36805556 | C23: 0.36805556 | D23: =A23+C23 -> 43377.368 | E23: 449 | F23: 0.15 | G23: C05 | H23: C05 | I23: AC | J23: 14.5 | K23: -0.2627191 | L23: 43.5151655 | M23: =VLOOKUP($D23,temp!$E$3:$H$343,2,FALSE) -> 12.563333 | N23: =VLOOKUP($D23,temp!$E$3:$H$343,3,FALSE) -> 15.28 | O23: =VLOOKUP($D23,temp!$E$3:$H$343,4,FALSE) -> 16.546667
A24: 43377 | B24: 0.36944444 | C24: 0.37152778 | D24: =A24+C24 -> 43377.372 | E24: 491 | F24: 0.11 | G24: M03 | H24: M03 | I24: TEM | J24: 13.9 | K24: -0.2624941 | L24: 43.5148385 | M24: =VLOOKUP($D24,temp!$E$3:$H$343,2,FALSE) -> 12.66 | N24: =VLOOKUP($D24,temp!$E$3:$H$343,3,FALSE) -> 15.276667 | O24: =VLOOKUP($D24,temp!$E$3:$H$343,4,FALSE) -> 16.55
A25: 43377 | B25: 0.37152778 | C25: 0.37152778 | D25: =A25+C25 -> 43377.372 | E25: 453 | F25: 0.2 | G25: C22 | H25: C22 | I25: AC | J25: 15.2 | K25: -0.2630741 | L25: 43.5152295 | M25: =VLOOKUP($D25,temp!$E$3:$H$343,2,FALSE) -> 12.66 | N25: =VLOOKUP($D25,temp!$E$3:$H$343,3,FALSE) -> 15.276667 | O25: =VLOOKUP($D25,temp!$E$3:$H$343,4,FALSE) -> 16.55
A26: 43377 | B26: 0.37152778 | C26: 0.37152778 | D26: =A26+C26 -> 43377.372 | E26: 469 | F26: 0.19 | G26: M03 | H26: M03 | I26: TEM | J26: 13.9 | K26: -0.2624941 | L26: 43.5148385 | M26: =VLOOKUP($D26,temp!$E$3:$H$343,2,FALSE) -> 12.66 | N26: =VLOOKUP($D26,temp!$E$3:$H$343,3,FALSE) -> 15.276667 | O26: =VLOOKUP($D26,temp!$E$3:$H$343,4,FALSE) -> 16.55
... A29: 43377 | B29: 0.375 | C29: 0.375 | D29: =A29+C29 -> 43377.375 | E29: 430 | F29: 0.22 | G29: C22 | H29: C22 | I29: AC | J29: 14.8 | K29: -0.2630741 | L29: 43.5152295 | M29: =VLOOKUP($D29,temp!$E$3:$H$343,2,FALSE) -> 12.783333 | N29: =VLOOKUP($D29,temp!$E$3:$H$343,3,FALSE) -> 15.283333 | O29: =VLOOKUP($D29,temp!$E$3:$H$343,4,FALSE) -> 16.556667
A30: 43377 | B30: 0.37638889 | C30: 0.37847222 | D30: =A30+C30 -> 43377.378 | E30: 456 | F30: 0.18 | G30: M04 | H30: M04 | I30: TEM | J30: 14 | K30: -0.2628351 | L30: 43.5149505 | M30: =VLOOKUP($D30,temp!$E$3:$H$343,2,FALSE) -> 12.903333 | N30: =VLOOKUP($D30,temp!$E$3:$H$343,3,FALSE) -> 15.296667 | O30: =VLOOKUP($D30,temp!$E$3:$H$343,4,FALSE) -> 16.573333
A31: 43377 | B31: 0.37847222 | C31: 0.37847222 | D31: =A31+C31 -> 43377.378 | E31: 460 | F31: 0.17 | G31: C23 | H31: C23 | I31: AC | J31: 15.6 | K31: -0.2634131 | L31: 43.5153345 | M31: =VLOOKUP($D31,temp!$E$3:$H$343,2,FALSE) -> 12.903333 | N31: =VLOOKUP($D31,temp!$E$3:$H$343,3,FALSE) -> 15.296667 | O31: =VLOOKUP($D31,temp!$E$3:$H$343,4,FALSE) -> 16.573333
A32: 43377 | B32: 0.37847222 | C32: 0.37847222 | D32: =A32+C32 -> 43377.378 | E32: 458 | F32: 0.29 | G32: M04 | H32: M04 | I32: TEM | J32: 14 | K32: -0.2628351 | L32: 43.5149505 | M32: =VLOOKUP($D32,temp!$E$3:$H$343,2,FALSE) -> 12.903333 | N32: =VLOOKUP($D32,temp!$E$3:$H$343,3,FALSE) -> 15.296667 | O32: =VLOOKUP($D32,temp!$E$3:$H$343,4,FALSE) -> 16.573333
A33: 43377 | B33: 0.37986111 | C33: 0.38194444 | D33: =A33+C33 -> 43377.382 | E33: 429 | F33: 0.19 | G33: C23 | H33: C23 | I33: AC | J33: 15.3 | K33: -0.2634131 | L33: 43.5153345 | M33: =VLOOKUP($D33,temp!$E$3:$H$343,2,FALSE) -> 13.04 | N33: =VLOOKUP($D33,temp!$E$3:$H$343,3,FALSE) -> 15.296667 | O33: =VLOOKUP($D33,temp!$E$3:$H$343,4,FALSE) -> 16.593333
A34: 43377 | B34: 0.38125 | C34: 0.38194444 | D34: =A34+C34 -> 43377.382 | E34: 442 | F34: 0.25 | G34: C23 | H34: C23 | I34: AC | J34: 15.3 | K34: -0.2634131 | L34: 43.5153345 | M34: =VLOOKUP($D34,temp!$E$3:$H$343,2,FALSE) -> 13.04 | N34: =VLOOKUP($D34,temp!$E$3:$H$343,3,FALSE) -> 15.296667 | O34: =VLOOKUP($D34,temp!$E$3:$H$343,4,FALSE) -> 16.593333
A35: 43377 | B35: 0.38194444 | C35: 0.38194444 | D35: =A35+C35 -> 43377.382 | E35: 451 | F35: 0.17 | G35: M05 | H35: M05 | I35: TEM | J35: 14.7 | K35: -0.2633561 | L35: 43.5151015 | M35: =VLOOKUP($D35,temp!$E$3:$H$343,2,FALSE) -> 13.04 | N35: =VLOOKUP($D35,temp!$E$3:$H$343,3,FALSE) -> 15.296667 | O35: =VLOOKUP($D35,temp!$E$3:$H$343,4,FALSE) -> 16.593333
A36: 43377 | B36: 0.38541667 | C36: 0.38541667 | D36: =A36+C36 -> 43377.385 | E36: 450 | F36: 0.19 | G36: M05 | H36: M05 | I36: TEM | J36: 14.5 | K36: -0.2633561 | L36: 43.5151015 | M36: =VLOOKUP($D36,temp!$E$3:$H$343,2,FALSE) -> 13.17 | N36: =VLOOKUP($D36,temp!$E$3:$H$343,3,FALSE) -> 15.306667 | O36: =VLOOKUP($D36,temp!$E$3:$H$343,4,FALSE) -> 16.596667
A37: 43377 | B37: 0.38819444 | C37: 0.38888889 | D37: =A37+C37 -> 43377.389 | E37: 448 | F37: 0.19 | G37: M05 | H37: M05 | I37: TEM | J37: 14.5 | K37: -0.2633561 | L37: 43.5151015 | M37: =VLOOKUP($D37,temp!$E$3:$H$343,2,FALSE) -> 13.303333 | N37: =VLOOKUP($D37,temp!$E$3:$H$343,3,FALSE) -> 15.306667 | O37: =VLOOKUP($D37,temp!$E$3:$H$343,4,FALSE) -> 16.613333
A38: 43377 | B38: 0.39583333 | C38: 0.39583333 | D38: =A38+C38 -> 43377.396 | E38: 435 | F38: 0.25 | G38: C06 | H38: C06 | I38: AC | J38: 15.3 | K38: -0.2627851 | L38: 43.5153245 | M38: =VLOOKUP($D38,temp!$E$3:$H$343,2,FALSE) -> 13.6 | N38: =VLOOKUP($D38,temp!$E$3:$H$343,3,FALSE) -> 15.306667 | O38: =VLOOKUP($D38,temp!$E$3:$H$343,4,FALSE) -> 16.613333
A39: 43377 | B39: 0.39791667 | C39: 0.39930556 | D39: =A39+C39 -> 43377.399 | E39: 433 | F39: 0.18 | G39: C06 | H39: C06 | I39: AC | J39: 15.1 | K39: -0.2627851 | L39: 43.5153245 | M39: =VLOOKUP($D39,temp!$E$3:$H$343,2,FALSE) -> 13.756667 | N39: =VLOOKUP($D39,temp!$E$3:$H$343,3,FALSE) -> 15.303333 | O39: =VLOOKUP($D39,temp!$E$3:$H$343,4,FALSE) -> 16.61
A40: 43377 | B40: 0.39930556 | C40: 0.39930556 | D40: =A40+C40 -> 43377.399 | E40: 491 | F40: 0.21 | G40: C06 | H40: C06 | I40: AC | J40: 15 | K40: -0.2627851 | L40: 43.5153245 | M40: =VLOOKUP($D40,temp!$E$3:$H$343,2,FALSE) -> 13.756667 | N40: =VLOOKUP($D40,temp!$E$3:$H$343,3,FALSE) -> 15.303333 | O40: =VLOOKUP($D40,temp!$E$3:$H$343,4,FALSE) -> 16.61
A41: 43377 | B41: 0.4 | C41: 0.40277778 | D41: =A41+C41 -> 43377.403 | E41: 458 | F41: 0.32 | G41: M05 bis | H41: M05 bis | I41: TEM | J41: 14.4 | K41: -0.2633561 | L41: 43.5151015 | M41: =VLOOKUP($D41,temp!$E$3:$H$343,2,FALSE) -> 13.903333 | N41: =VLOOKUP($D41,temp!$E$3:$H$343,3,FALSE) -> 15.296667 | O41: =VLOOKUP($D41,temp!$E$3:$H$343,4,FALSE) -> 16.61
A42: 43377 | B42: 0.40138889 | C42: 0.40277778 | D42: =A42+C42 -> 43377.403 | E42: 483 | F42: 0.16 | G42: C07 | H42: C07 | I42: AC | J42: 16.2 | K42: -0.2624681 | L42: 43.5152125 | M42: =VLOOKUP($D42,temp!$E$3:$H$343,2,FALSE) -> 13.903333 | N42: =VLOOKUP($D42,temp!$E$3:$H$343,3,FALSE) -> 15.296667 | O42: =VLOOKUP($D42,temp!$E$3:$H$343,4,FALSE) -> 16.61
A43: 43377 | B43: 0.40208333 | C43: 0.40277778 | D43: =A43+C43 -> 43377.403 | E43: 462 | F43: 0.42 | G43: M05 bis | H43: M05 bis | I43: TEM | J43: 14.3 | K43: -0.2633561 | L43: 43.5151015 | M43: =VLOOKUP($D43,temp!$E$3:$H$343,2,FALSE) -> 13.903333 | N43: =VLOOKUP($D43,temp!$E$3:$H$343,3,FALSE) -> 15.296667 | O43: =VLOOKUP($D43,temp!$E$3:$H$343,4,FALSE) -> 16.61
A44: 43377 | B44: 0.40277778 | C44: 0.40277778 | D44: =A44+C44 -> 43377.403 | E44: 450 | F44: 0.17 | G44: C07 | H44: C07 | I44: AC | J44: 15.1 | K44: -0.2624681 | L44: 43.5152125 | M44: =VLOOKUP($D44,temp!$E$3:$H$343,2,FALSE) -> 13.903333 | N44: =VLOOKUP($D44,temp!$E$3:$H$343,3,FALSE) -> 15.296667 | O44: =VLOOKUP($D44,temp!$E$3:$H$343,4,FALSE) -> 16.61
A45: 43377 | B45: 0.40416667 | C45: 0.40625 | D45: =A45+C45 -> 43377.406 | E45: 453 | F45: 0.32 | G45: M05 bis | H45: M05 bis | I45: TEM | J45: 14.3 | K45: -0.2633561 | L45: 43.5151015 | M45: =VLOOKUP($D45,temp!$E$3:$H$343,2,FALSE) -> 14.046667 | N45: =VLOOKUP($D45,temp!$E$3:$H$343,3,FALSE) -> 15.296667 | O45: =VLOOKUP($D45,temp!$E$3:$H$343,4,FALSE) -> 16.61
A46: 43377 | B46: 0.40416667 | C46: 0.40625 | D46: =A46+C46 -> 43377.406 | E46: 439 | F46: 0.18 | G46: C07 | H46: C07 | I46: AC | J46: 15 | K46: -0.2624681 | L46: 43.5152125 | M46: =VLOOKUP($D46,temp!$E$3:$H$343,2,FALSE) -> 14.046667 | N46: =VLOOKUP($D46,temp!$E$3:$H$343,3,FALSE) -> 15.296667 | O46: =VLOOKUP($D46,temp!$E$3:$H$343,4,FALSE) -> 16.61
A47: 43377 | B47: 0.40694444 | C47: 0.40972222 | D47: =A47+C47 -> 43377.41 | E47: 444 | F47: 0.12 | G47: C08 | H47: C08 | I47: AC | J47: 15.9 | K47: -0.2620961 | L47: 43.5150935 | M47: =VLOOKUP($D47,temp!$E$3:$H$343,2,FALSE) -> 14.2 | N47: =VLOOKUP($D47,temp!$E$3:$H$343,3,FALSE) -> 15.296667 | O47: =VLOOKUP($D47,temp!$E$3:$H$343,4,FALSE) -> 16.593333
A48: 43377 | B48: 0.40902778 | C48: 0.40972222 | D48: =A48+C48 -> 43377.41 | E48: 415 | F48: 0.17 | G48: C08 | H48: C08 | I48: AC | J48: 15 | K48: -0.2620961 | L48: 43.5150935 | M48: =VLOOKUP($D48,temp!$E$3:$H$343,2,FALSE) -> 14.2 | N48: =VLOOKUP($D48,temp!$E$3:$H$343,3,FALSE) -> 15.296667 | O48: =VLOOKUP($D48,temp!$E$3:$H$343,4,FALSE) -> 16.593333
A49: 43377 | B49: 0.41041667 | C49: 0.41319444 | D49: =A49+C49 -> 43377.413 | E49: 422 | F49: 0.11 | G49: C08 | H49: C08 | I49: AC | J49: 15 | K49: -0.2620961 | L49: 43.5150935 | M49: =VLOOKUP($D49,temp!$E$3:$H$343,2,FALSE) -> 14.323333 | N49: =VLOOKUP($D49,temp!$E$3:$H$343,3,FALSE) -> 15.283333 | O49: =VLOOKUP($D49,temp!$E$3:$H$343,4,FALSE) -> 16.583333
A50: 43377 | B50: 0.4125 | C50: 0.41319444 | D50: =A50+C50 -> 43377.413 | E50: 518 | F50: 0.18 | G50: C09 | H50: C09 | I50: AC | J50: 15.3 | K50: -0.2617437 | L50: 43.514978 | M50: =VLOOKUP($D50,temp!$E$3:$H$343,2,FALSE) -> 14.323333 | N50: =VLOOKUP($D50,temp!$E$3:$H$343,3,FALSE) -> 15.283333 | O50: =VLOOKUP($D50,temp!$E$3:$H$343,4,FALSE) -> 16.583333
A51: 43377 | B51: 0.41458333 | C51: 0.41666667 | D51: =A51+C51 -> 43377.417 | E51: 415 | F51: 0.22 | G51: C09 | H51: C09 | I51: AC | J51: 15.1 | K51: -0.2617437 | L51: 43.514978 | M51: =VLOOKUP($D51,temp!$E$3:$H$343,2,FALSE) -> 14.46 | N51: =VLOOKUP($D51,temp!$E$3:$H$343,3,FALSE) -> 15.283333 | O51: =VLOOKUP($D51,temp!$E$3:$H$343,4,FALSE) -> 16.583333
A52: 43377 | B52: 0.41527778 | C52: 0.41666667 | D52: =A52+C52 -> 43377.417 | E52: 437 | F52: 0.18 | G52: M06 | H52: M06 | I52: TEM | J52: 16.2 | K52: -0.2629991 | L52: 43.5149055 | M52: =VLOOKUP($D52,temp!$E$3:$H$343,2,FALSE) -> 14.46 | N52: =VLOOKUP($D52,temp!$E$3:$H$343,3,FALSE) -> 15.283333 | O52: =VLOOKUP($D52,temp!$E$3:$H$343,4,FALSE) -> 16.583333
A53: 43377 | B53: 0.41597222 | C53: 0.41666667 | D53: =A53+C53 -> 43377.417 | E53: 427 | F53: 0.17 | G53: C09 | H53: C09 | I53: AC | J53: 15.1 | K53: -0.2617437 | L53: 43.514978 | M53: =VLOOKUP($D53,temp!$E$3:$H$343,2,FALSE) -> 14.46 | N53: =VLOOKUP($D53,temp!$E$3:$H$343,3,FALSE) -> 15.283333 | O53: =VLOOKUP($D53,temp!$E$3:$H$343,4,FALSE) -> 16.583333
A54: 43377 | B54: 0.41736111 | C54: 0.42013889 | D54: =A54+C54 -> 43377.42 | E54: 433 | F54: 0.14 | G54: M06 | H54: M06 | I54: TEM | J54: 16 | K54: -0.2629991 | L54: 43.5149055 | M54: =VLOOKUP($D54,temp!$E$3:$H$343,2,FALSE) -> 14.56 | N54: =VLOOKUP($D54,temp!$E$3:$H$343,3,FALSE) -> 15.28 | O54: =VLOOKUP($D54,temp!$E$3:$H$343,4,FALSE) -> 16.576667
A55: 43377 | B55: 0.41875 | C55: 0.42013889 | D55: =A55+C55 -> 43377.42 | E55: 450 | F55: 0.23 | G55: M06 | H55: M06 | I55: TEM | J55: 16 | K55: -0.2629991 | L55: 43.5149055 | M55: =VLOOKUP($D55,temp!$E$3:$H$343,2,FALSE) -> 14.56 | N55: =VLOOKUP($D55,temp!$E$3:$H$343,3,FALSE) -> 15.28 | O55: =VLOOKUP($D55,temp!$E$3:$H$343,4,FALSE) -> 16.576667
A56: 43377 | B56: 0.42083333 | C56: 0.42361111 | D56: =A56+C56 -> 43377.424 | E56: 423 | F56: 0.18 | G56: C10 | H56: C10 | I56: AC | J56: 19.1 | K56: -0.2613912 | L56: 43.5148625 | M56: =VLOOKUP($D56,temp!$E$3:$H$343,2,FALSE) -> 14.72 | N56: =VLOOKUP($D56,temp!$E$3:$H$343,3,FALSE) -> 15.28 | O56: =VLOOKUP($D56,temp!$E$3:$H$343,4,FALSE) -> 16.556667
A57: 43377 | B57: 0.42222222 | C57: 0.42361111 | D57: =A57+C57 -> 43377.424 | E57: 413 | F57: 0.22 | G57: C10 | H57: C10 | I57: AC | J57: 15.2 | K57: -0.2613912 | L57: 43.5148625 | M57: =VLOOKUP($D57,temp!$E$3:$H$343,2,FALSE) -> 14.72 | N57: =VLOOKUP($D57,temp!$E$3:$H$343,3,FALSE) -> 15.28 | O57: =VLOOKUP($D57,temp!$E$3:$H$343,4,FALSE) -> 16.556667
A58: 43377 | B58: 0.42222222 | C58: 0.42361111 | D58: =A58+C58 -> 43377.424 | E58: 439 | F58: 0.19 | G58: M07 | H58: M07 | I58: TEM | J58: 16 | K58: -0.2626591 | L58: 43.5147985 | M58: =VLOOKUP($D58,temp!$E$3:$H$343,2,FALSE) -> 14.72 | N58: =VLOOKUP($D58,temp!$E$3:$H$343,3,FALSE) -> 15.28 | O58: =VLOOKUP($D58,temp!$E$3:$H$343,4,FALSE) -> 16.556667
A59: 43377 | B59: 0.42361111 | C59: 0.42361111 | D59: =A59+C59 -> 43377.424 | E59: 432 | F59: 0.14 | G59: M07 | H59: M07 | I59: TEM | J59: 15.6 | K59: -0.2626591 | L59: 43.5147985 | M59: =VLOOKUP($D59,temp!$E$3:$H$343,2,FALSE) -> 14.72 | N59: =VLOOKUP($D59,temp!$E$3:$H$343,3,FALSE) -> 15.28 | O59: =VLOOKUP($D59,temp!$E$3:$H$343,4,FALSE) -> 16.556667
A60: 43377 | B60: 0.42430556 | C60: 0.42708333 | D60: =A60+C60 -> 43377.427 | E60: 483 | F60: 0.27 | G60: C10 | H60: C10 | I60: AC | J60: 15.1 | K60: -0.2613912 | L60: 43.5148625 | M60: =VLOOKUP($D60,temp!$E$3:$H$343,2,FALSE) -> 14.836667 | N60: =VLOOKUP($D60,temp!$E$3:$H$343,3,FALSE) -> 15.276667 | O60: =VLOOKUP($D60,temp!$E$3:$H$343,4,FALSE) -> 16.556667
A61: 43377 | B61: 0.42569444 | C61: 0.42708333 | D61: =A61+C61 -> 43377.427 | E61: 443 | F61: 0.17 | G61: M07 | H61: M07 | I61: TEM | J61: 15.6 | K61: -0.2626591 | L61: 43.5147985 | M61: =VLOOKUP($D61,temp!$E$3:$H$343,2,FALSE) -> 14.836667 | N61: =VLOOKUP($D61,temp!$E$3:$H$343,3,FALSE) -> 15.276667 | O61: =VLOOKUP($D61,temp!$E$3:$H$343,4,FALSE) -> 16.556667
A62: 43377 | B62: 0.42847222 | C62: 0.43055556 | D62: =A62+C62 -> 43377.431 | E62: 448 | F62: 0.21 | G62: M08 | H62: M08 | I62: TEM | J62: 14.3 | K62: -0.2623121 | L62: 43.5146995 | M62: =VLOOKUP($D62,temp!$E$3:$H$343,2,FALSE) -> 14.96 | N62: =VLOOKUP($D62,temp!$E$3:$H$343,3,FALSE) -> 15.276667 | O62: =VLOOKUP($D62,temp!$E$3:$H$343,4,FALSE) -> 16.55
A63: 43377 | B63: 0.42986111 | C63: 0.43055556 | D63: =A63+C63 -> 43377.431 | E63: 473 | F63: 0.17 | G63: C15 | H63: C15 | I63: AC | J63: 17.1 | K63: -0.2611042 | L63: 43.5151275 | M63: =VLOOKUP($D63,temp!$E$3:$H$343,2,FALSE) -> 14.96 | N63: =VLOOKUP($D63,temp!$E$3:$H$343,3,FALSE) -> 15.276667 | O63: =VLOOKUP($D63,temp!$E$3:$H$343,4,FALSE) -> 16.55
A64: 43377 | B64: 0.42986111 | C64: 0.43055556 | D64: =A64+C64 -> 43377.431 | E64: 439 | F64: 0.18 | G64: M08 | H64: M08 | I64: TEM | J64: 14 | K64: -0.2623121 | L64: 43.5146995 | M64: =VLOOKUP($D64,temp!$E$3:$H$343,2,FALSE) -> 14.96 | N64: =VLOOKUP($D64,temp!$E$3:$H$343,3,FALSE) -> 15.276667 | O64: =VLOOKUP($D64,temp!$E$3:$H$343,4,FALSE) -> 16.55
A65: 43377 | B65: 0.43194444 | C65: 0.43402778 | D65: =A65+C65 -> 43377.434 | E65: 437 | F65: 0.28 | G65: C15 | H65: C15 | I65: AC | J65: 15.7 | K65: -0.2611042 | L65: 43.5151275 | M65: =VLOOKUP($D65,temp!$E$3:$H$343,2,FALSE) -> 15.083333 | N65: =VLOOKUP($D65,temp!$E$3:$H$343,3,FALSE) -> 15.266667 | O65: =VLOOKUP($D65,temp!$E$3:$H$343,4,FALSE) -> 16.536667
A66: 43377 | B66: 0.43194444 | C66: 0.43402778 | D66: =A66+C66 -> 43377.434 | E66: 438 | F66: 0.26 | G66: M08 | H66: M08 | I66: TEM | J66: 13.9 | K66: -0.2623121 | L66: 43.5146995 | M66: =VLOOKUP($D66,temp!$E$3:$H$343,2,FALSE) -> 15.083333 | N66: =VLOOKUP($D66,temp!$E$3:$H$343,3,FALSE) -> 15.266667 | O66: =VLOOKUP($D66,temp!$E$3:$H$343,4,FALSE) -> 16.536667
A67: 43377 | B67: 0.43333333 | C67: 0.43402778 | D67: =A67+C67 -> 43377.434 | E67: 598 | F67: 0.22 | G67: C15 | H67: C15 | I67: AC | J67: 15.5 | K67: -0.2611042 | L67: 43.5151275 | M67: =VLOOKUP($D67,temp!$E$3:$H$343,2,FALSE) -> 15.083333 | N67: =VLOOKUP($D67,temp!$E$3:$H$343,3,FALSE) -> 15.266667 | O67: =VLOOKUP($D67,temp!$E$3:$H$343,4,FALSE) -> 16.536667
A68: 43377 | B68: 0.43472222 | C68: 0.4375 | D68: =A68+C68 -> 43377.438 | E68: 487 | F68: 0.24 | G68: M09 | H68: M09 | I68: TEM | J68: 14.9 | K68: -0.2619711 | L68: 43.5145945 | M68: =VLOOKUP($D68,temp!$E$3:$H$343,2,FALSE) -> 15.226667 | N68: =VLOOKUP($D68,temp!$E$3:$H$343,3,FALSE) -> 15.27 | O68: =VLOOKUP($D68,temp!$E$3:$H$343,4,FALSE) -> 16.53
A69: 43377 | B69: 0.43680556 | C69: 0.4375 | D69: =A69+C69 -> 43377.438 | E69: 424 | F69: 0.16 | G69: C16 | H69: C16 | I69: AC | J69: 15.3 | K69: -0.2615022 | L69: 43.5151985 | M69: =VLOOKUP($D69,temp!$E$3:$H$343,2,FALSE) -> 15.226667 | N69: =VLOOKUP($D69,temp!$E$3:$H$343,3,FALSE) -> 15.27 | O69: =VLOOKUP($D69,temp!$E$3:$H$343,4,FALSE) -> 16.53
A70: 43377 | B70: 0.43680556 | C70: 0.4375 | D70: =A70+C70 -> 43377.438 | E70: 436 | F70: 0.24 | G70: M09 | H70: M09 | I70: TEM | J70: 14.7 | K70: -0.2619711 | L70: 43.5145945 | M70: =VLOOKUP($D70,temp!$E$3:$H$343,2,FALSE) -> 15.226667 | N70: =VLOOKUP($D70,temp!$E$3:$H$343,3,FALSE) -> 15.27 | O70: =VLOOKUP($D70,temp!$E$3:$H$343,4,FALSE) -> 16.53
A71: 43377 | B71: 0.43819444 | C71: 0.44097222 | D71: =A71+C71 -> 43377.441 | E71: 404 | F71: 0.13 | G71: C16 | H71: C16 | I71: AC | J71: 15 | K71: -0.2615022 | L71: 43.5151985 | M71: =VLOOKUP($D71,temp!$E$3:$H$343,2,FALSE) -> 15.416667 | N71: =VLOOKUP($D71,temp!$E$3:$H$343,3,FALSE) -> 15.273333 | O71: =VLOOKUP($D71,temp!$E$3:$H$343,4,FALSE) -> 16.516667
A72: 43377 | B72: 0.43888889 | C72: 0.44097222 | D72: =A72+C72 -> 43377.441 | E72: 458 | F72: 0.19 | G72: M09 | H72: M09 | I72: TEM | J72: 14.7 | K72: -0.2619711 | L72: 43.5145945 | M72: =VLOOKUP($D72,temp!$E$3:$H$343,2,FALSE) -> 15.416667 | N72: =VLOOKUP($D72,temp!$E$3:$H$343,3,FALSE) -> 15.273333 | O72: =VLOOKUP($D72,temp!$E$3:$H$343,4,FALSE) -> 16.516667
A73: 43377 | B73: 0.44305556 | C73: 0.44444444 | D73: =A73+C73 -> 43377.444 | E73: 429 | F73: 0.18 | G73: M10 | H73: M10 | I73: TEM | J73: 14.5 | K73: -0.2616282 | L73: 43.5144955 | M73: =VLOOKUP($D73,temp!$E$3:$H$343,2,FALSE) -> 15.523333 | N73: =VLOOKUP($D73,temp!$E$3:$H$343,3,FALSE) -> 15.27 | O73: =VLOOKUP($D73,temp!$E$3:$H$343,4,FALSE) -> 16.513333
A74: 43377 | B74: 0.44444444 | C74: 0.44444444 | D74: =A74+C74 -> 43377.444 | E74: 407 | F74: 0.14 | G74: C16 | H74: C16 | I74: AC | J74: 15 | K74: -0.2615022 | L74: 43.5151985 | M74: =VLOOKUP($D74,temp!$E$3:$H$343,2,FALSE) -> 15.523333 | N74: =VLOOKUP($D74,temp!$E$3:$H$343,3,FALSE) -> 15.27 | O74: =VLOOKUP($D74,temp!$E$3:$H$343,4,FALSE) -> 16.513333
A75: 43377 | B75: 0.44583333 | C75: 0.44791667 | D75: =A75+C75 -> 43377.448 | E75: 427 | F75: 0.15 | G75: M10 | H75: M10 | I75: TEM | J75: 14.4 | K75: -0.2616282 | L75: 43.5144955 | M75: =VLOOKUP($D75,temp!$E$3:$H$343,2,FALSE) -> 15.623333 | N75: =VLOOKUP($D75,temp!$E$3:$H$343,3,FALSE) -> 15.27 | O75: =VLOOKUP($D75,temp!$E$3:$H$343,4,FALSE) -> 16.503333
A76: 43377 | B76: 0.44930556 | C76: 0.45138889 | D76: =A76+C76 -> 43377.451 | E76: 429 | F76: 0.19 | G76: M10 | H76: M10 | I76: TEM | J76: 14.4 | K76: -0.2616282 | L76: 43.5144955 | M76: =VLOOKUP($D76,temp!$E$3:$H$343,2,FALSE) -> 15.753333 | N76: =VLOOKUP($D76,temp!$E$3:$H$343,3,FALSE) -> 15.276667 | O76: =VLOOKUP($D76,temp!$E$3:$H$343,4,FALSE) -> 16.496667
A77: 43377 | B77: 0.45 | C77: 0.45138889 | D77: =A77+C77 -> 43377.451 | E77: 522 | F77: 0.14 | G77: C17 | H77: C17 | I77: AC | J77: 15.3 | K77: -0.2618772 | L77: 43.5152865 | M77: =VLOOKUP($D77,temp!$E$3:$H$343,2,FALSE) -> 15.753333 | N77: =VLOOKUP($D77,temp!$E$3:$H$343,3,FALSE) -> 15.276667 | O77: =VLOOKUP($D77,temp!$E$3:$H$343,4,FALSE) -> 16.496667
A78: 43377 | B78: 0.45208333 | C78: 0.45486111 | D78: =A78+C78 -> 43377.455 | E78: 423 | F78: 0.25 | G78: C17 | H78: C17 | I78: AC | J78: 15.3 | K78: -0.2618772 | L78: 43.5152865 | M78: =VLOOKUP($D78,temp!$E$3:$H$343,2,FALSE) -> 15.873333 | N78: =VLOOKUP($D78,temp!$E$3:$H$343,3,FALSE) -> 15.283333 | O78: =VLOOKUP($D78,temp!$E$3:$H$343,4,FALSE) -> 16.493333
A79: 43377 | B79: 0.45416667 | C79: 0.45486111 | D79: =A79+C79 -> 43377.455 | E79: 422 | F79: 0.28 | G79: C17 | H79: C17 | I79: AC | J79: 15.3 | K79: -0.2618772 | L79: 43.5152865 | M79: =VLOOKUP($D79,temp!$E$3:$H$343,2,FALSE) -> 15.873333 | N79: =VLOOKUP($D79,temp!$E$3:$H$343,3,FALSE) -> 15.283333 | O79: =VLOOKUP($D79,temp!$E$3:$H$343,4,FALSE) -> 16.493333
A80: 43377 | B80: 0.45833333 | C80: 0.45833333 | D80: =A80+C80 -> 43377.458 | E80: 496 | F80: 0.52 | G80: M11 | H80: M11 | I80: TEM | J80: 15.7 | K80: -0.2615702 | L80: 43.5143405 | M80: =VLOOKUP($D80,temp!$E$3:$H$343,2,FALSE) -> 16.036667 | N80: =VLOOKUP($D80,temp!$E$3:$H$343,3,FALSE) -> 15.293333 | O80: =VLOOKUP($D80,temp!$E$3:$H$343,4,FALSE) -> 16.48
A81: 43377 | B81: 0.45902778 | C81: 0.46180556 | D81: =A81+C81 -> 43377.462 | E81: 465 | F81: 0.16 | G81: C18 | H81: C18 | I81: AC | J81: 15.6 | K81: -0.2621212 | L81: 43.5153375 | M81: =VLOOKUP($D81,temp!$E$3:$H$343,2,FALSE) -> 16.156667 | N81: =VLOOKUP($D81,temp!$E$3:$H$343,3,FALSE) -> 15.293333 | O81: =VLOOKUP($D81,temp!$E$3:$H$343,4,FALSE) -> 16.473333
A82: 43377 | B82: 0.46111111 | C82: 0.46180556 | D82: =A82+C82 -> 43377.462 | E82: 418 | F82: 0.19 | G82: C18 | H82: C18 | I82: AC | J82: 15.2 | K82: -0.2621212 | L82: 43.5153375 | M82: =VLOOKUP($D82,temp!$E$3:$H$343,2,FALSE) -> 16.156667 | N82: =VLOOKUP($D82,temp!$E$3:$H$343,3,FALSE) -> 15.293333 | O82: =VLOOKUP($D82,temp!$E$3:$H$343,4,FALSE) -> 16.473333
A83: 43377 | B83: 0.4625 | C83: 0.46527778 | D83: =A83+C83 -> 43377.465 | E83: 423 | F83: 0.17 | G83: C18 | H83: C18 | I83: AC | J83: 15.1 | K83: -0.2621212 | L83: 43.5153375 | M83: =VLOOKUP($D83,temp!$E$3:$H$343,2,FALSE) -> 16.273333 | N83: =VLOOKUP($D83,temp!$E$3:$H$343,3,FALSE) -> 15.3 | O83: =VLOOKUP($D83,temp!$E$3:$H$343,4,FALSE) -> 16.473333
A84: 43377 | B84: 0.46319444 | C84: 0.46527778 | D84: =A84+C84 -> 43377.465 | E84: 433 | F84: 0.15 | G84: M11 | H84: M11 | I84: TEM | J84: 15.3 | K84: -0.2615702 | L84: 43.5143405 | M84: =VLOOKUP($D84,temp!$E$3:$H$343,2,FALSE) -> 16.273333 | N84: =VLOOKUP($D84,temp!$E$3:$H$343,3,FALSE) -> 15.3 | O84: =VLOOKUP($D84,temp!$E$3:$H$343,4,FALSE) -> 16.473333
A85: 43377 | B85: 0.46527778 | C85: 0.46527778 | D85: =A85+C85 -> 43377.465 | E85: 439 | F85: 0.16 | G85: M11 | H85: M11 | I85: TEM | J85: 15.3 | K85: -0.2615702 | L85: 43.5143405 | M85: =VLOOKUP($D85,temp!$E$3:$H$343,2,FALSE) -> 16.273333 | N85: =VLOOKUP($D85,temp!$E$3:$H$343,3,FALSE) -> 15.3 | O85: =VLOOKUP($D85,temp!$E$3:$H$343,4,FALSE) -> 16.473333
A86: 43377 | B86: 0.46736111 | C86: 0.46875 | D86: =A86+C86 -> 43377.469 | E86: 449 | F86: 0.25 | G86: M12 | H86: M12 | I86: TEM | J86: 15.6 | K86: -0.2618821 | L86: 43.5144575 | M86: =VLOOKUP($D86,temp!$E$3:$H$343,2,FALSE) -> 16.406667 | N86: =VLOOKUP($D86,temp!$E$3:$H$343,3,FALSE) -> 15.303333 | O86: =VLOOKUP($D86,temp!$E$3:$H$343,4,FALSE) -> 16.47
... A90: 43377 | B90: 0.47152778 | C90: 0.47222222 | D90: =A90+C90 -> 43377.472 | E90: 432 | F90: 0.23 | G90: M12 | H90: M12 | I90: TEM | J90: 15.2 | K90: -0.2618821 | L90: 43.5144575 | M90: =VLOOKUP($D90,temp!$E$3:$H$343,2,FALSE) -> 16.533333 | N90: =VLOOKUP($D90,temp!$E$3:$H$343,3,FALSE) -> 15.316667 | O90: =VLOOKUP($D90,temp!$E$3:$H$343,4,FALSE) -> 16.463333
A91: 43377 | B91: 0.47222222 | C91: 0.47222222 | D91: =A91+C91 -> 43377.472 | E91: 409 | F91: 0.19 | G91: C19 | H91: C19 | I91: AC | J91: 15 | K91: -0.2624911 | L91: 43.5154875 | M91: =VLOOKUP($D91,temp!$E$3:$H$343,2,FALSE) -> 16.533333 | N91: =VLOOKUP($D91,temp!$E$3:$H$343,3,FALSE) -> 15.316667 | O91: =VLOOKUP($D91,temp!$E$3:$H$343,4,FALSE) -> 16.463333
A92: 43377 | B92: 0.48402778 | C92: 0.48611111 | D92: =A92+C92 -> 43377.486 | E92: 412 | F92: 0.17 | G92: C20 | H92: C20 | I92: AC | J92: 16.1 | K92: -0.2627731 | L92: 43.5155785 | M92: =VLOOKUP($D92,temp!$E$3:$H$343,2,FALSE) -> 17.143333 | N92: =VLOOKUP($D92,temp!$E$3:$H$343,3,FALSE) -> 15.356667 | O92: =VLOOKUP($D92,temp!$E$3:$H$343,4,FALSE) -> 16.446667
A93: 43377 | B93: 0.48611111 | C93: 0.48611111 | D93: =A93+C93 -> 43377.486 | E93: 414 | F93: 0.17 | G93: C20 | H93: C20 | I93: AC | J93: 15.8 | K93: -0.2627731 | L93: 43.5155785 | M93: =VLOOKUP($D93,temp!$E$3:$H$343,2,FALSE) -> 17.143333 | N93: =VLOOKUP($D93,temp!$E$3:$H$343,3,FALSE) -> 15.356667 | O93: =VLOOKUP($D93,temp!$E$3:$H$343,4,FALSE) -> 16.446667
A94: 43377 | B94: 0.48819444 | C94: 0.48958333 | D94: =A94+C94 -> 43377.49 | E94: 428 | F94: 0.26 | G94: C20 | H94: C20 | I94: AC | J94: 15.8 | K94: -0.2627731 | L94: 43.5155785 | M94: =VLOOKUP($D94,temp!$E$3:$H$343,2,FALSE) -> 17.276667 | N94: =VLOOKUP($D94,temp!$E$3:$H$343,3,FALSE) -> 15.366667 | O94: =VLOOKUP($D94,temp!$E$3:$H$343,4,FALSE) -> 16.443333
A95: 43377 | B95: 0.49375 | C95: 0.49652778 | D95: =A95+C95 -> 43377.497 | E95: 463 | F95: 0.26 | G95: C21 | H95: C21 | I95: AC | J95: 16 | K95: -0.2631681 | L95: 43.5157265 | M95: =VLOOKUP($D95,temp!$E$3:$H$343,2,FALSE) -> 17.62 | N95: =VLOOKUP($D95,temp!$E$3:$H$343,3,FALSE) -> 15.386667 | O95: =VLOOKUP($D95,temp!$E$3:$H$343,4,FALSE) -> 16.436667
A96: 43377 | B96: 0.49513889 | C96: 0.49652778 | D96: =A96+C96 -> 43377.497 | E96: 520 | F96: 0.15 | G96: C21 | H96: C21 | I96: AC | J96: 15.8 | K96: -0.2631681 | L96: 43.5157265 | M96: =VLOOKUP($D96,temp!$E$3:$H$343,2,FALSE) -> 17.62 | N96: =VLOOKUP($D96,temp!$E$3:$H$343,3,FALSE) -> 15.386667 | O96: =VLOOKUP($D96,temp!$E$3:$H$343,4,FALSE) -> 16.436667
A97: 43377 | B97: 0.49652778 | C97: 0.49652778 | D97: =A97+C97 -> 43377.497 | E97: 411 | F97: 0.19 | G97: C21 | H97: C21 | I97: AC | J97: 15.8 | K97: -0.2631681 | L97: 43.5157265 | M97: =VLOOKUP($D97,temp!$E$3:$H$343,2,FALSE) -> 17.62 | N97: =VLOOKUP($D97,temp!$E$3:$H$343,3,FALSE) -> 15.386667 | O97: =VLOOKUP($D97,temp!$E$3:$H$343,4,FALSE) -> 16.436667
A98: 43377 | B98: 0.50277778 | C98: 0.50347222 | D98: =A98+C98 -> 43377.503 | E98: 448 | F98: 0.21 | G98: M13 | H98: M13 | I98: TEM | J98: 15.9 | K98: -0.2622891 | L98: 43.5145845 | M98: =VLOOKUP($D98,temp!$E$3:$H$343,2,FALSE) -> 18.073333 | N98: =VLOOKUP($D98,temp!$E$3:$H$343,3,FALSE) -> 15.416667 | O98: =VLOOKUP($D98,temp!$E$3:$H$343,4,FALSE) -> 16.42
A99: 43377 | B99: 0.50416667 | C99: 0.50694444 | D99: =A99+C99 -> 43377.507 | E99: 445 | F99: 0.22 | G99: M13 | H99: M13 | I99: TEM | J99: 15.3 | K99: -0.2622891 | L99: 43.5145845 | M99: =VLOOKUP($D99,temp!$E$3:$H$343,2,FALSE) -> 18.206667 | N99: =VLOOKUP($D99,temp!$E$3:$H$343,3,FALSE) -> 15.433333 | O99: =VLOOKUP($D99,temp!$E$3:$H$343,4,FALSE) -> 16.42
A100: 43377 | B100: 0.50625 | C100: 0.50694444 | D100: =A100+C100 -> 43377.507 | E100: 445 | F100: 0.29 | G100: M13 | H100: M13 | I100: TEM | J100: 15.3 | K100: -0.2622891 | L100: 43.5145845 | M100: =VLOOKUP($D100,temp!$E$3:$H$343,2,FALSE) -> 18.206667 | N100: =VLOOKUP($D100,temp!$E$3:$H$343,3,FALSE) -> 15.433333 | O100: =VLOOKUP($D100,temp!$E$3:$H$343,4,FALSE) -> 16.42
A101: 43377 | B101: 0.50902778 | C101: 0.51041667 | D101: =A101+C101 -> 43377.51 | E101: 442 | F101: 0.17 | G101: M14 | H101: M14 | I101: TEM | J101: 16.3 | K101: -0.2626151 | L101: 43.5147015 | M101: =VLOOKUP($D101,temp!$E$3:$H$343,2,FALSE) -> 18.32 | N101: =VLOOKUP($D101,temp!$E$3:$H$343,3,FALSE) -> 15.446667 | O101: =VLOOKUP($D101,temp!$E$3:$H$343,4,FALSE) -> 16.42
A102: 43377 | B102: 0.51041667 | C102: 0.51041667 | D102: =A102+C102 -> 43377.51 | E102: 475 | F102: 0.15 | G102: M14 | H102: M14 | I102: TEM | J102: 15.8 | K102: -0.2626151 | L102: 43.5147015 | M102: =VLOOKUP($D102,temp!$E$3:$H$343,2,FALSE) -> 18.32 | N102: =VLOOKUP($D102,temp!$E$3:$H$343,3,FALSE) -> 15.446667 | O102: =VLOOKUP($D102,temp!$E$3:$H$343,4,FALSE) -> 16.42
A103: 43377 | B103: 0.5125 | C103: 0.51388889 | D103: =A103+C103 -> 43377.514 | E103: 433 | F103: 0.17 | G103: M14 | H103: M14 | I103: TEM | J103: 15.7 | K103: -0.2626151 | L103: 43.5147015 | M103: =VLOOKUP($D103,temp!$E$3:$H$343,2,FALSE) -> 18.976667 | N103: =VLOOKUP($D103,temp!$E$3:$H$343,3,FALSE) -> 15.463333 | O103: =VLOOKUP($D103,temp!$E$3:$H$343,4,FALSE) -> 16.413333
A104: 43377 | B104: 0.51527778 | C104: 0.51736111 | D104: =A104+C104 -> 43377.517 | E104: 457 | F104: 0.35 | G104: M15 | H104: M15 | I104: TEM | J104: 15.9 | K104: -0.2629451 | L104: 43.5148015 | M104: =VLOOKUP($D104,temp!$E$3:$H$343,2,FALSE) -> 20.39 | N104: =VLOOKUP($D104,temp!$E$3:$H$343,3,FALSE) -> 15.473333 | O104: =VLOOKUP($D104,temp!$E$3:$H$343,4,FALSE) -> 16.416667
A105: 43377 | B105: 0.51736111 | C105: 0.51736111 | D105: =A105+C105 -> 43377.517 | E105: 436 | F105: 0.22 | G105: M15 | H105: M15 | I105: TEM | J105: 15.5 | K105: -0.2629451 | L105: 43.5148015 | M105: =VLOOKUP($D105,temp!$E$3:$H$343,2,FALSE) -> 20.39 | N105: =VLOOKUP($D105,temp!$E$3:$H$343,3,FALSE) -> 15.473333 | O105: =VLOOKUP($D105,temp!$E$3:$H$343,4,FALSE) -> 16.416667
...

Sheet temp
E1: ParcelleC | M1: ParcelleM
A2: heures | B2: index_heure | C2: index_date | D2: date | E2: date_heure5min | F2: Tmoy10C | G2: Tmoy20C | H2: Tmoy30C | I2: heures | J2: index_heure | K2: index_date | L2: date | M2: date_heure5min | N2: Tmoy10M | O2: Tmoy20M | P2: Tmoy30M
A3: 0 | B3: =(HOUR(A3)*60+MINUTE(A3))*1 -> 0 | C3: =INT(D3)*1 -> 43377 | D3: 43377 | E3: 43377 | F3: 14.76 | G3: 16.813333 | H3: 17.29 | I3: 0 | J3: =(HOUR(I3)*60+MINUTE(I3))*1 -> 0 | K3: =INT(L3)*1 -> 43377 | L3: 43377 | M3: 43377 | N3: 15.666667 | O3: 16.346667 | P3: 16.843333
A4: 0.0034722222 | B4: =(HOUR(A4)*60+MINUTE(A4))*1 -> 5 | C4: =INT(D4)*1 -> 43377 | D4: 43377 | E4: 43377.003 | F4: 14.71 | G4: 16.8 | H4: 17.29 | I4: 0.0034722222 | J4: =(HOUR(I4)*60+MINUTE(I4))*1 -> 5 | K4: =INT(L4)*1 -> 43377 | L4: 43377 | M4: 43377.003 | N4: 15.63 | O4: 16.34 | P4: 16.843333
A5: 0.0069444444 | B5: =(HOUR(A5)*60+MINUTE(A5))*1 -> 10 | C5: =INT(D5)*1 -> 43377 | D5: 43377 | E5: 43377.007 | F5: 14.67 | G5: 16.783333 | H5: 17.286667 | I5: 0.0069444444 | J5: =(HOUR(I5)*60+MINUTE(I5))*1 -> 10 | K5: =INT(L5)*1 -> 43377 | L5: 43377 | M5: 43377.007 | N5: 15.593333 | O5: 16.32 | P5: 16.836667
A6: 0.010416667 | B6: =(HOUR(A6)*60+MINUTE(A6))*1 -> 15 | C6: =INT(D6)*1 -> 43377 | D6: 43377 | E6: 43377.01 | F6: 14.603333 | G6: 16.773333 | H6: 17.286667 | I6: 0.010416667 | J6: =(HOUR(I6)*60+MINUTE(I6))*1 -> 15 | K6: =INT(L6)*1 -> 43377 | L6: 43377 | M6: 43377.01 | N6: 15.553333 | O6: 16.306667 | P6: 16.836667
A7: 0.013888889 | B7: =(HOUR(A7)*60+MINUTE(A7))*1 -> 20 | C7: =INT(D7)*1 -> 43377 | D7: 43377 | E7: 43377.014 | F7: 14.546667 | G7: 16.766667 | H7: 17.286667 | I7: 0.013888889 | J7: =(HOUR(I7)*60+MINUTE(I7))*1 -> 20 | K7: =INT(L7)*1 -> 43377 | L7: 43377 | M7: 43377.014 | N7: 15.52 | O7: 16.293333 | P7: 16.833333
A8: 0.017361111 | B8: =(HOUR(A8)*60+MINUTE(A8))*1 -> 25 | C8: =INT(D8)*1 -> 43377 | D8: 43377 | E8: 43377.017 | F8: 14.5 | G8: 16.753333 | H8: 17.28 | I8: 0.017361111 | J8: =(HOUR(I8)*60+MINUTE(I8))*1 -> 25 | K8: =INT(L8)*1 -> 43377 | L8: 43377 | M8: 43377.017 | N8: 15.48 | O8: 16.28 | P8: 16.833333
A9: 0.020833333 | B9: =(HOUR(A9)*60+MINUTE(A9))*1 -> 30 | C9: =INT(D9)*1 -> 43377 | D9: 43377 | E9: 43377.021 | F9: 14.446667 | G9: 16.743333 | H9: 17.28 | I9: 0.020833333 | J9: =(HOUR(I9)*60+MINUTE(I9))*1 -> 30 | K9: =INT(L9)*1 -> 43377 | L9: 43377 | M9: 43377.021 | N9: 15.443333 | O9: 16.273333 | P9: 16.83
A10: 0.024305556 | B10: =(HOUR(A10)*60+MINUTE(A10))*1 -> 35 | C10: =INT(D10)*1 -> 43377 | D10: 43377 | E10: 43377.024 | F10: 14.38 | G10: 16.73 | H10: 17.28 | I10: 0.024305556 | J10: =(HOUR(I10)*60+MINUTE(I10))*1 -> 35 | K10: =INT(L10)*1 -> 43377 | L10: 43377 | M10: 43377.024 | N10: 15.403333 | O10: 16.26 | P10: 16.82
A11: 0.027777778 | B11: =(HOUR(A11)*60+MINUTE(A11))*1 -> 40 | C11: =INT(D11)*1 -> 43377 | D11: 43377 | E11: 43377.028 | F11: 14.323333 | G11: 16.72 | H11: 17.276667 | I11: 0.027777778 | J11: =(HOUR(I11)*60+MINUTE(I11))*1 -> 40 | K11: =INT(L11)*1 -> 43377 | L11: 43377 | M11: 43377.028 | N11: 15.36 | O11: 16.243333 | P11: 16.82
A12: 0.03125 | B12: =(HOUR(A12)*60+MINUTE(A12))*1 -> 45 | C12: =INT(D12)*1 -> 43377 | D12: 43377 | E12: 43377.031 | F12: 14.27 | G12: 16.71 | H12: 17.276667 | I12: 0.03125 | J12: =(HOUR(I12)*60+MINUTE(I12))*1 -> 45 | K12: =INT(L12)*1 -> 43377 | L12: 43377 | M12: 43377.031 | N12: 15.316667 | O12: 16.223333 | P12: 16.816667
A13: 0.034722222 | B13: =(HOUR(A13)*60+MINUTE(A13))*1 -> 50 | C13: =INT(D13)*1 -> 43377 | D13: 43377 | E13: 43377.035 | F13: 14.22 | G13: 16.69 | H13: 17.27 | I13: 0.034722222 | J13: =(HOUR(I13)*60+MINUTE(I13))*1 -> 50 | K13: =INT(L13)*1 -> 43377 | L13: 43377 | M13: 43377.035 | N13: 15.273333 | O13: 16.216667 | P13: 16.806667
A14: 0.038194444 | B14: =(HOUR(A14)*60+MINUTE(A14))*1 -> 55 | C14: =INT(D14)*1 -> 43377 | D14: 43377 | E14: 43377.038 | F14: 14.166667 | G14: 16.686667 | H14: 17.263333 | I14: 0.038194444 | J14: =(HOUR(I14)*60+MINUTE(I14))*1 -> 55 | K14: =INT(L14)*1 -> 43377 | L14: 43377 | M14: 43377.038 | N14: 15.24 | O14: 16.203333 | P14: 16.806667
... A290: 0.99652778 | B290: =(HOUR(A290)*60+MINUTE(A290))*1 -> 1435 | C290: =INT(D290)*1 -> 43377 | D290: 43377 | E290: 43377.997 | F290: 15.02 | G290: 17.016667 | H290: 17.453333 | I290: 0.99652778 | J290: =(HOUR(I290)*60+MINUTE(I290))*1 -> 1435 | K290: =INT(L290)*1 -> 43377 | L290: 43377 | M290: 43377.997 | N290: 15.91 | O290: 16.59 | P290: 17.06
E291: 0 | K291: =INT(L291)*1 -> 0
E292: 0 | K292: =INT(L292)*1 -> 0
E293: 0 | K293: =INT(L293)*1 -> 0
E294: 0 | K294: =INT(L294)*1 -> 0
E295: 0 | K295: =INT(L295)*1 -> 0
E296: 0 | K296: =INT(L296)*1 -> 0
E297: 0 | K297: =INT(L297)*1 -> 0
E298: 0 | K298: =INT(L298)*1 -> 0
E299: 0 | K299: =INT(L299)*1 -> 0
E300: 0 | K300: =INT(L300)*1 -> 0
E301: 0 | K301: =INT(L301)*1 -> 0
E302: 0 | K302: =INT(L302)*1 -> 0
... E566: 0 | K566: =INT(L566)*1 -> 0
K567: =INT(L567)*1 -> 0
K568: =INT(L568)*1 -> 0
K569: =INT(L569)*1 -> 0
K570: =INT(L570)*1 -> 0
K571: =INT(L571)*1 -> 0
K572: =INT(L572)*1 -> 0
K573: =INT(L573)*1 -> 0
K574: =INT(L574)*1 -> 0
K575: =INT(L575)*1 -> 0
K576: =INT(L576)*1 -> 0
K577: =INT(L577)*1 -> 0
K578: =INT(L578)*1 -> 0
... K1351: =INT(L1351)*1 -> 0
