Workbook

Sheet data
A1: date | B1: heure | C1: heure5min | D1: date_heure5min | E1: co2ref | F1: sr_rate | G1: id_pt_cor | H1: id_pt | I1: id_agri | J1: t | K1: xgps | L1: ygps | M1: tmoy10 | N1: tmoy20 | O1: tmoy30
A2: 43377 | B2: 0.33541667 | C2: 0.33680556 | D2: =A2+C2 -> 43377.337 | E2: 508 | F2: 0.27 | G2: C01 | H2: C01 | I2: AC | J2: 14.2 | K2: -0.2613562 | L2: 43.5146985 | M2: =VLOOKUP($D2,temp!$E$3:$H$343,2,FALSE) -> 11.893333 | N2: =VLOOKUP($D2,temp!$E$3:$H$343,3,FALSE) -> 15.353333 | O2: =VLOOKUP($D2,temp!$E$3:$H$343,4,FALSE) -> 16.586667
A3: 43377 | B3: 0.3375 | C3: 0.34027778 | D3: =A3+C3 -> 43377.34 | E3: 487 | F3: 0.31 | G3: C01 | H3: C01 | I3: AC | J3: 14.2 | K3: -0.2613562 | L3: 43.5146985 | M3: =VLOOKUP($D3,temp!$E$3:$H$343,2,FALSE) -> 11.926667 | N3: =VLOOKUP($D3,temp!$E$3:$H$343,3,FALSE) -> 15.35 | O3: =VLOOKUP($D3,temp!$E$3:$H$343,4,FALSE) -> 16.583333
A4: 43377 | B4: 0.33958333 | C4: 0.34027778 | D4: =A4+C4 -> 43377.34 | E4: 462 | F4: 0.22 | G4: C01 | H4: C01 | I4: AC | J4: 14.2 | K4: -0.2613562 | L4: 43.5146985 | M4: =VLOOKUP($D4,temp!$E$3:$H$343,2,FALSE) -> 11.926667 | N4: =VLOOKUP($D4,temp!$E$3:$H$343,3,FALSE) -> 15.35 | O4: =VLOOKUP($D4,temp!$E$3:$H$343,4,FALSE) -> 16.583333
A5: 43377 | B5: 0.34305556 | C5: 0.34375 | D5: =A5+C5 -> 43377.344 | E5: 457 | F5: 0.16 | G5: C02 | H5: C02 | I5: AC | J5: 15.4 | K5: -0.2616742 | L5: 43.5148175 | M5: =VLOOKUP($D5,temp!$E$3:$H$343,2,FALSE) -> 11.99 | N5: =VLOOKUP($D5,temp!$E$3:$H$343,3,FALSE) -> 15.33 | O5: =VLOOKUP($D5,temp!$E$3:$H$343,4,FALSE) -> 16.576667
A6: 43377 | B6: 0.34583333 | C6: 0.34722222 | D6: =A6+C6 -> 43377.347 | E6: 465 | F6: 0.3 | G6: C02 | H6: C02 | I6: AC | J6: 14.4 | K6: -0.2616742 | L6: 43.5148175 | M6: =VLOOKUP($D6,temp!$E$3:$H$343,2,FALSE) -> 12.06 | N6: =VLOOKUP($D6,temp!$E$3:$H$343,3,FALSE) -> 15.326667 | O6: =VLOOKUP($D6,temp!$E$3:$H$343,4,FALSE) -> 16.563333
A7: 43377 | B7: 0.34791667 | C7: 0.35069444 | D7: =A7+C7 -> 43377.351 | E7: 445 | F7: 0.35 | G7: C02 | H7: C02 | I7: AC | J7: 14.4 | K7: -0.2616742 | L7: 43.5148175 | M7: =VLOOKUP($D7,temp!$E$3:$H$343,2,FALSE) -> 12.13 | N7: =VLOOKUP($D7,temp!$E$3:$H$343,3,FALSE) -> 15.306667 | O7: =VLOOKUP($D7,temp!$E$3:$H$343,4,FALSE) -> 16.556667
A8: 43377 | B8: 0.34791667 | C8: 0.35069444 | D8: =A8+C8 -> 43377.351 | E8: 534 | F8: 0.06 | G8: M01 | H8: M01 | I8: TEM | J8: 14.2 | K8: -0.2618131 | L8: 43.5146405 | M8: =VLOOKUP($D8,temp!$E$3:$H$343,2,FALSE) -> 12.13 | N8: =VLOOKUP($D8,temp!$E$3:$H$343,3,FALSE) -> 15.306667 | O8: =VLOOKUP($D8,temp!$E$3:$H$343,4,FALSE) -> 16.556667
A9: 43377 | B9: 0.35069444 | C9: 0.35069444 | D9: =A9+C9 -> 43377.351 | E9: 443 | F9: 0.17 | G9: C03 | H9: C03 | I9: AC | J9: 15.2 | K9: -0.2620341 | L9: 43.5149005 | M9: =VLOOKUP($D9,temp!$E$3:$H$343,2,FALSE) -> 12.13 | N9: =VLOOKUP($D9,temp!$E$3:$H$343,3,FALSE) -> 15.306667 | O9: =VLOOKUP($D9,temp!$E$3:$H$343,4,FALSE) -> 16.556667
A10: 43377 | B10: 0.35069444 | C10: 0.35069444 | D10: =A10+C10 -> 43377.351 | E10: 460 | F10: 0.13 | G10: M01 | H10: M01 | I10: TEM | J10: 14.1 | K10: -0.2618131 | L10: 43.5146405 | M10: =VLOOKUP($D10,temp!$E$3:$H$343,2,FALSE) -> 12.13 | N10: =VLOOKUP($D10,temp!$E$3:$H$343,3,FALSE) -> 15.306667 | O10: =VLOOKUP($D10,temp!$E$3:$H$343,4,FALSE) -> 16.556667
A11: 43377 | B11: 0.35208333 | C11: 0.35416667 | D11: =A11+C11 -> 43377.354 | E11: 427 | F11: 0.17 | G11: C03 | H11: C03 | I11: AC | J11: 14.9 | K11: -0.2620341 | L11: 43.5149005 | M11: =VLOOKUP($D11,temp!$E$3:$H$343,2,FALSE) -> 12.203333 | N11: =VLOOKUP($D11,temp!$E$3:$H$343,3,FALSE) -> 15.3 | O11: =VLOOKUP($D11,temp!$E$3:$H$343,4,FALSE) -> 16.546667
A12: 43377 | B12: 0.35416667 | C12: 0.35416667 | D12: =A12+C12 -> 43377.354 | E12: 431 | F12: 0.19 | G12: C03 | H12: C03 | I12: AC | J12: 14.9 | K12: -0.2620341 | L12: 43.5149005 | M12: =VLOOKUP($D12,temp!$E$3:$H$343,2,FALSE) -> 12.203333 | N12: =VLOOKUP($D12,temp!$E$3:$H$343,3,FALSE) -> 15.3 | O12: =VLOOKUP($D12,temp!$E$3:$H$343,4,FALSE) -> 16.546667
A13: 43377 | B13: 0.35625 | C13: 0.35763889 | D13: =A13+C13 -> 43377.358 | E13: 459 | F13: 0.13 | G13: M01 | H13: M01 | I13: TEM | J13: 14.1 | K13: -0.2618131 | L13: 43.5146405 | M13: =VLOOKUP($D13,temp!$E$3:$H$343,2,FALSE) -> 12.273333 | N13: =VLOOKUP($D13,temp!$E$3:$H$343,3,FALSE) -> 15.283333 | O13: =VLOOKUP($D13,temp!$E$3:$H$343,4,FALSE) -> 16.536667
A14: 43377 | B14: 0.35694444 | C14: 0.35763889 | D14: =A14+C14 -> 43377.358 | E14: 510 | F14: 0.17 | G14: C04 | H14: C04 | I14: AC | J14: 15 | K14: -0.2623581 | L14: 43.5150485 | M14: =VLOOKUP($D14,temp!$E$3:$H$343,2,FALSE) -> 12.273333 | N14: =VLOOKUP($D14,temp!$E$3:$H$343,3,FALSE) -> 15.283333 | O14: =VLOOKUP($D14,temp!$E$3:$H$343,4,FALSE) -> 16.536667
A15: 43377 | B15: 0.35902778 | C15: 0.36111111 | D15: =A15+C15 -> 43377.361 | E15: 431 | F15: 0.19 | G15: C04 | H15: C04 | I15: AC | J15: 14.8 | K15: -0.2623581 | L15: 43.5150485 | M15: =VLOOKUP($D15,temp!$E$3:$H$343,2,FALSE) -> 12.363333 | N15: =VLOOKUP($D15,temp!$E$3:$H$343,3,FALSE) -> 15.276667 | O15: =VLOOKUP($D15,temp!$E$3:$H$343,4,FALSE) -> 16.536667
A16: 43377 | B16: 0.35972222 | C16: 0.36111111 | D16: =A16+C16 -> 43377.361 | E16: 525 | F16: 0.1 | G16: M02 | H16: M02 | I16: TEM | J16: 14.8 | K16: -0.2621461 | L16: 43.5147375 | M16: =VLOOKUP($D16,temp!$E$3:$H$343,2,FALSE) -> 12.363333 | N16: =VLOOKUP($D16,temp!$E$3:$H$343,3,FALSE) -> 15.276667 | O16: =VLOOKUP($D16,temp!$E$3:$H$343,4,FALSE) -> 16.536667
A17: 43377 | B17: 0.36041667 | C17: 0.36111111 | D17: =A17+C17 -> 43377.361 | E17: 431 | F17: 0.21 | G17: C04 | H17: C04 | I17: AC | J17: 14.8 | K17: -0.2623581 | L17: 43.5150485 | M17: =VLOOKUP($D17,temp!$E$3:$H$343,2,FALSE) -> 12.363333 | N17: =VLOOKUP($D17,temp!$E$3:$H$343,3,FALSE) -> 15.276667 | O17: =VLOOKUP($D17,temp!$E$3:$H$343,4,FALSE) -> 16.536667
A18: 43377 | B18: 0.36180556 | C18: 0.36458333 | D18: =A18+C18 -> 43377.365 | E18: 455 | F18: 0.27 | G18: M02 | H18: M02 | I18: TEM | J18: 14.4 | K18: -0.2621461 | L18: 43.5147375 | M18: =VLOOKUP($D18,temp!$E$3:$H$343,2,FALSE) -> 12.466667 | N18: =VLOOKUP($D18,temp!$E$3:$H$343,3,FALSE) -> 15.273333 | O18: =VLOOKUP($D18,temp!$E$3:$H$343,4,FALSE) -> 16.546667
A19: 43377 | B19: 0.36388889 | C19: 0.36458333 | D19: =A19+C19 -> 43377.365 | E19: 459 | F19: 0.27 | G19: M02 | H19: M02 | I19: TEM | J19: 14.4 | K19: -0.2621461 | L19: 43.5147375 | M19: =VLOOKUP($D19,temp!$E$3:$H$343,2,FALSE) -> 12.466667 | N19: =VLOOKUP($D19,temp!$E$3:$H$343,3,FALSE) -> 15.273333 | O19: =VLOOKUP($D19,temp!$E$3:$H$343,4,FALSE) -> 16.546667
A20: 43377 | B20: 0.36458333 | C20: 0.36458333 | D20: =A20+C20 -> 43377.365 | E20: 503 | F20: 0.09 | G20: C05 | H20: C05 | I20: AC | J20: 14.9 | K20: -0.2627191 | L20: 43.5151655 | M20: =VLOOKUP($D20,temp!$E$3:$H$343,2,FALSE) -> 12.466667 | N20: =VLOOKUP($D20,temp!$E$3:$H$343,3,FALSE) -> 15.273333 | O20: =VLOOKUP($D20,temp!$E$3:$H$343,4,FALSE) -> 16.546667
A21: 43377 | B21: 0.36666667 | C21: 0.36805556 | D21: =A21+C21 -> 43377.368 | E21: 521 | F21: 0.1 | G21: C05 | H21: C05 | I21: AC | J21: 14.5 | K21: -0.2627191 | L21: 43.5151655 | M21: =VLOOKUP($D21,temp!$E$3:$H$343,2,FALSE) -> 12.563333 | N21: =VLOOKUP($D21,temp!$E$3:$H$343,3,FALSE) -> 15.28 | O21: =VLOOKUP($D21,temp!$E$3:$H$343,4,FALSE) -> 16.546667
A22: 43377 | B22: 0.36736111 | C22: 0.36805556 | D22: =A22+C22 -> 43377.368 | E22: 499 | F22: 0.13 | G22: M03 | H22: M03 | I22: TEM | J22: 14.1 | K22: -0.2624941 | L22: 43.5148385 | M22: =VLOOKUP($D22,temp!$E$3:$H$343,2,FALSE) -> 12.563333 | N22: =VLOOKUP($D22,temp!$E$3:$H$343,3,FALSE) -> 15.28 | O22: =VLOOKUP($D22,temp!$E$3:$H$343,4,FALSE) -> 16.546667
A23: 43377 | B23: 0.36805556 | C23: 0.36805556 | D23: =A23+C23 -> 43377.368 | E23: 449 | F23: 0.15 | G23: C05 | H23: C05 | I23: AC | J23: 14.5 | K23: -0.2627191 | L23: 43.5151655 | M23: =VLOOKUP($D23,temp!$E$3:$H$343,2,FALSE) -> 12.563333 | N23: =VLOOKUP($D23,temp!$E$3:$H$343,3,FALSE) -> 15.28 | O23: =VLOOKUP($D23,temp!$E$3:$H$343,4,FALSE) -> 16.546667
A24: 43377 | B24: 0.36944444 | C24: 0.37152778 | D24: =A24+C24 -> 43377.372 | E24: 491 | F24: 0.11 | G24: M03 | H24: M03 | I24: TEM | J24: 13.9 | K24: -0.2624941 | L24: 43.5148385 | M24: =VLOOKUP($D24,temp!$E$3:$H$343,2,FALSE) -> 12.66 | N24: =VLOOKUP($D24,temp!$E$3:$H$343,3,FALSE) -> 15.276667 | O24: =VLOOKUP($D24,temp!$E$3:$H$343,4,FALSE) -> 16.55
A25: 43377 | B25: 0.37152778 | C25: 0.37152778 | D25: =A25+C25 -> 43377.372 | E25: 453 | F25: 0.2 | G25: C22 | H25: C22 | I25: AC | J25: 15.2 | K25: -0.2630741 | L25: 43.5152295 | M25: =VLOOKUP($D25,temp!$E$3:$H$343,2,FALSE) -> 12.66 | N25: =VLOOKUP($D25,temp!$E$3:$H$343,3,FALSE) -> 15.276667 | O25: =VLOOKUP($D25,temp!$E$3:$H$343,4,FALSE) -> 16.55
A26: 43377 | B26: 0.37152778 | C26: 0.37152778 | D26: =A26+C26 -> 43377.372 | E26: 469 | F26: 0.19 | G26: M03 | H26: M03 | I26: TEM | J26: 13.9 | K26: -0.2624941 | L26: 43.5148385 | M26: =VLOOKUP($D26,temp!$E$3:$H$343,2,FALSE) -> 12.66 | N26: =VLOOKUP($D26,temp!$E$3:$H$343,3,FALSE) -> 15.276667 | O26: =VLOOKUP($D26,temp!$E$3:$H$343,4,FALSE) -> 16.55
... A29: 43377 | B29: 0.375 | C29: 0.375 | D29: =A29+C29 -> 43377.375 | E29: 430 | F29: 0.22 | G29: C22 | H29: C22 | I29: AC | J29: 14.8 | K29: -0.2630741 | L29: 43.5152295 | M29: =VLOOKUP($D29,temp!$E$3:$H$343,2,FALSE) -> 12.783333 | N29: =VLOOKUP($D29,temp!$E$3:$H$343,3,FALSE) -> 15.283333 | O29: =VLOOKUP($D29,temp!$E$3:$H$343,4,FALSE) -> 16.556667
A30: 43377 | B30: 0.37638889 | C30: 0.37847222 | D30: =A30+C30 -> 43377.378 | E30: 456 | F30: 0.18 | G30: M04 | H30: M04 | I30: TEM | J30: 14 | K30: -0.2628351 | L30: 43.5149505 | M30: =VLOOKUP($D30,temp!$E$3:$H$343,2,FALSE) -> 12.903333 | N30: =VLOOKUP($D30,temp!$E$3:$H$343,3,FALSE) -> 15.296667 | O30: =VLOOKUP($D30,temp!$E$3:$H$343,4,FALSE) -> 16.573333
A31: 43377 | B31: 0.37847222 | C31: 0.37847222 | D31: =A31+C31 -> 43377.378 | E31: 460 | F31: 0.17 | G31: C23 | H31: C23 | I31: AC | J31: 15.6 | K31: -0.2634131 | L31: 43.5153345 | M31: =VLOOKUP($D31,temp!$E$3:$H$343,2,FALSE) -> 12.903333 | N31: =VLOOKUP($D31,temp!$E$3:$H$343,3,FALSE) -> 15.296667 | O31: =VLOOKUP($D31,temp!$E$3:$H$343,4,FALSE) -> 16.573333
A32: 43377 | B32: 0.37847222 | C32: 0.37847222 | D32: =A32+C32 -> 43377.378 | E32: 458 | F32: 0.29 | G32: M04 | H32: M04 | I32: TEM | J32: 14 | K32: -0.2628351 | L32: 43.5149505 | M32: =VLOOKUP($D32,temp!$E$3:$H$343,2,FALSE) -> 12.903333 | N32: =VLOOKUP($D32,temp!$E$3:$H$343,3,FALSE) -> 15.296667 | O32: =VLOOKUP($D32,temp!$E$3:$H$343,4,FALSE) -> 16.573333
A33: 43377 | B33: 0.37986111 | C33: 0.38194444 | D33: =A33+C33 -> 43377.382 | E33: 429 | F33: 0.19 | G33: C23 | H33: C23 | I33: AC | J33: 15.3 | K33: -0.2634131 | L33: 43.5153345 | M33: =VLOOKUP($D33,temp!$E$3:$H$343,2,FALSE) -> 13.04 | N33: =VLOOKUP($D33,temp!$E$3:$H$343,3,FALSE) -> 15.296667 | O33: =VLOOKUP($D33,temp!$E$3:$H$343,4,FALSE) -> 16.593333
A34: 43377 | B34: 0.38125 | C34: 0.38194444 | D34: =A34+C34 -> 43377.382 | E34: 442 | F34: 0.25 | G34: C23 | H34: C23 | I34: AC | J34: 15.3 | K34: -0.2634131 | L34: 43.5153345 | M34: =VLOOKUP($D34,temp!$E$3:$H$343,2,FALSE) -> 13.04 | N34: =VLOOKUP($D34,temp!$E$3:$H$343,3,FALSE) -> 15.296667 | O34: =VLOOKUP($D34,temp!$E$3:$H$343,4,FALSE) -> 16.593333
A35: 43377 | B35: 0.38194444 | C35: 0.38194444 | D35: =A35+C35 -> 43377.382 | E35: 451 | F35: 0.17 | G35: M05 | H35: M05 | I35: TEM | J35: 14.7 | K35: -0.2633561 | L35: 43.5151015 | M35: =VLOOKUP($D35,temp!$E$3:$H$343,2,FALSE) -> 13.04 | N35: =VLOOKUP($D35,temp!$E$3:$H$343,3,FALSE) -> 15.296667 | O35: =VLOOKUP($D35,temp!$E$3:$H$343,4,FALSE) -> 16.593333
A36: 43377 | B36: 0.38541667 | C36: 0.38541667 | D36: =A36+C36 -> 43377.385 | E36: 450 | F36: 0.19 | G36: M05 | H36: M05 | I36: TEM | J36: 14.5 | K36: -0.2633561 | L36: 43.5151015 | M36: =VLOOKUP($D36,temp!$E$3:$H$343,2,FALSE) -> 13.17 | N36: =VLOOKUP($D36,temp!$E$3:$H$343,3,FALSE) -> 15.306667 | O36: =VLOOKUP($D36,temp!$E$3:$H$343,4,FALSE) -> 16.596667
A37: 43377 | B37: 0.38819444 | C37: 0.38888889 | D37: =A37+C37 -> 43377.389 | E37: 448 | F37: 0.19 | G37: M05 | H37: M05 | I37: TEM | J37: 14.5 | K37: -0.2633561 | L37: 43.5151015 | M37: =VLOOKUP($D37,temp!$E$3:$H$343,2,FALSE) -> 13.303333 | N37: =VLOOKUP($D37,temp!$E$3:$H$343,3,FALSE) -> 15.306667 | O37: =VLOOKUP($D37,temp!$E$3:$H$343,4,FALSE) -> 16.613333
A38: 43377 | B38: 0.39583333 | C38: 0.39583333 | D38: =A38+C38 -> 43377.396 | E38: 435 | F38: 0.25 | G38: C06 | H38: C06 | I38: AC | J38: 15.3 | K38: -0.2627851 | L38: 43.5153245 | M38: =VLOOKUP($D38,temp!$E$3:$H$343,2,FALSE) -> 13.6 | N38: =VLOOKUP($D38,temp!$E$3:$H$343,3,FALSE) -> 15.306667 | O38: =VLOOKUP($D38,temp!$E$3:$H$343,4,FALSE) -> 16.613333
A39: 43377 | B39: 0.39791667 | C39: 0.39930556 | D39: =A39+C39 -> 43377.399 | E39: 433 | F39: 0.18 | G39: C06 | H39: C06 | I39: AC | J39: 15.1 | K39: -0.2627851 | L39: 43.5153245 | M39: =VLOOKUP($D39,temp!$E$3:$H$343,2,FALSE) -> 13.756667 | N39: =VLOOKUP($D39,temp!$E$3:$H$343,3,FALSE) -> 15.303333 | O39: =VLOOKUP($D39,temp!$E$3:$H$343,4,FALSE) -> 16.61
A40: 43377 | B40: 0.39930556 | C40: 0.39930556 | D40: =A40+C40 -> 43377.399 | E40: 491 | F40: 0.21 | G40: C06 | H40: C06 | I40: AC | J40: 15 | K40: -0.2627851 | L40: 43.5153245 | M40: =VLOOKUP($D40,temp!$E$3:$H$343,2,FALSE) -> 13.756667 | N40: =VLOOKUP($D40,temp!$E$3:$H$343,3,FALSE) -> 15.303333 | O40: =VLOOKUP($D40,temp!$E$3:$H$343,4,FALSE) -> 16.61
A41: 43377 | B41: 0.4 | C41: 0.40277778 | D41: =A41+C41 -> 43377.403 | E41: 458 | F41: 0.32 | G41: M05 bis | H41: M05 bis | I41: TEM | J41: 14.4 | K41: -0.2633561 | L41: 43.5151015 | M41: =VLOOKUP($D41,temp!$E$3:$H$343,2,FALSE) -> 13.903333 | N41: =VLOOKUP($D41,temp!$E$3:$H$343,3,FALSE) -> 15.296667 | O41: =VLOOKUP($D41,temp!$E$3:$H$343,4,FALSE) -> 16.61
A42: 43377 | B42: 0.40138889 | C42: 0.40277778 | D42: =A42+C42 -> 43377.403 | E42: 483 | F42: 0.16 | G42: C07 | H42: C07 | I42: AC | J42: 16.2 | K42: -0.2624681 | L42: 43.5152125 | M42: =VLOOKUP($D42,temp!$E$3:$H$343,2,FALSE) -> 13.903333 | N42: =VLOOKUP($D42,temp!$E$3:$H$343,3,FALSE) -> 15.296667 | O42: =VLOOKUP($D42,temp!$E$3:$H$343,4,FALSE) -> 16.61
...

Sheet temp
E1: ParcelleC | M1: ParcelleM
A2: heures | B2: index_heure | C2: index_date | D2: date | E2: date_heure5min | F2: Tmoy10C | G2: Tmoy20C | H2: Tmoy30C | I2: heures | J2: index_heure | K2: index_date | L2: date | M2: date_heure5min | N2: Tmoy10M | O2: Tmoy20M | P2: Tmoy30M
A3: 0 | B3: =(HOUR(A3)*60+MINUTE(A3))*1 -> 0 | C3: =INT(D3)*1 -> 43377 | D3: 43377 | E3: 43377 | F3: 14.76 | G3: 16.813333 | H3: 17.29 | I3: 0 | J3: =(HOUR(I3)*60+MINUTE(I3))*1 -> 0 | K3: =INT(L3)*1 -> 43377 | L3: 43377 | M3: 43377 | N3: 15.666667 | O3: 16.346667 | P3: 16.843333
A4: 0.0034722222 | B4: =(HOUR(A4)*60+MINUTE(A4))*1 -> 5 | C4: =INT(D4)*1 -> 43377 | D4: 43377 | E4: 43377.003 | F4: 14.71 | G4: 16.8 | H4: 17.29 | I4: 0.0034722222 | J4: =(HOUR(I4)*60+MINUTE(I4))*1 -> 5 | K4: =INT(L4)*1 -> 43377 | L4: 43377 | M4: 43377.003 | N4: 15.63 | O4: 16.34 | P4: 16.843333
A5: 0.0069444444 | B5: =(HOUR(A5)*60+MINUTE(A5))*1 -> 10 | C5: =INT(D5)*1 -> 43377 | D5: 43377 | E5: 43377.007 | F5: 14.67 | G5: 16.783333 | H5: 17.286667 | I5: 0.0069444444 | J5: =(HOUR(I5)*60+MINUTE(I5))*1 -> 10 | K5: =INT(L5)*1 -> 43377 | L5: 43377 | M5: 43377.007 | N5: 15.593333 | O5: 16.32 | P5: 16.836667
A6: 0.010416667 | B6: =(HOUR(A6)*60+MINUTE(A6))*1 -> 15 | C6: =INT(D6)*1 -> 43377 | D6: 43377 | E6: 43377.01 | F6: 14.603333 | G6: 16.773333 | H6: 17.286667 | I6: 0.010416667 | J6: =(HOUR(I6)*60+MINUTE(I6))*1 -> 15 | K6: =INT(L6)*1 -> 43377 | L6: 43377 | M6: 43377.01 | N6: 15.553333 | O6: 16.306667 | P6: 16.836667
A7: 0.013888889 | B7: =(HOUR(A7)*60+MINUTE(A7))*1 -> 20 | C7: =INT(D7)*1 -> 43377 | D7: 43377 | E7: 43377.014 | F7: 14.546667 | G7: 16.766667 | H7: 17.286667 | I7: 0.013888889 | J7: =(HOUR(I7)*60+MINUTE(I7))*1 -> 20 | K7: =INT(L7)*1 -> 43377 | L7: 43377 | M7: 43377.014 | N7: 15.52 | O7: 16.293333 | P7: 16.833333
A8: 0.017361111 | B8: =(HOUR(A8)*60+MINUTE(A8))*1 -> 25 | C8: =INT(D8)*1 -> 43377 | D8: 43377 | E8: 43377.017 | F8: 14.5 | G8: 16.753333 | H8: 17.28 | I8: 0.017361111 | J8: =(HOUR(I8)*60+MINUTE(I8))*1 -> 25 | K8: =INT(L8)*1 -> 43377 | L8: 43377 | M8: 43377.017 | N8: 15.48 | O8: 16.28 | P8: 16.833333
A9: 0.020833333 | B9: =(HOUR(A9)*60+MINUTE(A9))*1 -> 30 | C9: =INT(D9)*1 -> 43377 | D9: 43377 | E9: 43377.021 | F9: 14.446667 | G9: 16.743333 | H9: 17.28 | I9: 0.020833333 | J9: =(HOUR(I9)*60+MINUTE(I9))*1 -> 30 | K9: =INT(L9)*1 -> 43377 | L9: 43377 | M9: 43377.021 | N9: 15.443333 | O9: 16.273333 | P9: 16.83
A10: 0.024305556 | B10: =(HOUR(A10)*60+MINUTE(A10))*1 -> 35 | C10: =INT(D10)*1 -> 43377 | D10: 43377 | E10: 43377.024 | F10: 14.38 | G10: 16.73 | H10: 17.28 | I10: 0.024305556 | J10: =(HOUR(I10)*60+MINUTE(I10))*1 -> 35 | K10: =INT(L10)*1 -> 43377 | L10: 43377 | M10: 43377.024 | N10: 15.403333 | O10: 16.26 | P10: 16.82
A11: 0.027777778 | B11: =(HOUR(A11)*60+MINUTE(A11))*1 -> 40 | C11: =INT(D11)*1 -> 43377 | D11: 43377 | E11: 43377.028 | F11: 14.323333 | G11: 16.72 | H11: 17.276667 | I11: 0.027777778 | J11: =(HOUR(I11)*60+MINUTE(I11))*1 -> 40 | K11: =INT(L11)*1 -> 43377 | L11: 43377 | M11: 43377.028 | N11: 15.36 | O11: 16.243333 | P11: 16.82
A12: 0.03125 | B12: =(HOUR(A12)*60+MINUTE(A12))*1 -> 45 | C12: =INT(D12)*1 -> 43377 | D12: 43377 | E12: 43377.031 | F12: 14.27 | G12: 16.71 | H12: 17.276667 | I12: 0.03125 | J12: =(HOUR(I12)*60+MINUTE(I12))*1 -> 45 | K12: =INT(L12)*1 -> 43377 | L12: 43377 | M12: 43377.031 | N12: 15.316667 | O12: 16.223333 | P12: 16.816667
A13: 0.034722222 | B13: =(HOUR(A13)*60+MINUTE(A13))*1 -> 50 | C13: =INT(D13)*1 -> 43377 | D13: 43377 | E13: 43377.035 | F13: 14.22 | G13: 16.69 | H13: 17.27 | I13: 0.034722222 | J13: =(HOUR(I13)*60+MINUTE(I13))*1 -> 50 | K13: =INT(L13)*1 -> 43377 | L13: 43377 | M13: 43377.035 | N13: 15.273333 | O13: 16.216667 | P13: 16.806667
A14: 0.038194444 | B14: =(HOUR(A14)*60+MINUTE(A14))*1 -> 55 | C14: =INT(D14)*1 -> 43377 | D14: 43377 | E14: 43377.038 | F14: 14.166667 | G14: 16.686667 | H14: 17.263333 | I14: 0.038194444 | J14: =(HOUR(I14)*60+MINUTE(I14))*1 -> 55 | K14: =INT(L14)*1 -> 43377 | L14: 43377 | M14: 43377.038 | N14: 15.24 | O14: 16.203333 | P14: 16.806667
... A290: 0.99652778 | B290: =(HOUR(A290)*60+MINUTE(A290))*1 -> 1435 | C290: =INT(D290)*1 -> 43377 | D290: 43377 | E290: 43377.997 | F290: 15.02 | G290: 17.016667 | H290: 17.453333 | I290: 0.99652778 | J290: =(HOUR(I290)*60+MINUTE(I290))*1 -> 1435 | K290: =INT(L290)*1 -> 43377 | L290: 43377 | M290: 43377.997 | N290: 15.91 | O290: 16.59 | P290: 17.06
E291: 0 | K291: =INT(L291)*1 -> 0
E292: 0 | K292: =INT(L292)*1 -> 0
E293: 0 | K293: =INT(L293)*1 -> 0
E294: 0 | K294: =INT(L294)*1 -> 0
E295: 0 | K295: =INT(L295)*1 -> 0
E296: 0 | K296: =INT(L296)*1 -> 0
E297: 0 | K297: =INT(L297)*1 -> 0
E298: 0 | K298: =INT(L298)*1 -> 0
E299: 0 | K299: =INT(L299)*1 -> 0
E300: 0 | K300: =INT(L300)*1 -> 0
E301: 0 | K301: =INT(L301)*1 -> 0
E302: 0 | K302: =INT(L302)*1 -> 0
... E566: 0 | K566: =INT(L566)*1 -> 0
K567: =INT(L567)*1 -> 0
K568: =INT(L568)*1 -> 0
K569: =INT(L569)*1 -> 0
K570: =INT(L570)*1 -> 0
K571: =INT(L571)*1 -> 0
K572: =INT(L572)*1 -> 0
K573: =INT(L573)*1 -> 0
K574: =INT(L574)*1 -> 0
K575: =INT(L575)*1 -> 0
K576: =INT(L576)*1 -> 0
K577: =INT(L577)*1 -> 0
K578: =INT(L578)*1 -> 0
...
