Workbook

Sheet Initial
B4: Numéro | C4: Couleur | D4: Veste | E4: Jupe | F4: Tablier
B5: 11-01 | C5: Vert | D5: 1
B6: 11-02 | C6: Vert
B7: 11-03 | C7: Rouge | D7: 1
B8: 11-04 | C8: Bleu | F8: 1
B9: 11-05 | C9: Jaune | E9: 1
C11: Totaux | D11: =SUM(D5:D9) -> 2 | E11: =SUM(E5:E9) -> 1 | F11: =SUM(F5:F9) -> 1

Sheet Contrôle 2017
B4: Numéro | C4: Couleur | D4: Veste | E4: Jupe | F4: Tablier
A5: =REPT(Initial!A5,1) | B5: =REPT(Initial!B5,1) -> 11-01 | C5: =REPT(Initial!C5,1) -> Vert | D5: =IF(Initial!D5<>"",Initial!D5,"") -> 1 | E5: =IF(Initial!E5<>"",Initial!E5,"") | F5: =IF(Initial!F5<>"",Initial!F5,"")
A6: =REPT(Initial!A6,1) | B6: =REPT(Initial!B6,1) -> 11-02 | C6: =REPT(Initial!C6,1) -> Vert | D6: =IF(Initial!D6<>"",Initial!D6,"") | E6: =IF(Initial!E6<>"",Initial!E6,"") | F6: =IF(Initial!F6<>"",Initial!F6,"")
A7: =REPT(Initial!A7,1) | B7: =REPT(Initial!B7,1) -> 11-03 | C7: =REPT(Initial!C7,1) -> Rouge | D7: =IF(Initial!D7<>"",Initial!D7,"") -> 1 | E7: =IF(Initial!E7<>"",Initial!E7,"") | F7: =IF(Initial!F7<>"",Initial!F7,"")
A8: =REPT(Initial!A8,1) | B8: =REPT(Initial!B8,1) -> 11-04 | C8: =REPT(Initial!C8,1) -> Bleu | D8: =IF(Initial!D8<>"",Initial!D8,"") | E8: =IF(Initial!E8<>"",Initial!E8,"") | F8: =IF(Initial!F8<>"",Initial!F8,"") -> 1
A9: =REPT(Initial!A9,1) | B9: =REPT(Initial!B9,1) -> 11-05 | C9: =REPT(Initial!C9,1) -> Jaune | D9: =IF(Initial!D9<>"",Initial!D9,"") | E9: =IF(Initial!E9<>"",Initial!E9,"") -> 1 | F9: =IF(Initial!F9<>"",Initial!F9,"")
C11: Totaux | D11: =IF(Initial!D11<>"",Initial!D11,"") -> 2 | E11: =IF(Initial!E11<>"",Initial!E11,"") -> 1 | F11: =IF(Initial!F11<>"",Initial!F11,"") -> 1
