Workbook
Name TOUT: COMMUNE!$A$1:$G$5192

Sheet COMMUNE
A1: INSEE_COM | B1: NOM_COM | C1: POPULATION | D1: CODE_DEPT | E1: NOM_DEPT | F1: CODE_REG | G1: NOM_REG | H1: SUPERFICIE
A2: 32216 | B2: LOURTIES-MONBRUN | C2: 140 | D2: 32 | E2: GERS | F2: 73 | G2: MIDI-PYRENEES | H2: 966
A3: 47033 | B3: BOUDY-DE-BEAUREGARD | C3: 414 | D3: 47 | E3: LOT-ET-GARONNE | F3: 72 | G3: AQUITAINE | H3: 1019
A4: 32009 | B4: ARMOUS-ET-CAU | C4: 99 | D4: 32 | E4: GERS | F4: 73 | G4: MIDI-PYRENEES | H4: 932
A5: 38225 | B5: MEAUDRE | C5: 1368 | D5: 38 | E5: ISERE | F5: 82 | G5: RHONE-ALPES | H5: 3371
A6: 62890 | B6: WILLEMAN | C6: 179 | D6: 62 | E6: PAS-DE-CALAIS | F6: 31 | G6: NORD-PAS-DE-CALAIS | H6: 1023
A7: 08018 | B7: ARDEUIL-ET-MONTFAUXELLES | C7: 83 | D7: 08 | E7: ARDENNES | F7: 21 | G7: CHAMPAGNE-ARDENNE | H7: 438
A8: 32113 | B8: CRAVENCERES | C8: 99 | D8: 32 | E8: GERS | F8: 73 | G8: MIDI-PYRENEES | H8: 919
A9: 10319 | B9: RIGNY-LE-FERRON | C9: 366 | D9: 10 | E9: AUBE | F9: 21 | G9: CHAMPAGNE-ARDENNE | H9: 1904
A10: 06097 | B10: PIERREFEU | C10: 282 | D10: 06 | E10: ALPES-MARITIMES | F10: 93 | G10: PROVENCE-ALPES-COTE D'AZUR | H10: 2217
A11: 42070 | B11: CORDELLE | C11: 895 | D11: 42 | E11: LOIRE | F11: 82 | G11: RHONE-ALPES | H11: 2667
A12: 31046 | B12: BAREN | C12: 8 | D12: 31 | E12: HAUTE-GARONNE | F12: 73 | G12: MIDI-PYRENEES | H12: 306
A13: 71524 | B13: SIVIGNON | C13: 166 | D13: 71 | E13: SAONE-ET-LOIRE | F13: 26 | G13: BOURGOGNE | H13: 1261
... A199: 42139 | B199: MARLHES | C199: 1382 | D199: 42 | E199: LOIRE | F199: 82 | G199: RHONE-ALPES | H199: 3259

Sheet CALCUL
C1: REGIONS | K1: France
A2: Habitants (Seuils) | C2: CHAMPAGNE-ARDENNE | E2: ALSACE | G2: LORRAINE | I2: ALCA
A3: Min | B3: Max | C3: Nb Communes | D3: % | E3: Nb Communes | F3: % | G3: Nb Communes | H3: % | I3: Nb Communes | J3: % | K3: Nb Communes | L3: %
A4: =MIN(COMMUNE!C2:C5192) -> 8 | B4: 100 | C4: =COUNTIFS(COMMUNE!$C$2:$C$36955,">="&$A4,COMMUNE!$C$2:$C$36955,"<="&$B4,COMMUNE!$G$2:$G$36955,CALCUL!C$2) -> 3 | D4: =100*C4/$C$11 -> 23.076923 | E4: =COUNTIFS(COMMUNE!$C$2:$C$36955,">="&$A4,COMMUNE!$C$2:$C$36955,"<="&$B4,COMMUNE!$G$2:$G$36955,CALCUL!E$2) -> 1 | F4: =100*E4/$E$11 -> 33.333333 | G4: =COUNTIFS(COMMUNE!$C$2:$C$36955,">="&$A4,COMMUNE!$C$2:$C$36955,"<="&$B4,COMMUNE!$G$2:$G$36955,CALCUL!G$2) -> 2 | H4: =100*G4/$G$11 -> 13.333333 | I4: =SUM(C4,E4,G4,) -> 6 | J4: =100*I4/$I$11 -> 19.354839 | K4: =COUNTIFS(COMMUNE!$C$2:$C$36955,">="&$A4,COMMUNE!$C$2:$C$36955,"<="&$B4) -> 18 | L4: =100*K4/$K$11 -> 9.0452261
A5: =B4+0.0000000000001 -> 100 | B5: 500 | C5: =COUNTIFS(COMMUNE!$C$2:$C$36955,">="&$A5,COMMUNE!$C$2:$C$36955,"<="&$B5,COMMUNE!$G$2:$G$36955,CALCUL!C$2) -> 7 | D5: =100*C5/$C$11 -> 53.846154 | E5: =COUNTIFS(COMMUNE!$C$2:$C$36955,">="&$A5,COMMUNE!$C$2:$C$36955,"<="&$B5,COMMUNE!$G$2:$G$36955,CALCUL!E$2) -> 0 | F5: =100*E5/$E$11 -> 0 | G5: =COUNTIFS(COMMUNE!$C$2:$C$36955,">="&$A5,COMMUNE!$C$2:$C$36955,"<="&$B5,COMMUNE!$G$2:$G$36955,CALCUL!G$2) -> 8 | H5: =100*G5/$G$11 -> 53.333333 | I5: =SUM(C5,E5,G5,) -> 15 | J5: =100*I5/$I$11 -> 48.387097 | K5: =COUNTIFS(COMMUNE!$C$2:$C$36955,">="&$A5,COMMUNE!$C$2:$C$36955,"<="&$B5) -> 91 | L5: =100*K5/$K$11 -> 45.728643
A6: =B5+0.0000000000001 -> 500 | B6: 2000 | C6: =COUNTIFS(COMMUNE!$C$2:$C$36955,">="&$A6,COMMUNE!$C$2:$C$36955,"<="&$B6,COMMUNE!$G$2:$G$36955,CALCUL!C$2) -> 3 | D6: =100*C6/$C$11 -> 23.076923 | E6: =COUNTIFS(COMMUNE!$C$2:$C$36955,">="&$A6,COMMUNE!$C$2:$C$36955,"<="&$B6,COMMUNE!$G$2:$G$36955,CALCUL!E$2) -> 2 | F6: =100*E6/$E$11 -> 66.666667 | G6: =COUNTIFS(COMMUNE!$C$2:$C$36955,">="&$A6,COMMUNE!$C$2:$C$36955,"<="&$B6,COMMUNE!$G$2:$G$36955,CALCUL!G$2) -> 4 | H6: =100*G6/$G$11 -> 26.666667 | I6: =SUM(C6,E6,G6,) -> 9 | J6: =100*I6/$I$11 -> 29.032258 | K6: =COUNTIFS(COMMUNE!$C$2:$C$36955,">="&$A6,COMMUNE!$C$2:$C$36955,"<="&$B6) -> 65 | L6: =100*K6/$K$11 -> 32.663317
A7: =B6+0.0000000000001 -> 2000 | B7: 15000 | C7: =COUNTIFS(COMMUNE!$C$2:$C$36955,">="&$A7,COMMUNE!$C$2:$C$36955,"<="&$B7,COMMUNE!$G$2:$G$36955,CALCUL!C$2) -> 0 | D7: =100*C7/$C$11 -> 0 | E7: =COUNTIFS(COMMUNE!$C$2:$C$36955,">="&$A7,COMMUNE!$C$2:$C$36955,"<="&$B7,COMMUNE!$G$2:$G$36955,CALCUL!E$2) -> 0 | F7: =100*E7/$E$11 -> 0 | G7: =COUNTIFS(COMMUNE!$C$2:$C$36955,">="&$A7,COMMUNE!$C$2:$C$36955,"<="&$B7,COMMUNE!$G$2:$G$36955,CALCUL!G$2) -> 1 | H7: =100*G7/$G$11 -> 6.6666667 | I7: =SUM(C7,E7,G7,) -> 1 | J7: =100*I7/$I$11 -> 3.2258065 | K7: =COUNTIFS(COMMUNE!$C$2:$C$36955,">="&$A7,COMMUNE!$C$2:$C$36955,"<="&$B7) -> 20 | L7: =100*K7/$K$11 -> 10.050251
A8: =B7+0.0000000000001 -> 15000 | B8: 50000 | C8: =COUNTIFS(COMMUNE!$C$2:$C$36955,">="&$A8,COMMUNE!$C$2:$C$36955,"<="&$B8,COMMUNE!$G$2:$G$36955,CALCUL!C$2) -> 0 | D8: =100*C8/$C$11 -> 0 | E8: =COUNTIFS(COMMUNE!$C$2:$C$36955,">="&$A8,COMMUNE!$C$2:$C$36955,"<="&$B8,COMMUNE!$G$2:$G$36955,CALCUL!E$2) -> 0 | F8: =100*E8/$E$11 -> 0 | G8: =COUNTIFS(COMMUNE!$C$2:$C$36955,">="&$A8,COMMUNE!$C$2:$C$36955,"<="&$B8,COMMUNE!$G$2:$G$36955,CALCUL!G$2) -> 0 | H8: =100*G8/$G$11 -> 0 | I8: =SUM(C8,E8,G8,) -> 0 | J8: =100*I8/$I$11 -> 0 | K8: =COUNTIFS(COMMUNE!$C$2:$C$36955,">="&$A8,COMMUNE!$C$2:$C$36955,"<="&$B8) -> 4 | L8: =100*K8/$K$11 -> 2.0100503
A9: =B8+0.0000000000001 -> 50000 | B9: =MAX(COMMUNE!C2:C36955) -> 57499 | C9: =COUNTIFS(COMMUNE!$C$2:$C$36955,">="&$A9,COMMUNE!$C$2:$C$36955,"<="&$B9,COMMUNE!$G$2:$G$36955,CALCUL!C$2) -> 0 | D9: =100*C9/$C$11 -> 0 | E9: =COUNTIFS(COMMUNE!$C$2:$C$36955,">="&$A9,COMMUNE!$C$2:$C$36955,"<="&$B9,COMMUNE!$G$2:$G$36955,CALCUL!E$2) -> 0 | F9: =100*E9/$E$11 -> 0 | G9: =COUNTIFS(COMMUNE!$C$2:$C$36955,">="&$A9,COMMUNE!$C$2:$C$36955,"<="&$B9,COMMUNE!$G$2:$G$36955,CALCUL!G$2) -> 0 | H9: =100*G9/$G$11 -> 0 | I9: =SUM(C9,E9,G9,) -> 0 | J9: =100*I9/$I$11 -> 0 | K9: =COUNTIFS(COMMUNE!$C$2:$C$36955,">="&$A9,COMMUNE!$C$2:$C$36955,"<="&$B9) -> 1 | L9: =100*K9/$K$11 -> 0.50251256
A11: Total | C11: =SUM(C4:C9) -> 13 | D11: =SUM(D4:D9) -> 100 | E11: =SUM(E4:E9) -> 3 | F11: =SUM(F4:F9) -> 100 | G11: =SUM(G4:G9) -> 15 | H11: =SUM(H4:H9) -> 100 | I11: =SUM(I4:I9) -> 31 | J11: =SUM(J4:J9) -> 100 | K11: =SUM(K4:K9) -> 199
A12: % ALCA | C12: =C11*100/$I$11 -> 41.935484 | E12: =E11*100/$I$11 -> 9.6774194 | G12: =G11*100/$I$11 -> 48.387097 | I12: =I11*100/$I$11 -> 100
C15: =C2 -> CHAMPAGNE-ARDENNE | E15: =E2 -> ALSACE | G15: =G2 -> LORRAINE | I15: ALCA (CHAMPAGNE+ALSACE+LORRAINE) | K15: France
C16: Nom commune | D16: Population | E16: Nom commune | F16: Population | G16: Nom commune | H16: Population | I16: Nom commune | J16: Population | K16: Nom commune | L16: Population
A17: Commune la plus peuplée | C17: =INDEX(COMMUNE!$B$2:$B$199,MATCH(D17,COMMUNE!$C$2:$C$199,0)) -> POURU-SAINT-REMY | D17: {=LARGE((COMMUNE!$G$2:$G$199=CALCUL!C$15)*COMMUNE!$C$2:$C$199,ROW(A1))} -> 1224 | E17: =INDEX(COMMUNE!$B$2:$B$199,MATCH(F17,COMMUNE!$C$2:$C$199,0)) -> DUPPIGHEIM | F17: {=LARGE((COMMUNE!$G$2:$G$199=CALCUL!E$15)*COMMUNE!$C$2:$C$199,ROW(C1))} -> 1563 | G17: =INDEX(COMMUNE!$B$2:$B$199,MATCH(H17,COMMUNE!$C$2:$C$199,0)) -> TERVILLE | H17: {=LARGE((COMMUNE!$G$2:$G$199=CALCUL!G$15)*COMMUNE!$C$2:$C$199,ROW(E1))} -> 6556 | I17: =INDEX($A$102:$A$116,MATCH(J17,$B$102:$B$116,0)) -> TERVILLE | J17: =LARGE($B$102:$B$116,ROW(A1)) -> 6556 | K17: =INDEX(COMMUNE!B2:B36530,MATCH(L17,COMMUNE!C2:C36530,0)) -> SARCELLES | L17: =LARGE(COMMUNE!C2:C36530,1) -> 57499
A18: 2nd commune la plus peuplée | C18: =INDEX(COMMUNE!$B$2:$B$199,MATCH(D18,COMMUNE!$C$2:$C$199,0)) -> BOULZICOURT | D18: {=LARGE((COMMUNE!$G$2:$G$199=CALCUL!C$15)*COMMUNE!$C$2:$C$199,ROW(A2))} -> 959 | E18: =INDEX(COMMUNE!$B$2:$B$199,MATCH(F18,COMMUNE!$C$2:$C$199,0)) -> ARTOLSHEIM | F18: {=LARGE((COMMUNE!$G$2:$G$199=CALCUL!E$15)*COMMUNE!$C$2:$C$199,ROW(C2))} -> 933 | G18: =INDEX(COMMUNE!$B$2:$B$199,MATCH(H18,COMMUNE!$C$2:$C$199,0)) -> PULLIGNY | H18: {=LARGE((COMMUNE!$G$2:$G$199=CALCUL!G$15)*COMMUNE!$C$2:$C$199,ROW(E2))} -> 1205 | I18: =INDEX($A$102:$A$116,MATCH(J18,$B$102:$B$116,0)) -> DUPPIGHEIM | J18: =LARGE($B$102:$B$116,ROW(A2)) -> 1563 | K18: =INDEX(COMMUNE!B3:B36531,MATCH(L18,COMMUNE!C3:C36531,0)) -> CORBEIL-ESSONNES | L18: =LARGE(COMMUNE!C3:C36531,2) -> 46017
A19: 3ème commune la plus peuplée | C19: =INDEX(COMMUNE!$B$2:$B$199,MATCH(D19,COMMUNE!$C$2:$C$199,0)) -> AMBONNAY | D19: {=LARGE((COMMUNE!$G$2:$G$199=CALCUL!C$15)*COMMUNE!$C$2:$C$199,ROW(A3))} -> 941 | E19: =INDEX(COMMUNE!$B$2:$B$199,MATCH(F19,COMMUNE!$C$2:$C$199,0)) -> LUCELLE | F19: {=LARGE((COMMUNE!$G$2:$G$199=CALCUL!E$15)*COMMUNE!$C$2:$C$199,ROW(C3))} -> 39 | G19: =INDEX(COMMUNE!$B$2:$B$199,MATCH(H19,COMMUNE!$C$2:$C$199,0)) -> MOUZAY | H19: {=LARGE((COMMUNE!$G$2:$G$199=CALCUL!G$15)*COMMUNE!$C$2:$C$199,ROW(E3))} -> 728 | I19: =INDEX($A$102:$A$116,MATCH(J19,$B$102:$B$116,0)) -> POURU-SAINT-REMY | J19: =LARGE($B$102:$B$116,ROW(A3)) -> 1224 | K19: =INDEX(COMMUNE!B4:B36532,MATCH(L19,COMMUNE!C4:C36532,0)) -> GONESSE | L19: =LARGE(COMMUNE!C4:C36532,3) -> 26343
A20: 4ème commune la plus peuplée | C20: =INDEX(COMMUNE!$B$2:$B$199,MATCH(D20,COMMUNE!$C$2:$C$199,0)) -> RIGNY-LE-FERRON | D20: {=LARGE((COMMUNE!$G$2:$G$199=CALCUL!C$15)*COMMUNE!$C$2:$C$199,ROW(A4))} -> 366 | E20: =INDEX(COMMUNE!$B$2:$B$199,MATCH(F20,COMMUNE!$C$2:$C$199,0)) -> #N/A | F20: {=LARGE((COMMUNE!$G$2:$G$199=CALCUL!E$15)*COMMUNE!$C$2:$C$199,ROW(C4))} -> 0 | G20: =INDEX(COMMUNE!$B$2:$B$199,MATCH(H20,COMMUNE!$C$2:$C$199,0)) -> LANGATTE | H20: {=LARGE((COMMUNE!$G$2:$G$199=CALCUL!G$15)*COMMUNE!$C$2:$C$199,ROW(E4))} -> 572 | I20: =INDEX($A$102:$A$116,MATCH(J20,$B$102:$B$116,0)) -> PULLIGNY | J20: =LARGE($B$102:$B$116,ROW(A4)) -> 1205 | K20: =INDEX(COMMUNE!B5:B36533,MATCH(L20,COMMUNE!C5:C36533,0)) -> RODEZ | L20: =LARGE(COMMUNE!C5:C36533,4) -> 23744
A21: 5ème commune la plus peuplée | C21: =INDEX(COMMUNE!$B$2:$B$199,MATCH(D21,COMMUNE!$C$2:$C$199,0)) -> DROUPT-SAINT-BASLE | D21: {=LARGE((COMMUNE!$G$2:$G$199=CALCUL!C$15)*COMMUNE!$C$2:$C$199,ROW(A5))} -> 339 | E21: =INDEX(COMMUNE!$B$2:$B$199,MATCH(F21,COMMUNE!$C$2:$C$199,0)) -> #N/A | F21: {=LARGE((COMMUNE!$G$2:$G$199=CALCUL!E$15)*COMMUNE!$C$2:$C$199,ROW(C5))} -> 0 | G21: =INDEX(COMMUNE!$B$2:$B$199,MATCH(H21,COMMUNE!$C$2:$C$199,0)) -> FAILLY | H21: {=LARGE((COMMUNE!$G$2:$G$199=CALCUL!G$15)*COMMUNE!$C$2:$C$199,ROW(E5))} -> 547 | I21: =INDEX($A$102:$A$116,MATCH(J21,$B$102:$B$116,0)) -> BOULZICOURT | J21: =LARGE($B$102:$B$116,ROW(A5)) -> 959 | K21: =INDEX(COMMUNE!B6:B36534,MATCH(L21,COMMUNE!C6:C36534,0)) -> LE PUY-EN-VELAY | L21: =LARGE(COMMUNE!C6:C36534,5) -> 18599
A101: commune
A102: =C17 -> POURU-SAINT-REMY | B102: =D17 -> 1224
A103: =C18 -> BOULZICOURT | B103: =D18 -> 959
A104: =C19 -> AMBONNAY | B104: =D19 -> 941
A105: =C20 -> RIGNY-LE-FERRON | B105: =D20 -> 366
A106: =C21 -> DROUPT-SAINT-BASLE | B106: =D21 -> 339
A107: =E17 -> DUPPIGHEIM | B107: =F17 -> 1563
A108: =E18 -> ARTOLSHEIM | B108: =F18 -> 933
A109: =E19 -> LUCELLE | B109: =F19 -> 39
A110: =E20 -> #N/A | B110: =F20 -> 0
A111: =E21 -> #N/A | B111: =F21 -> 0
A112: =G17 -> TERVILLE | B112: =H17 -> 6556
A113: =G18 -> PULLIGNY | B113: =H18 -> 1205
A114: =G19 -> MOUZAY | B114: =H19 -> 728
A115: =G20 -> LANGATTE | B115: =H20 -> 572
A116: =G21 -> FAILLY | B116: =H21 -> 547
