Workbook
Name Code: #REF!
Name Nuance: #REF!

Sheet BORDEREAU
B2: Mois | C2: Date | D2: Qualité | E2: Poids (kg)
B3: =MONTH(C3) -> 4 | C3: 43192 | D3: INOX | E3: 820
B4: =MONTH(C4) -> 4 | C4: 43192 | D4: ALUMINIUM | E4: 480
B5: =MONTH(C5) -> 3 | C5: 43160 | D5: FONTE | E5: 620
B6: =MONTH(C6) -> 4 | C6: 43192 | D6: ACIER | E6: 540
B7: =MONTH(C7) -> 3 | C7: 43189 | D7: CUIVRE | E7: 540
B8: =MONTH(C8) -> 3 | C8: 43188 | D8: INOX | E8: 500
B9: =MONTH(C9) -> 3 | C9: 43190 | D9: ALUMINIUM | E9: 560
B10: =MONTH(C10) -> 3 | C10: 43189 | D10: FONTE | E10: 580
B11: =MONTH(C11) -> 4 | C11: 43192 | D11: ACIER | E11: 680
B12: =MONTH(C12) -> 4 | C12: 43193 | D12: CUIVRE | E12: 720
B13: =MONTH(C13) -> 3 | C13: 43188 | D13: INOX | E13: 710
B14: =MONTH(C14) -> 4 | C14: 43192 | D14: ALUMINIUM | E14: 470
... B24: =MONTH(C24) -> 4 | C24: 43193 | D24: ALUMINIUM | E24: 800
B25: =MONTH(C25) -> 1
B26: =MONTH(C26) -> 1
B27: =MONTH(C27) -> 1
B28: =MONTH(C28) -> 1
B29: =MONTH(C29) -> 1
B30: =MONTH(C30) -> 1
B31: =MONTH(C31) -> 1
B32: =MONTH(C32) -> 1
B33: =MONTH(C33) -> 1
B34: =MONTH(C34) -> 1
B35: =MONTH(C35) -> 1
B36: =MONTH(C36) -> 1
... B103: =MONTH(C103) -> 1

Sheet EXTRACTION
C2: Mois
C3: =MONTH(C4) -> 3 | D3: =MONTH(D4) -> 4 | E3: =MONTH(E4) -> 5 | F3: =MONTH(F4) -> 6 | G3: =MONTH(G4) -> 7 | H3: =MONTH(H4) -> 8 | I3: =MONTH(I4) -> 9 | J3: =MONTH(J4) -> 10 | ... L3: =MONTH(L4) -> 12
B4: Nuance | C4: 43160 | D4: 43191 | E4: 43221 | F4: 43252 | G4: 43282 | H4: 43313 | I4: 43344 | J4: 43374 | K4: 43405 | L4: 43435
B5: INOX | C5: =SUMPRODUCT((BORDEREAU!$B$3:$B$103=EXTRACTION!C$3)*(BORDEREAU!$D$3:$D$103=$B5)*BORDEREAU!$E$3:$E$103) -> 1210 | D5: =SUMPRODUCT((BORDEREAU!$B$3:$B$103=EXTRACTION!D$3)*(BORDEREAU!$D$3:$D$103=$B5)*BORDEREAU!$E$3:$E$103) -> 2000 | E5: =SUMPRODUCT((BORDEREAU!$B$3:$B$103=EXTRACTION!E$3)*(BORDEREAU!$D$3:$D$103=$B5)*BORDEREAU!$E$3:$E$103) -> 0 | F5: =SUMPRODUCT((BORDEREAU!$B$3:$B$103=EXTRACTION!F$3)*(BORDEREAU!$D$3:$D$103=$B5)*BORDEREAU!$E$3:$E$103) -> 0 | G5: =SUMPRODUCT((BORDEREAU!$B$3:$B$103=EXTRACTION!G$3)*(BORDEREAU!$D$3:$D$103=$B5)*BORDEREAU!$E$3:$E$103) -> 0 | H5: =SUMPRODUCT((BORDEREAU!$B$3:$B$103=EXTRACTION!H$3)*(BORDEREAU!$D$3:$D$103=$B5)*BORDEREAU!$E$3:$E$103) -> 0 | I5: =SUMPRODUCT((BORDEREAU!$B$3:$B$103=EXTRACTION!I$3)*(BORDEREAU!$D$3:$D$103=$B5)*BORDEREAU!$E$3:$E$103) -> 0 | J5: =SUMPRODUCT((BORDEREAU!$B$3:$B$103=EXTRACTION!J$3)*(BORDEREAU!$D$3:$D$103=$B5)*BORDEREAU!$E$3:$E$103) -> 0 | ... L5: =SUMPRODUCT((BORDEREAU!$B$3:$B$103=EXTRACTION!L$3)*(BORDEREAU!$D$3:$D$103=$B5)*BORDEREAU!$E$3:$E$103) -> 0
B6: ALUMINIUM | C6: =SUMPRODUCT((BORDEREAU!$B$3:$B$103=EXTRACTION!C$3)*(BORDEREAU!$D$3:$D$103=$B6)*BORDEREAU!$E$3:$E$103) -> 560 | D6: =SUMPRODUCT((BORDEREAU!$B$3:$B$103=EXTRACTION!D$3)*(BORDEREAU!$D$3:$D$103=$B6)*BORDEREAU!$E$3:$E$103) -> 2500 | E6: =SUMPRODUCT((BORDEREAU!$B$3:$B$103=EXTRACTION!E$3)*(BORDEREAU!$D$3:$D$103=$B6)*BORDEREAU!$E$3:$E$103) -> 0 | F6: =SUMPRODUCT((BORDEREAU!$B$3:$B$103=EXTRACTION!F$3)*(BORDEREAU!$D$3:$D$103=$B6)*BORDEREAU!$E$3:$E$103) -> 0 | G6: =SUMPRODUCT((BORDEREAU!$B$3:$B$103=EXTRACTION!G$3)*(BORDEREAU!$D$3:$D$103=$B6)*BORDEREAU!$E$3:$E$103) -> 0 | H6: =SUMPRODUCT((BORDEREAU!$B$3:$B$103=EXTRACTION!H$3)*(BORDEREAU!$D$3:$D$103=$B6)*BORDEREAU!$E$3:$E$103) -> 0 | I6: =SUMPRODUCT((BORDEREAU!$B$3:$B$103=EXTRACTION!I$3)*(BORDEREAU!$D$3:$D$103=$B6)*BORDEREAU!$E$3:$E$103) -> 0 | J6: =SUMPRODUCT((BORDEREAU!$B$3:$B$103=EXTRACTION!J$3)*(BORDEREAU!$D$3:$D$103=$B6)*BORDEREAU!$E$3:$E$103) -> 0 | ... L6: =SUMPRODUCT((BORDEREAU!$B$3:$B$103=EXTRACTION!L$3)*(BORDEREAU!$D$3:$D$103=$B6)*BORDEREAU!$E$3:$E$103) -> 0
B7: FONTE | C7: =SUMPRODUCT((BORDEREAU!$B$3:$B$103=EXTRACTION!C$3)*(BORDEREAU!$D$3:$D$103=$B7)*BORDEREAU!$E$3:$E$103) -> 1200 | D7: =SUMPRODUCT((BORDEREAU!$B$3:$B$103=EXTRACTION!D$3)*(BORDEREAU!$D$3:$D$103=$B7)*BORDEREAU!$E$3:$E$103) -> 1250 | E7: =SUMPRODUCT((BORDEREAU!$B$3:$B$103=EXTRACTION!E$3)*(BORDEREAU!$D$3:$D$103=$B7)*BORDEREAU!$E$3:$E$103) -> 0 | F7: =SUMPRODUCT((BORDEREAU!$B$3:$B$103=EXTRACTION!F$3)*(BORDEREAU!$D$3:$D$103=$B7)*BORDEREAU!$E$3:$E$103) -> 0 | G7: =SUMPRODUCT((BORDEREAU!$B$3:$B$103=EXTRACTION!G$3)*(BORDEREAU!$D$3:$D$103=$B7)*BORDEREAU!$E$3:$E$103) -> 0 | H7: =SUMPRODUCT((BORDEREAU!$B$3:$B$103=EXTRACTION!H$3)*(BORDEREAU!$D$3:$D$103=$B7)*BORDEREAU!$E$3:$E$103) -> 0 | I7: =SUMPRODUCT((BORDEREAU!$B$3:$B$103=EXTRACTION!I$3)*(BORDEREAU!$D$3:$D$103=$B7)*BORDEREAU!$E$3:$E$103) -> 0 | J7: =SUMPRODUCT((BORDEREAU!$B$3:$B$103=EXTRACTION!J$3)*(BORDEREAU!$D$3:$D$103=$B7)*BORDEREAU!$E$3:$E$103) -> 0 | ... L7: =SUMPRODUCT((BORDEREAU!$B$3:$B$103=EXTRACTION!L$3)*(BORDEREAU!$D$3:$D$103=$B7)*BORDEREAU!$E$3:$E$103) -> 0
B8: ACIER | C8: =SUMPRODUCT((BORDEREAU!$B$3:$B$103=EXTRACTION!C$3)*(BORDEREAU!$D$3:$D$103=$B8)*BORDEREAU!$E$3:$E$103) -> 0 | D8: =SUMPRODUCT((BORDEREAU!$B$3:$B$103=EXTRACTION!D$3)*(BORDEREAU!$D$3:$D$103=$B8)*BORDEREAU!$E$3:$E$103) -> 2740 | E8: =SUMPRODUCT((BORDEREAU!$B$3:$B$103=EXTRACTION!E$3)*(BORDEREAU!$D$3:$D$103=$B8)*BORDEREAU!$E$3:$E$103) -> 0 | F8: =SUMPRODUCT((BORDEREAU!$B$3:$B$103=EXTRACTION!F$3)*(BORDEREAU!$D$3:$D$103=$B8)*BORDEREAU!$E$3:$E$103) -> 0 | G8: =SUMPRODUCT((BORDEREAU!$B$3:$B$103=EXTRACTION!G$3)*(BORDEREAU!$D$3:$D$103=$B8)*BORDEREAU!$E$3:$E$103) -> 0 | H8: =SUMPRODUCT((BORDEREAU!$B$3:$B$103=EXTRACTION!H$3)*(BORDEREAU!$D$3:$D$103=$B8)*BORDEREAU!$E$3:$E$103) -> 0 | I8: =SUMPRODUCT((BORDEREAU!$B$3:$B$103=EXTRACTION!I$3)*(BORDEREAU!$D$3:$D$103=$B8)*BORDEREAU!$E$3:$E$103) -> 0 | J8: =SUMPRODUCT((BORDEREAU!$B$3:$B$103=EXTRACTION!J$3)*(BORDEREAU!$D$3:$D$103=$B8)*BORDEREAU!$E$3:$E$103) -> 0 | ... L8: =SUMPRODUCT((BORDEREAU!$B$3:$B$103=EXTRACTION!L$3)*(BORDEREAU!$D$3:$D$103=$B8)*BORDEREAU!$E$3:$E$103) -> 0
B9: CUIVRE | C9: =SUMPRODUCT((BORDEREAU!$B$3:$B$103=EXTRACTION!C$3)*(BORDEREAU!$D$3:$D$103=$B9)*BORDEREAU!$E$3:$E$103) -> 540 | D9: =SUMPRODUCT((BORDEREAU!$B$3:$B$103=EXTRACTION!D$3)*(BORDEREAU!$D$3:$D$103=$B9)*BORDEREAU!$E$3:$E$103) -> 2050 | E9: =SUMPRODUCT((BORDEREAU!$B$3:$B$103=EXTRACTION!E$3)*(BORDEREAU!$D$3:$D$103=$B9)*BORDEREAU!$E$3:$E$103) -> 0 | F9: =SUMPRODUCT((BORDEREAU!$B$3:$B$103=EXTRACTION!F$3)*(BORDEREAU!$D$3:$D$103=$B9)*BORDEREAU!$E$3:$E$103) -> 0 | G9: =SUMPRODUCT((BORDEREAU!$B$3:$B$103=EXTRACTION!G$3)*(BORDEREAU!$D$3:$D$103=$B9)*BORDEREAU!$E$3:$E$103) -> 0 | H9: =SUMPRODUCT((BORDEREAU!$B$3:$B$103=EXTRACTION!H$3)*(BORDEREAU!$D$3:$D$103=$B9)*BORDEREAU!$E$3:$E$103) -> 0 | I9: =SUMPRODUCT((BORDEREAU!$B$3:$B$103=EXTRACTION!I$3)*(BORDEREAU!$D$3:$D$103=$B9)*BORDEREAU!$E$3:$E$103) -> 0 | J9: =SUMPRODUCT((BORDEREAU!$B$3:$B$103=EXTRACTION!J$3)*(BORDEREAU!$D$3:$D$103=$B9)*BORDEREAU!$E$3:$E$103) -> 0 | ... L9: =SUMPRODUCT((BORDEREAU!$B$3:$B$103=EXTRACTION!L$3)*(BORDEREAU!$D$3:$D$103=$B9)*BORDEREAU!$E$3:$E$103) -> 0
