Workbook
Name Rubriques: Feuil1!$C$5:$C$80
Name Slicer_mois: #N/A
Name Slicer_Rubrique: #N/A

Sheet Feuil1
C4: Rubriques
C5: Revenus
C6: Épargnes
C7: Nourriture
C8: Hygiène
C9: Sortie & soirée
C10: Tabac
C11: Essence
C12: Autoroute
C13: Voiture
C14: Transport
C15: Vêtement
... C28: Bricolage

Sheet Feuil2
B2: Date | C2: Montant | D2: Rubrique | E2: Commentaire | G2: =Feuil1!C5 -> Revenus | K2: =Feuil1!C6 -> Épargnes | O2: =Feuil1!C20 -> Plante
B3: 43835 | C3: 50 | D3: nourriture | E3: courses épicerie | G3: Date | H3: Montant | I3: Commentaire | K3: Date | L3: Montant | M3: Commentaire | O3: Date | P3: Montant | Q3: Commentaire
B4: 43836 | C4: 10 | D4: sortie & soirée | E4: verre de vin
B5: 43838 | C5: 25 | D5: nourriture | E5: marché fruit & légumes
K8: Total | L8: =SUM(L4:L7) -> 0
K10: =Feuil1!C7 -> Nourriture
K11: Date | L11: Montant | M11: Commentaire
G14: Total | H14: =SUM(H4:H13) -> 0
G16: =Feuil1!C9 -> Sortie & soirée
G17: Date | H17: Montant | I17: Commentaire
G36: Total | H36: =SUM(H18:H35) -> 0 | K36: Total | L36: =SUM(L12:L35) -> 0 | O36: Total | P36: =SUM(P4:P35) -> 0
G38: =Feuil1!C8 -> Hygiène | K38: =Feuil1!C10 -> Tabac | O38: =Feuil1!C28 -> Bricolage
G39: Date | H39: Montant | I39: Commentaire | K39: Date | L39: Montant | M39: Commentaire | O39: Date | P39: Montant | Q39: Commentaire
G47: Total | H47: =SUM(H40:H46) -> 0 | K47: Total | L47: =SUM(L40:L46) -> 0
G49: =Feuil1!C11 -> Essence | K49: =Feuil1!C12 -> Autoroute
G50: Date | H50: Montant | I50: Commentaire | K50: Date | L50: Montant | M50: Commentaire
G58: Total | H58: =SUM(H51:H57) -> 0 | K58: Total | L58: =SUM(L51:L57) -> 0 | P58: =SUM(P40:P57) -> 0
G60: =Feuil1!C13 -> Voiture | K60: =Feuil1!C14 -> Transport | O60: =Feuil1!C19 -> Jeux vidéo
G61: Date | H61: Montant | I61: Commentaire | K61: Date | L61: Montant | M61: Commentaire | O61: Date | P61: Montant | Q61: Commentaire
G69: Total | H69: =SUM(H62:H68) -> 0 | K69: Total | L69: =SUM(L62:L68) -> 0 | O69: Total | P69: =SUM(P62:P68) -> 0
G71: =Feuil1!C16 -> Électroménager | K71: =Feuil1!C15 -> Vêtement | O71: =Feuil1!C21 -> Voyage
G72: Date | H72: Montant | I72: Commentaire | K72: Date | L72: Montant | M72: Commentaire | O72: Date | P72: Montant | Q72: Commentaire
O77: Total | P77: =SUM(P73:P76) -> 0
O79: =Feuil1!C22 -> Cadeau
G80: Total | H80: =SUM(H73:H79) -> 0 | K80: Total | L80: =SUM(L73:L79) -> 0 | O80: Date | P80: Montant | Q80: Commentaire
G82: =Feuil1!C17 -> Électronique | K82: =Feuil1!C18 -> Meuble
G83: Date | H83: Montant | I83: Commentaire | K83: Date | L83: Montant | M83: Commentaire
G91: Total | H91: =SUM(H84:H90) -> 0 | K91: Total | L91: =SUM(L84:L90) -> 0
G93: =Feuil1!C24 -> Logement | K93: =Feuil1!C25 -> Assurance
G94: Date | H94: Montant | I94: Commentaire | K94: Date | L94: Montant | M94: Commentaire
O98: Total | P98: =SUM(P81:P97) -> 0
O100: =Feuil1!C23 -> Autre
O101: Date | P101: Montant | Q101: Commentaire
G102: Total | H102: =SUM(H95:H101) -> 0 | K102: Total | L102: =SUM(L95:L101) -> 0
G104: =Feuil1!C26 -> Abonnement | K104: =Feuil1!C27 -> Autre fixe
G105: Date | H105: Montant | I105: Commentaire | K105: Date | L105: Montant | M105: Commentaire
G113: Total | H113: =SUM(H106:H112) -> 0 | K113: Total | L113: =SUM(L106:L112) -> 0 | O113: Total | P113: =SUM(P102:P112) -> 0

Sheet Feuil3
A1: Date | B1: Montant | C1: Rubrique | D1: Commentaire | E1: mois
A2: 43835 | B2: 50 | C2: nourriture | D2: courses épicerie | E2: =TEXT(Table2[[#This Row],[Date]],"mmm yyyy") -> Jan 2020
A3: 43836 | B3: 10 | C3: sortie & soirée | D3: verre de vin | E3: =TEXT(Table2[[#This Row],[Date]],"mmm yyyy") -> Jan 2020
A4: 43838 | B4: 25 | C4: nourriture | D4: marché fruit & légumes | E4: =TEXT(Table2[[#This Row],[Date]],"mmm yyyy") -> Jan 2020
A5: total | B5: =SUBTOTAL(109,Table2[Montant]) -> 85
