Workbook

Sheet Feuil1
A1: Feuil1 | E1: Feuil2
A2: A | B2: B | C2: C | E2: AA | F2: BB | G2: CC
A3: 1 | B3: 0 | C3: 10 | E3: 1 | F3: 0 | G3: =LOOKUP(F3,Feuil1!B3:B35,Feuil1!C3:C35) -> 10
A4: 1 | B4: =B3+1 -> 1 | C4: =C3+1 -> 11 | E4: 1 | F4: 1 | G4: =LOOKUP(F4,Feuil1!B4:B36,Feuil1!C4:C36) -> 11
A5: 1 | B5: =B4+1 -> 2 | C5: =C4+1 -> 12 | E5: 1 | F5: 2 | G5: =LOOKUP(F5,Feuil1!B5:B37,Feuil1!C5:C37) -> 12
A6: 1 | B6: =B5+1 -> 3 | C6: =C5+1 -> 13 | E6: 1 | F6: 9 | G6: =LOOKUP(F6,Feuil1!B6:B38,Feuil1!C6:C38) -> 39
A7: 1 | B7: =B6+1 -> 4 | C7: =C6+1 -> 14 | E7: 1 | F7: 10 | G7: =LOOKUP(F7,Feuil1!B7:B39,Feuil1!C7:C39) -> 300
A8: 1 | B8: =B7+1 -> 5 | C8: =C7+1 -> 15 | E8: 2 | F8: 0 | G8: =LOOKUP(F8,Feuil1!B8:B40,Feuil1!C8:C40) -> #N/A
A9: 1 | B9: =B8+1 -> 6 | C9: =C8+1 -> 16 | E9: 2 | F9: 1 | G9: =LOOKUP(F9,Feuil1!B9:B41,Feuil1!C9:C41) -> 31
A10: 1 | B10: =B9+1 -> 7 | C10: =C9+1 -> 17 | E10: 2 | F10: 2 | G10: =LOOKUP(F10,Feuil1!B10:B42,Feuil1!C10:C42) -> 32
A11: 1 | B11: =B10+1 -> 8 | C11: =C10+1 -> 18 | E11: 2 | F11: 9 | G11: =LOOKUP(F11,Feuil1!B11:B43,Feuil1!C11:C43) -> 39
A12: 1 | B12: =B11+1 -> 9 | C12: =C11+1 -> 19 | E12: 2 | F12: 10 | G12: =LOOKUP(F12,Feuil1!B12:B44,Feuil1!C12:C44) -> 300
A13: 1 | B13: =B12+1 -> 10 | C13: 100 | E13: 3 | F13: 0 | G13: =LOOKUP(F13,Feuil1!B13:B45,Feuil1!C13:C45) -> 20
A14: 2 | B14: =B3 -> 0 | C14: 20 | E14: 3 | F14: 1 | G14: =LOOKUP(F14,Feuil1!B14:B46,Feuil1!C14:C46) -> 21
A15: 2 | B15: =B14+1 -> 1 | C15: =C14+1 -> 21 | E15: 3 | F15: 2 | G15: =LOOKUP(F15,Feuil1!B15:B47,Feuil1!C15:C47) -> 22
A16: 2 | B16: =B15+1 -> 2 | C16: =C15+1 -> 22 | E16: 3 | F16: 9 | G16: =LOOKUP(F16,Feuil1!B16:B48,Feuil1!C16:C48) -> 39
A17: 2 | B17: =B16+1 -> 3 | C17: =C16+1 -> 23 | E17: 3 | F17: 10 | G17: =LOOKUP(F17,Feuil1!B17:B49,Feuil1!C17:C49) -> 300
A18: 2 | B18: =B17+1 -> 4 | C18: =C17+1 -> 24
A19: 2 | B19: =B18+1 -> 5 | C19: =C18+1 -> 25
A20: 2 | B20: =B19+1 -> 6 | C20: =C19+1 -> 26
A21: 2 | B21: =B20+1 -> 7 | C21: =C20+1 -> 27
A22: 2 | B22: =B21+1 -> 8 | C22: =C21+1 -> 28
A23: 2 | B23: =B22+1 -> 9 | C23: =C22+1 -> 29
A24: 2 | B24: =B23+1 -> 10 | C24: 200
A25: 3 | B25: 0 | C25: 30
A26: 3 | B26: =B25+1 -> 1 | C26: 31
A27: 3 | B27: =B26+1 -> 2 | C27: 32
A28: 3 | B28: =B27+1 -> 3 | C28: 33
A29: 3 | B29: =B28+1 -> 4 | C29: 34
A30: 3 | B30: =B29+1 -> 5 | C30: 35
A31: 3 | B31: =B30+1 -> 6 | C31: 36
A32: 3 | B32: =B31+1 -> 7 | C32: 37
A33: 3 | B33: =B32+1 -> 8 | C33: 38
A34: 3 | B34: =B33+1 -> 9 | C34: 39
A35: 3 | B35: =B34+1 -> 10 | C35: 300

Sheet Feuil2

Sheet Feuil3
